{"text_format":"1","workbook":"xlsx","n_sheets":14,"sheets":["Main","Polar","Detail 1","Detail 2","ORC","Feuil5","Feuil3","Help","New polar","Empty","View Polar","Polar 0-360","STW","COS"],"not_rendered":{"charts":8,"images":1,"macros":1,"external_links":0,"defined_names":44,"comments":1,"pivot_tables":0},"unopened":[{"sheet":"Polar","index":1,"reason":"not_a_worksheet"}],"bounds":{"document_bytes":16777216,"sheet_cells":100000,"rows_first":2000,"rows_last":500,"rows_between":2000,"halvings":0,"cell_chars":16384,"cell_head_chars":4096},"cells_cut":0,"cells_raw":0,"read":"whole","date_system":"1900"}

{"sheet":"Main","index":0,"n_rows":138,"n_cols":39,"rows_kept":138,"cut":false,"hidden":false,"merged":[[9,13,10,18]]}
[]
[null,null,"Rang","N° de voile","Nom","Type","YEAR","LOA","IMSL","BMAX","DRAFT","DSPL","CREW","GPH","TMF","WL","NSP","UpAngl","DwnA","DA(%)",null,0,"V@UA",52,60,75,90,110,120,135,150,180]
[null,null,5389,{"$f":"D52","v":"NED 8940"},{"$f":"E52","v":"Jeanne"},"Jeaneau Poker",1972,8.14,6.5449999999999999,2.86,1.768,3226,{"$f":"+M52","v":320},{"$f":"N52","v":832.6},0.75600000000000001,713.6,620.29999999999995,40.200000000000003,180,0.72,null,{"$f":"V52","v":4.1826420355524574},{"$f":"W52","v":5.4761243561704909},5.9880239520958076,6.1813186813186816,6.4366172000715185,6.5514103730664237,7.0066173608407949,7.1371927042030139,7.0011668611435232,6.6976744186046515,6.3548102383053839]
[null,null,null,{"$f":"D53","v":{"$error":"#REF!"}},{"$error":"#REF!"},{"$error":"#REF!"},{"$error":"#REF!"},{"$error":"#REF!"},{"$error":"#REF!"},{"$error":"#REF!"},{"$error":"#REF!"},{"$error":"#REF!"},{"$f":"+M53","v":{"$error":"#REF!"}},{"$f":"N53","v":{"$error":"#REF!"}},{"$error":"#REF!"},{"$error":"#REF!"},{"$error":"#REF!"},{"$f":"IF($B4=1,#REF!,R53)","v":{"$error":"#REF!"}},{"$f":"S53","v":0},{"$error":"#REF!"},null,{"$f":"V53","v":{"$error":"#REF!"}},{"$error":"#REF!"},{"$error":"#REF!"},{"$error":"#REF!"},{"$error":"#REF!"},{"$error":"#REF!"},{"$error":"#REF!"},{"$error":"#REF!"},{"$error":"#REF!"},{"$error":"#REF!"},{"$error":"#REF!"}]
[null,null,null,{"$f":"D54","v":{"$error":"#REF!"}},{"$error":"#REF!"},{"$error":"#REF!"},{"$error":"#REF!"},{"$error":"#REF!"},{"$error":"#REF!"},{"$error":"#REF!"},{"$error":"#REF!"},{"$error":"#REF!"},{"$error":"#REF!"},{"$f":"N54","v":{"$error":"#REF!"}},{"$error":"#REF!"},{"$error":"#REF!"},{"$error":"#REF!"},{"$f":"IF($B5=1,#REF!,R54)","v":{"$error":"#REF!"}},{"$f":"S54","v":0},{"$error":"#REF!"},null,{"$f":"V54","v":{"$error":"#REF!"}},{"$error":"#REF!"},{"$error":"#REF!"},{"$error":"#REF!"},{"$error":"#REF!"},{"$error":"#REF!"},{"$error":"#REF!"},{"$error":"#REF!"},{"$error":"#REF!"},{"$error":"#REF!"},{"$error":"#REF!"}]
[null,null,null,{"$f":"D55","v":{"$error":"#REF!"}},{"$error":"#REF!"},{"$error":"#REF!"},{"$error":"#REF!"},{"$error":"#REF!"},{"$error":"#REF!"},{"$error":"#REF!"},{"$error":"#REF!"},{"$error":"#REF!"},{"$error":"#REF!"},{"$f":"N55","v":{"$error":"#REF!"}},{"$error":"#REF!"},{"$error":"#REF!"},{"$error":"#REF!"},{"$f":"IF($B6=1,#REF!,R55)","v":{"$error":"#REF!"}},{"$f":"S55","v":0},{"$error":"#REF!"},null,{"$f":"V55","v":{"$error":"#REF!"}},{"$error":"#REF!"},{"$error":"#REF!"},{"$error":"#REF!"},{"$error":"#REF!"},{"$error":"#REF!"},{"$error":"#REF!"},{"$error":"#REF!"},{"$error":"#REF!"},{"$error":"#REF!"},{"$error":"#REF!"}]
[null,null,null,{"$f":"D56","v":{"$error":"#REF!"}},{"$error":"#REF!"},{"$error":"#REF!"},{"$error":"#REF!"},{"$error":"#REF!"},{"$error":"#REF!"},{"$error":"#REF!"},{"$error":"#REF!"},{"$error":"#REF!"},{"$error":"#REF!"},{"$f":"N56","v":{"$error":"#REF!"}},{"$error":"#REF!"},{"$error":"#REF!"},{"$error":"#REF!"},{"$f":"IF($B7=1,#REF!,R56)","v":{"$error":"#REF!"}},{"$f":"S56","v":0},{"$error":"#REF!"},null,{"$f":"V56","v":{"$error":"#REF!"}},{"$error":"#REF!"},{"$error":"#REF!"},{"$error":"#REF!"},{"$error":"#REF!"},{"$error":"#REF!"},{"$error":"#REF!"},{"$error":"#REF!"},{"$error":"#REF!"},{"$error":"#REF!"},{"$error":"#REF!"}]
[null,null,null,{"$f":"D57","v":{"$error":"#REF!"}},{"$error":"#REF!"},{"$error":"#REF!"},{"$error":"#REF!"},{"$error":"#REF!"},{"$error":"#REF!"},{"$error":"#REF!"},{"$error":"#REF!"},{"$error":"#REF!"},{"$error":"#REF!"},{"$f":"N57","v":{"$error":"#REF!"}},{"$error":"#REF!"},{"$error":"#REF!"},{"$error":"#REF!"},{"$f":"IF($B8=1,#REF!,R57)","v":{"$error":"#REF!"}},{"$f":"S57","v":0},{"$error":"#REF!"},null,{"$f":"V57","v":{"$error":"#REF!"}},{"$error":"#REF!"},{"$error":"#REF!"},{"$error":"#REF!"},{"$error":"#REF!"},{"$error":"#REF!"},{"$error":"#REF!"},{"$error":"#REF!"},{"$error":"#REF!"},{"$error":"#REF!"},{"$error":"#REF!"}]
["Wind:1..7, (C8=kn)",7,{"$f":"IF(B9=7,20,B9*2+4)","v":20},"Knots","Vent Réel"]
["Favoris","Klasse","Rijnr.",null,null,null,null,null,null,null,null,null,null,{"$f":"CONCATENATE(C9,\" Nœuds\")","v":"20 Nœuds"}]
[{"$f":"OFFSET(ORC!$E$6,(C11-6),1)","v":"SWAN 42 CS"},null,1327]
[{"$f":"OFFSET(ORC!$E$6,(C12-6),1)","v":"SUN ODYSSEY 40"},null,1520]
[{"$f":"OFFSET(ORC!$E$6,(C13-6),1)","v":"UFO 22"},null,3938]
[{"$f":"OFFSET(ORC!$E$6,(C14-6),1)","v":"UFO 22"},null,3942]
[{"$f":"OFFSET(ORC!$E$6,(C15-6),1)","v":"UFO 22"},null,3943]
[{"$f":"OFFSET(ORC!$E$6,(C16-6),1)","v":"JV 56"},null,6757]
[null,null,4]
[null,null,5]
[null,null,6]
[{"$f":"OFFSET(ORC!$E$6,(C20-6),1)","v":"FAYD 30"},null,7]
[{"$f":"OFFSET(ORC!$E$6,(C21-6),1)","v":"K 37"},null,8]
[{"$f":"OFFSET(ORC!$E$6,(C22-6),1)","v":"FAYD 30"},null,9]
[{"$f":"OFFSET(ORC!$E$6,(C23-6),1)","v":"F&C 44"},null,10]
[{"$f":"OFFSET(ORC!$E$6,(C24-6),1)","v":"PLENAMAR 350"},null,11]
[{"$f":"OFFSET(ORC!$E$6,(C25-6),1)","v":"CORUM 280 CR"},null,12]
[{"$f":"OFFSET(ORC!$E$6,(C26-6),1)","v":"PANDORA 34"},null,13]
[{"$f":"OFFSET(ORC!$E$6,(C27-6),1)","v":"MYSTIC 290"},null,14]
[{"$f":"OFFSET(ORC!$E$6,(C28-6),1)","v":"PETERSON 42"},null,15]
[{"$f":"OFFSET(ORC!$E$6,(C29-6),1)","v":"FARR 44"},null,16]
[{"$f":"OFFSET(ORC!$E$6,(C30-6),1)","v":"D'ANGELO 30 R"},null,17]
[{"$f":"OFFSET(ORC!$E$6,(C31-6),1)","v":"32DUE"},null,18]
[{"$f":"OFFSET(ORC!$E$6,(C32-6),1)","v":"BORA BORA 42"},null,19]
[{"$f":"OFFSET(ORC!$E$6,(C33-6),1)","v":"MARTINOLI 31"},null,20]
[{"$f":"OFFSET(ORC!$E$6,(C34-6),1)","v":"LOTZ 270"},null,21]
[{"$f":"OFFSET(ORC!$E$6,(C35-6),1)","v":"DUFOUR 34"},null,22,null,"Opmerkingen:"]
[{"$f":"OFFSET(ORC!$E$6,(C36-6),1)","v":"SOTO 40"},null,23]
[]
[]
[]
[1]
[2]
[3]
[4]
[5]
[6]
[7]
[]
[]
[null,null,"ORC"]
[null,null,null,"Données ORC"]
[null,null,null,"N° de voile","NOM","TYPE","YEAR","LOA","IMSL","BMAX","DRAFT","DSPL","CREW","GPH","TMF","WL","NSP","UpAngl","DwnA","DA(%)",null,0,"V@UA",52,60,75,90,110,120,135,150,180]
[null,null,null,{"$f":"OFFSET(ORC!$D$6,($C3-6),0)","v":"NED 8940"},{"$f":"OFFSET(ORC!$E$6,($C3-6),0)","v":"Jeanne"},{"$f":"OFFSET(ORC!$F$6,($C3-6),0)","v":"Jeaneau Poker"},{"$f":"OFFSET(ORC!$I$6,($C3-6),0)","v":1972},{"$f":"OFFSET(ORC!$P$6,($C3-6),0)","v":8.14},{"$f":"OFFSET(ORC!$Q$6,($C3-6),0)","v":6.5449999999999999},{"$f":"OFFSET(ORC!$S$6,($C3-6),0)","v":2.86},{"$f":"OFFSET(ORC!$R$6,($C3-6),0)","v":1.768},{"$f":"OFFSET(ORC!$T$6,($C3-6),0)","v":3226},{"$f":"OFFSET(ORC!$N$6,($C3-6),0)","v":320},{"$f":"OFFSET(ORC!$W$6,($C3-6),0)","v":832.6},{"$f":"OFFSET(ORC!$X$6,($C3-6),0)","v":0.75600000000000001},{"$f":"OFFSET(ORC!$AB$6,($C3-6),($B$9-1))","v":713.6},{"$f":"OFFSET(ORC!$AW$6,($C3-6),($B$9-1))","v":620.29999999999995},{"$f":"OFFSET(ORC!$BK$6,($C3-6),($B$9-1))","v":40.200000000000003},{"$f":"OFFSET(ORC!$BR$6,($C3-6),($B$9-1))","v":180},{"$f":"OFFSET(ORC!$V$6,($C3-6),0)","v":0.72},null,{"$f":"3600/OFFSET(ORC!$BY$6,($C3-6),($B$9-1))","v":4.1826420355524574},{"$f":"(3600/OFFSET(ORC!$BY$6,($C3-6),($B$9-1)))/COS(R52/180*PI())","v":5.4761243561704909},{"$f":"3600/OFFSET(ORC!$CF$6,($C3-6),($B$9-1))","v":5.9880239520958076},{"$f":"3600/OFFSET(ORC!$CM$6,($C3-6),($B$9-1))","v":6.1813186813186816},{"$f":"3600/OFFSET(ORC!$CT$6,($C3-6),($B$9-1))","v":6.4366172000715185},{"$f":"3600/OFFSET(ORC!$DA$6,($C3-6),($B$9-1))","v":6.5514103730664237},{"$f":"3600/OFFSET(ORC!$DH$6,($C3-6),($B$9-1))","v":7.0066173608407949},{"$f":"3600/OFFSET(ORC!$DO$6,($C3-6),($B$9-1))","v":7.1371927042030139},{"$f":"3600/OFFSET(ORC!$DV$6,($C3-6),($B$9-1))","v":7.0011668611435232},{"$f":"3600/OFFSET(ORC!$EC$6,($C3-6),($B$9-1))","v":6.6976744186046515},{"$f":"3600/OFFSET(ORC!$EJ$6,($C3-6),($B$9-1))","v":6.3548102383053839}]
[null,null,null,{"$f":"OFFSET(ORC!$D$6,($C4-6),0)","v":{"$error":"#REF!"}},{"$f":"OFFSET(ORC!$E$6,($C4-6),0)","v":{"$error":"#REF!"}},{"$f":"OFFSET(ORC!$F$6,($C4-6),0)","v":{"$error":"#REF!"}},{"$f":"OFFSET(ORC!$I$6,($C4-6),0)","v":{"$error":"#REF!"}},{"$f":"OFFSET(ORC!$P$6,($C4-6),0)","v":{"$error":"#REF!"}},{"$f":"OFFSET(ORC!$Q$6,($C4-6),0)","v":{"$error":"#REF!"}},{"$f":"OFFSET(ORC!$S$6,($C4-6),0)","v":{"$error":"#REF!"}},{"$f":"OFFSET(ORC!$R$6,($C4-6),0)","v":{"$error":"#REF!"}},{"$f":"OFFSET(ORC!$T$6,($C4-6),0)","v":{"$error":"#REF!"}},{"$f":"OFFSET(ORC!$N$6,($C4-6),0)","v":{"$error":"#REF!"}},{"$f":"OFFSET(ORC!$W$6,($C4-6),0)","v":{"$error":"#REF!"}},{"$f":"OFFSET(ORC!$X$6,($C4-6),0)","v":{"$error":"#REF!"}},{"$f":"OFFSET(ORC!$AB$6,($C4-6),($B$9-1))","v":{"$error":"#REF!"}},{"$f":"OFFSET(ORC!$AW$6,($C4-6),($B$9-1))","v":{"$error":"#REF!"}},{"$f":"OFFSET(ORC!$BK$6,($C4-6),($B$9-1))","v":{"$error":"#REF!"}},{"$f":"OFFSET(ORC!$BR$6,($C4-1),($B$9-1))","v":0},{"$f":"OFFSET(ORC!$V$6,($C4-6),0)","v":{"$error":"#REF!"}},null,{"$f":"3600/OFFSET(ORC!$BY$6,($C4-6),($B$9-1))","v":{"$error":"#REF!"}},{"$f":"(3600/OFFSET(ORC!$BY$6,($C4-6),($B$9-1)))/COS(R53/180*PI())","v":{"$error":"#REF!"}},{"$f":"3600/OFFSET(ORC!$CF$6,($C4-6),($B$9-1))","v":{"$error":"#REF!"}},{"$f":"3600/OFFSET(ORC!$CM$6,($C4-6),($B$9-1))","v":{"$error":"#REF!"}},{"$f":"3600/OFFSET(ORC!$CT$6,($C4-6),($B$9-1))","v":{"$error":"#REF!"}},{"$f":"3600/OFFSET(ORC!$DA$6,($C4-6),($B$9-1))","v":{"$error":"#REF!"}},{"$f":"3600/OFFSET(ORC!$DH$6,($C4-6),($B$9-1))","v":{"$error":"#REF!"}},{"$f":"3600/OFFSET(ORC!$DO$6,($C4-6),($B$9-1))","v":{"$error":"#REF!"}},{"$f":"3600/OFFSET(ORC!$DV$6,($C4-6),($B$9-1))","v":{"$error":"#REF!"}},{"$f":"3600/OFFSET(ORC!$EC$6,($C4-6),($B$9-1))","v":{"$error":"#REF!"}},{"$f":"3600/OFFSET(ORC!$EJ$6,($C4-6),($B$9-1))","v":{"$error":"#REF!"}}]
[null,null,null,{"$f":"OFFSET(ORC!$D$6,($C5-6),0)","v":{"$error":"#REF!"}},{"$f":"OFFSET(ORC!$E$6,($C5-6),0)","v":{"$error":"#REF!"}},{"$f":"OFFSET(ORC!$F$6,($C5-6),0)","v":{"$error":"#REF!"}},{"$f":"OFFSET(ORC!$I$6,($C5-6),0)","v":{"$error":"#REF!"}},{"$f":"OFFSET(ORC!$P$6,($C5-6),0)","v":{"$error":"#REF!"}},{"$f":"OFFSET(ORC!$Q$6,($C5-6),0)","v":{"$error":"#REF!"}},{"$f":"OFFSET(ORC!$S$6,($C5-6),0)","v":{"$error":"#REF!"}},{"$f":"OFFSET(ORC!$R$6,($C5-6),0)","v":{"$error":"#REF!"}},{"$f":"OFFSET(ORC!$T$6,($C5-6),0)","v":{"$error":"#REF!"}},{"$f":"OFFSET(ORC!$N$6,($C5-6),0)","v":{"$error":"#REF!"}},{"$f":"OFFSET(ORC!$W$6,($C5-6),0)","v":{"$error":"#REF!"}},{"$f":"OFFSET(ORC!$X$6,($C5-6),0)","v":{"$error":"#REF!"}},{"$f":"OFFSET(ORC!$AB$6,($C5-6),($B$9-1))","v":{"$error":"#REF!"}},{"$f":"OFFSET(ORC!$AW$6,($C5-6),($B$9-1))","v":{"$error":"#REF!"}},{"$f":"OFFSET(ORC!$BK$6,($C5-6),($B$9-1))","v":{"$error":"#REF!"}},{"$f":"OFFSET(ORC!$BR$6,($C5-1),($B$9-1))","v":0},{"$f":"OFFSET(ORC!$V$6,($C5-6),0)","v":{"$error":"#REF!"}},null,{"$f":"3600/OFFSET(ORC!$BY$6,($C5-6),($B$9-1))","v":{"$error":"#REF!"}},{"$f":"(3600/OFFSET(ORC!$BY$6,($C5-6),($B$9-1)))/COS(R54/180*PI())","v":{"$error":"#REF!"}},{"$f":"3600/OFFSET(ORC!$CF$6,($C5-6),($B$9-1))","v":{"$error":"#REF!"}},{"$f":"3600/OFFSET(ORC!$CM$6,($C5-6),($B$9-1))","v":{"$error":"#REF!"}},{"$f":"3600/OFFSET(ORC!$CT$6,($C5-6),($B$9-1))","v":{"$error":"#REF!"}},{"$f":"3600/OFFSET(ORC!$DA$6,($C5-6),($B$9-1))","v":{"$error":"#REF!"}},{"$f":"3600/OFFSET(ORC!$DH$6,($C5-6),($B$9-1))","v":{"$error":"#REF!"}},{"$f":"3600/OFFSET(ORC!$DO$6,($C5-6),($B$9-1))","v":{"$error":"#REF!"}},{"$f":"3600/OFFSET(ORC!$DV$6,($C5-6),($B$9-1))","v":{"$error":"#REF!"}},{"$f":"3600/OFFSET(ORC!$EC$6,($C5-6),($B$9-1))","v":{"$error":"#REF!"}},{"$f":"3600/OFFSET(ORC!$EJ$6,($C5-6),($B$9-1))","v":{"$error":"#REF!"}}]
[null,null,null,{"$f":"OFFSET(ORC!$D$6,($C6-6),0)","v":{"$error":"#REF!"}},{"$f":"OFFSET(ORC!$E$6,($C6-6),0)","v":{"$error":"#REF!"}},{"$f":"OFFSET(ORC!$F$6,($C6-6),0)","v":{"$error":"#REF!"}},{"$f":"OFFSET(ORC!$I$6,($C6-6),0)","v":{"$error":"#REF!"}},{"$f":"OFFSET(ORC!$P$6,($C6-6),0)","v":{"$error":"#REF!"}},{"$f":"OFFSET(ORC!$Q$6,($C6-6),0)","v":{"$error":"#REF!"}},{"$f":"OFFSET(ORC!$S$6,($C6-6),0)","v":{"$error":"#REF!"}},{"$f":"OFFSET(ORC!$R$6,($C6-6),0)","v":{"$error":"#REF!"}},{"$f":"OFFSET(ORC!$T$6,($C6-6),0)","v":{"$error":"#REF!"}},{"$f":"OFFSET(ORC!$N$6,($C6-6),0)","v":{"$error":"#REF!"}},{"$f":"OFFSET(ORC!$W$6,($C6-6),0)","v":{"$error":"#REF!"}},{"$f":"OFFSET(ORC!$X$6,($C6-6),0)","v":{"$error":"#REF!"}},{"$f":"OFFSET(ORC!$AB$6,($C6-6),($B$9-1))","v":{"$error":"#REF!"}},{"$f":"OFFSET(ORC!$AW$6,($C6-6),($B$9-1))","v":{"$error":"#REF!"}},{"$f":"OFFSET(ORC!$BK$6,($C6-6),($B$9-1))","v":{"$error":"#REF!"}},{"$f":"OFFSET(ORC!$BR$6,($C6-1),($B$9-1))","v":0},{"$f":"OFFSET(ORC!$V$6,($C6-6),0)","v":{"$error":"#REF!"}},null,{"$f":"3600/OFFSET(ORC!$BY$6,($C6-6),($B$9-1))","v":{"$error":"#REF!"}},{"$f":"(3600/OFFSET(ORC!$BY$6,($C6-6),($B$9-1)))/COS(R55/180*PI())","v":{"$error":"#REF!"}},{"$f":"3600/OFFSET(ORC!$CF$6,($C6-6),($B$9-1))","v":{"$error":"#REF!"}},{"$f":"3600/OFFSET(ORC!$CM$6,($C6-6),($B$9-1))","v":{"$error":"#REF!"}},{"$f":"3600/OFFSET(ORC!$CT$6,($C6-6),($B$9-1))","v":{"$error":"#REF!"}},{"$f":"3600/OFFSET(ORC!$DA$6,($C6-6),($B$9-1))","v":{"$error":"#REF!"}},{"$f":"3600/OFFSET(ORC!$DH$6,($C6-6),($B$9-1))","v":{"$error":"#REF!"}},{"$f":"3600/OFFSET(ORC!$DO$6,($C6-6),($B$9-1))","v":{"$error":"#REF!"}},{"$f":"3600/OFFSET(ORC!$DV$6,($C6-6),($B$9-1))","v":{"$error":"#REF!"}},{"$f":"3600/OFFSET(ORC!$EC$6,($C6-6),($B$9-1))","v":{"$error":"#REF!"}},{"$f":"3600/OFFSET(ORC!$EJ$6,($C6-6),($B$9-1))","v":{"$error":"#REF!"}}]
[null,null,null,{"$f":"OFFSET(ORC!$D$6,($C7-6),0)","v":{"$error":"#REF!"}},{"$f":"OFFSET(ORC!$E$6,($C7-6),0)","v":{"$error":"#REF!"}},{"$f":"OFFSET(ORC!$F$6,($C7-6),0)","v":{"$error":"#REF!"}},{"$f":"OFFSET(ORC!$I$6,($C7-6),0)","v":{"$error":"#REF!"}},{"$f":"OFFSET(ORC!$P$6,($C7-6),0)","v":{"$error":"#REF!"}},{"$f":"OFFSET(ORC!$Q$6,($C7-6),0)","v":{"$error":"#REF!"}},{"$f":"OFFSET(ORC!$S$6,($C7-6),0)","v":{"$error":"#REF!"}},{"$f":"OFFSET(ORC!$R$6,($C7-6),0)","v":{"$error":"#REF!"}},{"$f":"OFFSET(ORC!$T$6,($C7-6),0)","v":{"$error":"#REF!"}},{"$f":"OFFSET(ORC!$N$6,($C7-6),0)","v":{"$error":"#REF!"}},{"$f":"OFFSET(ORC!$W$6,($C7-6),0)","v":{"$error":"#REF!"}},{"$f":"OFFSET(ORC!$X$6,($C7-6),0)","v":{"$error":"#REF!"}},{"$f":"OFFSET(ORC!$AB$6,($C7-6),($B$9-1))","v":{"$error":"#REF!"}},{"$f":"OFFSET(ORC!$AW$6,($C7-6),($B$9-1))","v":{"$error":"#REF!"}},{"$f":"OFFSET(ORC!$BK$6,($C7-6),($B$9-1))","v":{"$error":"#REF!"}},{"$f":"OFFSET(ORC!$BR$6,($C7-1),($B$9-1))","v":0},{"$f":"OFFSET(ORC!$V$6,($C7-6),0)","v":{"$error":"#REF!"}},null,{"$f":"3600/OFFSET(ORC!$BY$6,($C7-6),($B$9-1))","v":{"$error":"#REF!"}},{"$f":"(3600/OFFSET(ORC!$BY$6,($C7-6),($B$9-1)))/COS(R56/180*PI())","v":{"$error":"#REF!"}},{"$f":"3600/OFFSET(ORC!$CF$6,($C7-6),($B$9-1))","v":{"$error":"#REF!"}},{"$f":"3600/OFFSET(ORC!$CM$6,($C7-6),($B$9-1))","v":{"$error":"#REF!"}},{"$f":"3600/OFFSET(ORC!$CT$6,($C7-6),($B$9-1))","v":{"$error":"#REF!"}},{"$f":"3600/OFFSET(ORC!$DA$6,($C7-6),($B$9-1))","v":{"$error":"#REF!"}},{"$f":"3600/OFFSET(ORC!$DH$6,($C7-6),($B$9-1))","v":{"$error":"#REF!"}},{"$f":"3600/OFFSET(ORC!$DO$6,($C7-6),($B$9-1))","v":{"$error":"#REF!"}},{"$f":"3600/OFFSET(ORC!$DV$6,($C7-6),($B$9-1))","v":{"$error":"#REF!"}},{"$f":"3600/OFFSET(ORC!$EC$6,($C7-6),($B$9-1))","v":{"$error":"#REF!"}},{"$f":"3600/OFFSET(ORC!$EJ$6,($C7-6),($B$9-1))","v":{"$error":"#REF!"}}]
[null,null,null,{"$f":"OFFSET(ORC!$D$6,($C8-6),0)","v":{"$error":"#REF!"}},{"$f":"OFFSET(ORC!$E$6,($C8-6),0)","v":{"$error":"#REF!"}},{"$f":"OFFSET(ORC!$F$6,($C8-6),0)","v":{"$error":"#REF!"}},{"$f":"OFFSET(ORC!$I$6,($C8-6),0)","v":{"$error":"#REF!"}},{"$f":"OFFSET(ORC!$P$6,($C8-6),0)","v":{"$error":"#REF!"}},{"$f":"OFFSET(ORC!$Q$6,($C8-6),0)","v":{"$error":"#REF!"}},{"$f":"OFFSET(ORC!$S$6,($C8-6),0)","v":{"$error":"#REF!"}},{"$f":"OFFSET(ORC!$R$6,($C8-6),0)","v":{"$error":"#REF!"}},{"$f":"OFFSET(ORC!$T$6,($C8-6),0)","v":{"$error":"#REF!"}},{"$f":"OFFSET(ORC!$N$6,($C8-6),0)","v":{"$error":"#REF!"}},{"$f":"OFFSET(ORC!$W$6,($C8-6),0)","v":{"$error":"#REF!"}},{"$f":"OFFSET(ORC!$X$6,($C8-6),0)","v":{"$error":"#REF!"}},{"$f":"OFFSET(ORC!$AB$6,($C8-6),($B$9-1))","v":{"$error":"#REF!"}},{"$f":"OFFSET(ORC!$AW$6,($C8-6),($B$9-1))","v":{"$error":"#REF!"}},{"$f":"OFFSET(ORC!$BK$6,($C8-6),($B$9-1))","v":{"$error":"#REF!"}},{"$f":"OFFSET(ORC!$BR$6,($C8-1),($B$9-1))","v":0},{"$f":"OFFSET(ORC!$V$6,($C8-6),0)","v":{"$error":"#REF!"}},null,{"$f":"3600/OFFSET(ORC!$BY$6,($C8-6),($B$9-1))","v":{"$error":"#REF!"}},{"$f":"(3600/OFFSET(ORC!$BY$6,($C8-6),($B$9-1)))/COS(R57/180*PI())","v":{"$error":"#REF!"}},{"$f":"3600/OFFSET(ORC!$CF$6,($C8-6),($B$9-1))","v":{"$error":"#REF!"}},{"$f":"3600/OFFSET(ORC!$CM$6,($C8-6),($B$9-1))","v":{"$error":"#REF!"}},{"$f":"3600/OFFSET(ORC!$CT$6,($C8-6),($B$9-1))","v":{"$error":"#REF!"}},{"$f":"3600/OFFSET(ORC!$DA$6,($C8-6),($B$9-1))","v":{"$error":"#REF!"}},{"$f":"3600/OFFSET(ORC!$DH$6,($C8-6),($B$9-1))","v":{"$error":"#REF!"}},{"$f":"3600/OFFSET(ORC!$DO$6,($C8-6),($B$9-1))","v":{"$error":"#REF!"}},{"$f":"3600/OFFSET(ORC!$DV$6,($C8-6),($B$9-1))","v":{"$error":"#REF!"}},{"$f":"3600/OFFSET(ORC!$EC$6,($C8-6),($B$9-1))","v":{"$error":"#REF!"}},{"$f":"3600/OFFSET(ORC!$EJ$6,($C8-6),($B$9-1))","v":{"$error":"#REF!"}}]
[]
[]
[null,null,null,null,"Table de données pour le graphe polaire"]
[null,null,null,null,"True Wind",null,null,null,null,null,null,null,null,null,"Apparent Wind"]
[null,null,null,"UpAngl","V@UA",52,60,75,90,110,120,135,150,"VMG180",150,135,120,110,90,75,60,52,"V@UA"]
[null,null,null,{"$f":"R3","v":40.200000000000003},{"$f":"W3*SIN(D63/180*PI())","v":3.5346065646226128},{"$f":"X3*SIN(F$62/180*PI())","v":4.7186272671061182},{"$f":"Y3*SIN(G$62/180*PI())","v":5.353179006909305},6.2172947874855105,6.5514103730664237,6.5840666306525319,6.1809901935447655,4.9505725637331217,3.3488372093023253,0,{"$f":"-AE3*SIN((O$62/180*PI())-ATAN((AE3*SIN(O$62/180*PI())/($C$9+AE3*COS(O$62/180*PI())))))","v":-4.5908459430814244},{"$f":"-AD3*SIN((P$62/180*PI())-ATAN((AD3*SIN(P$62/180*PI())/($C$9+AD3*COS(P$62/180*PI())))))","v":-6.24962912159799},{"$f":"-AC3*SIN((Q$62/180*PI())-ATAN((AC3*SIN(Q$62/180*PI())/($C$9+AC3*COS(Q$62/180*PI())))))","v":-7.0416557062471314},{"$f":"-AB3*SIN((R$62/180*PI())-ATAN((AB3*SIN(R$62/180*PI())/($C$9+AB3*COS(R$62/180*PI())))))","v":-7.0063433554608485},{"$f":"-AA3*SIN((S$62/180*PI())-ATAN((AA3*SIN(S$62/180*PI())/($C$9+AA3*COS(S$62/180*PI())))))","v":-6.2258933173090778},{"$f":"-Z3*SIN((T$62/180*PI())-ATAN((Z3*SIN(T$62/180*PI())/($C$9+Z3*COS(T$62/180*PI())))))","v":-5.516594276521424},{"$f":"-Y3*SIN((U$62/180*PI())-ATAN((Y3*SIN(U$62/180*PI())/($C$9+Y3*COS(U$62/180*PI())))))","v":-4.5168673642374699},{"$f":"-X3*SIN((V$62/180*PI())-ATAN((X3*SIN(V$62/180*PI())/($C$9+X3*COS(V$62/180*PI())))))","v":-3.9074383922907505},{"$f":"-W3*SIN((D63/180*PI())-ATAN((W3*SIN(D63/180*PI())/($C$9+W3*COS(D63/180*PI())))))","v":-2.8925251094944939}]
[null,null,null,null,{"$f":"V3","v":4.1826420355524574},{"$f":"X3*COS(F$62/180*PI())","v":3.6865956606326837},{"$f":"Y3*COS(G$62/180*PI())","v":3.0906593406593417},1.6659191174129711,4.0132251480173176E-16,-2.3964042739828875,-3.5685963521015052,-4.9505725637331208,-5.800356192788799,{"$f":"-AF3","v":-6.3548102383053839},{"$f":"AE3*COS((O$62/180*PI())-ATAN((AE3*SIN(O$62/180*PI())/($C$9+AE3*COS(O$62/180*PI())))))","v":-4.8767792798653478},{"$f":"AD3*COS((P$62/180*PI())-ATAN((AD3*SIN(P$62/180*PI())/($C$9+AD3*COS(P$62/180*PI())))))","v":-3.1557048753089361},{"$f":"AC3*COS((Q$62/180*PI())-ATAN((AC3*SIN(Q$62/180*PI())/($C$9+AC3*COS(Q$62/180*PI())))))","v":-1.1638748264336405},{"$f":"AB3*COS((R$62/180*PI())-ATAN((AB3*SIN(R$62/180*PI())/($C$9+AB3*COS(R$62/180*PI())))))","v":6.1964720811484394E-2},{"$f":"AA3*COS((S$62/180*PI())-ATAN((AA3*SIN(S$62/180*PI())/($C$9+AA3*COS(S$62/180*PI())))))","v":2.0394191030311819},{"$f":"Z3*COS((T$62/180*PI())-ATAN((Z3*SIN(T$62/180*PI())/($C$9+Z3*COS(T$62/180*PI())))))","v":3.3162069550176723},{"$f":"Y3*COS((U$62/180*PI())-ATAN((Y3*SIN(U$62/180*PI())/($C$9+Y3*COS(U$62/180*PI())))))","v":4.2197878920516585},{"$f":"X3*COS((V$62/180*PI())-ATAN((X3*SIN(V$62/180*PI())/($C$9+X3*COS(V$62/180*PI())))))","v":4.5374393727437692},{"$f":"W3*COS((D63/180*PI())-ATAN((W3*SIN(D63/180*PI())/($C$9+W3*COS(D63/180*PI())))))","v":4.6498641329814721}]
[null,null,null,{"$f":"R4","v":{"$error":"#REF!"}},{"$f":"W4*SIN(D65/180*PI())","v":{"$error":"#REF!"}},{"$f":"X4*SIN(F$62/180*PI())","v":{"$error":"#REF!"}},{"$error":"#REF!"},{"$error":"#REF!"},{"$error":"#REF!"},{"$error":"#REF!"},{"$error":"#REF!"},{"$error":"#REF!"},{"$error":"#REF!"},0,{"$f":"-AE4*SIN((O$62/180*PI())-ATAN((AE4*SIN(O$62/180*PI())/($C$9+AE4*COS(O$62/180*PI())))))","v":{"$error":"#REF!"}},{"$f":"-AD4*SIN((P$62/180*PI())-ATAN((AD4*SIN(P$62/180*PI())/($C$9+AD4*COS(P$62/180*PI())))))","v":{"$error":"#REF!"}},{"$f":"-AC4*SIN((Q$62/180*PI())-ATAN((AC4*SIN(Q$62/180*PI())/($C$9+AC4*COS(Q$62/180*PI())))))","v":{"$error":"#REF!"}},{"$f":"-AB4*SIN((R$62/180*PI())-ATAN((AB4*SIN(R$62/180*PI())/($C$9+AB4*COS(R$62/180*PI())))))","v":{"$error":"#REF!"}},{"$f":"-AA4*SIN((S$62/180*PI())-ATAN((AA4*SIN(S$62/180*PI())/($C$9+AA4*COS(S$62/180*PI())))))","v":{"$error":"#REF!"}},{"$f":"-Z4*SIN((T$62/180*PI())-ATAN((Z4*SIN(T$62/180*PI())/($C$9+Z4*COS(T$62/180*PI())))))","v":{"$error":"#REF!"}},{"$f":"-Y4*SIN((U$62/180*PI())-ATAN((Y4*SIN(U$62/180*PI())/($C$9+Y4*COS(U$62/180*PI())))))","v":{"$error":"#REF!"}},{"$f":"-X4*SIN((V$62/180*PI())-ATAN((X4*SIN(V$62/180*PI())/($C$9+X4*COS(V$62/180*PI())))))","v":{"$error":"#REF!"}},{"$f":"-W4*SIN((D65/180*PI())-ATAN((W4*SIN(D65/180*PI())/($C$9+W4*COS(D65/180*PI())))))","v":{"$error":"#REF!"}}]
[null,null,null,null,{"$f":"V4","v":{"$error":"#REF!"}},{"$f":"X4*COS(F$62/180*PI())","v":{"$error":"#REF!"}},{"$error":"#REF!"},{"$error":"#REF!"},{"$error":"#REF!"},{"$error":"#REF!"},{"$error":"#REF!"},{"$error":"#REF!"},{"$error":"#REF!"},{"$f":"-AF4","v":{"$error":"#REF!"}},{"$f":"AE4*COS((O$62/180*PI())-ATAN((AE4*SIN(O$62/180*PI())/($C$9+AE4*COS(O$62/180*PI())))))","v":{"$error":"#REF!"}},{"$f":"AD4*COS((P$62/180*PI())-ATAN((AD4*SIN(P$62/180*PI())/($C$9+AD4*COS(P$62/180*PI())))))","v":{"$error":"#REF!"}},{"$f":"AC4*COS((Q$62/180*PI())-ATAN((AC4*SIN(Q$62/180*PI())/($C$9+AC4*COS(Q$62/180*PI())))))","v":{"$error":"#REF!"}},{"$f":"AB4*COS((R$62/180*PI())-ATAN((AB4*SIN(R$62/180*PI())/($C$9+AB4*COS(R$62/180*PI())))))","v":{"$error":"#REF!"}},{"$f":"AA4*COS((S$62/180*PI())-ATAN((AA4*SIN(S$62/180*PI())/($C$9+AA4*COS(S$62/180*PI())))))","v":{"$error":"#REF!"}},{"$f":"Z4*COS((T$62/180*PI())-ATAN((Z4*SIN(T$62/180*PI())/($C$9+Z4*COS(T$62/180*PI())))))","v":{"$error":"#REF!"}},{"$f":"Y4*COS((U$62/180*PI())-ATAN((Y4*SIN(U$62/180*PI())/($C$9+Y4*COS(U$62/180*PI())))))","v":{"$error":"#REF!"}},{"$f":"X4*COS((V$62/180*PI())-ATAN((X4*SIN(V$62/180*PI())/($C$9+X4*COS(V$62/180*PI())))))","v":{"$error":"#REF!"}},{"$f":"W4*COS((D65/180*PI())-ATAN((W4*SIN(D65/180*PI())/($C$9+W4*COS(D65/180*PI())))))","v":{"$error":"#REF!"}}]
[null,null,null,{"$f":"R5","v":{"$error":"#REF!"}},{"$f":"W5*SIN(D67/180*PI())","v":{"$error":"#REF!"}},{"$f":"X5*SIN(F$62/180*PI())","v":{"$error":"#REF!"}},{"$error":"#REF!"},{"$error":"#REF!"},{"$error":"#REF!"},{"$error":"#REF!"},{"$error":"#REF!"},{"$error":"#REF!"},{"$error":"#REF!"},0,{"$f":"-AE5*SIN((O$62/180*PI())-ATAN((AE5*SIN(O$62/180*PI())/($C$9+AE5*COS(O$62/180*PI())))))","v":{"$error":"#REF!"}},{"$f":"-AD5*SIN((P$62/180*PI())-ATAN((AD5*SIN(P$62/180*PI())/($C$9+AD5*COS(P$62/180*PI())))))","v":{"$error":"#REF!"}},{"$f":"-AC5*SIN((Q$62/180*PI())-ATAN((AC5*SIN(Q$62/180*PI())/($C$9+AC5*COS(Q$62/180*PI())))))","v":{"$error":"#REF!"}},{"$f":"-AB5*SIN((R$62/180*PI())-ATAN((AB5*SIN(R$62/180*PI())/($C$9+AB5*COS(R$62/180*PI())))))","v":{"$error":"#REF!"}},{"$f":"-AA5*SIN((S$62/180*PI())-ATAN((AA5*SIN(S$62/180*PI())/($C$9+AA5*COS(S$62/180*PI())))))","v":{"$error":"#REF!"}},{"$f":"-Z5*SIN((T$62/180*PI())-ATAN((Z5*SIN(T$62/180*PI())/($C$9+Z5*COS(T$62/180*PI())))))","v":{"$error":"#REF!"}},{"$f":"-Y5*SIN((U$62/180*PI())-ATAN((Y5*SIN(U$62/180*PI())/($C$9+Y5*COS(U$62/180*PI())))))","v":{"$error":"#REF!"}},{"$f":"-X5*SIN((V$62/180*PI())-ATAN((X5*SIN(V$62/180*PI())/($C$9+X5*COS(V$62/180*PI())))))","v":{"$error":"#REF!"}},{"$f":"-W5*SIN((D67/180*PI())-ATAN((W5*SIN(D67/180*PI())/($C$9+W5*COS(D67/180*PI())))))","v":{"$error":"#REF!"}}]
[null,null,null,null,{"$f":"V5","v":{"$error":"#REF!"}},{"$f":"X5*COS(F$62/180*PI())","v":{"$error":"#REF!"}},{"$error":"#REF!"},{"$error":"#REF!"},{"$error":"#REF!"},{"$error":"#REF!"},{"$error":"#REF!"},{"$error":"#REF!"},{"$error":"#REF!"},{"$f":"-AF5","v":{"$error":"#REF!"}},{"$f":"AE5*COS((O$62/180*PI())-ATAN((AE5*SIN(O$62/180*PI())/($C$9+AE5*COS(O$62/180*PI())))))","v":{"$error":"#REF!"}},{"$f":"AD5*COS((P$62/180*PI())-ATAN((AD5*SIN(P$62/180*PI())/($C$9+AD5*COS(P$62/180*PI())))))","v":{"$error":"#REF!"}},{"$f":"AC5*COS((Q$62/180*PI())-ATAN((AC5*SIN(Q$62/180*PI())/($C$9+AC5*COS(Q$62/180*PI())))))","v":{"$error":"#REF!"}},{"$f":"AB5*COS((R$62/180*PI())-ATAN((AB5*SIN(R$62/180*PI())/($C$9+AB5*COS(R$62/180*PI())))))","v":{"$error":"#REF!"}},{"$f":"AA5*COS((S$62/180*PI())-ATAN((AA5*SIN(S$62/180*PI())/($C$9+AA5*COS(S$62/180*PI())))))","v":{"$error":"#REF!"}},{"$f":"Z5*COS((T$62/180*PI())-ATAN((Z5*SIN(T$62/180*PI())/($C$9+Z5*COS(T$62/180*PI())))))","v":{"$error":"#REF!"}},{"$f":"Y5*COS((U$62/180*PI())-ATAN((Y5*SIN(U$62/180*PI())/($C$9+Y5*COS(U$62/180*PI())))))","v":{"$error":"#REF!"}},{"$f":"X5*COS((V$62/180*PI())-ATAN((X5*SIN(V$62/180*PI())/($C$9+X5*COS(V$62/180*PI())))))","v":{"$error":"#REF!"}},{"$f":"W5*COS((D67/180*PI())-ATAN((W5*SIN(D67/180*PI())/($C$9+W5*COS(D67/180*PI())))))","v":{"$error":"#REF!"}}]
[null,null,null,{"$f":"R6","v":{"$error":"#REF!"}},{"$f":"W6*SIN(D69/180*PI())","v":{"$error":"#REF!"}},{"$f":"X6*SIN(F$62/180*PI())","v":{"$error":"#REF!"}},{"$error":"#REF!"},{"$error":"#REF!"},{"$error":"#REF!"},{"$error":"#REF!"},{"$error":"#REF!"},{"$error":"#REF!"},{"$error":"#REF!"},0,{"$f":"-AE6*SIN((O$62/180*PI())-ATAN((AE6*SIN(O$62/180*PI())/($C$9+AE6*COS(O$62/180*PI())))))","v":{"$error":"#REF!"}},{"$f":"-AD6*SIN((P$62/180*PI())-ATAN((AD6*SIN(P$62/180*PI())/($C$9+AD6*COS(P$62/180*PI())))))","v":{"$error":"#REF!"}},{"$f":"-AC6*SIN((Q$62/180*PI())-ATAN((AC6*SIN(Q$62/180*PI())/($C$9+AC6*COS(Q$62/180*PI())))))","v":{"$error":"#REF!"}},{"$f":"-AB6*SIN((R$62/180*PI())-ATAN((AB6*SIN(R$62/180*PI())/($C$9+AB6*COS(R$62/180*PI())))))","v":{"$error":"#REF!"}},{"$f":"-AA6*SIN((S$62/180*PI())-ATAN((AA6*SIN(S$62/180*PI())/($C$9+AA6*COS(S$62/180*PI())))))","v":{"$error":"#REF!"}},{"$f":"-Z6*SIN((T$62/180*PI())-ATAN((Z6*SIN(T$62/180*PI())/($C$9+Z6*COS(T$62/180*PI())))))","v":{"$error":"#REF!"}},{"$f":"-Y6*SIN((U$62/180*PI())-ATAN((Y6*SIN(U$62/180*PI())/($C$9+Y6*COS(U$62/180*PI())))))","v":{"$error":"#REF!"}},{"$f":"-X6*SIN((V$62/180*PI())-ATAN((X6*SIN(V$62/180*PI())/($C$9+X6*COS(V$62/180*PI())))))","v":{"$error":"#REF!"}},{"$f":"-W6*SIN((D69/180*PI())-ATAN((W6*SIN(D69/180*PI())/($C$9+W6*COS(D69/180*PI())))))","v":{"$error":"#REF!"}}]
[null,null,null,null,{"$f":"V6","v":{"$error":"#REF!"}},{"$f":"X6*COS(F$62/180*PI())","v":{"$error":"#REF!"}},{"$error":"#REF!"},{"$error":"#REF!"},{"$error":"#REF!"},{"$error":"#REF!"},{"$error":"#REF!"},{"$error":"#REF!"},{"$error":"#REF!"},{"$f":"-AF6","v":{"$error":"#REF!"}},{"$f":"AE6*COS((O$62/180*PI())-ATAN((AE6*SIN(O$62/180*PI())/($C$9+AE6*COS(O$62/180*PI())))))","v":{"$error":"#REF!"}},{"$f":"AD6*COS((P$62/180*PI())-ATAN((AD6*SIN(P$62/180*PI())/($C$9+AD6*COS(P$62/180*PI())))))","v":{"$error":"#REF!"}},{"$f":"AC6*COS((Q$62/180*PI())-ATAN((AC6*SIN(Q$62/180*PI())/($C$9+AC6*COS(Q$62/180*PI())))))","v":{"$error":"#REF!"}},{"$f":"AB6*COS((R$62/180*PI())-ATAN((AB6*SIN(R$62/180*PI())/($C$9+AB6*COS(R$62/180*PI())))))","v":{"$error":"#REF!"}},{"$f":"AA6*COS((S$62/180*PI())-ATAN((AA6*SIN(S$62/180*PI())/($C$9+AA6*COS(S$62/180*PI())))))","v":{"$error":"#REF!"}},{"$f":"Z6*COS((T$62/180*PI())-ATAN((Z6*SIN(T$62/180*PI())/($C$9+Z6*COS(T$62/180*PI())))))","v":{"$error":"#REF!"}},{"$f":"Y6*COS((U$62/180*PI())-ATAN((Y6*SIN(U$62/180*PI())/($C$9+Y6*COS(U$62/180*PI())))))","v":{"$error":"#REF!"}},{"$f":"X6*COS((V$62/180*PI())-ATAN((X6*SIN(V$62/180*PI())/($C$9+X6*COS(V$62/180*PI())))))","v":{"$error":"#REF!"}},{"$f":"W6*COS((D69/180*PI())-ATAN((W6*SIN(D69/180*PI())/($C$9+W6*COS(D69/180*PI())))))","v":{"$error":"#REF!"}}]
[null,null,null,{"$f":"R7","v":{"$error":"#REF!"}},{"$f":"W7*SIN(D71/180*PI())","v":{"$error":"#REF!"}},{"$f":"X7*SIN(F$62/180*PI())","v":{"$error":"#REF!"}},{"$error":"#REF!"},{"$error":"#REF!"},{"$error":"#REF!"},{"$error":"#REF!"},{"$error":"#REF!"},{"$error":"#REF!"},{"$error":"#REF!"},0,{"$f":"-AE7*SIN((O$62/180*PI())-ATAN((AE7*SIN(O$62/180*PI())/($C$9+AE7*COS(O$62/180*PI())))))","v":{"$error":"#REF!"}},{"$f":"-AD7*SIN((P$62/180*PI())-ATAN((AD7*SIN(P$62/180*PI())/($C$9+AD7*COS(P$62/180*PI())))))","v":{"$error":"#REF!"}},{"$f":"-AC7*SIN((Q$62/180*PI())-ATAN((AC7*SIN(Q$62/180*PI())/($C$9+AC7*COS(Q$62/180*PI())))))","v":{"$error":"#REF!"}},{"$f":"-AB7*SIN((R$62/180*PI())-ATAN((AB7*SIN(R$62/180*PI())/($C$9+AB7*COS(R$62/180*PI())))))","v":{"$error":"#REF!"}},{"$f":"-AA7*SIN((S$62/180*PI())-ATAN((AA7*SIN(S$62/180*PI())/($C$9+AA7*COS(S$62/180*PI())))))","v":{"$error":"#REF!"}},{"$f":"-Z7*SIN((T$62/180*PI())-ATAN((Z7*SIN(T$62/180*PI())/($C$9+Z7*COS(T$62/180*PI())))))","v":{"$error":"#REF!"}},{"$f":"-Y7*SIN((U$62/180*PI())-ATAN((Y7*SIN(U$62/180*PI())/($C$9+Y7*COS(U$62/180*PI())))))","v":{"$error":"#REF!"}},{"$f":"-X7*SIN((V$62/180*PI())-ATAN((X7*SIN(V$62/180*PI())/($C$9+X7*COS(V$62/180*PI())))))","v":{"$error":"#REF!"}},{"$f":"-W7*SIN((D71/180*PI())-ATAN((W7*SIN(D71/180*PI())/($C$9+W7*COS(D71/180*PI())))))","v":{"$error":"#REF!"}}]
[null,null,null,null,{"$f":"V7","v":{"$error":"#REF!"}},{"$f":"X7*COS(F$62/180*PI())","v":{"$error":"#REF!"}},{"$error":"#REF!"},{"$error":"#REF!"},{"$error":"#REF!"},{"$error":"#REF!"},{"$error":"#REF!"},{"$error":"#REF!"},{"$error":"#REF!"},{"$f":"-AF7","v":{"$error":"#REF!"}},{"$f":"AE7*COS((O$62/180*PI())-ATAN((AE7*SIN(O$62/180*PI())/($C$9+AE7*COS(O$62/180*PI())))))","v":{"$error":"#REF!"}},{"$f":"AD7*COS((P$62/180*PI())-ATAN((AD7*SIN(P$62/180*PI())/($C$9+AD7*COS(P$62/180*PI())))))","v":{"$error":"#REF!"}},{"$f":"AC7*COS((Q$62/180*PI())-ATAN((AC7*SIN(Q$62/180*PI())/($C$9+AC7*COS(Q$62/180*PI())))))","v":{"$error":"#REF!"}},{"$f":"AB7*COS((R$62/180*PI())-ATAN((AB7*SIN(R$62/180*PI())/($C$9+AB7*COS(R$62/180*PI())))))","v":{"$error":"#REF!"}},{"$f":"AA7*COS((S$62/180*PI())-ATAN((AA7*SIN(S$62/180*PI())/($C$9+AA7*COS(S$62/180*PI())))))","v":{"$error":"#REF!"}},{"$f":"Z7*COS((T$62/180*PI())-ATAN((Z7*SIN(T$62/180*PI())/($C$9+Z7*COS(T$62/180*PI())))))","v":{"$error":"#REF!"}},{"$f":"Y7*COS((U$62/180*PI())-ATAN((Y7*SIN(U$62/180*PI())/($C$9+Y7*COS(U$62/180*PI())))))","v":{"$error":"#REF!"}},{"$f":"X7*COS((V$62/180*PI())-ATAN((X7*SIN(V$62/180*PI())/($C$9+X7*COS(V$62/180*PI())))))","v":{"$error":"#REF!"}},{"$f":"W7*COS((D71/180*PI())-ATAN((W7*SIN(D71/180*PI())/($C$9+W7*COS(D71/180*PI())))))","v":{"$error":"#REF!"}}]
[null,null,null,{"$f":"R8","v":{"$error":"#REF!"}},{"$f":"W8*SIN(D73/180*PI())","v":{"$error":"#REF!"}},{"$f":"X8*SIN(F$62/180*PI())","v":{"$error":"#REF!"}},{"$error":"#REF!"},{"$error":"#REF!"},{"$error":"#REF!"},{"$error":"#REF!"},{"$error":"#REF!"},{"$error":"#REF!"},{"$error":"#REF!"},0,{"$f":"-AE8*SIN((O$62/180*PI())-ATAN((AE8*SIN(O$62/180*PI())/($C$9+AE8*COS(O$62/180*PI())))))","v":{"$error":"#REF!"}},{"$f":"-AD8*SIN((P$62/180*PI())-ATAN((AD8*SIN(P$62/180*PI())/($C$9+AD8*COS(P$62/180*PI())))))","v":{"$error":"#REF!"}},{"$f":"-AC8*SIN((Q$62/180*PI())-ATAN((AC8*SIN(Q$62/180*PI())/($C$9+AC8*COS(Q$62/180*PI())))))","v":{"$error":"#REF!"}},{"$f":"-AB8*SIN((R$62/180*PI())-ATAN((AB8*SIN(R$62/180*PI())/($C$9+AB8*COS(R$62/180*PI())))))","v":{"$error":"#REF!"}},{"$f":"-AA8*SIN((S$62/180*PI())-ATAN((AA8*SIN(S$62/180*PI())/($C$9+AA8*COS(S$62/180*PI())))))","v":{"$error":"#REF!"}},{"$f":"-Z8*SIN((T$62/180*PI())-ATAN((Z8*SIN(T$62/180*PI())/($C$9+Z8*COS(T$62/180*PI())))))","v":{"$error":"#REF!"}},{"$f":"-Y8*SIN((U$62/180*PI())-ATAN((Y8*SIN(U$62/180*PI())/($C$9+Y8*COS(U$62/180*PI())))))","v":{"$error":"#REF!"}},{"$f":"-X8*SIN((V$62/180*PI())-ATAN((X8*SIN(V$62/180*PI())/($C$9+X8*COS(V$62/180*PI())))))","v":{"$error":"#REF!"}},{"$f":"-W8*SIN((D73/180*PI())-ATAN((W8*SIN(D73/180*PI())/($C$9+W8*COS(D73/180*PI())))))","v":{"$error":"#REF!"}}]
[{"$f":"3600/1259.6/COS(45/180*PI())","v":4.0418933189450161},null,null,null,{"$f":"V8","v":{"$error":"#REF!"}},{"$f":"X8*COS(F$62/180*PI())","v":{"$error":"#REF!"}},{"$error":"#REF!"},{"$error":"#REF!"},{"$error":"#REF!"},{"$error":"#REF!"},{"$error":"#REF!"},{"$error":"#REF!"},{"$error":"#REF!"},{"$f":"-AF8","v":{"$error":"#REF!"}},{"$f":"AE8*COS((O$62/180*PI())-ATAN((AE8*SIN(O$62/180*PI())/($C$9+AE8*COS(O$62/180*PI())))))","v":{"$error":"#REF!"}},{"$f":"AD8*COS((P$62/180*PI())-ATAN((AD8*SIN(P$62/180*PI())/($C$9+AD8*COS(P$62/180*PI())))))","v":{"$error":"#REF!"}},{"$f":"AC8*COS((Q$62/180*PI())-ATAN((AC8*SIN(Q$62/180*PI())/($C$9+AC8*COS(Q$62/180*PI())))))","v":{"$error":"#REF!"}},{"$f":"AB8*COS((R$62/180*PI())-ATAN((AB8*SIN(R$62/180*PI())/($C$9+AB8*COS(R$62/180*PI())))))","v":{"$error":"#REF!"}},{"$f":"AA8*COS((S$62/180*PI())-ATAN((AA8*SIN(S$62/180*PI())/($C$9+AA8*COS(S$62/180*PI())))))","v":{"$error":"#REF!"}},{"$f":"Z8*COS((T$62/180*PI())-ATAN((Z8*SIN(T$62/180*PI())/($C$9+Z8*COS(T$62/180*PI())))))","v":{"$error":"#REF!"}},{"$f":"Y8*COS((U$62/180*PI())-ATAN((Y8*SIN(U$62/180*PI())/($C$9+Y8*COS(U$62/180*PI())))))","v":{"$error":"#REF!"}},{"$f":"X8*COS((V$62/180*PI())-ATAN((X8*SIN(V$62/180*PI())/($C$9+X8*COS(V$62/180*PI())))))","v":{"$error":"#REF!"}},{"$f":"W8*COS((D73/180*PI())-ATAN((W8*SIN(D73/180*PI())/($C$9+W8*COS(D73/180*PI())))))","v":{"$error":"#REF!"}}]
[{"$f":"3600/1259.6","v":2.8580501746586222}]
[]
[null,null,null,"données bateau N°1",null,null,null,null,null,null,null,null,null,null,null,null,null,null,"vent apparent",null,null,null,null,null,null,null,null,null,null,"AWA"]
[null,null,"Wind(kn)","Up Angle",0,"V@UA",52,60,75,90,110,120,135,150,180,"V@DA","DA",null,"UA",52,60,75,90,110,120,135,150,"DA",null,"UA",52,60,75,90,110,120,135,150,"DA"]
[null,"Wind=1",6,{"$f":"OFFSET(ORC!$BK$6,($C$3-6),(0))","v":43},{"$f":"3600/OFFSET(ORC!$BY$6,($C$3-6),(0))","v":2.3583360628889616},{"$f":"3600/OFFSET(ORC!$BY$6,($C$3-6),(0))/COS(D79/180*PI())","v":3.2246176612872213},{"$f":"3600/OFFSET(ORC!$CF$6,($C$3-6),(0))","v":3.5931729713544267},{"$f":"3600/OFFSET(ORC!$CM$6,($C$3-6),(0))","v":3.7894736842105261},{"$f":"3600/OFFSET(ORC!$CT$6,($C$3-6),(0))","v":3.9417496988941205},{"$f":"3600/OFFSET(ORC!$DA$6,($C$3-6),(0))","v":4.0853381752156146},{"$f":"3600/OFFSET(ORC!$DH$6,($C$3-6),(0))","v":4.1899441340782122},{"$f":"3600/OFFSET(ORC!$DO$6,($C$3-6),(0))","v":4.0733197556008145},{"$f":"3600/OFFSET(ORC!$DV$6,($C$3-6),(0))","v":3.7033227034255733},{"$f":"3600/OFFSET(ORC!$EC$6,($C$3-6),(0))","v":3.2128514056224899},{"$f":"3600/OFFSET(ORC!$EJ$6,($C$3-6),(0))","v":2.7822861117551585},{"$f":"Main!O79/COS((180-Main!Q79)/180*PI())","v":3.2631422117709499},{"$f":"OFFSET(ORC!$BR$6,($C$3-6),(0))","v":148.5},null,{"$f":"SQRT(SUMSQ(($C79*SIN(D79/180*PI())),(F79+$C79*COS(D79/180*PI()))))","v":8.6428115689371019},{"$f":"SQRT(SUMSQ(($C79*SIN(G$78/180*PI())),(G79+$C79*COS(G$78/180*PI()))))","v":8.6866006051737035},8.5496756025352951,7.9862249784202168,7.2587869514040735,6.0298497765308152,5.3058472742591256,4.2767819546401302,3.5963151870167036,{"$f":"SQRT(SUMSQ(($C79*SIN(Q79/180*PI())),(P79+$C79*COS(Q79/180*PI()))))","v":3.6415194291915434},null,{"$f":"DEGREES(ACOS((F79+$C79*COS(D79/180*PI()))/S79))","v":28.258861589080581},{"$f":"DEGREES(ACOS((G79+$C79*COS(G$78/180*PI()))/T79))","v":32.976430721776687},37.427725340851708,46.526604933623616,55.749454642616264,69.234741918779775,78.32909694743968,97.244496915253023,123.46870425436191,{"$f":"DEGREES(ACOS((P79+$C79*COS(Q79/180*PI()))/AB79))","v":120.58198837021288}]
[null,"Wind=2",8,{"$f":"OFFSET(ORC!$BK$6,($C$3-6),(1))","v":41.5},{"$f":"3600/OFFSET(ORC!$BY$6,($C$3-6),(1))","v":2.8885501083206293},{"$f":"3600/OFFSET(ORC!$BY$6,($C$3-6),(1))/COS(D80/180*PI())","v":3.8567702043555112},{"$f":"3600/OFFSET(ORC!$CF$6,($C$3-6),(1))","v":4.3160292530871596},{"$f":"3600/OFFSET(ORC!$CM$6,($C$3-6),(1))","v":4.523181304183943},{"$f":"3600/OFFSET(ORC!$CT$6,($C$3-6),(1))","v":4.7028086218158069},{"$f":"3600/OFFSET(ORC!$DA$6,($C$3-6),(1))","v":5.0097411633732252},{"$f":"3600/OFFSET(ORC!$DH$6,($C$3-6),(1))","v":5.1282051282051286},{"$f":"3600/OFFSET(ORC!$DO$6,($C$3-6),(1))","v":5},{"$f":"3600/OFFSET(ORC!$DV$6,($C$3-6),(1))","v":4.598875830352581},{"$f":"3600/OFFSET(ORC!$EC$6,($C$3-6),(1))","v":4.0853381752156146},{"$f":"3600/OFFSET(ORC!$EJ$6,($C$3-6),(1))","v":3.5467980295566504},{"$f":"Main!O80/COS((180-Main!Q80)/180*PI())","v":4.0022384389752883},{"$f":"OFFSET(ORC!$BR$6,($C$3-6),(1))","v":152.4},null,{"$f":"SQRT(SUMSQ(($C80*SIN(D80/180*PI())),(F80+$C80*COS(D80/180*PI()))))","v":11.184430166187926},11.186756255214178,10.983834464520607,10.275759432869057,9.4391475528246787,7.8889350732348547,7.0000000000000009,5.7549386039614321,4.9073293878932454,{"$f":"SQRT(SUMSQ(($C80*SIN(Q80/180*PI())),(P80+$C80*COS(Q80/180*PI()))))","v":4.8238101174802628},null,28.291586706771458,34.300356347424334,39.106483813030643,48.76422276094803,57.944475476443628,72.349189719128759,81.786789298261795,100.59341322877046,125.4020273021509,{"$f":"DEGREES(ACOS((P80+$C80*COS(Q80/180*PI()))/AB80))","v":129.79416485459981}]
[null,"Wind=3",10,{"$f":"OFFSET(ORC!$BK$6,($C$3-6),(2))","v":41.3},{"$f":"3600/OFFSET(ORC!$BY$6,($C$3-6),(2))","v":3.2670841274162807},{"$f":"3600/OFFSET(ORC!$BY$6,($C$3-6),(2))/COS(D81/180*PI())","v":4.3487822481026397},{"$f":"3600/OFFSET(ORC!$CF$6,($C$3-6),(2))","v":4.8913043478260869},{"$f":"3600/OFFSET(ORC!$CM$6,($C$3-6),(2))","v":5.1494779001573452},{"$f":"3600/OFFSET(ORC!$CT$6,($C$3-6),(2))","v":5.3707295240936901},{"$f":"3600/OFFSET(ORC!$DA$6,($C$3-6),(2))","v":5.7188244638602068},{"$f":"3600/OFFSET(ORC!$DH$6,($C$3-6),(2))","v":5.7961680888745768},{"$f":"3600/OFFSET(ORC!$DO$6,($C$3-6),(2))","v":5.7170080990948069},{"$f":"3600/OFFSET(ORC!$DV$6,($C$3-6),(2))","v":5.4013503375843959},{"$f":"3600/OFFSET(ORC!$EC$6,($C$3-6),(2))","v":4.8432665141934619},{"$f":"3600/OFFSET(ORC!$EJ$6,($C$3-6),(2))","v":4.2075736325385691},{"$f":"Main!O81/COS((180-Main!Q81)/180*PI())","v":4.6387755899864516},{"$f":"OFFSET(ORC!$BR$6,($C$3-6),(2))","v":155.1},null,13.574004184091674,13.5702841253988,13.34211008970404,12.515817087172875,11.519763593426992,9.6926487455471619,8.6898849597775207,7.2655320826433343,6.2904207932146168,6.1128361930844148,null,29.092745360139229,35.498980582808827,40.473161215254379,50.512568518614913,60.235518676622071,75.810436790324815,85.267107051378275,103.2860929132691,127.35802382248642,136.46691967973447]
[null,"Wind=4",12,{"$f":"OFFSET(ORC!$BK$6,($C$3-6),(3))","v":41.7},{"$f":"3600/OFFSET(ORC!$BY$6,($C$3-6),(3))","v":3.6032429186267638},{"$f":"3600/OFFSET(ORC!$BY$6,($C$3-6),(3))/COS(D82/180*PI())","v":4.8259558700809624},{"$f":"3600/OFFSET(ORC!$CF$6,($C$3-6),(3))","v":5.3940665268204979},{"$f":"3600/OFFSET(ORC!$CM$6,($C$3-6),(3))","v":5.604857543204111},{"$f":"3600/OFFSET(ORC!$CT$6,($C$3-6),(3))","v":5.7636887608069163},{"$f":"3600/OFFSET(ORC!$DA$6,($C$3-6),(3))","v":6.0463553913335577},{"$f":"3600/OFFSET(ORC!$DH$6,($C$3-6),(3))","v":6.1349693251533743},{"$f":"3600/OFFSET(ORC!$DO$6,($C$3-6),(3))","v":6.0800540449248439},{"$f":"3600/OFFSET(ORC!$DV$6,($C$3-6),(3))","v":5.8890888270898092},{"$f":"3600/OFFSET(ORC!$EC$6,($C$3-6),(3))","v":5.5104852288382062},{"$f":"3600/OFFSET(ORC!$EJ$6,($C$3-6),(3))","v":4.8354600402955006},{"$f":"Main!O82/COS((180-Main!Q82)/180*PI())","v":4.9146595932096302},{"$f":"OFFSET(ORC!$BR$6,($C$3-6),(3))","v":169.7},null,15.930087259868079,15.89962290865839,15.577956175251662,14.595278902563535,13.437202592738876,11.457707210051753,10.392613177161403,8.8735683770324769,7.7351252587645298,7.2182295578649631,null,30.073623108349398,36.494042645460446,41.844869730834446,52.576783370344025,63.258158006365498,79.79114635427095,89.558647648091565,107.01223647762374,129.13306382597619,162.7074283957208]
[null,"Wind=5",14,{"$f":"OFFSET(ORC!$BK$6,($C$3-6),(4))","v":41.2},{"$f":"3600/OFFSET(ORC!$BY$6,($C$3-6),(4))","v":3.9020160416215042},{"$f":"3600/OFFSET(ORC!$BY$6,($C$3-6),(4))/COS(D83/180*PI())","v":5.185989798299274},{"$f":"3600/OFFSET(ORC!$CF$6,($C$3-6),(4))","v":5.6953013763644993},{"$f":"3600/OFFSET(ORC!$CM$6,($C$3-6),(4))","v":5.8574682720468596},{"$f":"3600/OFFSET(ORC!$CT$6,($C$3-6),(4))","v":5.9910134797803298},{"$f":"3600/OFFSET(ORC!$DA$6,($C$3-6),(4))","v":6.2434963579604572},{"$f":"3600/OFFSET(ORC!$DH$6,($C$3-6),(4))","v":6.41254007837549},{"$f":"3600/OFFSET(ORC!$DO$6,($C$3-6),(4))","v":6.3593004769475359},{"$f":"3600/OFFSET(ORC!$DV$6,($C$3-6),(4))","v":6.1823802163833079},{"$f":"3600/OFFSET(ORC!$EC$6,($C$3-6),(4))","v":5.9161873459326211},{"$f":"3600/OFFSET(ORC!$EJ$6,($C$3-6),(4))","v":5.4298642533936654},{"$f":"Main!O83/COS((180-Main!Q83)/180*PI())","v":5.4298642533936654},{"$f":"OFFSET(ORC!$BR$6,($C$3-6),(4))","v":180},null,18.225008624235716,18.072493793218751,17.67242174594902,16.592429520110539,15.329098041693957,13.255586358570476,12.14127241597188,10.574353022447204,9.3563536555997135,8.5701357466063346,null,30.397021142344752,37.621234331105867,43.319089606380082,54.588145586767979,65.964847792729543,82.961638892413333,93.024924921068489,110.58041834109886,131.56921550134894,180]
[null,"Wind=6",16,{"$f":"OFFSET(ORC!$BK$6,($C$3-6),(5))","v":40.4},{"$f":"3600/OFFSET(ORC!$BY$6,($C$3-6),(5))","v":4.097427725927612},{"$f":"3600/OFFSET(ORC!$BY$6,($C$3-6),(5))/COS(D84/180*PI())","v":5.3804617382690907},{"$f":"3600/OFFSET(ORC!$CF$6,($C$3-6),(5))","v":5.8641472552532985},{"$f":"3600/OFFSET(ORC!$CM$6,($C$3-6),(5))","v":6.0120240480961931},{"$f":"3600/OFFSET(ORC!$CT$6,($C$3-6),(5))","v":6.1643835616438354},{"$f":"3600/OFFSET(ORC!$DA$6,($C$3-6),(5))","v":6.3302268331281866},{"$f":"3600/OFFSET(ORC!$DH$6,($C$3-6),(5))","v":6.6765578635014835},{"$f":"3600/OFFSET(ORC!$DO$6,($C$3-6),(5))","v":6.6506558285608728},{"$f":"3600/OFFSET(ORC!$DV$6,($C$3-6),(5))","v":6.4562410329985651},{"$f":"3600/OFFSET(ORC!$EC$6,($C$3-6),(5))","v":6.1823802163833079},{"$f":"3600/OFFSET(ORC!$EJ$6,($C$3-6),(5))","v":5.8451047247929857},{"$f":"Main!O84/COS((180-Main!Q84)/180*PI())","v":5.8451047247929857},{"$f":"OFFSET(ORC!$BR$6,($C$3-6),(5))","v":180},null,20.39772182736742,20.147425856758272,19.706263418629774,18.575638358918258,17.206736232035876,15.083231484929971,13.921951360818525,12.312391732848431,11.085606830308153,10.154895275207014,null,30.556388897452127,38.740612083864171,44.680063134144184,56.304082387940859,68.414307625836642,85.420667710391157,95.561956194147669,113.23595334046109,133.80858765018107,180]
[null,"Wind=7",20,{"$f":"OFFSET(ORC!$BK$6,($C$3-6),(6))","v":40.200000000000003},{"$f":"3600/OFFSET(ORC!$BY$6,($C$3-6),(6))","v":4.1826420355524574},{"$f":"3600/OFFSET(ORC!$BY$6,($C$3-6),(6))/COS(D85/180*PI())","v":5.4761243561704909},{"$f":"3600/OFFSET(ORC!$CF$6,($C$3-6),(6))","v":5.9880239520958076},{"$f":"3600/OFFSET(ORC!$CM$6,($C$3-6),(6))","v":6.1813186813186816},{"$f":"3600/OFFSET(ORC!$CT$6,($C$3-6),(6))","v":6.4366172000715185},{"$f":"3600/OFFSET(ORC!$DA$6,($C$3-6),(6))","v":6.5514103730664237},{"$f":"3600/OFFSET(ORC!$DH$6,($C$3-6),(6))","v":7.0066173608407949},{"$f":"3600/OFFSET(ORC!$DO$6,($C$3-6),(6))","v":7.1371927042030139},{"$f":"3600/OFFSET(ORC!$DV$6,($C$3-6),(6))","v":7.0011668611435232},{"$f":"3600/OFFSET(ORC!$EC$6,($C$3-6),(6))","v":6.6976744186046515},{"$f":"3600/OFFSET(ORC!$EJ$6,($C$3-6),(6))","v":6.3548102383053839},{"$f":"Main!O85/COS((180-Main!Q85)/180*PI())","v":6.3548102383053839},{"$f":"OFFSET(ORC!$BR$6,($C$3-6),(6))","v":180},null,24.439591227889675,24.152023875364574,23.703060440930258,22.540337301752505,21.045687868927505,18.794587409196303,17.555502431228462,15.842772322679179,14.589194457065791,13.645189761694617,null,31.88436292416203,40.733549085409763,46.947523806985828,58.988534216625823,71.862729606318027,89.493284265512557,99.385239404458588,116.79116163775048,136.72987362633972,180]
[]
[null,null,null,"Bateau N°1"]
[null,null,null,null,"True Wind",null,null,null,null,null,null,null,null,null,"vent apparent"]
[null,null,null,null,"V@UA",52,60,75,90,110,120,135,150,"VMG180",150,135,120,110,90,75,60,52,"V@UA"]
[null,null,null,null,{"$f":"F79*SIN(D79/180*PI())","v":2.1991839568264542},{"$f":"G79*SIN(G$78/180*PI())","v":2.8314589409963058},{"$f":"H79*SIN(H$78/180*PI())","v":3.2817804774989252},3.8074378349289897,4.0853381752156146,3.937259584298499,3.5275983860873268,2.6186445965143208,1.6064257028112447,0,{"$f":"-N79*SIN((O$89/180*PI())-ATAN((N79*SIN(O$89/180*PI())/(C79+N79*COS(O$89/180*PI())))))","v":-2.6801194321521802},{"$f":"-M79*SIN((P$89/180*PI())-ATAN((M79*SIN(P$89/180*PI())/(C79+M79*COS(P$89/180*PI())))))","v":-3.6737593231843868},{"$f":"-L79*SIN((Q$89/180*PI())-ATAN((L79*SIN(Q$89/180*PI())/(C79+L79*COS(Q$89/180*PI())))))","v":-3.9891065879726786},{"$f":"-K79*SIN((R$89/180*PI())-ATAN((K79*SIN(R$89/180*PI())/(C79+K79*COS(R$89/180*PI())))))","v":-3.9177688302846008},{"$f":"-J79*SIN((S$89/180*PI())-ATAN((J79*SIN(S$89/180*PI())/(C79+J79*COS(S$89/180*PI())))))","v":-3.3768767723031607},{"$f":"-I79*SIN((T$89/180*PI())-ATAN((I79*SIN(T$89/180*PI())/(C79+I79*COS(T$89/180*PI())))))","v":-2.8605038139174628},{"$f":"-H79*SIN((U$89/180*PI())-ATAN((H79*SIN(U$89/180*PI())/(C79+H79*COS(U$89/180*PI())))))","v":-2.3030912259588581},{"$f":"-G79*SIN((V$89/180*PI())-ATAN((G79*SIN(V$89/180*PI())/(C79+G79*COS(V$89/180*PI())))))","v":-1.9557424610795857},{"$f":"-F79*SIN((D79/180*PI())-ATAN((F79*SIN(D79/180*PI())/(C79+F79*COS(D79/180*PI())))))","v":-1.5267142683502317}]
[null,null,null,null,{"$f":"E79","v":2.3583360628889616},{"$f":"G79*COS(G$78/180*PI())","v":2.2121781726443457},{"$f":"H79*COS(H$78/180*PI())","v":1.8947368421052635},1.0201998931009248,2.5025728765723057E-16,-1.433045293263975,-2.0366598778004064,-2.6186445965143204,-2.7824109358536182,{"$f":"-O79","v":-2.7822861117551585},{"$f":"N79*COS((O$89/180*PI())-ATAN((N79*SIN(O$89/180*PI())/(C79+N79*COS(O$89/180*PI())))))","v":-1.7718278652314636},{"$f":"M79*COS((P$89/180*PI())-ATAN((M79*SIN(P$89/180*PI())/(C79+M79*COS(P$89/180*PI())))))","v":-0.46700265633408578},{"$f":"L79*COS((Q$89/180*PI())-ATAN((L79*SIN(Q$89/180*PI())/(C79+L79*COS(Q$89/180*PI())))))","v":0.82399178464403044},{"$f":"K79*COS((R$89/180*PI())-ATAN((K79*SIN(R$89/180*PI())/(C79+K79*COS(R$89/180*PI())))))","v":1.4855030256269597},{"$f":"J79*COS((S$89/180*PI())-ATAN((J79*SIN(S$89/180*PI())/(C79+J79*COS(S$89/180*PI())))))","v":2.2992805984814981},{"$f":"I79*COS((T$89/180*PI())-ATAN((I79*SIN(T$89/180*PI())/(C79+I79*COS(T$89/180*PI())))))","v":2.7119934770009197},{"$f":"H79*COS((U$89/180*PI())-ATAN((H79*SIN(U$89/180*PI())/(C79+H79*COS(U$89/180*PI())))))","v":3.0092991888869114},{"$f":"G79*COS((V$89/180*PI())-ATAN((G79*SIN(V$89/180*PI())/(C79+G79*COS(V$89/180*PI())))))","v":3.0142931887927498},{"$f":"F79*COS((D79/180*PI())-ATAN((F79*SIN(D79/180*PI())/(C79+F79*COS(D79/180*PI())))))","v":2.8402997384609403}]
[null,null,null,null,{"$f":"F80*SIN(D80/180*PI())","v":2.5555732587670685},{"$f":"G80*SIN(G$78/180*PI())","v":3.4010774643138695},3.9171899153461229,4.5425643039067882,5.0097411633732252,4.8189365168508127,4.3301270189221936,3.2518962854772249,2.0426690876078069,0,{"$f":"-N80*SIN((O$89/180*PI())-ATAN((N80*SIN(O$89/180*PI())/(C80+N80*COS(O$89/180*PI())))))","v":-3.3299889632796633},{"$f":"-M80*SIN((P$89/180*PI())-ATAN((M80*SIN(P$89/180*PI())/(C80+M80*COS(P$89/180*PI())))))","v":-4.5204948434914956},{"$f":"-L80*SIN((Q$89/180*PI())-ATAN((L80*SIN(Q$89/180*PI())/(C80+L80*COS(Q$89/180*PI())))))","v":-4.948716593053935},{"$f":"-K80*SIN((R$89/180*PI())-ATAN((K80*SIN(R$89/180*PI())/(C80+K80*COS(R$89/180*PI())))))","v":-4.8867802532184461},{"$f":"-J80*SIN((S$89/180*PI())-ATAN((J80*SIN(S$89/180*PI())/(C80+J80*COS(S$89/180*PI())))))","v":-4.2459267728040144},{"$f":"-I80*SIN((T$89/180*PI())-ATAN((I80*SIN(T$89/180*PI())/(C80+I80*COS(T$89/180*PI())))))","v":-3.536528338237654},{"$f":"-H80*SIN((U$89/180*PI())-ATAN((H80*SIN(U$89/180*PI())/(C80+H80*COS(U$89/180*PI())))))","v":-2.8530582306200762},{"$f":"-G80*SIN((V$89/180*PI())-ATAN((G80*SIN(V$89/180*PI())/(C80+G80*COS(V$89/180*PI())))))","v":-2.4322170872212352},{"$f":"-F80*SIN((D80/180*PI())-ATAN((F80*SIN(D80/180*PI())/(C80+F80*COS(D80/180*PI())))))","v":-1.8279506212076273}]
[null,null,null,null,{"$f":"E80","v":2.8885501083206293},{"$f":"G80*COS(G$78/180*PI())","v":2.6572129375043398},2.261590652091972,1.2171764367982687,3.0688383228994095E-16,-1.7539494529521473,-2.4999999999999991,-3.2518962854772244,-3.5380066427870847,{"$f":"-O80","v":-3.5467980295566504},{"$f":"N80*COS((O$89/180*PI())-ATAN((N80*SIN(O$89/180*PI())/(C80+N80*COS(O$89/180*PI())))))","v":-2.366677314360722},{"$f":"M80*COS((P$89/180*PI())-ATAN((M80*SIN(P$89/180*PI())/(C80+M80*COS(P$89/180*PI())))))","v":-0.8454497459742597},{"$f":"L80*COS((Q$89/180*PI())-ATAN((L80*SIN(Q$89/180*PI())/(C80+L80*COS(Q$89/180*PI())))))","v":0.71428571428571463},{"$f":"K80*COS((R$89/180*PI())-ATAN((K80*SIN(R$89/180*PI())/(C80+K80*COS(R$89/180*PI())))))","v":1.5549490646653481},{"$f":"J80*COS((S$89/180*PI())-ATAN((J80*SIN(S$89/180*PI())/(C80+J80*COS(S$89/180*PI())))))","v":2.6588742662980889},{"$f":"I80*COS((T$89/180*PI())-ATAN((I80*SIN(T$89/180*PI())/(C80+I80*COS(T$89/180*PI())))))","v":3.0998993929266652},{"$f":"H80*COS((U$89/180*PI())-ATAN((H80*SIN(U$89/180*PI())/(C80+H80*COS(U$89/180*PI())))))","v":3.5098757589422154},{"$f":"G80*COS((V$89/180*PI())-ATAN((G80*SIN(V$89/180*PI())/(C80+G80*COS(V$89/180*PI())))))","v":3.5654492780199742},{"$f":"F80*COS((D80/180*PI())-ATAN((F80*SIN(D80/180*PI())/(C80+F80*COS(D80/180*PI())))))","v":3.3960672748977019}]
[null,null,null,null,{"$f":"F81*SIN(D81/180*PI())","v":2.8702035373466539},{"$f":"G81*SIN(G$78/180*PI())","v":3.8544004252502702},4.4595786777628081,5.1877263533352922,5.7188244638602068,5.4466163819502009,4.9510742474574867,3.8193314512701741,2.4216332570967305,0,{"$f":"-N81*SIN((O$89/180*PI())-ATAN((N81*SIN(O$89/180*PI())/(C81+N81*COS(O$89/180*PI())))))","v":-3.8497158404870309},{"$f":"-M81*SIN((P$89/180*PI())-ATAN((M81*SIN(P$89/180*PI())/(C81+M81*COS(P$89/180*PI())))))","v":-5.2567814825210037},{"$f":"-L81*SIN((Q$89/180*PI())-ATAN((L81*SIN(Q$89/180*PI())/(C81+L81*COS(Q$89/180*PI())))))","v":-5.6975141447490971},{"$f":"-K81*SIN((R$89/180*PI())-ATAN((K81*SIN(R$89/180*PI())/(C81+K81*COS(R$89/180*PI())))))","v":-5.6193271054544267},{"$f":"-J81*SIN((S$89/180*PI())-ATAN((J81*SIN(S$89/180*PI())/(C81+J81*COS(S$89/180*PI())))))","v":-4.9643592227216224},{"$f":"-I81*SIN((T$89/180*PI())-ATAN((I81*SIN(T$89/180*PI())/(C81+I81*COS(T$89/180*PI())))))","v":-4.144936217270268},{"$f":"-H81*SIN((U$89/180*PI())-ATAN((H81*SIN(U$89/180*PI())/(C81+H81*COS(U$89/180*PI())))))","v":-3.3424837958758977},{"$f":"-G81*SIN((V$89/180*PI())-ATAN((G81*SIN(V$89/180*PI())/(C81+G81*COS(V$89/180*PI())))))","v":-2.8403240415845001},{"$f":"-F81*SIN((D81/180*PI())-ATAN((F81*SIN(D81/180*PI())/(C81+F81*COS(D81/180*PI())))))","v":-2.1144855257304598}]
[null,null,null,null,{"$f":"E81","v":3.2670841274162807},{"$f":"G81*COS(G$78/180*PI())","v":3.0113876510494157},2.574738950078673,1.3900470869298445,3.503204477895975E-16,-1.9824062404965501,-2.8585040495474021,-3.8193314512701737,-4.1943918385900441,{"$f":"-O81","v":-4.2075736325385691},{"$f":"N81*COS((O$89/180*PI())-ATAN((N81*SIN(O$89/180*PI())/(C81+N81*COS(O$89/180*PI())))))","v":-2.9388634665480673},{"$f":"M81*COS((P$89/180*PI())-ATAN((M81*SIN(P$89/180*PI())/(C81+M81*COS(P$89/180*PI())))))","v":-1.2413033127915789},{"$f":"L81*COS((Q$89/180*PI())-ATAN((L81*SIN(Q$89/180*PI())/(C81+L81*COS(Q$89/180*PI())))))","v":0.47171408236301277},{"$f":"K81*COS((R$89/180*PI())-ATAN((K81*SIN(R$89/180*PI())/(C81+K81*COS(R$89/180*PI())))))","v":1.4208192694333572},{"$f":"J81*COS((S$89/180*PI())-ATAN((J81*SIN(S$89/180*PI())/(C81+J81*COS(S$89/180*PI())))))","v":2.8390298970290457},{"$f":"I81*COS((T$89/180*PI())-ATAN((I81*SIN(T$89/180*PI())/(C81+I81*COS(T$89/180*PI())))))","v":3.4152949178266989},{"$f":"H81*COS((U$89/180*PI())-ATAN((H81*SIN(U$89/180*PI())/(C81+H81*COS(U$89/180*PI())))))","v":3.9172598482250254},{"$f":"G81*COS((V$89/180*PI())-ATAN((G81*SIN(V$89/180*PI())/(C81+G81*COS(V$89/180*PI())))))","v":3.9821373107741369},{"$f":"F81*COS((D81/180*PI())-ATAN((F81*SIN(D81/180*PI())/(C81+F81*COS(D81/180*PI())))))","v":3.800112893440013}]
[null,null,null,null,{"$f":"F82*SIN(D82/180*PI())","v":3.2103723350002533},{"$f":"G82*SIN(G$78/180*PI())","v":4.2505824288046137},4.8539490170075963,5.5672958287554364,6.0463553913335577,5.7649854035945305,5.265481259287248,4.1642146446451358,2.7552426144191027,0,{"$f":"-N82*SIN((O$89/180*PI())-ATAN((N82*SIN(O$89/180*PI())/(C82+N82*COS(O$89/180*PI())))))","v":-4.2743860334473904},{"$f":"-M82*SIN((P$89/180*PI())-ATAN((M82*SIN(P$89/180*PI())/(C82+M82*COS(P$89/180*PI())))))","v":-5.6313958052186592},{"$f":"-L82*SIN((Q$89/180*PI())-ATAN((L82*SIN(Q$89/180*PI())/(C82+L82*COS(Q$89/180*PI())))))","v":-6.0798736597165721},{"$f":"-K82*SIN((R$89/180*PI())-ATAN((K82*SIN(R$89/180*PI())/(C82+K82*COS(R$89/180*PI())))))","v":-6.0378419150424323},{"$f":"-J82*SIN((S$89/180*PI())-ATAN((J82*SIN(S$89/180*PI())/(C82+J82*COS(S$89/180*PI())))))","v":-5.3996554859722261},{"$f":"-I82*SIN((T$89/180*PI())-ATAN((I82*SIN(T$89/180*PI())/(C82+I82*COS(T$89/180*PI())))))","v":-4.5773397268435261},{"$f":"-H82*SIN((U$89/180*PI())-ATAN((H82*SIN(U$89/180*PI())/(C82+H82*COS(U$89/180*PI())))))","v":-3.7390905166768564},{"$f":"-G82*SIN((V$89/180*PI())-ATAN((G82*SIN(V$89/180*PI())/(C82+G82*COS(V$89/180*PI())))))","v":-3.2080628225389356},{"$f":"-F82*SIN((D82/180*PI())-ATAN((F82*SIN(D82/180*PI())/(C82+F82*COS(D82/180*PI())))))","v":-2.4183463273962049}]
[null,null,null,null,{"$f":"E82","v":3.6032429186267638},{"$f":"G82*COS(G$78/180*PI())","v":3.3209189559070573},2.8024287716020559,1.4917524213401772,3.7038414827603561E-16,-2.098283087887538,-3.0400270224624206,-4.1642146446451349,-4.7722201953527925,{"$f":"-O82","v":-4.8354600402955006},{"$f":"N82*COS((O$89/180*PI())-ATAN((N82*SIN(O$89/180*PI())/(C82+N82*COS(O$89/180*PI())))))","v":-3.477796931149653},{"$f":"M82*COS((P$89/180*PI())-ATAN((M82*SIN(P$89/180*PI())/(C82+M82*COS(P$89/180*PI())))))","v":-1.7230056582378706},{"$f":"L82*COS((Q$89/180*PI())-ATAN((L82*SIN(Q$89/180*PI())/(C82+L82*COS(Q$89/180*PI())))))","v":4.6834507487254984E-2},{"$f":"K82*COS((R$89/180*PI())-ATAN((K82*SIN(R$89/180*PI())/(C82+K82*COS(R$89/180*PI())))))","v":1.0873424619362499},{"$f":"J82*COS((S$89/180*PI())-ATAN((J82*SIN(S$89/180*PI())/(C82+J82*COS(S$89/180*PI())))))","v":2.7206863382459998},{"$f":"I82*COS((T$89/180*PI())-ATAN((I82*SIN(T$89/180*PI())/(C82+I82*COS(T$89/180*PI())))))","v":3.5025803568957565},{"$f":"H82*COS((U$89/180*PI())-ATAN((H82*SIN(U$89/180*PI())/(C82+H82*COS(U$89/180*PI())))))","v":4.1753598872084332},{"$f":"G82*COS((V$89/180*PI())-ATAN((G82*SIN(V$89/180*PI())/(C82+G82*COS(V$89/180*PI())))))","v":4.3363909674300434},{"$f":"F82*COS((D82/180*PI())-ATAN((F82*SIN(D82/180*PI())/(C82+F82*COS(D82/180*PI())))))","v":4.1762963377540858}]
[null,null,null,null,{"$f":"F83*SIN(D83/180*PI())","v":3.4159568204227333},{"$f":"G83*SIN(G$78/180*PI())","v":4.4879587296063894},5.0727163254539196,5.7868746457657618,6.2434963579604572,6.0258165921433386,5.5073157633350638,4.3716029748781926,2.9580936729663101,0,{"$f":"-N83*SIN((O$89/180*PI())-ATAN((N83*SIN(O$89/180*PI())/(C83+N83*COS(O$89/180*PI())))))","v":-4.4262233927789554},{"$f":"-M83*SIN((P$89/180*PI())-ATAN((M83*SIN(P$89/180*PI())/(C83+M83*COS(P$89/180*PI())))))","v":-5.7878190295306329},{"$f":"-L83*SIN((Q$89/180*PI())-ATAN((L83*SIN(Q$89/180*PI())/(C83+L83*COS(Q$89/180*PI())))))","v":-6.3504398917252214},{"$f":"-K83*SIN((R$89/180*PI())-ATAN((K83*SIN(R$89/180*PI())/(C83+K83*COS(R$89/180*PI())))))","v":-6.3642173200027754},{"$f":"-J83*SIN((S$89/180*PI())-ATAN((J83*SIN(S$89/180*PI())/(C83+J83*COS(S$89/180*PI())))))","v":-5.7021586510635416},{"$f":"-I83*SIN((T$89/180*PI())-ATAN((I83*SIN(T$89/180*PI())/(C83+I83*COS(T$89/180*PI())))))","v":-4.8827234699129773},{"$f":"-H83*SIN((U$89/180*PI())-ATAN((H83*SIN(U$89/180*PI())/(C83+H83*COS(U$89/180*PI())))))","v":-4.0185793196472392},{"$f":"-G83*SIN((V$89/180*PI())-ATAN((G83*SIN(V$89/180*PI())/(C83+G83*COS(V$89/180*PI())))))","v":-3.4766326625086665},{"$f":"-F83*SIN((D83/180*PI())-ATAN((F83*SIN(D83/180*PI())/(C83+F83*COS(D83/180*PI())))))","v":-2.6240533802723394}]
[null,null,null,null,{"$f":"E83","v":3.9020160416215042},{"$f":"G83*COS(G$78/180*PI())","v":3.5063776477968198},2.9287341360234302,1.5505883880330749,3.8246049580914253E-16,-2.1932178766875801,-3.1796502384737666,-4.3716029748781917,-5.1235685351256848,{"$f":"-O83","v":-5.4298642533936654},{"$f":"N83*COS((O$89/180*PI())-ATAN((N83*SIN(O$89/180*PI())/(C83+N83*COS(O$89/180*PI())))))","v":-3.9255342552816455},{"$f":"M83*COS((P$89/180*PI())-ATAN((M83*SIN(P$89/180*PI())/(C83+M83*COS(P$89/180*PI())))))","v":-2.1732409027373856},{"$f":"L83*COS((Q$89/180*PI())-ATAN((L83*SIN(Q$89/180*PI())/(C83+L83*COS(Q$89/180*PI())))))","v":-0.33558268383532019},{"$f":"K83*COS((R$89/180*PI())-ATAN((K83*SIN(R$89/180*PI())/(C83+K83*COS(R$89/180*PI())))))","v":0.78575324405861047},{"$f":"J83*COS((S$89/180*PI())-ATAN((J83*SIN(S$89/180*PI())/(C83+J83*COS(S$89/180*PI())))))","v":2.5429576264591396},{"$f":"I83*COS((T$89/180*PI())-ATAN((I83*SIN(T$89/180*PI())/(C83+I83*COS(T$89/180*PI())))))","v":3.4714916147487083},{"$f":"H83*COS((U$89/180*PI())-ATAN((H83*SIN(U$89/180*PI())/(C83+H83*COS(U$89/180*PI())))))","v":4.2615671776635367},{"$f":"G83*COS((V$89/180*PI())-ATAN((G83*SIN(V$89/180*PI())/(C83+G83*COS(V$89/180*PI())))))","v":4.5110401347801448},{"$f":"F83*COS((D83/180*PI())-ATAN((F83*SIN(D83/180*PI())/(C83+F83*COS(D83/180*PI())))))","v":4.4731235222767385}]
[null,null,null,null,{"$f":"F84*SIN(D84/180*PI())","v":3.4871843294809244},{"$f":"G84*SIN(G$78/180*PI())","v":4.621011097872942},5.2065655538142606,5.9543372853435717,6.3302268331281866,6.2739121565824743,5.7596368993607605,4.5652518154081259,3.0911901081916535,0,{"$f":"-N84*SIN((O$89/180*PI())-ATAN((N84*SIN(O$89/180*PI())/(C84+N84*COS(O$89/180*PI())))))","v":-4.4615547428441147},{"$f":"-M84*SIN((P$89/180*PI())-ATAN((M84*SIN(P$89/180*PI())/(C84+M84*COS(P$89/180*PI())))))","v":-5.9325621399500044},{"$f":"-L84*SIN((Q$89/180*PI())-ATAN((L84*SIN(Q$89/180*PI())/(C84+L84*COS(Q$89/180*PI())))))","v":-6.6193443721637939},{"$f":"-K84*SIN((R$89/180*PI())-ATAN((K84*SIN(R$89/180*PI())/(C84+K84*COS(R$89/180*PI())))))","v":-6.6552445744543745},{"$f":"-J84*SIN((S$89/180*PI())-ATAN((J84*SIN(S$89/180*PI())/(C84+J84*COS(S$89/180*PI())))))","v":-5.8862777905247912},{"$f":"-I84*SIN((T$89/180*PI())-ATAN((I84*SIN(T$89/180*PI())/(C84+I84*COS(T$89/180*PI())))))","v":-5.1287279997975315},{"$f":"-H84*SIN((U$89/180*PI())-ATAN((H84*SIN(U$89/180*PI())/(C84+H84*COS(U$89/180*PI())))))","v":-4.227338643117589},{"$f":"-G84*SIN((V$89/180*PI())-ATAN((G84*SIN(V$89/180*PI())/(C84+G84*COS(V$89/180*PI())))))","v":-3.6697580173084914},{"$f":"-F84*SIN((D84/180*PI())-ATAN((F84*SIN(D84/180*PI())/(C84+F84*COS(D84/180*PI())))))","v":-2.7353520037142212}]
[null,null,null,null,{"$f":"E84","v":4.097427725927612},{"$f":"G84*COS(G$78/180*PI())","v":3.6103295506961555},3.0060120240480974,1.5954598670703333,3.8777338119140422E-16,-2.2835172773968977,-3.3253279142804351,-4.5652518154081259,-5.3540983232422796,{"$f":"-O84","v":-5.8451047247929857},{"$f":"N84*COS((O$89/180*PI())-ATAN((N84*SIN(O$89/180*PI())/(C84+N84*COS(O$89/180*PI())))))","v":-4.279761023297084},{"$f":"M84*COS((P$89/180*PI())-ATAN((M84*SIN(P$89/180*PI())/(C84+M84*COS(P$89/180*PI())))))","v":-2.5471071300214705},{"$f":"L84*COS((Q$89/180*PI())-ATAN((L84*SIN(Q$89/180*PI())/(C84+L84*COS(Q$89/180*PI())))))","v":-0.64459524717005134},{"$f":"K84*COS((R$89/180*PI())-ATAN((K84*SIN(R$89/180*PI())/(C84+K84*COS(R$89/180*PI())))))","v":0.53305211647558659},{"$f":"J84*COS((S$89/180*PI())-ATAN((J84*SIN(S$89/180*PI())/(C84+J84*COS(S$89/180*PI())))))","v":2.328842101051658},{"$f":"I84*COS((T$89/180*PI())-ATAN((I84*SIN(T$89/180*PI())/(C84+I84*COS(T$89/180*PI())))))","v":3.4199084489438527},{"$f":"H84*COS((U$89/180*PI())-ATAN((H84*SIN(U$89/180*PI())/(C84+H84*COS(U$89/180*PI())))))","v":4.2748147505233112},{"$f":"G84*COS((V$89/180*PI())-ATAN((G84*SIN(V$89/180*PI())/(C84+G84*COS(V$89/180*PI())))))","v":4.5739588023609095},{"$f":"F84*COS((D84/180*PI())-ATAN((F84*SIN(D84/180*PI())/(C84+F84*COS(D84/180*PI())))))","v":4.6332729180088492}]
[null,null,null,null,{"$f":"F85*SIN(D85/180*PI())","v":3.5346065646226128},{"$f":"G85*SIN(G$78/180*PI())","v":4.7186272671061182},5.353179006909305,6.2172947874855105,6.5514103730664237,6.5840666306525319,6.1809901935447655,4.9505725637331217,3.3488372093023253,0,{"$f":"-N85*SIN((O$89/180*PI())-ATAN((N85*SIN(O$89/180*PI())/(C85+N85*COS(O$89/180*PI())))))","v":-4.5908459430814244},{"$f":"-M85*SIN((P$89/180*PI())-ATAN((M85*SIN(P$89/180*PI())/(C85+M85*COS(P$89/180*PI())))))","v":-6.24962912159799},{"$f":"-L85*SIN((Q$89/180*PI())-ATAN((L85*SIN(Q$89/180*PI())/(C85+L85*COS(Q$89/180*PI())))))","v":-7.0416557062471314},{"$f":"-K85*SIN((R$89/180*PI())-ATAN((K85*SIN(R$89/180*PI())/(C85+K85*COS(R$89/180*PI())))))","v":-7.0063433554608485},{"$f":"-J85*SIN((S$89/180*PI())-ATAN((J85*SIN(S$89/180*PI())/(C85+J85*COS(S$89/180*PI())))))","v":-6.2258933173090778},{"$f":"-I85*SIN((T$89/180*PI())-ATAN((I85*SIN(T$89/180*PI())/(C85+I85*COS(T$89/180*PI())))))","v":-5.516594276521424},{"$f":"-H85*SIN((U$89/180*PI())-ATAN((H85*SIN(U$89/180*PI())/(C85+H85*COS(U$89/180*PI())))))","v":-4.5168673642374699},{"$f":"-G85*SIN((V$89/180*PI())-ATAN((G85*SIN(V$89/180*PI())/(C85+G85*COS(V$89/180*PI())))))","v":-3.9074383922907505},{"$f":"-F85*SIN((D85/180*PI())-ATAN((F85*SIN(D85/180*PI())/(C85+F85*COS(D85/180*PI())))))","v":-2.8925251094944939}]
[null,null,null,null,{"$f":"E85","v":4.1826420355524574},{"$f":"G85*COS(G$78/180*PI())","v":3.6865956606326837},3.0906593406593417,1.6659191174129711,4.0132251480173176E-16,-2.3964042739828875,-3.5685963521015052,-4.9505725637331208,-5.800356192788799,{"$f":"-O85","v":-6.3548102383053839},{"$f":"N85*COS((O$89/180*PI())-ATAN((N85*SIN(O$89/180*PI())/(C85+N85*COS(O$89/180*PI())))))","v":-4.8767792798653478},{"$f":"M85*COS((P$89/180*PI())-ATAN((M85*SIN(P$89/180*PI())/(C85+M85*COS(P$89/180*PI())))))","v":-3.1557048753089361},{"$f":"L85*COS((Q$89/180*PI())-ATAN((L85*SIN(Q$89/180*PI())/(C85+L85*COS(Q$89/180*PI())))))","v":-1.1638748264336405},{"$f":"K85*COS((R$89/180*PI())-ATAN((K85*SIN(R$89/180*PI())/(C85+K85*COS(R$89/180*PI())))))","v":6.1964720811484394E-2},{"$f":"J85*COS((S$89/180*PI())-ATAN((J85*SIN(S$89/180*PI())/(C85+J85*COS(S$89/180*PI())))))","v":2.0394191030311819},{"$f":"I85*COS((T$89/180*PI())-ATAN((I85*SIN(T$89/180*PI())/(C85+I85*COS(T$89/180*PI())))))","v":3.3162069550176723},{"$f":"H85*COS((U$89/180*PI())-ATAN((H85*SIN(U$89/180*PI())/(C85+H85*COS(U$89/180*PI())))))","v":4.2197878920516585},{"$f":"G85*COS((V$89/180*PI())-ATAN((G85*SIN(V$89/180*PI())/(C85+G85*COS(V$89/180*PI())))))","v":4.5374393727437692},{"$f":"F85*COS((D85/180*PI())-ATAN((F85*SIN(D85/180*PI())/(C85+F85*COS(D85/180*PI())))))","v":4.6498641329814721}]
[]
[]
[null,null,null,null,null,"Hulptabel voor TN berekening"]
[null,null,null,null,null,null,"CR6","CR8","CR10","CR12","CR14","CR16","CR20",null,"WL6","WL8","WL10","WL12","WL14","WL16","WL20"]
[null,null,null,null,null,null,{"$f":"IF($B$3=1,(0.242*OFFSET(#REF!,($C$3-1),(0))+0.0455*OFFSET(#REF!,($C$3-1),(0))+0.0657*OFFSET(#REF!,($C$3-1),(0))+0.0859*OFFSET(#REF!,($C$3-1),(0))+0.1002*OFFSET(#REF!,($C$3-1),(0))+0.0859*OFFSET(#REF!,($C$3-1),(0))+0.0716*OFFSET(#REF!,($C$3-1),(0))+0.0859*OFFSET(#REF!,($C$3-1),(0))+0.1301*OFFSET(#REF!,($C$3-1),(0))+0.0872*OFFSET(#REF!,($C$3-1),(0))),(0))","v":0},{"$f":"IF($B$3=1,(0.242*OFFSET(#REF!,($C$3-1),(0))+0.0455*OFFSET(#REF!,($C$3-1),(0))+0.0657*OFFSET(#REF!,($C$3-1),(0))+0.0859*OFFSET(#REF!,($C$3-1),(0))+0.1002*OFFSET(#REF!,($C$3-1),(0))+0.0859*OFFSET(#REF!,($C$3-1),(0))+0.0716*OFFSET(#REF!,($C$3-1),(0))+0.0859*OFFSET(#REF!,($C$3-1),(0))+0.1301*OFFSET(#REF!,($C$3-1),(0))+0.0872*OFFSET(#REF!,($C$3-1),(0))),(0))","v":0},{"$f":"IF($B$3=1,(0.242*OFFSET(#REF!,($C$3-1),(0))+0.0455*OFFSET(#REF!,($C$3-1),(0))+0.0657*OFFSET(#REF!,($C$3-1),(0))+0.0859*OFFSET(#REF!,($C$3-1),(0))+0.1002*OFFSET(#REF!,($C$3-1),(0))+0.0859*OFFSET(#REF!,($C$3-1),(0))+0.0716*OFFSET(#REF!,($C$3-1),(0))+0.0859*OFFSET(#REF!,($C$3-1),(0))+0.1301*OFFSET(#REF!,($C$3-1),(0))+0.0872*OFFSET(#REF!,($C$3-1),(0))),(0))","v":0},{"$f":"IF($B$3=1,(0.242*OFFSET(#REF!,($C$3-1),(0))+0.0455*OFFSET(#REF!,($C$3-1),(0))+0.0657*OFFSET(#REF!,($C$3-1),(0))+0.0859*OFFSET(#REF!,($C$3-1),(0))+0.1002*OFFSET(#REF!,($C$3-1),(0))+0.0859*OFFSET(#REF!,($C$3-1),(0))+0.0716*OFFSET(#REF!,($C$3-1),(0))+0.0859*OFFSET(#REF!,($C$3-1),(0))+0.1301*OFFSET(#REF!,($C$3-1),(0))+0.0872*OFFSET(#REF!,($C$3-1),(0))),(0))","v":0},{"$f":"IF($B$3=1,(0.242*OFFSET(#REF!,($C$3-1),(0))+0.0455*OFFSET(#REF!,($C$3-1),(0))+0.0657*OFFSET(#REF!,($C$3-1),(0))+0.0859*OFFSET(#REF!,($C$3-1),(0))+0.1002*OFFSET(#REF!,($C$3-1),(0))+0.0859*OFFSET(#REF!,($C$3-1),(0))+0.0716*OFFSET(#REF!,($C$3-1),(0))+0.0859*OFFSET(#REF!,($C$3-1),(0))+0.1301*OFFSET(#REF!,($C$3-1),(0))+0.0872*OFFSET(#REF!,($C$3-1),(0))),(0))","v":0},{"$f":"IF($B$3=1,(0.242*OFFSET(#REF!,($C$3-1),(0))+0.0455*OFFSET(#REF!,($C$3-1),(0))+0.0657*OFFSET(#REF!,($C$3-1),(0))+0.0859*OFFSET(#REF!,($C$3-1),(0))+0.1002*OFFSET(#REF!,($C$3-1),(0))+0.0859*OFFSET(#REF!,($C$3-1),(0))+0.0716*OFFSET(#REF!,($C$3-1),(0))+0.0859*OFFSET(#REF!,($C$3-1),(0))+0.1301*OFFSET(#REF!,($C$3-1),(0))+0.0872*OFFSET(#REF!,($C$3-1),(0))),(0))","v":0},{"$f":"IF($B$3=1,(0.242*OFFSET(#REF!,($C$3-1),(0))+0.0455*OFFSET(#REF!,($C$3-1),(0))+0.0657*OFFSET(#REF!,($C$3-1),(0))+0.0859*OFFSET(#REF!,($C$3-1),(0))+0.1002*OFFSET(#REF!,($C$3-1),(0))+0.0859*OFFSET(#REF!,($C$3-1),(0))+0.0716*OFFSET(#REF!,($C$3-1),(0))+0.0859*OFFSET(#REF!,($C$3-1),(0))+0.1301*OFFSET(#REF!,($C$3-1),(0))+0.0872*OFFSET(#REF!,($C$3-1),(0))),(0))","v":0},null,{"$f":"IF($B$3=1,(0.5*OFFSET(#REF!,($C$3-1),(0))+0.5*OFFSET(#REF!,($C$3-1),(0))),(0))","v":0},{"$f":"IF($B$3=1,(0.5*OFFSET(#REF!,($C$3-1),(0))+0.5*OFFSET(#REF!,($C$3-1),(0))),(0))","v":0},{"$f":"IF($B$3=1,(0.5*OFFSET(#REF!,($C$3-1),(0))+0.5*OFFSET(#REF!,($C$3-1),(0))),(0))","v":0},{"$f":"IF($B$3=1,(0.5*OFFSET(#REF!,($C$3-1),(0))+0.5*OFFSET(#REF!,($C$3-1),(0))),(0))","v":0},{"$f":"IF($B$3=1,(0.5*OFFSET(#REF!,($C$3-1),(0))+0.5*OFFSET(#REF!,($C$3-1),(0))),(0))","v":0},{"$f":"IF($B$3=1,(0.5*OFFSET(#REF!,($C$3-1),(0))+0.5*OFFSET(#REF!,($C$3-1),(0))),(0))","v":0},{"$f":"IF($B$3=1,(0.5*OFFSET(#REF!,($C$3-1),(0))+0.5*OFFSET(#REF!,($C$3-1),(0))),(0))","v":0}]
[]
[null,null,null,null,null,null,"CR-L",null,"CR-M",null,"CR-H",null,null,null,"WL-L",null,"WL-M",null,"WL-H"]
[null,null,null,null,"             Tripple Numbers voor IMS boot op 1 =>",null,{"$f":"IF($B$3=1,(675/(G108/2+H108/2)),(0))","v":0},null,{"$f":"IF($B$3=1,(675/(H108/12+I108/3+J108/3+K108/4)),(0))","v":0},null,{"$f":"IF($B$3=1,(675/(K108/4+3*L108/8+3*M108/8)),(0))","v":0},null,null,null,{"$f":"IF($B$3=1,(675/(O108/2+P108/2)),(0))","v":0},null,{"$f":"IF($B$3=1,(675/(P108/12+Q108/3+R108/3+S108/4)),(0))","v":0},null,{"$f":"IF($B$3=1,(675/(S108/4+3*T108/8+3*U108/8)),(0))","v":0}]
[null,null,null,"données bateau N°2",null,null,null,null,null,null,null,null,null,null,null,null,null,null,"vent apparent",null,null,null,null,null,null,null,null,null,null,"AWA"]
[null,null,"Wind(kn)","Up Angle",0,"V@UA",52,60,75,90,110,120,135,150,180,"V@DA","DA",null,"UA",52,60,75,90,110,120,135,150,"DA",null,"UA",52,60,75,90,110,120,135,150,"DA"]
[null,"Wind=1",6,{"$f":"OFFSET(ORC!$BK$6,($C$4-6),(0))","v":{"$error":"#REF!"}},{"$f":"3600/OFFSET(ORC!$BY$6,($C$4-6),(0))","v":{"$error":"#REF!"}},{"$f":"3600/OFFSET(ORC!$BY$6,($C$4-6),(0))/COS(D114/180*PI())","v":{"$error":"#REF!"}},{"$f":"3600/OFFSET(ORC!$CF$6,($C$4-6),(0))","v":{"$error":"#REF!"}},{"$f":"3600/OFFSET(ORC!$CM$6,($C$4-6),(0))","v":{"$error":"#REF!"}},{"$f":"3600/OFFSET(ORC!$CT$6,($C$4-6),(0))","v":{"$error":"#REF!"}},{"$f":"3600/OFFSET(ORC!$DA$6,($C$4-6),(0))","v":{"$error":"#REF!"}},{"$f":"3600/OFFSET(ORC!$DH$6,($C$4-6),(0))","v":{"$error":"#REF!"}},{"$f":"3600/OFFSET(ORC!$DO$6,($C$4-6),(0))","v":{"$error":"#REF!"}},{"$f":"3600/OFFSET(ORC!$DV$6,($C$4-6),(0))","v":{"$error":"#REF!"}},{"$f":"3600/OFFSET(ORC!$EC$6,($C$4-6),(0))","v":{"$error":"#REF!"}},{"$f":"3600/OFFSET(ORC!$EJ$6,($C$4-6),(0))","v":{"$error":"#REF!"}},{"$f":"Main!O114/COS((180-Main!Q114)/180*PI())","v":{"$error":"#REF!"}},{"$f":"OFFSET(ORC!$BR$6,($C$4-6),(0))","v":{"$error":"#REF!"}},null,{"$f":"SQRT(SUMSQ(($C114*SIN(D114/180*PI())),(F114+$C114*COS(D114/180*PI()))))","v":{"$error":"#REF!"}},{"$f":"SQRT(SUMSQ(($C114*SIN(G$78/180*PI())),(G114+$C114*COS(G$78/180*PI()))))","v":{"$error":"#REF!"}},{"$f":"SQRT(SUMSQ(($C114*SIN(H$78/180*PI())),(H114+$C114*COS(H$78/180*PI()))))","v":{"$error":"#REF!"}},{"$f":"SQRT(SUMSQ(($C114*SIN(I$78/180*PI())),(I114+$C114*COS(I$78/180*PI()))))","v":{"$error":"#REF!"}},{"$f":"SQRT(SUMSQ(($C114*SIN(J$78/180*PI())),(J114+$C114*COS(J$78/180*PI()))))","v":{"$error":"#REF!"}},{"$f":"SQRT(SUMSQ(($C114*SIN(K$78/180*PI())),(K114+$C114*COS(K$78/180*PI()))))","v":{"$error":"#REF!"}},{"$f":"SQRT(SUMSQ(($C114*SIN(L$78/180*PI())),(L114+$C114*COS(L$78/180*PI()))))","v":{"$error":"#REF!"}},{"$f":"SQRT(SUMSQ(($C114*SIN(M$78/180*PI())),(M114+$C114*COS(M$78/180*PI()))))","v":{"$error":"#REF!"}},{"$f":"SQRT(SUMSQ(($C114*SIN(N$78/180*PI())),(N114+$C114*COS(N$78/180*PI()))))","v":{"$error":"#REF!"}},{"$f":"SQRT(SUMSQ(($C114*SIN(Q114/180*PI())),(P114+$C114*COS(Q114/180*PI()))))","v":{"$error":"#REF!"}},null,{"$f":"DEGREES(ACOS((F114+$C114*COS(D114/180*PI()))/S114))","v":{"$error":"#REF!"}},{"$f":"DEGREES(ACOS((G114+$C114*COS(G$78/180*PI()))/T114))","v":{"$error":"#REF!"}},{"$f":"DEGREES(ACOS((H114+$C114*COS(H$78/180*PI()))/U114))","v":{"$error":"#REF!"}},{"$f":"DEGREES(ACOS((I114+$C114*COS(I$78/180*PI()))/V114))","v":{"$error":"#REF!"}},{"$f":"DEGREES(ACOS((J114+$C114*COS(J$78/180*PI()))/W114))","v":{"$error":"#REF!"}},{"$f":"DEGREES(ACOS((K114+$C114*COS(K$78/180*PI()))/X114))","v":{"$error":"#REF!"}},{"$f":"DEGREES(ACOS((L114+$C114*COS(L$78/180*PI()))/Y114))","v":{"$error":"#REF!"}},{"$f":"DEGREES(ACOS((M114+$C114*COS(M$78/180*PI()))/Z114))","v":{"$error":"#REF!"}},{"$f":"DEGREES(ACOS((N114+$C114*COS(N$78/180*PI()))/AA114))","v":{"$error":"#REF!"}},{"$f":"DEGREES(ACOS((P114+$C114*COS(Q114/180*PI()))/AB114))","v":{"$error":"#REF!"}}]
[null,"Wind=2",8,{"$f":"OFFSET(ORC!$BK$6,($C$4-6),(1))","v":{"$error":"#REF!"}},{"$f":"3600/OFFSET(ORC!$BY$6,($C$4-6),(1))","v":{"$error":"#REF!"}},{"$f":"3600/OFFSET(ORC!$BY$6,($C$4-6),(1))/COS(D115/180*PI())","v":{"$error":"#REF!"}},{"$f":"3600/OFFSET(ORC!$CF$6,($C$4-6),(1))","v":{"$error":"#REF!"}},{"$f":"3600/OFFSET(ORC!$CM$6,($C$4-6),(1))","v":{"$error":"#REF!"}},{"$f":"3600/OFFSET(ORC!$CT$6,($C$4-6),(1))","v":{"$error":"#REF!"}},{"$f":"3600/OFFSET(ORC!$DA$6,($C$4-6),(1))","v":{"$error":"#REF!"}},{"$f":"3600/OFFSET(ORC!$DH$6,($C$4-6),(1))","v":{"$error":"#REF!"}},{"$f":"3600/OFFSET(ORC!$DO$6,($C$4-6),(1))","v":{"$error":"#REF!"}},{"$f":"3600/OFFSET(ORC!$DV$6,($C$4-6),(1))","v":{"$error":"#REF!"}},{"$f":"3600/OFFSET(ORC!$EC$6,($C$4-6),(1))","v":{"$error":"#REF!"}},{"$f":"3600/OFFSET(ORC!$EJ$6,($C$4-6),(1))","v":{"$error":"#REF!"}},{"$f":"Main!O115/COS((180-Main!Q115)/180*PI())","v":{"$error":"#REF!"}},{"$f":"OFFSET(ORC!$BR$6,($C$4-6),(1))","v":{"$error":"#REF!"}},null,{"$f":"SQRT(SUMSQ(($C115*SIN(D115/180*PI())),(F115+$C115*COS(D115/180*PI()))))","v":{"$error":"#REF!"}},{"$error":"#REF!"},{"$error":"#REF!"},{"$error":"#REF!"},{"$error":"#REF!"},{"$error":"#REF!"},{"$error":"#REF!"},{"$error":"#REF!"},{"$error":"#REF!"},{"$f":"SQRT(SUMSQ(($C115*SIN(Q115/180*PI())),(P115+$C115*COS(Q115/180*PI()))))","v":{"$error":"#REF!"}},null,{"$error":"#REF!"},{"$error":"#REF!"},{"$error":"#REF!"},{"$error":"#REF!"},{"$error":"#REF!"},{"$error":"#REF!"},{"$error":"#REF!"},{"$error":"#REF!"},{"$error":"#REF!"},{"$f":"DEGREES(ACOS((P115+$C115*COS(Q115/180*PI()))/AB115))","v":{"$error":"#REF!"}}]
[null,"Wind=3",10,{"$f":"OFFSET(ORC!$BK$6,($C$4-6),(2))","v":{"$error":"#REF!"}},{"$f":"3600/OFFSET(ORC!$BY$6,($C$4-6),(2))","v":{"$error":"#REF!"}},{"$f":"3600/OFFSET(ORC!$BY$6,($C$4-6),(2))/COS(D116/180*PI())","v":{"$error":"#REF!"}},{"$f":"3600/OFFSET(ORC!$CF$6,($C$4-6),(2))","v":{"$error":"#REF!"}},{"$f":"3600/OFFSET(ORC!$CM$6,($C$4-6),(2))","v":{"$error":"#REF!"}},{"$f":"3600/OFFSET(ORC!$CT$6,($C$4-6),(2))","v":{"$error":"#REF!"}},{"$f":"3600/OFFSET(ORC!$DA$6,($C$4-6),(2))","v":{"$error":"#REF!"}},{"$f":"3600/OFFSET(ORC!$DH$6,($C$4-6),(2))","v":{"$error":"#REF!"}},{"$f":"3600/OFFSET(ORC!$DO$6,($C$4-6),(2))","v":{"$error":"#REF!"}},{"$f":"3600/OFFSET(ORC!$DV$6,($C$4-6),(2))","v":{"$error":"#REF!"}},{"$f":"3600/OFFSET(ORC!$EC$6,($C$4-6),(2))","v":{"$error":"#REF!"}},{"$f":"3600/OFFSET(ORC!$EJ$6,($C$4-6),(2))","v":{"$error":"#REF!"}},{"$f":"Main!O116/COS((180-Main!Q116)/180*PI())","v":{"$error":"#REF!"}},{"$f":"OFFSET(ORC!$BR$6,($C$4-6),(2))","v":{"$error":"#REF!"}},null,{"$error":"#REF!"},{"$error":"#REF!"},{"$error":"#REF!"},{"$error":"#REF!"},{"$error":"#REF!"},{"$error":"#REF!"},{"$error":"#REF!"},{"$error":"#REF!"},{"$error":"#REF!"},{"$error":"#REF!"},null,{"$error":"#REF!"},{"$error":"#REF!"},{"$error":"#REF!"},{"$error":"#REF!"},{"$error":"#REF!"},{"$error":"#REF!"},{"$error":"#REF!"},{"$error":"#REF!"},{"$error":"#REF!"},{"$error":"#REF!"}]
[null,"Wind=4",12,{"$f":"OFFSET(ORC!$BK$6,($C$4-6),(3))","v":{"$error":"#REF!"}},{"$f":"3600/OFFSET(ORC!$BY$6,($C$4-6),(3))","v":{"$error":"#REF!"}},{"$f":"3600/OFFSET(ORC!$BY$6,($C$4-6),(3))/COS(D117/180*PI())","v":{"$error":"#REF!"}},{"$f":"3600/OFFSET(ORC!$CF$6,($C$4-6),(3))","v":{"$error":"#REF!"}},{"$f":"3600/OFFSET(ORC!$CM$6,($C$4-6),(3))","v":{"$error":"#REF!"}},{"$f":"3600/OFFSET(ORC!$CT$6,($C$4-6),(3))","v":{"$error":"#REF!"}},{"$f":"3600/OFFSET(ORC!$DA$6,($C$4-6),(3))","v":{"$error":"#REF!"}},{"$f":"3600/OFFSET(ORC!$DH$6,($C$4-6),(3))","v":{"$error":"#REF!"}},{"$f":"3600/OFFSET(ORC!$DO$6,($C$4-6),(3))","v":{"$error":"#REF!"}},{"$f":"3600/OFFSET(ORC!$DV$6,($C$4-6),(3))","v":{"$error":"#REF!"}},{"$f":"3600/OFFSET(ORC!$EC$6,($C$4-6),(3))","v":{"$error":"#REF!"}},{"$f":"3600/OFFSET(ORC!$EJ$6,($C$4-6),(3))","v":{"$error":"#REF!"}},{"$f":"Main!O117/COS((180-Main!Q117)/180*PI())","v":{"$error":"#REF!"}},{"$f":"OFFSET(ORC!$BR$6,($C$4-6),(3))","v":{"$error":"#REF!"}},null,{"$error":"#REF!"},{"$error":"#REF!"},{"$error":"#REF!"},{"$error":"#REF!"},{"$error":"#REF!"},{"$error":"#REF!"},{"$error":"#REF!"},{"$error":"#REF!"},{"$error":"#REF!"},{"$error":"#REF!"},null,{"$error":"#REF!"},{"$error":"#REF!"},{"$error":"#REF!"},{"$error":"#REF!"},{"$error":"#REF!"},{"$error":"#REF!"},{"$error":"#REF!"},{"$error":"#REF!"},{"$error":"#REF!"},{"$error":"#REF!"}]
[null,"Wind=5",14,{"$f":"OFFSET(ORC!$BK$6,($C$4-6),(4))","v":{"$error":"#REF!"}},{"$f":"3600/OFFSET(ORC!$BY$6,($C$4-6),(4))","v":{"$error":"#REF!"}},{"$f":"3600/OFFSET(ORC!$BY$6,($C$4-6),(4))/COS(D118/180*PI())","v":{"$error":"#REF!"}},{"$f":"3600/OFFSET(ORC!$CF$6,($C$4-6),(4))","v":{"$error":"#REF!"}},{"$f":"3600/OFFSET(ORC!$CM$6,($C$4-6),(4))","v":{"$error":"#REF!"}},{"$f":"3600/OFFSET(ORC!$CT$6,($C$4-6),(4))","v":{"$error":"#REF!"}},{"$f":"3600/OFFSET(ORC!$DA$6,($C$4-6),(4))","v":{"$error":"#REF!"}},{"$f":"3600/OFFSET(ORC!$DH$6,($C$4-6),(4))","v":{"$error":"#REF!"}},{"$f":"3600/OFFSET(ORC!$DO$6,($C$4-6),(4))","v":{"$error":"#REF!"}},{"$f":"3600/OFFSET(ORC!$DV$6,($C$4-6),(4))","v":{"$error":"#REF!"}},{"$f":"3600/OFFSET(ORC!$EC$6,($C$4-6),(4))","v":{"$error":"#REF!"}},{"$f":"3600/OFFSET(ORC!$EJ$6,($C$4-6),(4))","v":{"$error":"#REF!"}},{"$f":"Main!O118/COS((180-Main!Q118)/180*PI())","v":{"$error":"#REF!"}},{"$f":"OFFSET(ORC!$BR$6,($C$4-6),(4))","v":{"$error":"#REF!"}},null,{"$error":"#REF!"},{"$error":"#REF!"},{"$error":"#REF!"},{"$error":"#REF!"},{"$error":"#REF!"},{"$error":"#REF!"},{"$error":"#REF!"},{"$error":"#REF!"},{"$error":"#REF!"},{"$error":"#REF!"},null,{"$error":"#REF!"},{"$error":"#REF!"},{"$error":"#REF!"},{"$error":"#REF!"},{"$error":"#REF!"},{"$error":"#REF!"},{"$error":"#REF!"},{"$error":"#REF!"},{"$error":"#REF!"},{"$error":"#REF!"}]
[null,"Wind=6",16,{"$f":"OFFSET(ORC!$BK$6,($C$4-6),(5))","v":{"$error":"#REF!"}},{"$f":"3600/OFFSET(ORC!$BY$6,($C$4-6),(5))","v":{"$error":"#REF!"}},{"$f":"3600/OFFSET(ORC!$BY$6,($C$4-6),(5))/COS(D119/180*PI())","v":{"$error":"#REF!"}},{"$f":"3600/OFFSET(ORC!$CF$6,($C$4-6),(5))","v":{"$error":"#REF!"}},{"$f":"3600/OFFSET(ORC!$CM$6,($C$4-6),(5))","v":{"$error":"#REF!"}},{"$f":"3600/OFFSET(ORC!$CT$6,($C$4-6),(5))","v":{"$error":"#REF!"}},{"$f":"3600/OFFSET(ORC!$DA$6,($C$4-6),(5))","v":{"$error":"#REF!"}},{"$f":"3600/OFFSET(ORC!$DH$6,($C$4-6),(5))","v":{"$error":"#REF!"}},{"$f":"3600/OFFSET(ORC!$DO$6,($C$4-6),(5))","v":{"$error":"#REF!"}},{"$f":"3600/OFFSET(ORC!$DV$6,($C$4-6),(5))","v":{"$error":"#REF!"}},{"$f":"3600/OFFSET(ORC!$EC$6,($C$4-6),(5))","v":{"$error":"#REF!"}},{"$f":"3600/OFFSET(ORC!$EJ$6,($C$4-6),(5))","v":{"$error":"#REF!"}},{"$f":"Main!O119/COS((180-Main!Q119)/180*PI())","v":{"$error":"#REF!"}},{"$f":"OFFSET(ORC!$BR$6,($C$4-6),(5))","v":{"$error":"#REF!"}},null,{"$error":"#REF!"},{"$error":"#REF!"},{"$error":"#REF!"},{"$error":"#REF!"},{"$error":"#REF!"},{"$error":"#REF!"},{"$error":"#REF!"},{"$error":"#REF!"},{"$error":"#REF!"},{"$error":"#REF!"},null,{"$error":"#REF!"},{"$error":"#REF!"},{"$error":"#REF!"},{"$error":"#REF!"},{"$error":"#REF!"},{"$error":"#REF!"},{"$error":"#REF!"},{"$error":"#REF!"},{"$error":"#REF!"},{"$error":"#REF!"}]
[null,"Wind=7",20,{"$f":"OFFSET(ORC!$BK$6,($C$4-6),(6))","v":{"$error":"#REF!"}},{"$f":"3600/OFFSET(ORC!$BY$6,($C$4-6),(6))","v":{"$error":"#REF!"}},{"$f":"3600/OFFSET(ORC!$BY$6,($C$4-6),(6))/COS(D120/180*PI())","v":{"$error":"#REF!"}},{"$f":"3600/OFFSET(ORC!$CF$6,($C$4-6),(6))","v":{"$error":"#REF!"}},{"$f":"3600/OFFSET(ORC!$CM$6,($C$4-6),(6))","v":{"$error":"#REF!"}},{"$f":"3600/OFFSET(ORC!$CT$6,($C$4-6),(6))","v":{"$error":"#REF!"}},{"$f":"3600/OFFSET(ORC!$DA$6,($C$4-6),(6))","v":{"$error":"#REF!"}},{"$f":"3600/OFFSET(ORC!$DH$6,($C$4-6),(6))","v":{"$error":"#REF!"}},{"$f":"3600/OFFSET(ORC!$DO$6,($C$4-6),(6))","v":{"$error":"#REF!"}},{"$f":"3600/OFFSET(ORC!$DV$6,($C$4-6),(6))","v":{"$error":"#REF!"}},{"$f":"3600/OFFSET(ORC!$EC$6,($C$4-6),(6))","v":{"$error":"#REF!"}},{"$f":"3600/OFFSET(ORC!$EJ$6,($C$4-6),(6))","v":{"$error":"#REF!"}},{"$f":"Main!O120/COS((180-Main!Q120)/180*PI())","v":{"$error":"#REF!"}},{"$f":"OFFSET(ORC!$BR$6,($C$4-6),(6))","v":{"$error":"#REF!"}},null,{"$error":"#REF!"},{"$error":"#REF!"},{"$error":"#REF!"},{"$error":"#REF!"},{"$error":"#REF!"},{"$error":"#REF!"},{"$error":"#REF!"},{"$error":"#REF!"},{"$error":"#REF!"},{"$error":"#REF!"},null,{"$error":"#REF!"},{"$error":"#REF!"},{"$error":"#REF!"},{"$error":"#REF!"},{"$error":"#REF!"},{"$error":"#REF!"},{"$error":"#REF!"},{"$error":"#REF!"},{"$error":"#REF!"},{"$error":"#REF!"}]
[]
[null,null,null,"Bateau N°2"]
[null,null,null,null,"True Wind",null,null,null,null,null,null,null,null,null,"vent apparent"]
[null,null,null,null,"V@UA",52,60,75,90,110,120,135,150,"VMG180",150,135,120,110,90,75,60,52,"V@UA"]
[null,null,null,null,{"$f":"F114*SIN(D114/180*PI())","v":{"$error":"#REF!"}},{"$f":"G114*SIN(G$78/180*PI())","v":{"$error":"#REF!"}},{"$f":"H114*SIN(H$78/180*PI())","v":{"$error":"#REF!"}},{"$f":"I114*SIN(I$78/180*PI())","v":{"$error":"#REF!"}},{"$f":"J114*SIN(J$78/180*PI())","v":{"$error":"#REF!"}},{"$f":"K114*SIN(K$78/180*PI())","v":{"$error":"#REF!"}},{"$f":"L114*SIN(L$78/180*PI())","v":{"$error":"#REF!"}},{"$f":"M114*SIN(M$78/180*PI())","v":{"$error":"#REF!"}},{"$f":"N114*SIN(N$78/180*PI())","v":{"$error":"#REF!"}},0,{"$f":"-N114*SIN((O$89/180*PI())-ATAN((N114*SIN(O$89/180*PI())/(C114+N114*COS(O$89/180*PI())))))","v":{"$error":"#REF!"}},{"$f":"-M114*SIN((P$89/180*PI())-ATAN((M114*SIN(P$89/180*PI())/(C114+M114*COS(P$89/180*PI())))))","v":{"$error":"#REF!"}},{"$f":"-L114*SIN((Q$89/180*PI())-ATAN((L114*SIN(Q$89/180*PI())/(C114+L114*COS(Q$89/180*PI())))))","v":{"$error":"#REF!"}},{"$f":"-K114*SIN((R$89/180*PI())-ATAN((K114*SIN(R$89/180*PI())/(C114+K114*COS(R$89/180*PI())))))","v":{"$error":"#REF!"}},{"$f":"-J114*SIN((S$89/180*PI())-ATAN((J114*SIN(S$89/180*PI())/(C114+J114*COS(S$89/180*PI())))))","v":{"$error":"#REF!"}},{"$f":"-I114*SIN((T$89/180*PI())-ATAN((I114*SIN(T$89/180*PI())/(C114+I114*COS(T$89/180*PI())))))","v":{"$error":"#REF!"}},{"$f":"-H114*SIN((U$89/180*PI())-ATAN((H114*SIN(U$89/180*PI())/(C114+H114*COS(U$89/180*PI())))))","v":{"$error":"#REF!"}},{"$f":"-G114*SIN((V$89/180*PI())-ATAN((G114*SIN(V$89/180*PI())/(C114+G114*COS(V$89/180*PI())))))","v":{"$error":"#REF!"}},{"$f":"-F114*SIN((D114/180*PI())-ATAN((F114*SIN(D114/180*PI())/(C114+F114*COS(D114/180*PI())))))","v":{"$error":"#REF!"}}]
[null,null,null,null,{"$f":"E114","v":{"$error":"#REF!"}},{"$f":"G114*COS(G$78/180*PI())","v":{"$error":"#REF!"}},{"$f":"H114*COS(H$78/180*PI())","v":{"$error":"#REF!"}},{"$f":"I114*COS(I$78/180*PI())","v":{"$error":"#REF!"}},{"$f":"J114*COS(J$78/180*PI())","v":{"$error":"#REF!"}},{"$f":"K114*COS(K$78/180*PI())","v":{"$error":"#REF!"}},{"$f":"L114*COS(L$78/180*PI())","v":{"$error":"#REF!"}},{"$f":"M114*COS(M$78/180*PI())","v":{"$error":"#REF!"}},{"$f":"N114*COS(N$78/180*PI())","v":{"$error":"#REF!"}},{"$f":"-O114","v":{"$error":"#REF!"}},{"$f":"N114*COS((O$89/180*PI())-ATAN((N114*SIN(O$89/180*PI())/(C114+N114*COS(O$89/180*PI())))))","v":{"$error":"#REF!"}},{"$f":"M114*COS((P$89/180*PI())-ATAN((M114*SIN(P$89/180*PI())/(C114+M114*COS(P$89/180*PI())))))","v":{"$error":"#REF!"}},{"$f":"L114*COS((Q$89/180*PI())-ATAN((L114*SIN(Q$89/180*PI())/(C114+L114*COS(Q$89/180*PI())))))","v":{"$error":"#REF!"}},{"$f":"K114*COS((R$89/180*PI())-ATAN((K114*SIN(R$89/180*PI())/(C114+K114*COS(R$89/180*PI())))))","v":{"$error":"#REF!"}},{"$f":"J114*COS((S$89/180*PI())-ATAN((J114*SIN(S$89/180*PI())/(C114+J114*COS(S$89/180*PI())))))","v":{"$error":"#REF!"}},{"$f":"I114*COS((T$89/180*PI())-ATAN((I114*SIN(T$89/180*PI())/(C114+I114*COS(T$89/180*PI())))))","v":{"$error":"#REF!"}},{"$f":"H114*COS((U$89/180*PI())-ATAN((H114*SIN(U$89/180*PI())/(C114+H114*COS(U$89/180*PI())))))","v":{"$error":"#REF!"}},{"$f":"G114*COS((V$89/180*PI())-ATAN((G114*SIN(V$89/180*PI())/(C114+G114*COS(V$89/180*PI())))))","v":{"$error":"#REF!"}},{"$f":"F114*COS((D114/180*PI())-ATAN((F114*SIN(D114/180*PI())/(C114+F114*COS(D114/180*PI())))))","v":{"$error":"#REF!"}}]
[null,null,null,null,{"$f":"F115*SIN(D115/180*PI())","v":{"$error":"#REF!"}},{"$f":"G115*SIN(G$78/180*PI())","v":{"$error":"#REF!"}},{"$f":"H115*SIN(H$78/180*PI())","v":{"$error":"#REF!"}},{"$f":"I115*SIN(I$78/180*PI())","v":{"$error":"#REF!"}},{"$f":"J115*SIN(J$78/180*PI())","v":{"$error":"#REF!"}},{"$f":"K115*SIN(K$78/180*PI())","v":{"$error":"#REF!"}},{"$f":"L115*SIN(L$78/180*PI())","v":{"$error":"#REF!"}},{"$f":"M115*SIN(M$78/180*PI())","v":{"$error":"#REF!"}},{"$f":"N115*SIN(N$78/180*PI())","v":{"$error":"#REF!"}},0,{"$f":"-N115*SIN((O$89/180*PI())-ATAN((N115*SIN(O$89/180*PI())/(C115+N115*COS(O$89/180*PI())))))","v":{"$error":"#REF!"}},{"$f":"-M115*SIN((P$89/180*PI())-ATAN((M115*SIN(P$89/180*PI())/(C115+M115*COS(P$89/180*PI())))))","v":{"$error":"#REF!"}},{"$f":"-L115*SIN((Q$89/180*PI())-ATAN((L115*SIN(Q$89/180*PI())/(C115+L115*COS(Q$89/180*PI())))))","v":{"$error":"#REF!"}},{"$f":"-K115*SIN((R$89/180*PI())-ATAN((K115*SIN(R$89/180*PI())/(C115+K115*COS(R$89/180*PI())))))","v":{"$error":"#REF!"}},{"$f":"-J115*SIN((S$89/180*PI())-ATAN((J115*SIN(S$89/180*PI())/(C115+J115*COS(S$89/180*PI())))))","v":{"$error":"#REF!"}},{"$f":"-I115*SIN((T$89/180*PI())-ATAN((I115*SIN(T$89/180*PI())/(C115+I115*COS(T$89/180*PI())))))","v":{"$error":"#REF!"}},{"$f":"-H115*SIN((U$89/180*PI())-ATAN((H115*SIN(U$89/180*PI())/(C115+H115*COS(U$89/180*PI())))))","v":{"$error":"#REF!"}},{"$f":"-G115*SIN((V$89/180*PI())-ATAN((G115*SIN(V$89/180*PI())/(C115+G115*COS(V$89/180*PI())))))","v":{"$error":"#REF!"}},{"$f":"-F115*SIN((D115/180*PI())-ATAN((F115*SIN(D115/180*PI())/(C115+F115*COS(D115/180*PI())))))","v":{"$error":"#REF!"}}]
[null,null,null,null,{"$f":"E115","v":{"$error":"#REF!"}},{"$f":"G115*COS(G$78/180*PI())","v":{"$error":"#REF!"}},{"$f":"H115*COS(H$78/180*PI())","v":{"$error":"#REF!"}},{"$f":"I115*COS(I$78/180*PI())","v":{"$error":"#REF!"}},{"$f":"J115*COS(J$78/180*PI())","v":{"$error":"#REF!"}},{"$f":"K115*COS(K$78/180*PI())","v":{"$error":"#REF!"}},{"$f":"L115*COS(L$78/180*PI())","v":{"$error":"#REF!"}},{"$f":"M115*COS(M$78/180*PI())","v":{"$error":"#REF!"}},{"$f":"N115*COS(N$78/180*PI())","v":{"$error":"#REF!"}},{"$f":"-O115","v":{"$error":"#REF!"}},{"$f":"N115*COS((O$89/180*PI())-ATAN((N115*SIN(O$89/180*PI())/(C115+N115*COS(O$89/180*PI())))))","v":{"$error":"#REF!"}},{"$f":"M115*COS((P$89/180*PI())-ATAN((M115*SIN(P$89/180*PI())/(C115+M115*COS(P$89/180*PI())))))","v":{"$error":"#REF!"}},{"$f":"L115*COS((Q$89/180*PI())-ATAN((L115*SIN(Q$89/180*PI())/(C115+L115*COS(Q$89/180*PI())))))","v":{"$error":"#REF!"}},{"$f":"K115*COS((R$89/180*PI())-ATAN((K115*SIN(R$89/180*PI())/(C115+K115*COS(R$89/180*PI())))))","v":{"$error":"#REF!"}},{"$f":"J115*COS((S$89/180*PI())-ATAN((J115*SIN(S$89/180*PI())/(C115+J115*COS(S$89/180*PI())))))","v":{"$error":"#REF!"}},{"$f":"I115*COS((T$89/180*PI())-ATAN((I115*SIN(T$89/180*PI())/(C115+I115*COS(T$89/180*PI())))))","v":{"$error":"#REF!"}},{"$f":"H115*COS((U$89/180*PI())-ATAN((H115*SIN(U$89/180*PI())/(C115+H115*COS(U$89/180*PI())))))","v":{"$error":"#REF!"}},{"$f":"G115*COS((V$89/180*PI())-ATAN((G115*SIN(V$89/180*PI())/(C115+G115*COS(V$89/180*PI())))))","v":{"$error":"#REF!"}},{"$f":"F115*COS((D115/180*PI())-ATAN((F115*SIN(D115/180*PI())/(C115+F115*COS(D115/180*PI())))))","v":{"$error":"#REF!"}}]
[null,null,null,null,{"$f":"F116*SIN(D116/180*PI())","v":{"$error":"#REF!"}},{"$f":"G116*SIN(G$78/180*PI())","v":{"$error":"#REF!"}},{"$f":"H116*SIN(H$78/180*PI())","v":{"$error":"#REF!"}},{"$f":"I116*SIN(I$78/180*PI())","v":{"$error":"#REF!"}},{"$f":"J116*SIN(J$78/180*PI())","v":{"$error":"#REF!"}},{"$f":"K116*SIN(K$78/180*PI())","v":{"$error":"#REF!"}},{"$f":"L116*SIN(L$78/180*PI())","v":{"$error":"#REF!"}},{"$f":"M116*SIN(M$78/180*PI())","v":{"$error":"#REF!"}},{"$f":"N116*SIN(N$78/180*PI())","v":{"$error":"#REF!"}},0,{"$f":"-N116*SIN((O$89/180*PI())-ATAN((N116*SIN(O$89/180*PI())/(C116+N116*COS(O$89/180*PI())))))","v":{"$error":"#REF!"}},{"$f":"-M116*SIN((P$89/180*PI())-ATAN((M116*SIN(P$89/180*PI())/(C116+M116*COS(P$89/180*PI())))))","v":{"$error":"#REF!"}},{"$f":"-L116*SIN((Q$89/180*PI())-ATAN((L116*SIN(Q$89/180*PI())/(C116+L116*COS(Q$89/180*PI())))))","v":{"$error":"#REF!"}},{"$f":"-K116*SIN((R$89/180*PI())-ATAN((K116*SIN(R$89/180*PI())/(C116+K116*COS(R$89/180*PI())))))","v":{"$error":"#REF!"}},{"$f":"-J116*SIN((S$89/180*PI())-ATAN((J116*SIN(S$89/180*PI())/(C116+J116*COS(S$89/180*PI())))))","v":{"$error":"#REF!"}},{"$f":"-I116*SIN((T$89/180*PI())-ATAN((I116*SIN(T$89/180*PI())/(C116+I116*COS(T$89/180*PI())))))","v":{"$error":"#REF!"}},{"$f":"-H116*SIN((U$89/180*PI())-ATAN((H116*SIN(U$89/180*PI())/(C116+H116*COS(U$89/180*PI())))))","v":{"$error":"#REF!"}},{"$f":"-G116*SIN((V$89/180*PI())-ATAN((G116*SIN(V$89/180*PI())/(C116+G116*COS(V$89/180*PI())))))","v":{"$error":"#REF!"}},{"$f":"-F116*SIN((D116/180*PI())-ATAN((F116*SIN(D116/180*PI())/(C116+F116*COS(D116/180*PI())))))","v":{"$error":"#REF!"}}]
[null,null,null,null,{"$f":"E116","v":{"$error":"#REF!"}},{"$f":"G116*COS(G$78/180*PI())","v":{"$error":"#REF!"}},{"$f":"H116*COS(H$78/180*PI())","v":{"$error":"#REF!"}},{"$f":"I116*COS(I$78/180*PI())","v":{"$error":"#REF!"}},{"$f":"J116*COS(J$78/180*PI())","v":{"$error":"#REF!"}},{"$f":"K116*COS(K$78/180*PI())","v":{"$error":"#REF!"}},{"$f":"L116*COS(L$78/180*PI())","v":{"$error":"#REF!"}},{"$f":"M116*COS(M$78/180*PI())","v":{"$error":"#REF!"}},{"$f":"N116*COS(N$78/180*PI())","v":{"$error":"#REF!"}},{"$f":"-O116","v":{"$error":"#REF!"}},{"$f":"N116*COS((O$89/180*PI())-ATAN((N116*SIN(O$89/180*PI())/(C116+N116*COS(O$89/180*PI())))))","v":{"$error":"#REF!"}},{"$f":"M116*COS((P$89/180*PI())-ATAN((M116*SIN(P$89/180*PI())/(C116+M116*COS(P$89/180*PI())))))","v":{"$error":"#REF!"}},{"$f":"L116*COS((Q$89/180*PI())-ATAN((L116*SIN(Q$89/180*PI())/(C116+L116*COS(Q$89/180*PI())))))","v":{"$error":"#REF!"}},{"$f":"K116*COS((R$89/180*PI())-ATAN((K116*SIN(R$89/180*PI())/(C116+K116*COS(R$89/180*PI())))))","v":{"$error":"#REF!"}},{"$f":"J116*COS((S$89/180*PI())-ATAN((J116*SIN(S$89/180*PI())/(C116+J116*COS(S$89/180*PI())))))","v":{"$error":"#REF!"}},{"$f":"I116*COS((T$89/180*PI())-ATAN((I116*SIN(T$89/180*PI())/(C116+I116*COS(T$89/180*PI())))))","v":{"$error":"#REF!"}},{"$f":"H116*COS((U$89/180*PI())-ATAN((H116*SIN(U$89/180*PI())/(C116+H116*COS(U$89/180*PI())))))","v":{"$error":"#REF!"}},{"$f":"G116*COS((V$89/180*PI())-ATAN((G116*SIN(V$89/180*PI())/(C116+G116*COS(V$89/180*PI())))))","v":{"$error":"#REF!"}},{"$f":"F116*COS((D116/180*PI())-ATAN((F116*SIN(D116/180*PI())/(C116+F116*COS(D116/180*PI())))))","v":{"$error":"#REF!"}}]
[null,null,null,null,{"$f":"F117*SIN(D117/180*PI())","v":{"$error":"#REF!"}},{"$f":"G117*SIN(G$78/180*PI())","v":{"$error":"#REF!"}},{"$f":"H117*SIN(H$78/180*PI())","v":{"$error":"#REF!"}},{"$f":"I117*SIN(I$78/180*PI())","v":{"$error":"#REF!"}},{"$f":"J117*SIN(J$78/180*PI())","v":{"$error":"#REF!"}},{"$f":"K117*SIN(K$78/180*PI())","v":{"$error":"#REF!"}},{"$f":"L117*SIN(L$78/180*PI())","v":{"$error":"#REF!"}},{"$f":"M117*SIN(M$78/180*PI())","v":{"$error":"#REF!"}},{"$f":"N117*SIN(N$78/180*PI())","v":{"$error":"#REF!"}},0,{"$f":"-N117*SIN((O$89/180*PI())-ATAN((N117*SIN(O$89/180*PI())/(C117+N117*COS(O$89/180*PI())))))","v":{"$error":"#REF!"}},{"$f":"-M117*SIN((P$89/180*PI())-ATAN((M117*SIN(P$89/180*PI())/(C117+M117*COS(P$89/180*PI())))))","v":{"$error":"#REF!"}},{"$f":"-L117*SIN((Q$89/180*PI())-ATAN((L117*SIN(Q$89/180*PI())/(C117+L117*COS(Q$89/180*PI())))))","v":{"$error":"#REF!"}},{"$f":"-K117*SIN((R$89/180*PI())-ATAN((K117*SIN(R$89/180*PI())/(C117+K117*COS(R$89/180*PI())))))","v":{"$error":"#REF!"}},{"$f":"-J117*SIN((S$89/180*PI())-ATAN((J117*SIN(S$89/180*PI())/(C117+J117*COS(S$89/180*PI())))))","v":{"$error":"#REF!"}},{"$f":"-I117*SIN((T$89/180*PI())-ATAN((I117*SIN(T$89/180*PI())/(C117+I117*COS(T$89/180*PI())))))","v":{"$error":"#REF!"}},{"$f":"-H117*SIN((U$89/180*PI())-ATAN((H117*SIN(U$89/180*PI())/(C117+H117*COS(U$89/180*PI())))))","v":{"$error":"#REF!"}},{"$f":"-G117*SIN((V$89/180*PI())-ATAN((G117*SIN(V$89/180*PI())/(C117+G117*COS(V$89/180*PI())))))","v":{"$error":"#REF!"}},{"$f":"-F117*SIN((D117/180*PI())-ATAN((F117*SIN(D117/180*PI())/(C117+F117*COS(D117/180*PI())))))","v":{"$error":"#REF!"}}]
[null,null,null,null,{"$f":"E117","v":{"$error":"#REF!"}},{"$f":"G117*COS(G$78/180*PI())","v":{"$error":"#REF!"}},{"$f":"H117*COS(H$78/180*PI())","v":{"$error":"#REF!"}},{"$f":"I117*COS(I$78/180*PI())","v":{"$error":"#REF!"}},{"$f":"J117*COS(J$78/180*PI())","v":{"$error":"#REF!"}},{"$f":"K117*COS(K$78/180*PI())","v":{"$error":"#REF!"}},{"$f":"L117*COS(L$78/180*PI())","v":{"$error":"#REF!"}},{"$f":"M117*COS(M$78/180*PI())","v":{"$error":"#REF!"}},{"$f":"N117*COS(N$78/180*PI())","v":{"$error":"#REF!"}},{"$f":"-O117","v":{"$error":"#REF!"}},{"$f":"N117*COS((O$89/180*PI())-ATAN((N117*SIN(O$89/180*PI())/(C117+N117*COS(O$89/180*PI())))))","v":{"$error":"#REF!"}},{"$f":"M117*COS((P$89/180*PI())-ATAN((M117*SIN(P$89/180*PI())/(C117+M117*COS(P$89/180*PI())))))","v":{"$error":"#REF!"}},{"$f":"L117*COS((Q$89/180*PI())-ATAN((L117*SIN(Q$89/180*PI())/(C117+L117*COS(Q$89/180*PI())))))","v":{"$error":"#REF!"}},{"$f":"K117*COS((R$89/180*PI())-ATAN((K117*SIN(R$89/180*PI())/(C117+K117*COS(R$89/180*PI())))))","v":{"$error":"#REF!"}},{"$f":"J117*COS((S$89/180*PI())-ATAN((J117*SIN(S$89/180*PI())/(C117+J117*COS(S$89/180*PI())))))","v":{"$error":"#REF!"}},{"$f":"I117*COS((T$89/180*PI())-ATAN((I117*SIN(T$89/180*PI())/(C117+I117*COS(T$89/180*PI())))))","v":{"$error":"#REF!"}},{"$f":"H117*COS((U$89/180*PI())-ATAN((H117*SIN(U$89/180*PI())/(C117+H117*COS(U$89/180*PI())))))","v":{"$error":"#REF!"}},{"$f":"G117*COS((V$89/180*PI())-ATAN((G117*SIN(V$89/180*PI())/(C117+G117*COS(V$89/180*PI())))))","v":{"$error":"#REF!"}},{"$f":"F117*COS((D117/180*PI())-ATAN((F117*SIN(D117/180*PI())/(C117+F117*COS(D117/180*PI())))))","v":{"$error":"#REF!"}}]
[null,null,null,null,{"$f":"F118*SIN(D118/180*PI())","v":{"$error":"#REF!"}},{"$f":"G118*SIN(G$78/180*PI())","v":{"$error":"#REF!"}},{"$f":"H118*SIN(H$78/180*PI())","v":{"$error":"#REF!"}},{"$f":"I118*SIN(I$78/180*PI())","v":{"$error":"#REF!"}},{"$f":"J118*SIN(J$78/180*PI())","v":{"$error":"#REF!"}},{"$f":"K118*SIN(K$78/180*PI())","v":{"$error":"#REF!"}},{"$f":"L118*SIN(L$78/180*PI())","v":{"$error":"#REF!"}},{"$f":"M118*SIN(M$78/180*PI())","v":{"$error":"#REF!"}},{"$f":"N118*SIN(N$78/180*PI())","v":{"$error":"#REF!"}},0,{"$f":"-N118*SIN((O$89/180*PI())-ATAN((N118*SIN(O$89/180*PI())/(C118+N118*COS(O$89/180*PI())))))","v":{"$error":"#REF!"}},{"$f":"-M118*SIN((P$89/180*PI())-ATAN((M118*SIN(P$89/180*PI())/(C118+M118*COS(P$89/180*PI())))))","v":{"$error":"#REF!"}},{"$f":"-L118*SIN((Q$89/180*PI())-ATAN((L118*SIN(Q$89/180*PI())/(C118+L118*COS(Q$89/180*PI())))))","v":{"$error":"#REF!"}},{"$f":"-K118*SIN((R$89/180*PI())-ATAN((K118*SIN(R$89/180*PI())/(C118+K118*COS(R$89/180*PI())))))","v":{"$error":"#REF!"}},{"$f":"-J118*SIN((S$89/180*PI())-ATAN((J118*SIN(S$89/180*PI())/(C118+J118*COS(S$89/180*PI())))))","v":{"$error":"#REF!"}},{"$f":"-I118*SIN((T$89/180*PI())-ATAN((I118*SIN(T$89/180*PI())/(C118+I118*COS(T$89/180*PI())))))","v":{"$error":"#REF!"}},{"$f":"-H118*SIN((U$89/180*PI())-ATAN((H118*SIN(U$89/180*PI())/(C118+H118*COS(U$89/180*PI())))))","v":{"$error":"#REF!"}},{"$f":"-G118*SIN((V$89/180*PI())-ATAN((G118*SIN(V$89/180*PI())/(C118+G118*COS(V$89/180*PI())))))","v":{"$error":"#REF!"}},{"$f":"-F118*SIN((D118/180*PI())-ATAN((F118*SIN(D118/180*PI())/(C118+F118*COS(D118/180*PI())))))","v":{"$error":"#REF!"}}]
[null,null,null,null,{"$f":"E118","v":{"$error":"#REF!"}},{"$f":"G118*COS(G$78/180*PI())","v":{"$error":"#REF!"}},{"$f":"H118*COS(H$78/180*PI())","v":{"$error":"#REF!"}},{"$f":"I118*COS(I$78/180*PI())","v":{"$error":"#REF!"}},{"$f":"J118*COS(J$78/180*PI())","v":{"$error":"#REF!"}},{"$f":"K118*COS(K$78/180*PI())","v":{"$error":"#REF!"}},{"$f":"L118*COS(L$78/180*PI())","v":{"$error":"#REF!"}},{"$f":"M118*COS(M$78/180*PI())","v":{"$error":"#REF!"}},{"$f":"N118*COS(N$78/180*PI())","v":{"$error":"#REF!"}},{"$f":"-O118","v":{"$error":"#REF!"}},{"$f":"N118*COS((O$89/180*PI())-ATAN((N118*SIN(O$89/180*PI())/(C118+N118*COS(O$89/180*PI())))))","v":{"$error":"#REF!"}},{"$f":"M118*COS((P$89/180*PI())-ATAN((M118*SIN(P$89/180*PI())/(C118+M118*COS(P$89/180*PI())))))","v":{"$error":"#REF!"}},{"$f":"L118*COS((Q$89/180*PI())-ATAN((L118*SIN(Q$89/180*PI())/(C118+L118*COS(Q$89/180*PI())))))","v":{"$error":"#REF!"}},{"$f":"K118*COS((R$89/180*PI())-ATAN((K118*SIN(R$89/180*PI())/(C118+K118*COS(R$89/180*PI())))))","v":{"$error":"#REF!"}},{"$f":"J118*COS((S$89/180*PI())-ATAN((J118*SIN(S$89/180*PI())/(C118+J118*COS(S$89/180*PI())))))","v":{"$error":"#REF!"}},{"$f":"I118*COS((T$89/180*PI())-ATAN((I118*SIN(T$89/180*PI())/(C118+I118*COS(T$89/180*PI())))))","v":{"$error":"#REF!"}},{"$f":"H118*COS((U$89/180*PI())-ATAN((H118*SIN(U$89/180*PI())/(C118+H118*COS(U$89/180*PI())))))","v":{"$error":"#REF!"}},{"$f":"G118*COS((V$89/180*PI())-ATAN((G118*SIN(V$89/180*PI())/(C118+G118*COS(V$89/180*PI())))))","v":{"$error":"#REF!"}},{"$f":"F118*COS((D118/180*PI())-ATAN((F118*SIN(D118/180*PI())/(C118+F118*COS(D118/180*PI())))))","v":{"$error":"#REF!"}}]
[null,null,null,null,{"$f":"F119*SIN(D119/180*PI())","v":{"$error":"#REF!"}},{"$f":"G119*SIN(G$78/180*PI())","v":{"$error":"#REF!"}},{"$f":"H119*SIN(H$78/180*PI())","v":{"$error":"#REF!"}},{"$f":"I119*SIN(I$78/180*PI())","v":{"$error":"#REF!"}},{"$f":"J119*SIN(J$78/180*PI())","v":{"$error":"#REF!"}},{"$f":"K119*SIN(K$78/180*PI())","v":{"$error":"#REF!"}},{"$f":"L119*SIN(L$78/180*PI())","v":{"$error":"#REF!"}},{"$f":"M119*SIN(M$78/180*PI())","v":{"$error":"#REF!"}},{"$f":"N119*SIN(N$78/180*PI())","v":{"$error":"#REF!"}},0,{"$f":"-N119*SIN((O$89/180*PI())-ATAN((N119*SIN(O$89/180*PI())/(C119+N119*COS(O$89/180*PI())))))","v":{"$error":"#REF!"}},{"$f":"-M119*SIN((P$89/180*PI())-ATAN((M119*SIN(P$89/180*PI())/(C119+M119*COS(P$89/180*PI())))))","v":{"$error":"#REF!"}},{"$f":"-L119*SIN((Q$89/180*PI())-ATAN((L119*SIN(Q$89/180*PI())/(C119+L119*COS(Q$89/180*PI())))))","v":{"$error":"#REF!"}},{"$f":"-K119*SIN((R$89/180*PI())-ATAN((K119*SIN(R$89/180*PI())/(C119+K119*COS(R$89/180*PI())))))","v":{"$error":"#REF!"}},{"$f":"-J119*SIN((S$89/180*PI())-ATAN((J119*SIN(S$89/180*PI())/(C119+J119*COS(S$89/180*PI())))))","v":{"$error":"#REF!"}},{"$f":"-I119*SIN((T$89/180*PI())-ATAN((I119*SIN(T$89/180*PI())/(C119+I119*COS(T$89/180*PI())))))","v":{"$error":"#REF!"}},{"$f":"-H119*SIN((U$89/180*PI())-ATAN((H119*SIN(U$89/180*PI())/(C119+H119*COS(U$89/180*PI())))))","v":{"$error":"#REF!"}},{"$f":"-G119*SIN((V$89/180*PI())-ATAN((G119*SIN(V$89/180*PI())/(C119+G119*COS(V$89/180*PI())))))","v":{"$error":"#REF!"}},{"$f":"-F119*SIN((D119/180*PI())-ATAN((F119*SIN(D119/180*PI())/(C119+F119*COS(D119/180*PI())))))","v":{"$error":"#REF!"}}]
[null,null,null,null,{"$f":"E119","v":{"$error":"#REF!"}},{"$f":"G119*COS(G$78/180*PI())","v":{"$error":"#REF!"}},{"$f":"H119*COS(H$78/180*PI())","v":{"$error":"#REF!"}},{"$f":"I119*COS(I$78/180*PI())","v":{"$error":"#REF!"}},{"$f":"J119*COS(J$78/180*PI())","v":{"$error":"#REF!"}},{"$f":"K119*COS(K$78/180*PI())","v":{"$error":"#REF!"}},{"$f":"L119*COS(L$78/180*PI())","v":{"$error":"#REF!"}},{"$f":"M119*COS(M$78/180*PI())","v":{"$error":"#REF!"}},{"$f":"N119*COS(N$78/180*PI())","v":{"$error":"#REF!"}},{"$f":"-O119","v":{"$error":"#REF!"}},{"$f":"N119*COS((O$89/180*PI())-ATAN((N119*SIN(O$89/180*PI())/(C119+N119*COS(O$89/180*PI())))))","v":{"$error":"#REF!"}},{"$f":"M119*COS((P$89/180*PI())-ATAN((M119*SIN(P$89/180*PI())/(C119+M119*COS(P$89/180*PI())))))","v":{"$error":"#REF!"}},{"$f":"L119*COS((Q$89/180*PI())-ATAN((L119*SIN(Q$89/180*PI())/(C119+L119*COS(Q$89/180*PI())))))","v":{"$error":"#REF!"}},{"$f":"K119*COS((R$89/180*PI())-ATAN((K119*SIN(R$89/180*PI())/(C119+K119*COS(R$89/180*PI())))))","v":{"$error":"#REF!"}},{"$f":"J119*COS((S$89/180*PI())-ATAN((J119*SIN(S$89/180*PI())/(C119+J119*COS(S$89/180*PI())))))","v":{"$error":"#REF!"}},{"$f":"I119*COS((T$89/180*PI())-ATAN((I119*SIN(T$89/180*PI())/(C119+I119*COS(T$89/180*PI())))))","v":{"$error":"#REF!"}},{"$f":"H119*COS((U$89/180*PI())-ATAN((H119*SIN(U$89/180*PI())/(C119+H119*COS(U$89/180*PI())))))","v":{"$error":"#REF!"}},{"$f":"G119*COS((V$89/180*PI())-ATAN((G119*SIN(V$89/180*PI())/(C119+G119*COS(V$89/180*PI())))))","v":{"$error":"#REF!"}},{"$f":"F119*COS((D119/180*PI())-ATAN((F119*SIN(D119/180*PI())/(C119+F119*COS(D119/180*PI())))))","v":{"$error":"#REF!"}}]
[null,null,null,null,{"$f":"F120*SIN(D120/180*PI())","v":{"$error":"#REF!"}},{"$f":"G120*SIN(G$78/180*PI())","v":{"$error":"#REF!"}},{"$f":"H120*SIN(H$78/180*PI())","v":{"$error":"#REF!"}},{"$f":"I120*SIN(I$78/180*PI())","v":{"$error":"#REF!"}},{"$f":"J120*SIN(J$78/180*PI())","v":{"$error":"#REF!"}},{"$f":"K120*SIN(K$78/180*PI())","v":{"$error":"#REF!"}},{"$f":"L120*SIN(L$78/180*PI())","v":{"$error":"#REF!"}},{"$f":"M120*SIN(M$78/180*PI())","v":{"$error":"#REF!"}},{"$f":"N120*SIN(N$78/180*PI())","v":{"$error":"#REF!"}},0,{"$f":"-N120*SIN((O$89/180*PI())-ATAN((N120*SIN(O$89/180*PI())/(C120+N120*COS(O$89/180*PI())))))","v":{"$error":"#REF!"}},{"$f":"-M120*SIN((P$89/180*PI())-ATAN((M120*SIN(P$89/180*PI())/(C120+M120*COS(P$89/180*PI())))))","v":{"$error":"#REF!"}},{"$f":"-L120*SIN((Q$89/180*PI())-ATAN((L120*SIN(Q$89/180*PI())/(C120+L120*COS(Q$89/180*PI())))))","v":{"$error":"#REF!"}},{"$f":"-K120*SIN((R$89/180*PI())-ATAN((K120*SIN(R$89/180*PI())/(C120+K120*COS(R$89/180*PI())))))","v":{"$error":"#REF!"}},{"$f":"-J120*SIN((S$89/180*PI())-ATAN((J120*SIN(S$89/180*PI())/(C120+J120*COS(S$89/180*PI())))))","v":{"$error":"#REF!"}},{"$f":"-I120*SIN((T$89/180*PI())-ATAN((I120*SIN(T$89/180*PI())/(C120+I120*COS(T$89/180*PI())))))","v":{"$error":"#REF!"}},{"$f":"-H120*SIN((U$89/180*PI())-ATAN((H120*SIN(U$89/180*PI())/(C120+H120*COS(U$89/180*PI())))))","v":{"$error":"#REF!"}},{"$f":"-G120*SIN((V$89/180*PI())-ATAN((G120*SIN(V$89/180*PI())/(C120+G120*COS(V$89/180*PI())))))","v":{"$error":"#REF!"}},{"$f":"-F120*SIN((D120/180*PI())-ATAN((F120*SIN(D120/180*PI())/(C120+F120*COS(D120/180*PI())))))","v":{"$error":"#REF!"}}]
[null,null,null,null,{"$f":"E120","v":{"$error":"#REF!"}},{"$f":"G120*COS(G$78/180*PI())","v":{"$error":"#REF!"}},{"$f":"H120*COS(H$78/180*PI())","v":{"$error":"#REF!"}},{"$f":"I120*COS(I$78/180*PI())","v":{"$error":"#REF!"}},{"$f":"J120*COS(J$78/180*PI())","v":{"$error":"#REF!"}},{"$f":"K120*COS(K$78/180*PI())","v":{"$error":"#REF!"}},{"$f":"L120*COS(L$78/180*PI())","v":{"$error":"#REF!"}},{"$f":"M120*COS(M$78/180*PI())","v":{"$error":"#REF!"}},{"$f":"N120*COS(N$78/180*PI())","v":{"$error":"#REF!"}},{"$f":"-O120","v":{"$error":"#REF!"}},{"$f":"N120*COS((O$89/180*PI())-ATAN((N120*SIN(O$89/180*PI())/(C120+N120*COS(O$89/180*PI())))))","v":{"$error":"#REF!"}},{"$f":"M120*COS((P$89/180*PI())-ATAN((M120*SIN(P$89/180*PI())/(C120+M120*COS(P$89/180*PI())))))","v":{"$error":"#REF!"}},{"$f":"L120*COS((Q$89/180*PI())-ATAN((L120*SIN(Q$89/180*PI())/(C120+L120*COS(Q$89/180*PI())))))","v":{"$error":"#REF!"}},{"$f":"K120*COS((R$89/180*PI())-ATAN((K120*SIN(R$89/180*PI())/(C120+K120*COS(R$89/180*PI())))))","v":{"$error":"#REF!"}},{"$f":"J120*COS((S$89/180*PI())-ATAN((J120*SIN(S$89/180*PI())/(C120+J120*COS(S$89/180*PI())))))","v":{"$error":"#REF!"}},{"$f":"I120*COS((T$89/180*PI())-ATAN((I120*SIN(T$89/180*PI())/(C120+I120*COS(T$89/180*PI())))))","v":{"$error":"#REF!"}},{"$f":"H120*COS((U$89/180*PI())-ATAN((H120*SIN(U$89/180*PI())/(C120+H120*COS(U$89/180*PI())))))","v":{"$error":"#REF!"}},{"$f":"G120*COS((V$89/180*PI())-ATAN((G120*SIN(V$89/180*PI())/(C120+G120*COS(V$89/180*PI())))))","v":{"$error":"#REF!"}},{"$f":"F120*COS((D120/180*PI())-ATAN((F120*SIN(D120/180*PI())/(C120+F120*COS(D120/180*PI())))))","v":{"$error":"#REF!"}}]

{"sheet":"Detail 1","index":2,"n_rows":46,"n_cols":15,"rows_kept":46,"cut":false,"hidden":false,"merged":[[41,0,43,0],[23,0,25,0],[26,0,28,0],[29,0,31,0],[32,0,34,0],[35,0,37,0],[38,0,40,0]]}
[]
["N° de Voile",null,{"$f":"Main!$D$3","v":"NED 8940"},null,null,null,"GPH:",{"$f":"Main!$N$3","v":832.6}]
["Nom",null,{"$f":"Main!$E$3","v":"Jeanne"},null,null,null,"TMF:",{"$f":"Main!$O$3","v":0.75600000000000001}]
["Type:",null,{"$f":"Main!$F$3","v":"Jeaneau Poker"},null,null,null,"DSPL:",{"$f":"Main!L3","v":3226}]
["GV:",{"$f":"OFFSET(ORC!$B$6,(Main!$C3-6),163)","v":12.8},"GENOA:",{"$f":"OFFSET(ORC!$B$6,(Main!$C3-6),164)","v":20.399999999999999},null,"SPI:",{"$f":"OFFSET(ORC!$B$6,(Main!$C3-6),165)","v":45.7},"ASYM:",{"$f":"OFFSET(ORC!$B$6,(Main!$C3-6),166)","v":0}]
[]
[]
[]
[]
[]
["VENT REEL","ANGLE OPTIMAL",null,null,null,"                VITESSE",null,null,null,null,null,null,null,null,"ANGLE OPTIMAL"]
[null,"UA","VMG","V@UA",52,60,75,90,110,120,135,150,"V@DA","VMG","DA"]
[6,{"$f":"Main!D79","v":43},{"$f":"Main!E79","v":2.3583360628889616},{"$f":"Main!F79","v":3.2246176612872213},{"$f":"Main!G79","v":3.5931729713544267},{"$f":"Main!H79","v":3.7894736842105261},{"$f":"Main!I79","v":3.9417496988941205},{"$f":"Main!J79","v":4.0853381752156146},{"$f":"Main!K79","v":4.1899441340782122},{"$f":"Main!L79","v":4.0733197556008145},{"$f":"Main!M79","v":3.7033227034255733},{"$f":"Main!N79","v":3.2128514056224899},{"$f":"Main!P79","v":3.2631422117709499},{"$f":"Main!O79","v":2.7822861117551585},{"$f":"Main!Q79","v":148.5}]
[8,{"$f":"Main!D80","v":41.5},{"$f":"Main!E80","v":2.8885501083206293},{"$f":"Main!F80","v":3.8567702043555112},{"$f":"Main!G80","v":4.3160292530871596},{"$f":"Main!H80","v":4.523181304183943},{"$f":"Main!I80","v":4.7028086218158069},{"$f":"Main!J80","v":5.0097411633732252},{"$f":"Main!K80","v":5.1282051282051286},{"$f":"Main!L80","v":5},{"$f":"Main!M80","v":4.598875830352581},{"$f":"Main!N80","v":4.0853381752156146},{"$f":"Main!P80","v":4.0022384389752883},{"$f":"Main!O80","v":3.5467980295566504},{"$f":"Main!Q80","v":152.4}]
[10,{"$f":"Main!D81","v":41.3},{"$f":"Main!E81","v":3.2670841274162807},{"$f":"Main!F81","v":4.3487822481026397},{"$f":"Main!G81","v":4.8913043478260869},{"$f":"Main!H81","v":5.1494779001573452},{"$f":"Main!I81","v":5.3707295240936901},{"$f":"Main!J81","v":5.7188244638602068},{"$f":"Main!K81","v":5.7961680888745768},{"$f":"Main!L81","v":5.7170080990948069},{"$f":"Main!M81","v":5.4013503375843959},{"$f":"Main!N81","v":4.8432665141934619},{"$f":"Main!P81","v":4.6387755899864516},{"$f":"Main!O81","v":4.2075736325385691},{"$f":"Main!Q81","v":155.1}]
[12,{"$f":"Main!D82","v":41.7},{"$f":"Main!E82","v":3.6032429186267638},{"$f":"Main!F82","v":4.8259558700809624},{"$f":"Main!G82","v":5.3940665268204979},{"$f":"Main!H82","v":5.604857543204111},{"$f":"Main!I82","v":5.7636887608069163},{"$f":"Main!J82","v":6.0463553913335577},{"$f":"Main!K82","v":6.1349693251533743},{"$f":"Main!L82","v":6.0800540449248439},{"$f":"Main!M82","v":5.8890888270898092},{"$f":"Main!N82","v":5.5104852288382062},{"$f":"Main!P82","v":4.9146595932096302},{"$f":"Main!O82","v":4.8354600402955006},{"$f":"Main!Q82","v":169.7}]
[14,{"$f":"Main!D83","v":41.2},{"$f":"Main!E83","v":3.9020160416215042},{"$f":"Main!F83","v":5.185989798299274},{"$f":"Main!G83","v":5.6953013763644993},{"$f":"Main!H83","v":5.8574682720468596},{"$f":"Main!I83","v":5.9910134797803298},{"$f":"Main!J83","v":6.2434963579604572},{"$f":"Main!K83","v":6.41254007837549},{"$f":"Main!L83","v":6.3593004769475359},{"$f":"Main!M83","v":6.1823802163833079},{"$f":"Main!N83","v":5.9161873459326211},{"$f":"Main!P83","v":5.4298642533936654},{"$f":"Main!O83","v":5.4298642533936654},{"$f":"Main!Q83","v":180}]
[16,{"$f":"Main!D84","v":40.4},{"$f":"Main!E84","v":4.097427725927612},{"$f":"Main!F84","v":5.3804617382690907},{"$f":"Main!G84","v":5.8641472552532985},{"$f":"Main!H84","v":6.0120240480961931},{"$f":"Main!I84","v":6.1643835616438354},{"$f":"Main!J84","v":6.3302268331281866},{"$f":"Main!K84","v":6.6765578635014835},{"$f":"Main!L84","v":6.6506558285608728},{"$f":"Main!M84","v":6.4562410329985651},{"$f":"Main!N84","v":6.1823802163833079},{"$f":"Main!P84","v":5.8451047247929857},{"$f":"Main!O84","v":5.8451047247929857},{"$f":"Main!Q84","v":180}]
[20,{"$f":"Main!D85","v":40.200000000000003},{"$f":"Main!E85","v":4.1826420355524574},{"$f":"Main!F85","v":5.4761243561704909},{"$f":"Main!G85","v":5.9880239520958076},{"$f":"Main!H85","v":6.1813186813186816},{"$f":"Main!I85","v":6.4366172000715185},{"$f":"Main!J85","v":6.5514103730664237},{"$f":"Main!K85","v":7.0066173608407949},{"$f":"Main!L85","v":7.1371927042030139},{"$f":"Main!M85","v":7.0011668611435232},{"$f":"Main!N85","v":6.6976744186046515},{"$f":"Main!P85","v":6.3548102383053839},{"$f":"Main!O85","v":6.3548102383053839},{"$f":"Main!Q85","v":180}]
["Snelheden in knopen",null,null,"UA=Up Angle, VMG=resulterende snelheid recht tegen de wind (bijUA), V@UA=snelheid bij optimale opkruishoek"]
["Hoeken in graden",null,null,"DA=Down Angle, VMG=resulterende snelheid recht voor de wind (bijDA), V@DA=snelheid bij afkruis opkruishoek"]
["Vent réel","ANGLE OPTIMAL",null," vitesse du bateau en vent réel / vitesse du vent apparent et l'angle",null,null,null,null,null,null,null,null,"Optimale afkruis  hoek / VMG"]
[null,"UA/VMG","V@UA",52,60,75,90,110,120,135,150,"V@DA","DA/VMG","TWA"]
[6,{"$f":"Main!D79","v":43},{"$f":"Main!F79","v":3.2246176612872213},{"$f":"Main!G79","v":3.5931729713544267},{"$f":"Main!H79","v":3.7894736842105261},{"$f":"Main!I79","v":3.9417496988941205},{"$f":"Main!J79","v":4.0853381752156146},{"$f":"Main!K79","v":4.1899441340782122},{"$f":"Main!L79","v":4.0733197556008145},{"$f":"Main!M79","v":3.7033227034255733},{"$f":"Main!N79","v":3.2128514056224899},{"$f":"Main!P79","v":3.2631422117709499},{"$f":"Main!Q79","v":148.5},"SPEED"]
[null,{"$f":"Main!E79","v":2.3583360628889616},{"$f":"Main!S79","v":8.6428115689371019},{"$f":"Main!T79","v":8.6866006051737035},{"$f":"Main!U79","v":8.5496756025352951},{"$f":"Main!V79","v":7.9862249784202168},{"$f":"Main!W79","v":7.2587869514040735},{"$f":"Main!X79","v":6.0298497765308152},{"$f":"Main!Y79","v":5.3058472742591256},{"$f":"Main!Z79","v":4.2767819546401302},{"$f":"Main!AA79","v":3.5963151870167036},{"$f":"Main!AB79","v":3.6415194291915434},{"$f":"Main!O79","v":2.7822861117551585},"AWS"]
[null,null,{"$f":"Main!AD79","v":28.258861589080581},{"$f":"Main!AE79","v":32.976430721776687},{"$f":"Main!AF79","v":37.427725340851708},{"$f":"Main!AG79","v":46.526604933623616},{"$f":"Main!AH79","v":55.749454642616264},{"$f":"Main!AI79","v":69.234741918779775},{"$f":"Main!AJ79","v":78.32909694743968},{"$f":"Main!AK79","v":97.244496915253023},{"$f":"Main!AL79","v":123.46870425436191},{"$f":"Main!AM79","v":120.58198837021288},null,"AWA"]
[8,{"$f":"Main!D80","v":41.5},{"$f":"Main!F80","v":3.8567702043555112},{"$f":"Main!G80","v":4.3160292530871596},{"$f":"Main!H80","v":4.523181304183943},{"$f":"Main!I80","v":4.7028086218158069},{"$f":"Main!J80","v":5.0097411633732252},{"$f":"Main!K80","v":5.1282051282051286},{"$f":"Main!L80","v":5},{"$f":"Main!M80","v":4.598875830352581},{"$f":"Main!N80","v":4.0853381752156146},{"$f":"Main!P80","v":4.0022384389752883},{"$f":"Main!Q80","v":152.4},"SPEED"]
[null,{"$f":"Main!E80","v":2.8885501083206293},{"$f":"Main!S80","v":11.184430166187926},{"$f":"Main!T80","v":11.186756255214178},{"$f":"Main!U80","v":10.983834464520607},{"$f":"Main!V80","v":10.275759432869057},{"$f":"Main!W80","v":9.4391475528246787},{"$f":"Main!X80","v":7.8889350732348547},{"$f":"Main!Y80","v":7.0000000000000009},{"$f":"Main!Z80","v":5.7549386039614321},{"$f":"Main!AA80","v":4.9073293878932454},{"$f":"Main!AB80","v":4.8238101174802628},{"$f":"Main!O80","v":3.5467980295566504},"AWS"]
[null,null,{"$f":"Main!AD80","v":28.291586706771458},{"$f":"Main!AE80","v":34.300356347424334},{"$f":"Main!AF80","v":39.106483813030643},{"$f":"Main!AG80","v":48.76422276094803},{"$f":"Main!AH80","v":57.944475476443628},{"$f":"Main!AI80","v":72.349189719128759},{"$f":"Main!AJ80","v":81.786789298261795},{"$f":"Main!AK80","v":100.59341322877046},{"$f":"Main!AL80","v":125.4020273021509},{"$f":"Main!AM80","v":129.79416485459981},null,"AWA"]
[10,{"$f":"Main!D81","v":41.3},{"$f":"Main!F81","v":4.3487822481026397},{"$f":"Main!G81","v":4.8913043478260869},{"$f":"Main!H81","v":5.1494779001573452},{"$f":"Main!I81","v":5.3707295240936901},{"$f":"Main!J81","v":5.7188244638602068},{"$f":"Main!K81","v":5.7961680888745768},{"$f":"Main!L81","v":5.7170080990948069},{"$f":"Main!M81","v":5.4013503375843959},{"$f":"Main!N81","v":4.8432665141934619},{"$f":"Main!P81","v":4.6387755899864516},{"$f":"Main!Q81","v":155.1},"SPEED"]
[null,{"$f":"Main!E81","v":3.2670841274162807},{"$f":"Main!S81","v":13.574004184091674},{"$f":"Main!T81","v":13.5702841253988},{"$f":"Main!U81","v":13.34211008970404},{"$f":"Main!V81","v":12.515817087172875},{"$f":"Main!W81","v":11.519763593426992},{"$f":"Main!X81","v":9.6926487455471619},{"$f":"Main!Y81","v":8.6898849597775207},{"$f":"Main!Z81","v":7.2655320826433343},{"$f":"Main!AA81","v":6.2904207932146168},{"$f":"Main!AB81","v":6.1128361930844148},{"$f":"Main!O81","v":4.2075736325385691},"AWS"]
[null,null,{"$f":"Main!AD81","v":29.092745360139229},{"$f":"Main!AE81","v":35.498980582808827},{"$f":"Main!AF81","v":40.473161215254379},{"$f":"Main!AG81","v":50.512568518614913},{"$f":"Main!AH81","v":60.235518676622071},{"$f":"Main!AI81","v":75.810436790324815},{"$f":"Main!AJ81","v":85.267107051378275},{"$f":"Main!AK81","v":103.2860929132691},{"$f":"Main!AL81","v":127.35802382248642},{"$f":"Main!AM81","v":136.46691967973447},null,"AWA"]
[12,{"$f":"Main!D82","v":41.7},{"$f":"Main!F82","v":4.8259558700809624},{"$f":"Main!G82","v":5.3940665268204979},{"$f":"Main!H82","v":5.604857543204111},{"$f":"Main!I82","v":5.7636887608069163},{"$f":"Main!J82","v":6.0463553913335577},{"$f":"Main!K82","v":6.1349693251533743},{"$f":"Main!L82","v":6.0800540449248439},{"$f":"Main!M82","v":5.8890888270898092},{"$f":"Main!N82","v":5.5104852288382062},{"$f":"Main!P82","v":4.9146595932096302},{"$f":"Main!Q82","v":169.7},"SPEED"]
[null,{"$f":"Main!E82","v":3.6032429186267638},{"$f":"Main!S82","v":15.930087259868079},{"$f":"Main!T82","v":15.89962290865839},{"$f":"Main!U82","v":15.577956175251662},{"$f":"Main!V82","v":14.595278902563535},{"$f":"Main!W82","v":13.437202592738876},{"$f":"Main!X82","v":11.457707210051753},{"$f":"Main!Y82","v":10.392613177161403},{"$f":"Main!Z82","v":8.8735683770324769},{"$f":"Main!AA82","v":7.7351252587645298},{"$f":"Main!AB82","v":7.2182295578649631},{"$f":"Main!O82","v":4.8354600402955006},"AWS"]
[null,null,{"$f":"Main!AD82","v":30.073623108349398},{"$f":"Main!AE82","v":36.494042645460446},{"$f":"Main!AF82","v":41.844869730834446},{"$f":"Main!AG82","v":52.576783370344025},{"$f":"Main!AH82","v":63.258158006365498},{"$f":"Main!AI82","v":79.79114635427095},{"$f":"Main!AJ82","v":89.558647648091565},{"$f":"Main!AK82","v":107.01223647762374},{"$f":"Main!AL82","v":129.13306382597619},{"$f":"Main!AM82","v":162.7074283957208},null,"AWA"]
[14,{"$f":"Main!D83","v":41.2},{"$f":"Main!F83","v":5.185989798299274},{"$f":"Main!G83","v":5.6953013763644993},{"$f":"Main!H83","v":5.8574682720468596},{"$f":"Main!I83","v":5.9910134797803298},{"$f":"Main!J83","v":6.2434963579604572},{"$f":"Main!K83","v":6.41254007837549},{"$f":"Main!L83","v":6.3593004769475359},{"$f":"Main!M83","v":6.1823802163833079},{"$f":"Main!N83","v":5.9161873459326211},{"$f":"Main!P83","v":5.4298642533936654},{"$f":"Main!Q83","v":180},"SPEED"]
[null,{"$f":"Main!E83","v":3.9020160416215042},{"$f":"Main!S83","v":18.225008624235716},{"$f":"Main!T83","v":18.072493793218751},{"$f":"Main!U83","v":17.67242174594902},{"$f":"Main!V83","v":16.592429520110539},{"$f":"Main!W83","v":15.329098041693957},{"$f":"Main!X83","v":13.255586358570476},{"$f":"Main!Y83","v":12.14127241597188},{"$f":"Main!Z83","v":10.574353022447204},{"$f":"Main!AA83","v":9.3563536555997135},{"$f":"Main!AB83","v":8.5701357466063346},{"$f":"Main!O83","v":5.4298642533936654},"AWS"]
[null,null,{"$f":"Main!AD83","v":30.397021142344752},{"$f":"Main!AE83","v":37.621234331105867},{"$f":"Main!AF83","v":43.319089606380082},{"$f":"Main!AG83","v":54.588145586767979},{"$f":"Main!AH83","v":65.964847792729543},{"$f":"Main!AI83","v":82.961638892413333},{"$f":"Main!AJ83","v":93.024924921068489},{"$f":"Main!AK83","v":110.58041834109886},{"$f":"Main!AL83","v":131.56921550134894},{"$f":"Main!AM83","v":180},null,"AWA"]
[16,{"$f":"Main!D84","v":40.4},{"$f":"Main!F84","v":5.3804617382690907},{"$f":"Main!G84","v":5.8641472552532985},{"$f":"Main!H84","v":6.0120240480961931},{"$f":"Main!I84","v":6.1643835616438354},{"$f":"Main!J84","v":6.3302268331281866},{"$f":"Main!K84","v":6.6765578635014835},{"$f":"Main!L84","v":6.6506558285608728},{"$f":"Main!M84","v":6.4562410329985651},{"$f":"Main!N84","v":6.1823802163833079},{"$f":"Main!P84","v":5.8451047247929857},{"$f":"Main!Q84","v":180},"SPEED"]
[null,{"$f":"Main!E84","v":4.097427725927612},{"$f":"Main!S84","v":20.39772182736742},{"$f":"Main!T84","v":20.147425856758272},{"$f":"Main!U84","v":19.706263418629774},{"$f":"Main!V84","v":18.575638358918258},{"$f":"Main!W84","v":17.206736232035876},{"$f":"Main!X84","v":15.083231484929971},{"$f":"Main!Y84","v":13.921951360818525},{"$f":"Main!Z84","v":12.312391732848431},{"$f":"Main!AA84","v":11.085606830308153},{"$f":"Main!AB84","v":10.154895275207014},{"$f":"Main!O84","v":5.8451047247929857},"AWS"]
[null,null,{"$f":"Main!AD84","v":30.556388897452127},{"$f":"Main!AE84","v":38.740612083864171},{"$f":"Main!AF84","v":44.680063134144184},{"$f":"Main!AG84","v":56.304082387940859},{"$f":"Main!AH84","v":68.414307625836642},{"$f":"Main!AI84","v":85.420667710391157},{"$f":"Main!AJ84","v":95.561956194147669},{"$f":"Main!AK84","v":113.23595334046109},{"$f":"Main!AL84","v":133.80858765018107},{"$f":"Main!AM84","v":180},null,"AWA"]
[20,{"$f":"Main!D85","v":40.200000000000003},{"$f":"Main!F85","v":5.4761243561704909},{"$f":"Main!G85","v":5.9880239520958076},{"$f":"Main!H85","v":6.1813186813186816},{"$f":"Main!I85","v":6.4366172000715185},{"$f":"Main!J85","v":6.5514103730664237},{"$f":"Main!K85","v":7.0066173608407949},{"$f":"Main!L85","v":7.1371927042030139},{"$f":"Main!M85","v":7.0011668611435232},{"$f":"Main!N85","v":6.6976744186046515},{"$f":"Main!P85","v":6.3548102383053839},{"$f":"Main!Q85","v":180},"SPEED"]
[null,{"$f":"Main!E85","v":4.1826420355524574},{"$f":"Main!S85","v":24.439591227889675},{"$f":"Main!T85","v":24.152023875364574},{"$f":"Main!U85","v":23.703060440930258},{"$f":"Main!V85","v":22.540337301752505},{"$f":"Main!W85","v":21.045687868927505},{"$f":"Main!X85","v":18.794587409196303},{"$f":"Main!Y85","v":17.555502431228462},{"$f":"Main!Z85","v":15.842772322679179},{"$f":"Main!AA85","v":14.589194457065791},{"$f":"Main!AB85","v":13.645189761694617},{"$f":"Main!O85","v":6.3548102383053839},"AWS"]
[null,null,{"$f":"Main!AD85","v":31.88436292416203},{"$f":"Main!AE85","v":40.733549085409763},{"$f":"Main!AF85","v":46.947523806985828},{"$f":"Main!AG85","v":58.988534216625823},{"$f":"Main!AH85","v":71.862729606318027},{"$f":"Main!AI85","v":89.493284265512557},{"$f":"Main!AJ85","v":99.385239404458588},{"$f":"Main!AK85","v":116.79116163775048},{"$f":"Main!AL85","v":136.72987362633972},{"$f":"Main!AM85","v":180},null,"AWA"]
["Snelheden in knopen",null,null,"UA=Up Angle, VMG=resulterende snelheid recht tegen de wind (bijUA), V@UA=snelheid bij optimale opkruishoek"]
["Hoeken in graden",null,null,"DA=Down Angle, VMG=resulterende snelheid recht voor de wind (bijDA), V@DA=snelheid bij afkruis opkruishoek"]

{"sheet":"Detail 2","index":3,"n_rows":46,"n_cols":15,"rows_kept":46,"cut":false,"hidden":false,"merged":[[41,0,43,0],[23,0,25,0],[26,0,28,0],[29,0,31,0],[32,0,34,0],[35,0,37,0],[38,0,40,0]]}
[]
["N° de Voile",null,{"$f":"Main!$D$4","v":{"$error":"#REF!"}},null,null,null,"GPH:",{"$f":"Main!$N$4","v":{"$error":"#REF!"}}]
["Nom",null,{"$f":"Main!$E$4","v":{"$error":"#REF!"}},null,null,null,"TMF:",{"$f":"Main!$O$4","v":{"$error":"#REF!"}}]
["Type:",null,{"$f":"Main!$F$4","v":{"$error":"#REF!"}},null,null,null,"DSPL:",{"$f":"Main!L4","v":{"$error":"#REF!"}}]
["GV:",{"$f":"OFFSET(ORC!$B$6,(Main!$C4-6),163)","v":{"$error":"#REF!"}},"GENOA:",{"$f":"OFFSET(ORC!$B$6,(Main!$C4-6),164)","v":{"$error":"#REF!"}},null,"SPI:",{"$f":"OFFSET(ORC!$B$6,(Main!$C4-6),165)","v":{"$error":"#REF!"}},"ASYM:",{"$f":"OFFSET(ORC!$B$6,(Main!$C4-6),166)","v":{"$error":"#REF!"}}]
[]
[]
[]
[]
[]
["VENT REEL","ANGLE OPTIMAL",null,null,null,"                VITESSE",null,null,null,null,null,null,null,null,"ANGLE OPTIMAL"]
[null,"UA","VMG","V@UA",52,60,75,90,110,120,135,150,"V@DA","VMG","DA"]
[6,{"$f":"Main!D114","v":{"$error":"#REF!"}},{"$f":"Main!E114","v":{"$error":"#REF!"}},{"$f":"Main!F114","v":{"$error":"#REF!"}},{"$f":"Main!G114","v":{"$error":"#REF!"}},{"$f":"Main!H114","v":{"$error":"#REF!"}},{"$f":"Main!I114","v":{"$error":"#REF!"}},{"$f":"Main!J114","v":{"$error":"#REF!"}},{"$f":"Main!K114","v":{"$error":"#REF!"}},{"$f":"Main!L114","v":{"$error":"#REF!"}},{"$f":"Main!M114","v":{"$error":"#REF!"}},{"$f":"Main!N114","v":{"$error":"#REF!"}},{"$f":"Main!P114","v":{"$error":"#REF!"}},{"$f":"Main!O114","v":{"$error":"#REF!"}},{"$f":"Main!Q114","v":{"$error":"#REF!"}}]
[8,{"$f":"Main!D115","v":{"$error":"#REF!"}},{"$f":"Main!E115","v":{"$error":"#REF!"}},{"$f":"Main!F115","v":{"$error":"#REF!"}},{"$f":"Main!G115","v":{"$error":"#REF!"}},{"$f":"Main!H115","v":{"$error":"#REF!"}},{"$f":"Main!I115","v":{"$error":"#REF!"}},{"$f":"Main!J115","v":{"$error":"#REF!"}},{"$f":"Main!K115","v":{"$error":"#REF!"}},{"$f":"Main!L115","v":{"$error":"#REF!"}},{"$f":"Main!M115","v":{"$error":"#REF!"}},{"$f":"Main!N115","v":{"$error":"#REF!"}},{"$f":"Main!P115","v":{"$error":"#REF!"}},{"$f":"Main!O115","v":{"$error":"#REF!"}},{"$f":"Main!Q115","v":{"$error":"#REF!"}}]
[10,{"$f":"Main!D116","v":{"$error":"#REF!"}},{"$f":"Main!E116","v":{"$error":"#REF!"}},{"$f":"Main!F116","v":{"$error":"#REF!"}},{"$f":"Main!G116","v":{"$error":"#REF!"}},{"$f":"Main!H116","v":{"$error":"#REF!"}},{"$f":"Main!I116","v":{"$error":"#REF!"}},{"$f":"Main!J116","v":{"$error":"#REF!"}},{"$f":"Main!K116","v":{"$error":"#REF!"}},{"$f":"Main!L116","v":{"$error":"#REF!"}},{"$f":"Main!M116","v":{"$error":"#REF!"}},{"$f":"Main!N116","v":{"$error":"#REF!"}},{"$f":"Main!P116","v":{"$error":"#REF!"}},{"$f":"Main!O116","v":{"$error":"#REF!"}},{"$f":"Main!Q116","v":{"$error":"#REF!"}}]
[12,{"$f":"Main!D117","v":{"$error":"#REF!"}},{"$f":"Main!E117","v":{"$error":"#REF!"}},{"$f":"Main!F117","v":{"$error":"#REF!"}},{"$f":"Main!G117","v":{"$error":"#REF!"}},{"$f":"Main!H117","v":{"$error":"#REF!"}},{"$f":"Main!I117","v":{"$error":"#REF!"}},{"$f":"Main!J117","v":{"$error":"#REF!"}},{"$f":"Main!K117","v":{"$error":"#REF!"}},{"$f":"Main!L117","v":{"$error":"#REF!"}},{"$f":"Main!M117","v":{"$error":"#REF!"}},{"$f":"Main!N117","v":{"$error":"#REF!"}},{"$f":"Main!P117","v":{"$error":"#REF!"}},{"$f":"Main!O117","v":{"$error":"#REF!"}},{"$f":"Main!Q117","v":{"$error":"#REF!"}}]
[14,{"$f":"Main!D118","v":{"$error":"#REF!"}},{"$f":"Main!E118","v":{"$error":"#REF!"}},{"$f":"Main!F118","v":{"$error":"#REF!"}},{"$f":"Main!G118","v":{"$error":"#REF!"}},{"$f":"Main!H118","v":{"$error":"#REF!"}},{"$f":"Main!I118","v":{"$error":"#REF!"}},{"$f":"Main!J118","v":{"$error":"#REF!"}},{"$f":"Main!K118","v":{"$error":"#REF!"}},{"$f":"Main!L118","v":{"$error":"#REF!"}},{"$f":"Main!M118","v":{"$error":"#REF!"}},{"$f":"Main!N118","v":{"$error":"#REF!"}},{"$f":"Main!P118","v":{"$error":"#REF!"}},{"$f":"Main!O118","v":{"$error":"#REF!"}},{"$f":"Main!Q118","v":{"$error":"#REF!"}}]
[16,{"$f":"Main!D119","v":{"$error":"#REF!"}},{"$f":"Main!E119","v":{"$error":"#REF!"}},{"$f":"Main!F119","v":{"$error":"#REF!"}},{"$f":"Main!G119","v":{"$error":"#REF!"}},{"$f":"Main!H119","v":{"$error":"#REF!"}},{"$f":"Main!I119","v":{"$error":"#REF!"}},{"$f":"Main!J119","v":{"$error":"#REF!"}},{"$f":"Main!K119","v":{"$error":"#REF!"}},{"$f":"Main!L119","v":{"$error":"#REF!"}},{"$f":"Main!M119","v":{"$error":"#REF!"}},{"$f":"Main!N119","v":{"$error":"#REF!"}},{"$f":"Main!P119","v":{"$error":"#REF!"}},{"$f":"Main!O119","v":{"$error":"#REF!"}},{"$f":"Main!Q119","v":{"$error":"#REF!"}}]
[20,{"$f":"Main!D120","v":{"$error":"#REF!"}},{"$f":"Main!E120","v":{"$error":"#REF!"}},{"$f":"Main!F120","v":{"$error":"#REF!"}},{"$f":"Main!G120","v":{"$error":"#REF!"}},{"$f":"Main!H120","v":{"$error":"#REF!"}},{"$f":"Main!I120","v":{"$error":"#REF!"}},{"$f":"Main!J120","v":{"$error":"#REF!"}},{"$f":"Main!K120","v":{"$error":"#REF!"}},{"$f":"Main!L120","v":{"$error":"#REF!"}},{"$f":"Main!M120","v":{"$error":"#REF!"}},{"$f":"Main!N120","v":{"$error":"#REF!"}},{"$f":"Main!P120","v":{"$error":"#REF!"}},{"$f":"Main!O120","v":{"$error":"#REF!"}},{"$f":"Main!Q120","v":{"$error":"#REF!"}}]
["Snelheden in knopen",null,null,"UA=Up Angle, VMG=resulterende snelheid recht tegen de wind (bijUA), V@UA=snelheid bij optimale opkruishoek"]
["Hoeken in graden",null,null,"DA=Down Angle, VMG=resulterende snelheid recht voor de wind (bijDA), V@DA=snelheid bij afkruis opkruishoek"]
["Vent réel","ANGLE OPTIMAL",null," vitesse du bateau en vent réel / vitesse du vent apparent et l'angle",null,null,null,null,null,null,null,null,"Optimale afkruis  hoek / VMG"]
[null,"UA/VMG","V@UA",52,60,75,90,110,120,135,150,"V@DA","DA/VMG","TWA"]
[6,{"$f":"Main!D114","v":{"$error":"#REF!"}},{"$f":"Main!F114","v":{"$error":"#REF!"}},{"$f":"Main!G114","v":{"$error":"#REF!"}},{"$f":"Main!H114","v":{"$error":"#REF!"}},{"$f":"Main!I114","v":{"$error":"#REF!"}},{"$f":"Main!J114","v":{"$error":"#REF!"}},{"$f":"Main!K114","v":{"$error":"#REF!"}},{"$f":"Main!L114","v":{"$error":"#REF!"}},{"$f":"Main!M114","v":{"$error":"#REF!"}},{"$f":"Main!N114","v":{"$error":"#REF!"}},{"$f":"Main!P114","v":{"$error":"#REF!"}},{"$f":"Main!Q114","v":{"$error":"#REF!"}},"SPEED"]
[null,{"$f":"Main!E114","v":{"$error":"#REF!"}},{"$f":"Main!S114","v":{"$error":"#REF!"}},{"$f":"Main!T114","v":{"$error":"#REF!"}},{"$f":"Main!U114","v":{"$error":"#REF!"}},{"$f":"Main!V114","v":{"$error":"#REF!"}},{"$f":"Main!W114","v":{"$error":"#REF!"}},{"$f":"Main!X114","v":{"$error":"#REF!"}},{"$f":"Main!Y114","v":{"$error":"#REF!"}},{"$f":"Main!Z114","v":{"$error":"#REF!"}},{"$f":"Main!AA114","v":{"$error":"#REF!"}},{"$f":"Main!AB114","v":{"$error":"#REF!"}},{"$f":"Main!O114","v":{"$error":"#REF!"}},"AWS"]
[null,null,{"$f":"Main!AD114","v":{"$error":"#REF!"}},{"$f":"Main!AE114","v":{"$error":"#REF!"}},{"$f":"Main!AF114","v":{"$error":"#REF!"}},{"$f":"Main!AG114","v":{"$error":"#REF!"}},{"$f":"Main!AH114","v":{"$error":"#REF!"}},{"$f":"Main!AI114","v":{"$error":"#REF!"}},{"$f":"Main!AJ114","v":{"$error":"#REF!"}},{"$f":"Main!AK114","v":{"$error":"#REF!"}},{"$f":"Main!AL114","v":{"$error":"#REF!"}},{"$f":"Main!AM114","v":{"$error":"#REF!"}},null,"AWA"]
[8,{"$f":"Main!D115","v":{"$error":"#REF!"}},{"$f":"Main!F115","v":{"$error":"#REF!"}},{"$f":"Main!G115","v":{"$error":"#REF!"}},{"$f":"Main!H115","v":{"$error":"#REF!"}},{"$f":"Main!I115","v":{"$error":"#REF!"}},{"$f":"Main!J115","v":{"$error":"#REF!"}},{"$f":"Main!K115","v":{"$error":"#REF!"}},{"$f":"Main!L115","v":{"$error":"#REF!"}},{"$f":"Main!M115","v":{"$error":"#REF!"}},{"$f":"Main!N115","v":{"$error":"#REF!"}},{"$f":"Main!O115","v":{"$error":"#REF!"}},{"$f":"Main!Q115","v":{"$error":"#REF!"}},"SPEED"]
[null,{"$f":"Main!E115","v":{"$error":"#REF!"}},{"$f":"Main!S115","v":{"$error":"#REF!"}},{"$f":"Main!T115","v":{"$error":"#REF!"}},{"$f":"Main!U115","v":{"$error":"#REF!"}},{"$f":"Main!V115","v":{"$error":"#REF!"}},{"$f":"Main!W115","v":{"$error":"#REF!"}},{"$f":"Main!X115","v":{"$error":"#REF!"}},{"$f":"Main!Y115","v":{"$error":"#REF!"}},{"$f":"Main!Z115","v":{"$error":"#REF!"}},{"$f":"Main!AA115","v":{"$error":"#REF!"}},{"$f":"Main!AB115","v":{"$error":"#REF!"}},{"$f":"Main!O115","v":{"$error":"#REF!"}},"AWS"]
[null,null,{"$f":"Main!AD115","v":{"$error":"#REF!"}},{"$f":"Main!AE115","v":{"$error":"#REF!"}},{"$f":"Main!AF115","v":{"$error":"#REF!"}},{"$f":"Main!AG115","v":{"$error":"#REF!"}},{"$f":"Main!AH115","v":{"$error":"#REF!"}},{"$f":"Main!AI115","v":{"$error":"#REF!"}},{"$f":"Main!AJ115","v":{"$error":"#REF!"}},{"$f":"Main!AK115","v":{"$error":"#REF!"}},{"$f":"Main!AL115","v":{"$error":"#REF!"}},{"$f":"Main!AM115","v":{"$error":"#REF!"}},null,"AWA"]
[10,{"$f":"Main!D116","v":{"$error":"#REF!"}},{"$f":"Main!F116","v":{"$error":"#REF!"}},{"$f":"Main!G116","v":{"$error":"#REF!"}},{"$f":"Main!H116","v":{"$error":"#REF!"}},{"$f":"Main!I116","v":{"$error":"#REF!"}},{"$f":"Main!J116","v":{"$error":"#REF!"}},{"$f":"Main!K116","v":{"$error":"#REF!"}},{"$f":"Main!L116","v":{"$error":"#REF!"}},{"$f":"Main!M116","v":{"$error":"#REF!"}},{"$f":"Main!N116","v":{"$error":"#REF!"}},{"$f":"Main!O116","v":{"$error":"#REF!"}},{"$f":"Main!Q116","v":{"$error":"#REF!"}},"SPEED"]
[null,{"$f":"Main!E116","v":{"$error":"#REF!"}},{"$f":"Main!S116","v":{"$error":"#REF!"}},{"$f":"Main!T116","v":{"$error":"#REF!"}},{"$f":"Main!U116","v":{"$error":"#REF!"}},{"$f":"Main!V116","v":{"$error":"#REF!"}},{"$f":"Main!W116","v":{"$error":"#REF!"}},{"$f":"Main!X116","v":{"$error":"#REF!"}},{"$f":"Main!Y116","v":{"$error":"#REF!"}},{"$f":"Main!Z116","v":{"$error":"#REF!"}},{"$f":"Main!AA116","v":{"$error":"#REF!"}},{"$f":"Main!AB116","v":{"$error":"#REF!"}},{"$f":"Main!O116","v":{"$error":"#REF!"}},"AWS"]
[null,null,{"$f":"Main!AD116","v":{"$error":"#REF!"}},{"$f":"Main!AE116","v":{"$error":"#REF!"}},{"$f":"Main!AF116","v":{"$error":"#REF!"}},{"$f":"Main!AG116","v":{"$error":"#REF!"}},{"$f":"Main!AH116","v":{"$error":"#REF!"}},{"$f":"Main!AI116","v":{"$error":"#REF!"}},{"$f":"Main!AJ116","v":{"$error":"#REF!"}},{"$f":"Main!AK116","v":{"$error":"#REF!"}},{"$f":"Main!AL116","v":{"$error":"#REF!"}},{"$f":"Main!AM116","v":{"$error":"#REF!"}},null,"AWA"]
[12,{"$f":"Main!D117","v":{"$error":"#REF!"}},{"$f":"Main!F117","v":{"$error":"#REF!"}},{"$f":"Main!G117","v":{"$error":"#REF!"}},{"$f":"Main!H117","v":{"$error":"#REF!"}},{"$f":"Main!I117","v":{"$error":"#REF!"}},{"$f":"Main!J117","v":{"$error":"#REF!"}},{"$f":"Main!K117","v":{"$error":"#REF!"}},{"$f":"Main!L117","v":{"$error":"#REF!"}},{"$f":"Main!M117","v":{"$error":"#REF!"}},{"$f":"Main!N117","v":{"$error":"#REF!"}},{"$f":"Main!O117","v":{"$error":"#REF!"}},{"$f":"Main!Q117","v":{"$error":"#REF!"}},"SPEED"]
[null,{"$f":"Main!E117","v":{"$error":"#REF!"}},{"$f":"Main!S117","v":{"$error":"#REF!"}},{"$f":"Main!T117","v":{"$error":"#REF!"}},{"$f":"Main!U117","v":{"$error":"#REF!"}},{"$f":"Main!V117","v":{"$error":"#REF!"}},{"$f":"Main!W117","v":{"$error":"#REF!"}},{"$f":"Main!X117","v":{"$error":"#REF!"}},{"$f":"Main!Y117","v":{"$error":"#REF!"}},{"$f":"Main!Z117","v":{"$error":"#REF!"}},{"$f":"Main!AA117","v":{"$error":"#REF!"}},{"$f":"Main!AB117","v":{"$error":"#REF!"}},{"$f":"Main!O117","v":{"$error":"#REF!"}},"AWS"]
[null,null,{"$f":"Main!AD117","v":{"$error":"#REF!"}},{"$f":"Main!AE117","v":{"$error":"#REF!"}},{"$f":"Main!AF117","v":{"$error":"#REF!"}},{"$f":"Main!AG117","v":{"$error":"#REF!"}},{"$f":"Main!AH117","v":{"$error":"#REF!"}},{"$f":"Main!AI117","v":{"$error":"#REF!"}},{"$f":"Main!AJ117","v":{"$error":"#REF!"}},{"$f":"Main!AK117","v":{"$error":"#REF!"}},{"$f":"Main!AL117","v":{"$error":"#REF!"}},{"$f":"Main!AM117","v":{"$error":"#REF!"}},null,"AWA"]
[14,{"$f":"Main!D118","v":{"$error":"#REF!"}},{"$f":"Main!F118","v":{"$error":"#REF!"}},{"$f":"Main!G118","v":{"$error":"#REF!"}},{"$f":"Main!H118","v":{"$error":"#REF!"}},{"$f":"Main!I118","v":{"$error":"#REF!"}},{"$f":"Main!J118","v":{"$error":"#REF!"}},{"$f":"Main!K118","v":{"$error":"#REF!"}},{"$f":"Main!L118","v":{"$error":"#REF!"}},{"$f":"Main!M118","v":{"$error":"#REF!"}},{"$f":"Main!N118","v":{"$error":"#REF!"}},{"$f":"Main!O118","v":{"$error":"#REF!"}},{"$f":"Main!Q118","v":{"$error":"#REF!"}},"SPEED"]
[null,{"$f":"Main!E118","v":{"$error":"#REF!"}},{"$f":"Main!S118","v":{"$error":"#REF!"}},{"$f":"Main!T118","v":{"$error":"#REF!"}},{"$f":"Main!U118","v":{"$error":"#REF!"}},{"$f":"Main!V118","v":{"$error":"#REF!"}},{"$f":"Main!W118","v":{"$error":"#REF!"}},{"$f":"Main!X118","v":{"$error":"#REF!"}},{"$f":"Main!Y118","v":{"$error":"#REF!"}},{"$f":"Main!Z118","v":{"$error":"#REF!"}},{"$f":"Main!AA118","v":{"$error":"#REF!"}},{"$f":"Main!AB118","v":{"$error":"#REF!"}},{"$f":"Main!O118","v":{"$error":"#REF!"}},"AWS"]
[null,null,{"$f":"Main!AD118","v":{"$error":"#REF!"}},{"$f":"Main!AE118","v":{"$error":"#REF!"}},{"$f":"Main!AF118","v":{"$error":"#REF!"}},{"$f":"Main!AG118","v":{"$error":"#REF!"}},{"$f":"Main!AH118","v":{"$error":"#REF!"}},{"$f":"Main!AI118","v":{"$error":"#REF!"}},{"$f":"Main!AJ118","v":{"$error":"#REF!"}},{"$f":"Main!AK118","v":{"$error":"#REF!"}},{"$f":"Main!AL118","v":{"$error":"#REF!"}},{"$f":"Main!AM118","v":{"$error":"#REF!"}},null,"AWA"]
[16,{"$f":"Main!D119","v":{"$error":"#REF!"}},{"$f":"Main!F119","v":{"$error":"#REF!"}},{"$f":"Main!G119","v":{"$error":"#REF!"}},{"$f":"Main!H119","v":{"$error":"#REF!"}},{"$f":"Main!I119","v":{"$error":"#REF!"}},{"$f":"Main!J119","v":{"$error":"#REF!"}},{"$f":"Main!K119","v":{"$error":"#REF!"}},{"$f":"Main!L119","v":{"$error":"#REF!"}},{"$f":"Main!M119","v":{"$error":"#REF!"}},{"$f":"Main!N119","v":{"$error":"#REF!"}},{"$f":"Main!O119","v":{"$error":"#REF!"}},{"$f":"Main!Q119","v":{"$error":"#REF!"}},"SPEED"]
[null,{"$f":"Main!E119","v":{"$error":"#REF!"}},{"$f":"Main!S119","v":{"$error":"#REF!"}},{"$f":"Main!T119","v":{"$error":"#REF!"}},{"$f":"Main!U119","v":{"$error":"#REF!"}},{"$f":"Main!V119","v":{"$error":"#REF!"}},{"$f":"Main!W119","v":{"$error":"#REF!"}},{"$f":"Main!X119","v":{"$error":"#REF!"}},{"$f":"Main!Y119","v":{"$error":"#REF!"}},{"$f":"Main!Z119","v":{"$error":"#REF!"}},{"$f":"Main!AA119","v":{"$error":"#REF!"}},{"$f":"Main!AB119","v":{"$error":"#REF!"}},{"$f":"Main!O119","v":{"$error":"#REF!"}},"AWS"]
[null,null,{"$f":"Main!AD119","v":{"$error":"#REF!"}},{"$f":"Main!AE119","v":{"$error":"#REF!"}},{"$f":"Main!AF119","v":{"$error":"#REF!"}},{"$f":"Main!AG119","v":{"$error":"#REF!"}},{"$f":"Main!AH119","v":{"$error":"#REF!"}},{"$f":"Main!AI119","v":{"$error":"#REF!"}},{"$f":"Main!AJ119","v":{"$error":"#REF!"}},{"$f":"Main!AK119","v":{"$error":"#REF!"}},{"$f":"Main!AL119","v":{"$error":"#REF!"}},{"$f":"Main!AM119","v":{"$error":"#REF!"}},null,"AWA"]
[20,{"$f":"Main!D120","v":{"$error":"#REF!"}},{"$f":"Main!F120","v":{"$error":"#REF!"}},{"$f":"Main!G120","v":{"$error":"#REF!"}},{"$f":"Main!H120","v":{"$error":"#REF!"}},{"$f":"Main!I120","v":{"$error":"#REF!"}},{"$f":"Main!J120","v":{"$error":"#REF!"}},{"$f":"Main!K120","v":{"$error":"#REF!"}},{"$f":"Main!L120","v":{"$error":"#REF!"}},{"$f":"Main!M120","v":{"$error":"#REF!"}},{"$f":"Main!N120","v":{"$error":"#REF!"}},{"$f":"Main!O120","v":{"$error":"#REF!"}},{"$f":"Main!Q120","v":{"$error":"#REF!"}},"SPEED"]
[null,{"$f":"Main!E120","v":{"$error":"#REF!"}},{"$f":"Main!S120","v":{"$error":"#REF!"}},{"$f":"Main!T120","v":{"$error":"#REF!"}},{"$f":"Main!U120","v":{"$error":"#REF!"}},{"$f":"Main!V120","v":{"$error":"#REF!"}},{"$f":"Main!W120","v":{"$error":"#REF!"}},{"$f":"Main!X120","v":{"$error":"#REF!"}},{"$f":"Main!Y120","v":{"$error":"#REF!"}},{"$f":"Main!Z120","v":{"$error":"#REF!"}},{"$f":"Main!AA120","v":{"$error":"#REF!"}},{"$f":"Main!AB120","v":{"$error":"#REF!"}},{"$f":"Main!O120","v":{"$error":"#REF!"}},"AWS"]
[null,null,{"$f":"Main!AD120","v":{"$error":"#REF!"}},{"$f":"Main!AE120","v":{"$error":"#REF!"}},{"$f":"Main!AF120","v":{"$error":"#REF!"}},{"$f":"Main!AG120","v":{"$error":"#REF!"}},{"$f":"Main!AH120","v":{"$error":"#REF!"}},{"$f":"Main!AI120","v":{"$error":"#REF!"}},{"$f":"Main!AJ120","v":{"$error":"#REF!"}},{"$f":"Main!AK120","v":{"$error":"#REF!"}},{"$f":"Main!AL120","v":{"$error":"#REF!"}},{"$f":"Main!AM120","v":{"$error":"#REF!"}},null,"AWA"]
["Snelheden in knopen",null,null,"UA=Up Angle, VMG=resulterende snelheid recht tegen de wind (bijUA), V@UA=snelheid bij optimale opkruishoek"]
["Hoeken in graden",null,null,"DA=Down Angle, VMG=resulterende snelheid recht voor de wind (bijDA), V@DA=snelheid bij afkruis opkruishoek"]

{"sheet":"ORC","index":4,"n_rows":9010,"n_cols":180,"rows_kept":562,"cut":true,"hidden":false,"merged":[],"bounds":{"rows_first":250,"rows_last":62,"rows_between":250,"halvings":3}}
[null,null,null,null,"NAME","TYPE","BUILDER",null,null,null,"OWNER","C_Type","D","CREW","DD-MM-yyYY","LOA","IMSL","DRAFT","BMAX","DSPL","INDEX","DA","GPH","TMF","ILCGA","PLT-O","PLD-O","WL6","WL8","WL10","WL12","WL14","WL16","WL20","OL6","OL8","OL10","OL12","OL14","OL16","OL20","CR6","CR8","CR10","CR12","CR14","CR16","CR20","NSP6","NSP8","NSP10","NSP12","NSP14","NSP16","NSP20","OC6","OC8","OC10","OC12","OC14","OC16","OC20","UA6","UA8","UA10","UA12","UA14","UA16","UA20","DA6","DA8","DA10","DA12","DA14","DA16","DA20","UP6","UP8","UP10","UP12","UP14","UP16","UP20","R526","R528","R5210","R5212","R5214","R5216","R5220","R606","R608","R6010","R6012","R6014","R6016","R6020","R756","R758","R7510","R7512","R7514","R7516","R7520","R906","R908","R9010","R9012","R9014","R9016","R9020","R1106","R1108","R11010","R11012","R11014","R11016","R11020","R1206","R1208","R12010","R12012","R12014","R12016","R12020","R1356","R1358","R13510","R13512","R13514","R13516","R13520","R1506","R1508","R15010","R15012","R15014","R15016","R15020","D6","D8","D10","D12","D14","D16","D20","OTNLOW","OTNMED","OTNHIG","ITNLOW","ITNMED","ITNHIG","DH_TOD","DH_TOT","PLT-I","PLD-I","TMF-OF","PLT2H","PLD2H","OSN","ReferenceNo","CDL","DSPS","WSS","MAIN","GENOA","SYM","ASYM"]
[null,null,null,null,null,"Jeaneau Poker"]
[]
[]
[]
[null,"NATCERTN,","FILE_ID","SAILNUMB","NAME","TYPE","BUILDER","DESIGNER","YEAR","CLUB","OWNER","C_Type","D","CREW","DD-MM-yyYY","LOA","IMSL","DRAFT","BMAX","DSPL","INDEX","DA","GPH","TMF","ILCGA","PLT-O","PLD-O","WL6","WL8","WL10","WL12","WL14","WL16","WL20","OL6","OL8","OL10","OL12","OL14","OL16","OL20","CR6","CR8","CR10","CR12","CR14","CR16","CR20","NSP6","NSP8","NSP10","NSP12","NSP14","NSP16","NSP20","OC6","OC8","OC10","OC12","OC14","OC16","OC20","UA6","UA8","UA10","UA12","UA14","UA16","UA20","DA6","DA8","DA10","DA12","DA14","DA16","DA20","UP6","UP8","UP10","UP12","UP14","UP16","UP20","R526","R528","R5210","R5212","R5214","R5216","R5220","R606","R608","R6010","R6012","R6014","R6016","R6020","R756","R758","R7510","R7512","R7514","R7516","R7520","R906","R908","R9010","R9012","R9014","R9016","R9020","R1106","R1108","R11010","R11012","R11014","R11016","R11020","R1206","R1208","R12010","R12012","R12014","R12016","R12020","R1356","R1358","R13510","R13512","R13514","R13516","R13520","R1506","R1508","R15010","R15012","R15014","R15016","R15020","D6","D8","D10","D12","D14","D16","D20","OTNLOW","OTNMED","OTNHIG","ITNLOW","ITNMED","ITNHIG","DH_TOD","DH_TOT","PLT-I","PLD-I","TMF-OF","PLT2H","PLD2H","OSN","ReferenceNo","CDL","DSPS","WSS","MAIN","GENOA","SYM","ASYM","OTDLOW","OTDMED","OTDHIG","ITDLOW","ITDMED","ITDHIG","NS_TOD","NS_TOT","GNSTOD","GNSTOT","GDHTOD","GDHTOT"]
[null,"ARG454507","2ARG4545","ARG-4545","ALTO RIESGO","FAYD 30","AST, FAYD","MARTIN BILLOCH",1996,null,null,"CLUB","C",170,"02 01 2018 19:31:20",9.35,8.7959999999999994,1.73,3.28,3250,111.3,0.16,654,0.94699999999999995,712.8,0,0,1052.7,853.9,748.6,692.6,657.1,635.1,609.29999999999995,1002.2,819.4,728.1,682.8,656.3,637,612.9,893,724,634.9,584,552.9,532.4,505.5,943.5,759.7,661.4,604.79999999999995,570.29999999999995,547.70000000000005,519,1051.2,803.3,676.4,606.20000000000005,566.29999999999995,532.9,479.1,42.6,40.9,40.200000000000003,39.4,39.200000000000003,39,39.9,145.4,150.30000000000001,152.80000000000001,160.1,180,180,180,1067.8,886.7,802.5,773.4,762.1,753.2,754.9,704,595.9,551.6,537.79999999999995,532,529.4,522.79999999999995,669.1,572.6,535.70000000000005,521.79999999999995,515.9,512.9,505.1,643.79999999999995,557,523.5,504.9,492.8,486.2,481.4,651.4,553,515.9,498.9,480,463.4,446.3,659.4,552.5,511.4,482.6,456.2,439.5,417.6,681.7,566.1,518.20000000000005,487.5,458,431.6,395.9,757.5,618.5,544.4,509.4,480,450.4,392.9,898.6,711.1,603.79999999999995,541,508.8,481.2,426.8,1037.7,821.1,694.8,611.79999999999995,552.20000000000005,517,463.6,0.91190000000000004,1.1605000000000001,1.2907,0.70799999999999996,0.94289999999999996,1.0699000000000001,0,0,0,0,0.94169999999999998,0,0,637.20000000000005,"ARG00006555",8.1259999999999994,3994,21.4,34.1,23.2,59.5,49.8,740.2,581.6,523,953.4,715.9,630.9,662.9,0.9052,682.2,0.87949999999999995,0,0]
[null,"ARG540001","ARG5400O","ARG-5400","B 612","K 37","MARTINOLI MARINE","JUAN YACHT DESIGN",2010,null,null,"CLUB","C",745,"02 01 2018 19:31:26",11.3,10.582000000000001,2.5,3.7,5187,117.9,0,555.79999999999995,1.1055999999999999,610.5,0,0,899.6,723.1,632.20000000000005,593.9,573.1,549.1,510,857.7,692.2,615,579.29999999999995,555.9,532.79999999999995,506.4,759.4,615.20000000000005,539.6,496.4,469.3,449.9,420.1,824.4,661.6,574.1,522.9,490.8,469.2,440.8,896.6,680.2,572.20000000000005,515.79999999999995,484,453.1,401.7,43.3,42.5,40,38.9,38.5,37.9,38.6,143.19999999999999,146.1,148.5,151.69999999999999,149,146.30000000000001,139.19999999999999,930,754.4,680.4,660,648.70000000000005,634.70000000000005,637.20000000000005,606.9,502.2,473.2,465.5,461.8,455.4,451.8,573.20000000000005,486.5,459.9,452.1,447.9,442.4,435,548.5,477.7,447.9,432.2,424.3,419.7,403.9,554.1,475.9,448.8,421.9,401.6,391.6,382.4,550,465.3,433.3,414.1,395.4,380.2,345.1,563.20000000000005,471.7,432.3,400.1,379.9,362,325.39999999999998,633.70000000000005,504.5,454.8,419.9,384.2,346,286.60000000000002,752.8,599.1,505.7,457.5,430.7,401.5,331.5,869.3,691.8,583.9,527.79999999999995,497.4,463.6,382.8,1.0749,1.3638999999999999,1.5270999999999999,0.83189999999999997,1.1025,1.2490000000000001,0,0,0,0,1.1086,0,0,541.20000000000005,"ARG00006556",10.409000000000001,6131,31.9,58.9,44,0,165.9,628,494.9,442,811.4,612.20000000000005,540.4,577.4,1.0391999999999999,592.29999999999995,1.0129999999999999,0,0]
[null,"ARG467502","ARG4675","ARG-4675","GARRAS","FAYD 30","AST, FAYD","MARTIN BILLOCH",1996,null,null,"CLUB","C",483,"02 01 2018 19:31:54",9.35,8.7509999999999994,1.63,3.27,3274,109.3,0.01,648.29999999999995,0.95879999999999999,704,0,0,1051.5,852.7,739.8,680.4,644.20000000000005,624.79999999999995,599.5,999.7,815.3,718.3,669.4,642.6,625.5,600.1,889.1,719.5,629.20000000000005,577.1,545.1,523.9,496.1,932.4,750.2,652.29999999999995,595.5,560.70000000000005,537.79999999999995,507.8,1050.8,802.5,669.9,597.4,557.5,525.29999999999995,470.2,42.8,41.5,40.200000000000003,38.9,38.5,39.1,39.9,145.69999999999999,150.30000000000001,152.69999999999999,160.1,180,180,180,1059.0999999999999,880.3,782.6,747.7,734.8,731.1,733,696.9,589.20000000000005,543.29999999999995,526.70000000000005,520.5,517.79999999999995,516.1,661.9,567.29999999999995,530.29999999999995,513.20000000000005,505.6,501.7,500.6,637.20000000000005,553.6,520.70000000000005,499.7,483.2,473.8,467,644.5,555.79999999999995,516.9,494.1,474.9,455.7,433.5,665.3,555.20000000000005,512.6,481.6,453,430.7,405.6,687.4,568.79999999999995,519.9,489,458.5,430.4,381.7,763.3,621.4,546.1,511,482.1,452.9,395.4,904.2,714.5,605.5,542.29999999999995,510.3,483.2,429.9,1044,825.1,696.9,613.20000000000005,553.6,518.5,466.1,0.9133,1.1731,1.3127,0.70889999999999997,0.95679999999999998,1.0884,0,0,0,0,0.95140000000000002,0,0,630.6,"ARG00006561",8.3650000000000002,4012,20.9,32,28.7,60,0,739.1,575.4,514.20000000000005,952.2,705.5,620.20000000000005,653.29999999999995,0.91839999999999999,672.8,0.89180000000000004,0,0]
[null,"ARG235701","HELENE","ARG-2357","HELENE","F&C 44","AST, F&C","GERMAN FRERS",1988,null,null,"CLUB","C",600,"02 01 2018 19:32:00",13.18,10.334,2.0830000000000002,3.83,11299,115.1,0.62,643.5,0.96209999999999996,701.6,0,0,1043.2,855.8,749.6,681.8,641.20000000000005,614,589.70000000000005,1001.9,824.4,726.7,670.7,639,619,598.1,886.2,715.8,624.29999999999995,571.1,538.79999999999995,518.29999999999995,495,946.1,758.6,656.2,595.5,557.79999999999995,533.5,504.9,1038.8,804.1,671.9,590.79999999999995,548.1,516.70000000000005,470.3,42.9,41.1,41.4,42.5,41.9,41.7,41.3,146.1,150.9,151.5,154.5,169,180,180,1086.5,912.1,816.4,765.3,740.8,728.6,721.1,714.4,609.70000000000005,542.6,512.70000000000005,500.7,494.8,490.3,679,579,520.1,496,484,478.4,474,653.4,555.70000000000005,504.9,483.6,470.8,461.3,452.8,660.2,556.5,499.8,479.8,467.6,456,437.3,662.2,546.1,491.4,468.2,452.3,440.9,427.3,678.2,559.9,497,470.5,451.9,435.2,412.7,739.7,608.79999999999995,524.9,485.6,464.2,446,412.4,865.8,692.5,591.79999999999995,523.20000000000005,486.4,466.2,432.3,999.8,799.6,682.7,598.29999999999995,541.5,499.4,458.2,0.91210000000000002,1.1854,1.3270999999999999,0.71089999999999998,0.95240000000000002,1.1034999999999999,0,0,0,0,0.95909999999999995,0,0,625.6,"ARG00006562",8.9740000000000002,12271,36.4,42.3,53.7,127,113,740.1,569.4,508.6,949.5,708.7,611.70000000000005,657.1,0.91310000000000002,677.1,0.8861,0,0]
[null,"ARG534901","ARG5349","ARG-5349","VENTARRON","PLENAMAR 350","PLENAMAR","N, VOLKER",1998,null,null,"CLUB","C",690,"02 01 2018 19:33:18",10.71,9.8219999999999992,2.1989999999999998,3.5,4337,115.7,0,611,1.0237000000000001,659.4,0,0,992.3,803.1,694.7,637.4,603.29999999999995,581.9,554.1,941.6,765.3,672.3,624.79999999999995,597.79999999999995,579,550.4,840.1,678.9,592.9,543,512,491,463,889.2,713.8,619,563.6,529.20000000000005,506.3,476.5,992.2,756.5,630.29999999999995,561,522.9,492,442.2,42.1,40.799999999999997,39.299999999999997,37.700000000000003,36.9,36.6,36.799999999999997,144.9,149.1,150.6,157.1,174.9,180,180,994.2,822.4,728.2,692.3,677,669.8,664,658.7,554.9,512.4,496.6,489.9,486.4,484.9,627.1,536,501.5,485.2,476.8,472,468.7,605.4,524.6,493.5,473.8,457.7,447.2,438.1,612.79999999999995,526.5,493,471.2,449.9,431.6,407.7,637.29999999999995,527.20000000000005,485.3,457,432,415.8,391.2,654.79999999999995,538.6,491.4,461.6,431.4,405.1,369.5,722.8,584.9,514,481.5,453.5,424.4,366.5,857.8,678.8,573,512.1,482.2,456.4,403.7,990.5,783.8,661.3,582.4,529.5,494,444.1,0.96640000000000004,1.2456,1.4013,0.75190000000000001,1.02,1.1702999999999999,0,0,0,0,1.0125,0,0,592.6,"ARG00006576",9.5640000000000001,5211,24.7,35.6,37.200000000000003,84,0,698.5,541.9,481.7,897.7,661.8,576.79999999999995,619.6,0.96840000000000004,638.70000000000005,0.93940000000000001,0,0]
[null,"ARG533301","ARG5623","ARG-5623","ATILA","CORUM 280 CR","Ast, CORUM","PGYD",2007,null,null,"CLUB","C",500,"18 01 2018 12:34:08",8.7509999999999994,8.1859999999999999,1.649,3.15,3175,118,0.2,676.6,0.9254,729.4,0,0,1107.5,900,777.3,702.3,660.4,638.6,610.20000000000005,1063.4000000000001,866.7,757.7,695.3,661,640.6,612.1,934.2,753.5,656.3,599.6,564.5,541.29999999999995,510.8,995.1,796.5,688.4,624.79999999999995,585.6,560,528.5,1101.8,844.4,701.9,618.29999999999995,575.1,543,487.6,43.1,41.9,41.6,39.700000000000003,38.9,38.5,38.6,146.4,150.6,152.4,161.30000000000001,180,180,180,1164.0999999999999,965.3,848.5,781.7,756.4,745.6,738,762.2,640,576.4,550,537.6,532.5,529.70000000000005,721.5,609.4,559.9,537.4,524,517,512.5,690.7,588.9,548.29999999999995,526.1,508.7,494.5,480.7,684,573.4,532.29999999999995,509.2,494.5,483.9,454.3,681.4,570.20000000000005,528.4,499.8,473.2,451,424.3,703.2,582.20000000000005,534.6,505.7,476.8,450.3,407.1,774.6,630.70000000000005,557.20000000000005,524.29999999999995,497.1,469.5,417.6,910,722.8,613.6,553.20000000000005,523.5,498.1,448.3,1050.8,834.7,706.1,622.9,564.4,531.5,482.3,0.86699999999999999,1.1275999999999999,1.2722,0.67249999999999999,0.92049999999999998,1.0657000000000001,0,0,0,0,0.91459999999999997,0,0,656,"ARG00006450",7.742,3840,19.2,27.6,21.8,59.4,53.5,778.5,598.6,530.6,1003.7,733.3,633.4,686.4,0.87409999999999999,710.7,0.84419999999999995,0,0]
[null,"ARG388802","ARG3888","ARG-3888","AZZAM","PANDORA 34","AST, MARCO","NESTOR VOLKER",1992,null,null,"CLUB","C",589,"18 01 2018 12:34:12",10.43,8.7720000000000002,1.76,3.54,4689,111.1,0.13,658.2,0.94879999999999998,711.4,0,0,1062.7,867.4,752.2,687.5,649.1,627.29999999999995,608.4,1015.2,831,730.2,676.8,648,630.5,613.9,903.1,730.5,638.6,585.9,554.1,534,510.3,950.4,764,663.5,605.20000000000005,569.79999999999995,547.29999999999995,520.5,1060.9000000000001,815.8,680.4,604.29999999999995,564.6,534.20000000000005,486.2,42.6,41.7,41.3,40.1,39,39.200000000000003,40.200000000000003,146.6,150.6,152,157.9,180,180,180,1080.4000000000001,905.2,801.4,756.4,738.8,731.5,737.8,712.7,602.6,550.1,530.79999999999995,523.1,519.29999999999995,518,677.7,577,536.4,518.9,509.5,504.9,502.1,653,561.5,526.9,507.8,494,483.5,473.8,660.1,563.5,525.79999999999995,504.3,488.1,472.7,450.2,685.8,565.70000000000005,518.79999999999995,493,470.8,452.3,433.5,704.7,578.70000000000005,524.79999999999995,497.4,472.7,450.4,416.6,773.3,629.4,549,514,490,466.2,422.9,905,718.5,610,544.6,513.6,491.2,448,1045.0999999999999,829.7,703,618.6,559.4,523.1,478.9,0.89800000000000002,1.157,1.2873000000000001,0.69940000000000002,0.94479999999999997,1.0789,0,0,0,0,0.93799999999999994,0,0,639.70000000000005,"ARG00006451",8.2840000000000007,5430,23.7,27.2,39.700000000000003,76.099999999999994,0,751.7,583.4,524.4,965.1,714.4,625.6,664.5,0.90300000000000002,684.6,0.87639999999999996,0,0]
[null,"ARG486701","ARG4867","ARG-4867","AZZURRO","MYSTIC 290","OCEANTECH","OCEANTECH",2002,null,null,"CLUB","C",462,"18 01 2018 12:34:18",8.5500000000000007,8.2070000000000007,1.78,3,3052,121.1,0.2,676.6,0.92959999999999998,726.1,0,0,1092.5999999999999,889.8,768.6,698.6,660.1,640.5,611.4,1046.0999999999999,854.2,748.6,690.8,660.3,642,611.9,929.7,751.5,656.4,601.6,568,545.79999999999995,516.20000000000005,990,794,688,626.1,588.1,563.20000000000005,531.1,1088.9000000000001,836.9,697.2,618.9,579.20000000000005,548,495.3,41.8,40.4,39.799999999999997,37.799999999999997,37.1,36.9,36.700000000000003,146.6,150.9,152.5,162,180,180,180,1130.4000000000001,940,826.1,769.5,750.9,743.9,734.5,752.1,633,575.6,553,543.20000000000005,539.1,535.1,716.7,607.29999999999995,562,541.70000000000005,529.9,524.5,521.5,690.3,590.70000000000005,552.4,531.1,514.79999999999995,501.9,490.7,692.6,579.6,539.70000000000005,521.1,509.3,490.4,462.1,685.7,574.1,533.70000000000005,505.9,480.2,462.7,441.1,706.4,586.1,539.9,511.5,482.9,456.7,419.7,777.2,635.29999999999995,562.79999999999995,530.4,503.7,475.6,422,913.6,727.1,618.29999999999995,558.70000000000005,529.5,504.5,453.5,1054.9000000000001,839.7,711.2,627.79999999999995,569.4,537.20000000000005,488.3,0.87239999999999995,1.1257999999999999,1.2601,0.68100000000000005,0.92689999999999995,1.0638000000000001,0,0,0,0,0.91510000000000002,0,0,655.7,"ARG00006452",7.8689999999999998,3736,18.600000000000001,26.8,20.5,56.4,0,773.7,599.6,535.70000000000005,991.2,728.2,634.5,685.6,0.87519999999999998,710.1,0.84499999999999997,0,0]
[null,"ARG460009","ARG4600","ARG-4600","BIZARRO","PETERSON 42","NEW ORLEANS MARINE","D, PETERSON",1980,null,null,"CLUB","C",500,"18 01 2018 12:34:32",12.75,10.426,1.919,4.05,8648,117.6,0.18,620.4,0.99819999999999998,676.2,0,0,1001.7,821.7,717.9,656.7,619.5,594.6,571.29999999999995,959.7,789,696.5,646,617.20000000000005,598.4,577.70000000000005,850.9,688.5,602,552.4,522.29999999999995,503.1,480.3,905.9,727.6,631,574.4,539.5,517,489.8,998.7,771.6,645.29999999999995,571.29999999999995,532.29999999999995,502.4,457.8,43.3,42,42.5,42,41.4,41,40.9,145.6,150.30000000000001,150.9,155.1,170.1,180,180,1031.4000000000001,867,776.5,733.9,713.1,702.6,696.9,676.7,573,518.29999999999995,497.6,489.6,485.2,481.9,642.29999999999995,544.4,500.8,483.8,475.7,471.2,467.3,617.5,525.9,488.7,472.2,461.2,453.1,444.2,623.6,528.70000000000005,487.4,468.3,454.8,443.1,424.6,640.79999999999995,526.4,479.5,458.1,441.8,432.1,416.2,656.4,538.9,484.1,459.6,439.9,421.7,400.4,718.9,587.29999999999995,508.4,473.9,452.5,432.2,395.5,841.8,672.3,571.29999999999995,506,474.6,454.4,416.8,972,776.4,659.4,579.5,525.79999999999995,486.6,445.6,0.95289999999999997,1.2269000000000001,1.3658999999999999,0.74039999999999995,0.99039999999999995,1.1400999999999999,0,0,0,0,0.99309999999999998,0,0,604.20000000000005,"ARG00006455",9.3529999999999998,9659,34,41.4,54.9,121.5,0,708.4,550.20000000000005,494.2,911.7,681.5,592.1,633.6,0.94689999999999996,651,0.92169999999999996,0,0]
[null,"ARG377306","ARG3773","ARG-3773","CALIFA 3","FARR 44","AST, DEL ESTUARIO","BRUCE FARR",1991,null,null,"INTL","R",815,"18 01 2018 12:34:42",13.51,11.382999999999999,2.4129999999999998,4.1399999999999997,6950,121.6,0,545.1,1.1306,597,0,0,880.3,713.7,628,582,554.6,530.9,504,834.5,680.2,606.5,569.9,546.6,526.4,502.3,743.8,603.4,529.29999999999995,486.8,460.1,441.8,416.7,789.5,636,553.70000000000005,505.5,475.3,454.8,427.7,880.3,671.3,566.70000000000005,506.4,472.2,442.4,397,42.9,41.4,39.9,39.4,39.1,38.5,38.9,142.1,145.9,149,155.6,167.9,180,180,879.9,725.7,664.9,642.1,631.70000000000005,618.9,614.79999999999995,576.1,486.2,458.5,449.6,445.1,441.1,434,544.6,468.7,445.5,436.1,430.7,427.5,417.3,521.5,457.7,433.4,417.4,408.2,402.4,394.1,528,459.6,432.1,410.7,393.1,380.8,369.3,557,463.1,427.6,401.6,385.8,372.1,348.8,575.1,472.4,432.7,403.1,376.6,357.2,331.4,640.5,515.20000000000005,454.7,424.8,396.5,369.5,315.2,762.6,607.6,511.9,457.1,428,401.6,351.8,880.6,701.6,591.1,521.9,477.4,443,393.1,1.0966,1.3895999999999999,1.5558000000000001,0.84699999999999998,1.1223000000000001,1.2815000000000001,0,0,0,0,1.1286,0,0,531.6,"ARG00006457",11.1,8024,34.9,72.2,49.1,132.19999999999999,0,615.5,485.8,433.9,796.9,601.4,526.70000000000005,557.6,1.0761000000000001,570.79999999999995,1.0511999999999999,0,0]
[null,"ARG210101","ARG2101","ARG-2101","CROSSBOW 2","D'ANGELO 30 R","AST, D'ANGELO","GERMAN FRERS",1981,null,null,"CLUB","C",568,"18 01 2018 12:34:58",9.0500000000000007,7.6379999999999999,1.7769999999999999,3.19,3190,108.3,0.14000000000000001,690,0.91180000000000005,740.3,0,0,1117.4000000000001,912.4,789.9,713.1,670,648.5,627,1064.7,873.2,765.2,703.5,670.5,651.79999999999995,632.79999999999995,949.6,767.4,669.6,612.6,577.70000000000005,555.1,527.5,989.6,795.8,690.9,629.4,591.4,567,538.1,1116.7,858.7,715.4,630.4,587.4,556.20000000000005,504.8,41.6,40.9,40.4,38.4,37.700000000000003,37.4,38.200000000000003,147.80000000000001,152.5,154.6,167,180,180,180,1123.7,944.5,835.9,776.3,754.7,746.2,750.9,750.5,635.4,580.9,557.4,545.29999999999995,539.9,537.4,716.8,611.20000000000005,567.9,546.29999999999995,532.4,523.70000000000005,518.20000000000005,692.6,595.9,558.79999999999995,537,518.4,503.3,487.8,700.6,591.79999999999995,547.70000000000005,521.9,501.6,490.6,467.4,709.9,592.4,547.9,519.9,492.9,469.7,438.6,736.5,609.1,555.9,527.9,501.8,477.1,435.4,818.8,670.8,584.6,547.5,521.6,496.2,451.2,962.2,763.4,648.1,578.20000000000005,545.5,521.1,474.8,1111.0999999999999,880.3,744,649.9,585.4,550.70000000000005,503.1,0.85309999999999997,1.1041000000000001,1.2398,0.66510000000000002,0.90659999999999996,1.0451999999999999,0,0,0,0,0.89690000000000003,0,0,668.9,"ARG00006460",7.5190000000000001,3787,18.100000000000001,27.5,22.7,46.2,0,791.2,611.4,544.4,1014.9,744.5,645.79999999999995,688.6,0.87129999999999996,712.6,0.84199999999999997,0,0]
[null,"ARG572001","ARG5720","ARG-5720","CUIQUE SUUM VI","32DUE","AST, PIERMARINE","S, CARLINI",2015,null,null,"INTL","C",597,"18 01 2018 12:35:02",9.7620000000000005,9.2620000000000005,1.6739999999999999,3.29,4414,115.4,0.16,642.29999999999995,0.96519999999999995,699.4,0,0,1046.5999999999999,850.8,736.6,673.7,639.1,620.5,594.5,1003.1,818.1,718.5,666.3,639.4,623.29999999999995,596.70000000000005,883.1,713.4,623,571.20000000000005,540,519.70000000000005,493.2,942.9,755.7,654.5,595.70000000000005,560,537.1,508.7,1041.5999999999999,798.2,664.2,589.9,551,520.29999999999995,468.6,43.4,42.1,41.5,40.799999999999997,40.299999999999997,40.299999999999997,41.4,145.6,149.9,151.5,158.5,180,180,180,1097.4000000000001,910.1,803.6,756.3,741.6,738.2,732.7,716.1,601.9,542.9,520.20000000000005,512.5,509.6,505.8,676.9,572.4,525.70000000000005,506.2,497.2,493.6,491.1,647.4,552.5,513.9,493.9,479.7,470,463.9,653.29999999999995,545.9,505.3,489.6,473.6,456.8,432.9,645.6,537.20000000000005,496.6,470.9,448,434.4,413.2,662.7,548,502.1,474.6,448.1,423.7,392.5,728.8,594.1,524.6,492.9,467.5,441.2,390.7,862.5,685.5,581,521.79999999999995,493,469.3,421.6,995.9,791.5,669.7,591.1,536.5,502.8,456.4,0.91830000000000001,1.1872,1.3226,0.71150000000000002,0.96319999999999995,1.0969,0,0,0,0,0.96060000000000001,0,0,624.6,"ARG00006461",8.5299999999999994,5211,23.3,34.200000000000003,27.9,78.5,0,735.1,568.6,510.4,948.7,700.8,615.4,655.29999999999995,0.91559999999999997,675.7,0.88800000000000001,0,0]
[null,"ARG390901","ARG3909","A-3909","DIVA","BORA BORA 42","AST, BORA BORA","NESTOR VOLKER",1993,null,null,"CLUB","C",825,"18 01 2018 12:35:08",12.81,10.535,2.403,4.12,7341,116.4,0.03,592.4,1.0555000000000001,639.5,0,0,962.8,782.2,677.1,619,584.6,561,539,913.8,744.5,653,605,578,559.79999999999995,540.9,815.6,658.6,574.70000000000005,526.29999999999995,496.7,477.4,454.2,862.7,692.4,600.1,546,512.6,491,465,963.2,736.5,612.5,543.1,506.2,477.5,434.3,41.9,40.9,39.9,38.700000000000003,37.9,37.5,37.9,145.1,149.1,150.19999999999999,154.9,167.8,180,180,957.9,796.7,706.1,668.7,651.1,642.5,642.4,636.20000000000005,535.20000000000005,492,475.3,467.9,463.8,461,606,515.6,480.8,465.1,455.9,450.8,446.5,585.5,504,472.8,455.5,442.1,431.8,421.9,593.70000000000005,506.9,472.6,453.2,436.9,422.6,402.3,629.4,515.20000000000005,468.9,444.8,424.4,410,392.9,645.4,527.20000000000005,474.6,448.2,424.8,404.4,376.3,710.4,574.9,498.7,464.7,441.5,418.6,377.6,838,664.9,561.29999999999995,498.7,465.9,444.2,403.1,967.6,767.8,648.1,569.29999999999995,518.20000000000005,479.5,435.6,0.99409999999999998,1.2864,1.4406000000000001,0.77359999999999995,1.0490999999999999,1.2082999999999999,0,0,0,0,1.0434000000000001,0,0,575.1,"ARG00006462",10.254,8327,32,40.299999999999997,58.6,118.3,0,679,524.70000000000005,468.6,872.5,643.4,558.6,601.4,0.99760000000000004,619.20000000000005,0.96899999999999997,0,0]
[null,"ARG466402","arg4664","ARG-4664","DON IGNAZIO","MARTINOLI 31","AST, MARTINOLI","E, MARTINOLI",2001,null,null,"INTL","C",545,"18 01 2018 12:35:12",9.77,9.1449999999999996,1.879,3.13,3158,127.3,0,623.1,0.99519999999999997,678.2,0,0,1004.2,812.7,709.3,657.4,625.70000000000005,606,576.6,954,777.3,690,647.6,622.5,603.6,573.5,851.2,690.1,605,556,525.6,504.7,475.4,900.7,725,631.1,576.70000000000005,543,520.20000000000005,489.1,1003.1,765.2,643.20000000000005,577.20000000000005,538.70000000000005,505.5,451.4,42.4,41.2,39.700000000000003,38.700000000000003,38.4,38.1,39.1,144.6,148.9,151.6,159.5,180,180,180,1015.3,839.2,756.1,729.2,719.2,712.3,709.5,669.5,564.4,527.5,515.20000000000005,509.8,507.4,500.8,635.70000000000005,545.20000000000005,514.79999999999995,500.8,494.2,490.7,482.5,611,533.29999999999995,503.9,484.2,469,460.4,453.3,617.79999999999995,534.1,501,478.6,455.5,436.8,415.8,630.6,529.79999999999995,491.9,460.5,435.9,420,394.4,650.29999999999995,540.29999999999995,498.5,464.8,431.8,402.4,369.3,721.8,584.70000000000005,521.4,489.2,457,424.2,357.5,860,680.8,575,519.4,489.4,459.6,399.3,993.1,786.2,662.6,585.6,532.1,499.7,443.7,0.95699999999999996,1.2173,1.3624000000000001,0.74299999999999999,0.99309999999999998,1.1252,0,0,0,0,0.98970000000000002,0,0,606.29999999999995,"ARG00006463",8.766,3942,20.6,36.9,24,64.8,0,705.3,554.5,495.4,908.5,679.7,599.9,632.5,0.9486,650.9,0.92179999999999995,0,0]
[null,"ARG525301","ARG5253","ARG-5253","ESTELA","LOTZ 270","ASTILLERO LOTZ","N, VOLKER",1997,null,null,"CLUB","C",464,"18 01 2018 12:35:16",8.23,7.8250000000000002,1.5780000000000001,2.82,2216,107.2,0.19,682.9,0.9123,739.9,0,0,1107.9000000000001,900.1,779.2,710.7,675.9,658.9,632.20000000000005,1061.5,866.1,760.7,704.2,675.7,659.6,631.70000000000005,938.4,758.7,662.7,607.20000000000005,573.20000000000005,550.70000000000005,520.9,998,800.9,694.5,632.6,594.9,570.5,539.6,1103.3,845.7,705.7,626.29999999999995,585.70000000000005,551.70000000000005,492.5,42.6,41.5,40.6,38.799999999999997,38.4,38.700000000000003,40.4,146.5,150.80000000000001,153.19999999999999,164,180,180,180,1154.9000000000001,957.9,845.2,791.6,779.6,779.1,782.9,760.3,640,583,559.79999999999995,552.20000000000005,549.70000000000005,546.79999999999995,721.2,613.20000000000005,567.9,546,535.29999999999995,531.5,528.9,691.9,595.20000000000005,556.9,532.5,512.5,500,494.1,690.8,581.9,540.9,519.4,504.5,482.3,455.3,684.8,577.1,535.1,500,469.7,449.9,422.9,705.9,588.9,542.4,508.1,474,442,394.8,779.4,636.79999999999995,566.5,531.70000000000005,498.8,466.7,399.9,918.9,729.3,621,562.29999999999995,530.4,499.9,440.9,1061,842.3,713.2,629.79999999999995,572.1,538.79999999999995,481.5,0.86460000000000004,1.115,1.2490000000000001,0.67230000000000001,0.91139999999999999,1.0335000000000001,0,0,0,0,0.90559999999999996,0,0,662.5,"ARG00006464",7.4710000000000001,2827,17,23.9,18.2,49.9,0,780.7,605.4,540.4,1004,740.6,653.1,692.7,0.86619999999999997,716.7,0.83720000000000006,0,0]
[null,"ARG26601","FALUA","URU-266","FALUA","DUFOUR 34","CANTIERI DEL PARDO","UMBERTO FELCI",2003,null,null,"CLUB","C",662,"18 01 2018 12:35:24",10.3,9.4339999999999993,1.9219999999999999,3.48,5300,119.4,0.33,665,0.94159999999999999,716.8,0,0,1116,898.9,774.8,691.3,642.4,616,594.29999999999995,1069.5,865.5,750.6,680.3,640.70000000000005,619.4,598.5,930.7,745.3,644.29999999999995,584.70000000000005,547.9,524.4,497,993.5,789.8,677.3,610.20000000000005,568.5,542,512,1110.5,842.8,694.8,602.20000000000005,555,523.29999999999995,473.4,43.4,41.7,41.6,40.6,39.4,39,40,146.30000000000001,150.4,152.4,156.5,174,180,180,1171.0999999999999,962.3,844.4,765.4,729,717.2,718,764.1,638.79999999999995,564.1,527.79999999999995,511.7,505.3,502.6,722.4,606.9,542.6,514,499.5,491.2,486.9,691.8,582.70000000000005,528.20000000000005,503.7,487.6,475.1,460.3,686.5,566.1,511.4,487.4,471.1,463,441,683.1,560.79999999999995,508,481.9,459.5,439.2,410.5,704.4,576.6,515.20000000000005,487.2,464.4,441.5,402.3,779.3,631.9,545.4,505.1,481.5,459.1,415.5,918.8,723.5,611.79999999999995,540.29999999999995,504.8,482.5,440.6,1060.9000000000001,835.4,705.2,617.20000000000005,555.79999999999995,514.79999999999995,470.6,0.86609999999999998,1.1546000000000001,1.3150999999999999,0.67,0.93210000000000004,1.0985,0,0,0,0,0.93369999999999997,0,0,642.6,"ARG00006465",8.5229999999999997,6128,26,33.4,26.1,70.599999999999994,57.8,779.4,584.6,513.29999999999995,1007.5,724.2,614.5,674.1,0.89,700,0.85709999999999997,0,0]
[null,"ARG440005","arg4400","ARG-4400","GAUCHO","SOTO 40","AST, OCEANTECH","JAVIER SOTO",1998,null,null,"INTL","R",820,"18 01 2018 12:35:36",12.54,11.51,2.673,3.91,5798,132.19999999999999,0,542.9,1.1403000000000001,591.9,0,0,884.3,713.9,620,573.29999999999995,545.6,526.20000000000005,493.2,838.3,679,599.70000000000005,560.29999999999995,536.5,518.4,483.6,745.2,602.79999999999995,527.1,483,455,435.2,405.8,802.2,643.20000000000005,557.1,506.3,474.1,451.8,420.3,883.6,671.7,561.9,501.3,466.4,437.2,387.9,42.3,41.1,38.9,37.799999999999997,37.299999999999997,37,36.5,142,145.4,149.1,155.9,168.9,180,180,890.8,728.7,651.5,624.6,612.29999999999995,606.6,592.9,587,490.3,458.2,446.7,441,437.7,428.7,555.79999999999995,473.6,447.3,434,426.6,422,412,532.5,463.4,437.6,418.2,402.9,394.3,387,541,464.3,439.1,415.9,393.9,376.1,355.6,548.29999999999995,461,427.5,399.9,383.4,367.5,341.8,567.5,469.6,433.4,401.8,372.1,351.4,322.5,636.20000000000005,511.5,455.6,426.1,395.1,364.3,302.60000000000002,760.1,605.4,509.7,458,429.8,401.5,344.8,877.7,699.1,588.6,522,479,445.7,393.6,1.0922000000000001,1.3987000000000001,1.5815999999999999,0.84470000000000001,1.137,1.3012999999999999,0,0,0,0,1.1366000000000001,0,0,527.9,"ARG00006467",11.471,6901,31.1,59.9,39.799999999999997,123.5,122,618,482.6,426.8,799.1,593.70000000000005,518.70000000000005,559.4,1.0725,574.70000000000005,1.044,0,0]
[null,"ARG202","GauchoS33","ARG-002","GAUCHO","S 33",null,"JAVIER SOTO ACEBAL",2011,null,null,"INTL","R",656,"18 01 2018 12:35:42",10.16,9.9990000000000006,2.1640000000000001,3.13,2354,123.3,0,542.9,1.1314,596.6,0,0,870.6,700,628.79999999999995,592.29999999999995,560.29999999999995,527.6,480.9,830.3,676.5,609.6,573.1,544.1,519,494,740.7,602,528,483.7,453.7,430.9,396,818.2,657.6,570.29999999999995,517.79999999999995,483.4,458.7,424.2,867.8,660.6,567.70000000000005,510.5,470.2,432.4,373.1,43.2,40.9,38.6,38.299999999999997,37.700000000000003,37.299999999999997,38.200000000000003,142.80000000000001,145.1,151.69999999999999,150.1,146.6,144.80000000000001,144,898.4,735.2,684.5,666.3,655.1,643.20000000000005,647,587.29999999999995,502.3,480.7,471.5,466.3,457.8,451.3,554.20000000000005,487.9,463.8,451.4,443.9,436.5,423.8,533,477.9,441.6,418.3,406.4,399.3,380.7,539.1,479.6,440.2,401.8,376.6,363.4,349,534,464.8,427.6,399.9,374.4,353.1,303.39999999999998,547.79999999999995,468.5,417.4,384.9,360.1,336.4,295.5,612.79999999999995,495.7,444.6,392.9,345.3,309.8,268.8,729.9,575.79999999999995,494.3,448,403.2,356.7,272.60000000000002,842.8,664.8,573,518.29999999999995,465.6,411.9,314.7,1.1027,1.3879999999999999,1.6008,0.85950000000000004,1.1149,1.3025,0,0,0,0,1.1353,0,0,528.5,"ARG00006468",10.021000000000001,3234,21.5,41.6,26.1,0,122.8,612.1,486.3,421.7,785.3,605.4,518.20000000000005,573.5,1.0462,587.70000000000005,1.0208999999999999,0,0]
[null,"ARG474101","ARG4741","ARG-4741","GHOST","FM 980","AST, FMA","R, ROVERE",1995,null,null,"CLUB","C",598,"18 01 2018 12:35:46",9.7799999999999994,8.282,1.413,3.27,4102,111.7,7.0000000000000007E-2,677.1,0.92010000000000003,733.6,0,0,1079.7,887,770.9,708.3,671.8,653.1,633.20000000000005,1036.9000000000001,853.2,753.3,701.1,673.4,657,639,923.4,749.4,657.3,604.9,573.70000000000005,554.1,531,979.6,789.1,686.9,628,592.5,570.1,543.4,1075.5999999999999,834,698.2,624.29999999999995,584.70000000000005,554.1,505.8,42.9,42,41.9,40.799999999999997,39.9,39.700000000000003,40.200000000000003,147.1,150.9,151.69999999999999,160.69999999999999,180,180,180,1120.9000000000001,943.8,837,792.6,776.6,771.4,778.5,738,626,571.9,552.29999999999995,545.6,542.9,543.70000000000005,701.6,598.79999999999995,557.5,539.4,531.20000000000005,527.4,526.29999999999995,675.9,582.70000000000005,547.70000000000005,527.70000000000005,513.5,504.2,497.7,682.5,584.4,541.9,524.70000000000005,507.4,490.8,469.3,689.5,574.6,532.5,506,484,469.6,452.2,706.3,584.9,537.70000000000005,509.5,482.5,460,432.7,770.3,630.29999999999995,558.29999999999995,526.29999999999995,500.3,474.2,428.1,899.4,719,612.20000000000005,554.29999999999995,525.70000000000005,501.6,454.9,1038.5,830.2,704.9,623.9,567.1,534.79999999999995,488,0.87929999999999997,1.1218999999999999,1.2391000000000001,0.68640000000000001,0.91839999999999999,1.0379,0,0,0,0,0.91020000000000001,0,0,659.2,"ARG00006469",7.69,4804,21.3,24.2,35.700000000000003,77.8,0,767.7,601.70000000000005,544.79999999999995,983.4,735,650.4,688.1,0.872,708.6,0.84670000000000001,0,0]
[null,"ARG411105","ARG4111o","ARG-4111","GREEN PEPPER","PANDORA 31","AST, MARCO","GERMAN FRERS",1994,"PCIA, BUENOS AIRES",null,"CLUB","C",475,"18 01 2018 12:35:52",9.57,8.8130000000000006,1.9239999999999999,3.29,3772,120.3,0.17,647.70000000000005,0.9677,697.6,0,0,1047.3,851.9,737.9,673,635.4,615.4,585.4,997.8,814.9,716.3,663.5,634.79999999999995,616.79999999999995,585.9,888.5,718.9,628.6,576.5,544.5,523.20000000000005,494.1,943.6,757.1,656.2,597.5,561.4,537.9,507.4,1045.4000000000001,801.3,668.6,594.4,556,525.70000000000005,474.3,41.5,40.200000000000003,39.4,37.799999999999997,37.1,37.299999999999997,37,145.5,150.6,152.4,160.6,180,180,180,1066.4000000000001,886.6,785,738.1,721.2,714.1,701.1,711.6,599.1,548.79999999999995,529.20000000000005,520.5,516.4,511.2,678.5,576.5,535.79999999999995,517.9,507.4,502.1,499.1,654.4,562,526.5,507,492.1,480.1,468.5,650.5,549.4,514.70000000000005,497.2,485.8,468.4,441.9,653.29999999999995,548.5,510.3,484.3,459.8,442.5,421.4,676.2,561.79999999999995,517.20000000000005,490.2,463.6,438.8,401.3,751.1,613.5,541.6,509.6,484.4,458.1,407.7,890.5,707.6,600,538.70000000000005,509.2,485.4,437.1,1028.3,817.3,690.8,607.9,549.6,516.6,469.7,0.91379999999999995,1.1747000000000001,1.3145,0.71079999999999999,0.96409999999999996,1.1081000000000001,0,0,0,0,0.95399999999999996,0,0,628.9,"ARG00006470",8.4990000000000006,4527,20.399999999999999,34.5,19.5,60.1,0,738.7,574.6,513.5,949.6,700.1,609.20000000000005,656.1,0.91449999999999998,677.3,0.88590000000000002,0,0]
[null,"ARG1202","ARG012","ARG-012","GUASON","MATCH 30","AST, SPEED CRAFT","GERMAN FRERS",1993,null,null,"INTL","R",510,"18 01 2018 12:35:56",9.1199999999999992,8.093,1.722,3.11,2149,109.4,0.02,627.79999999999995,0.97960000000000003,689.1,0,0,1015,822.5,714.1,667.4,638.9,618.5,578.70000000000005,971.1,789.3,696.3,650.1,623.4,603.4,562.9,858.6,696.1,609.70000000000005,559.5,527.5,504.6,469,933.8,748.3,647.9,589,551.9,526.70000000000005,491.7,1010.6,773.3,647.6,581.29999999999995,541.5,506.5,445,42.5,41.3,39.4,37.799999999999997,37.200000000000003,37.299999999999997,37.5,144,147.6,149.4,151.69999999999999,175.9,177.6,140.4,1058.5999999999999,871.3,768.6,730.3,717.2,712.9,707.3,698,585.70000000000005,541.70000000000005,523.9,516.1,512,504.2,662.5,565.6,529.4,509.2,497.5,491.3,483.7,636.5,553.1,519.9,492.4,471.3,458.5,448.7,618.29999999999995,533.79999999999995,502,484.1,462.1,438.7,410.7,612.20000000000005,528.70000000000005,485.9,450.9,427.6,410,378.2,631.20000000000005,537,494.5,453.4,416.6,387.1,348.8,710.4,574.70000000000005,520,481.6,444.1,406.1,321.89999999999998,841.3,670.1,571.29999999999995,525.1,495.7,467,389.8,971.4,773.7,659.6,604.5,560.6,524.1,450.1,0.94689999999999996,1.2081999999999999,1.3634999999999999,0.73470000000000002,0.98,1.1089,0,0,0,0,0.98260000000000003,0,0,610.6,"ARG00006471",8.2270000000000003,2766,16.7,30.2,17.100000000000001,0,72.8,712.9,558.70000000000005,495,918.7,688.8,608.70000000000005,646.9,0.92749999999999999,668.6,0.89739999999999998,0,0]
[null,"ARG259501","ARG2595","ARG-2595","INDIA","PLENAMAR 36","AST, PLENAMAR","GERMAN FRERS",1987,null,null,"CLUB","C",600,"18 01 2018 12:36:06",10.78,8.7829999999999995,1.974,3.47,6182,114.1,0.32,667.1,0.9385,719.3,0,0,1074.8,884.3,768.6,695.7,653.6,628.29999999999995,605.70000000000005,1029.8,848.2,744.5,684.7,651.70000000000005,631.79999999999995,612,917.9,741.9,647.29999999999995,592.29999999999995,558.79999999999995,537.5,512.6,970.1,779.2,675.3,614.1,576.20000000000005,551.9,523,1072.0999999999999,831.8,693.4,610.20000000000005,568.5,537.5,490.5,42,40.6,41.4,40.4,39.5,39,39.299999999999997,147.1,151.19999999999999,151.30000000000001,156.69999999999999,180,180,180,1101.4000000000001,930.2,824.4,765.9,741.6,729.8,726.8,733.4,623.5,560.20000000000005,535,523.1,517.70000000000005,514.4,700.6,595,544.20000000000005,523.1,510.9,504,498.9,677.1,576.4,533.70000000000005,513.1,499.1,487.7,474.2,684.2,580.1,530.70000000000005,507.6,495.1,481.2,458.5,696.6,573.79999999999995,521.9,496.9,476.9,460.4,445.1,713.8,587,527.79999999999995,500.5,478.3,458.4,429.2,777.5,638.5,553.1,516.29999999999995,493.3,472.1,434.1,907.7,726.1,618.1,548.6,516.20000000000005,494.9,456.3,1048.2,838.3,712.9,625.6,565.6,526.9,484.6,0.88100000000000001,1.1427,1.28,0.68910000000000005,0.93079999999999996,1.0780000000000001,0,0,0,0,0.92669999999999997,0,0,647.4,"ARG00006473",8.1929999999999996,6948,25.2,26.9,44.3,88.7,0,766.2,590.70000000000005,527.29999999999995,979.5,725.2,626.20000000000005,675,0.88880000000000003,696.7,0.86119999999999997,0,0]
[null,"ARG11001","ARG110o","ARG-110","JABEQUE Reloaded","G 28","ARTESANAL - HOOD","PGAN",2006,null,null,"CLUB","S",440,"18 01 2018 12:36:10",8.61,7.6349999999999998,1.871,2.2000000000000002,1891,129.9,7.0000000000000007E-2,647,0.96340000000000003,700.7,0,0,1050.5999999999999,844,729,677.9,646.5,624.29999999999995,593.6,998.5,807,710.9,666.7,641.20000000000005,620.1,587.9,888,717.9,627.79999999999995,576.1,544,522.20000000000005,491.5,945,758.2,658,600,564.20000000000005,540.1,507.7,1048.8,795,663.2,596.79999999999995,557.1,522.9,469.1,42.1,41.1,38.4,37.299999999999997,37.1,36.700000000000003,37.299999999999997,145.1,148.9,152.19999999999999,161.19999999999999,180,180,180,1068.0999999999999,872.9,772.2,748,740,730.1,729.8,706.4,590.9,549.5,538.79999999999995,534.4,531.1,524.29999999999995,670.8,572.5,537.20000000000005,523.70000000000005,518.1,515.5,504.7,644.9,560.9,527.29999999999995,502.8,490.6,484.5,474.6,653.1,555.20000000000005,522.29999999999995,497.9,471.3,453.5,441.2,655.29999999999995,552,509.6,474.2,453.9,435.5,410,676.8,562.70000000000005,517.9,478.6,442,414.6,381.2,752.8,607.5,543.4,506.6,470.6,435.7,356.5,894.7,705.8,596,540.79999999999995,506.6,473.5,406.8,1033.0999999999999,815,685.9,607.9,553.1,518.5,457.3,0.91600000000000004,1.1756,1.3169,0.71260000000000001,0.96299999999999997,1.0916999999999999,0,0,0,0,0.9556,0,0,627.9,"ARG00006474",7.8029999999999999,2446,15.8,25,18.2,49.1,0,736.9,574.20000000000005,512.6,947.2,700.9,618.29999999999995,657.9,0.91200000000000003,679.1,0.88349999999999995,0,0]
[null,"ARG358008","ARG3580","ARG-3580","LLANERO","ROY 38","AST, NAUTIVELA","GERMAN FRERS",1990,"PCIA, BUENOS AIRES",null,"CLUB","C",660,"18 01 2018 12:36:30",11.58,9.6069999999999993,1.804,3.75,6942,115.6,0.1,624,0.99460000000000004,678.7,0,0,994.3,819.5,716.3,658.8,623.20000000000005,600.9,580.6,952.2,785.7,696.2,648.9,622.20000000000005,604.6,586.4,849,690,606,558.1,529.20000000000005,510.8,488.9,891.9,720.7,628.9,575.79999999999995,543.4,522.6,497.4,992.1,770.1,646.70000000000005,577.1,540,510.9,466.1,43.1,42.6,42.1,40.799999999999997,40.299999999999997,39.9,40,146,150.4,151.30000000000001,156.9,174.8,180,180,1016.6,859.2,769.7,731.7,714.1,704.7,704.2,667.4,567.1,521.5,505.5,498.8,495.5,493.9,632.9,542.5,507.6,493.2,486.2,482.2,479.4,606.79999999999995,527.20000000000005,497.6,482.2,470.9,462.9,455.3,611.29999999999995,527.6,495.6,478,463.9,451.3,431.9,644.4,533.70000000000005,491.2,469.3,450.7,436.8,420.3,659.3,544.5,496,471.8,450.6,430.8,404,720.1,589.6,517.1,486.3,464.9,443.7,404.9,841.9,675.2,574.79999999999995,514.70000000000005,486.6,466.6,427.8,972.1,779.8,662.9,585.79999999999995,532.29999999999995,497.1,457,0.95720000000000005,1.2151000000000001,1.3441000000000001,0.74429999999999996,0.98909999999999998,1.1272,0,0,0,0,0.98550000000000004,0,0,608.79999999999995,"ARG00006478",8.968,7825,27.4,37,54.3,106.5,0,705.2,555.5,502.2,906.9,682.4,598.79999999999995,632.5,0.9486,648.20000000000005,0.92559999999999998,0,0]
[null,"ARG555501","URU5555","URU-5555","PROMETEO","IRC 305","AST, ROSENDO","PGYD",2012,null,null,"INTL","R",570,"18 01 2018 12:37:06",9.3119999999999994,8.907,1.996,3.11,3911,132.19999999999999,0.12,639.9,0.98380000000000001,686.1,0,0,1038.8,844.8,728.3,661,622.79999999999995,601.5,572.6,995.3,810.6,709.2,652.6,621.1,601.1,570.9,881.8,711.9,620.9,567.9,535.1,513,483,948,758.6,655.5,594.79999999999995,557,532,499.7,1034.2,794.1,660.2,585,545.79999999999995,514.6,463.9,42.1,40.6,40.1,38,37.200000000000003,36.799999999999997,36.299999999999997,145.69999999999999,149.80000000000001,151.5,159.4,180,180,180,1084.3,897.7,786.5,728,704.9,694,683,718.6,602.6,545.79999999999995,522.70000000000005,510.7,505.2,501.4,683.7,577.4,532.79999999999995,512.4,499.3,491.5,485.7,657.8,561.29999999999995,523.9,503.3,487,472.9,456.2,658.3,549.6,511.7,495.5,483,465,433.6,648.29999999999995,541.79999999999995,503.5,477.6,453.6,439.5,416.2,665.1,551.5,508.7,481.1,453.4,427.7,394.9,729.6,593.1,529.1,499.1,473.1,446,392.1,860.1,685.9,581.5,526.5,499.1,475.1,425.7,993.2,792,670,594,540.79999999999995,509,462.2,0.9194,1.1909000000000001,1.3419000000000001,0.7167,0.97940000000000005,1.1325000000000001,0,0,0,0,0.96819999999999995,0,0,619.70000000000005,"ARG00006484",8.6609999999999996,4670,21.3,31.8,23.1,73.599999999999994,0,734.2,566.79999999999995,503,941.8,689.2,596,653.4,0.91820000000000002,676.7,0.88670000000000004,0,0]
[null,"ARG211902","ARG2119","ARG-2119","PURA CEPA","MIURA 31","CESPEDES Y PEONA","ROBERTO ROVERE",1973,null,null,"CLUB","C",514,"18 01 2018 12:37:12",9.1,7.4240000000000004,1.732,2.61,3328,123.6,0.11,687.3,0.91069999999999995,741.2,0,0,1070,884.5,774.1,718,683.7,665.4,640.9,1026.5,849.3,756.9,711.1,685.9,669.5,647.1,927.6,756.9,667.7,617.70000000000005,588,569.1,545.70000000000005,975.6,790.8,692.9,637.20000000000005,603.70000000000005,582.4,555.4,1067.8,834.1,705.2,637.6,600.1,570.5,524.1,41.3,40.9,39.799999999999997,38.799999999999997,38.4,38.200000000000003,38.200000000000003,147.9,151.5,153.1,166.5,180,180,180,1091.5,923.9,829.9,798.5,785.8,779.3,776.9,732.6,624,583.20000000000005,568.70000000000005,563,560.4,559.20000000000005,699.6,604.6,571.4,556.29999999999995,549.4,545.9,544.20000000000005,676.2,593,562.4,544.29999999999995,531.29999999999995,523.79999999999995,517.70000000000005,683.9,593.9,558.79999999999995,540.6,522.79999999999995,508,490,700.1,589.5,550.4,524.6,503.6,492.2,475.4,719.2,599.79999999999995,555.9,528,502.1,480.8,457.7,784.2,643.29999999999995,576,545.1,519.20000000000005,493.8,451.6,908,732,625.79999999999995,571.6,543.9,519.79999999999995,474.7,1048.5,845.2,718.3,637.6,581.5,551.4,504.9,0.87829999999999997,1.0996999999999999,1.2048000000000001,0.69069999999999998,0.90969999999999995,1.0215000000000001,0,0,0,0,0.89559999999999995,0,0,670,"ARG00006485",7.2089999999999996,3911,17.100000000000001,22.6,30.8,62.1,0,768.5,613.79999999999995,560.29999999999995,977.3,742,660.8,694.2,0.86439999999999995,714,0.84030000000000005,0,0]
[null,"ARG460701","ARG4607","ARG-4607","SAN GREGORIO","SOTO 45","E, ANZOLA","J, SOTO A,",2001,null,null,"INTL","R",910,"18 01 2018 12:37:16",13.698,12.081,2.7229999999999999,3.93,6808,137.1,0,527.70000000000005,1.1652,579.29999999999995,0,0,857.6,692.9,609.70000000000005,565,538.79999999999995,514.5,486.8,811.5,659.4,588,552.29999999999995,528.70000000000005,507,481.7,721.7,584.79999999999995,512.4,470.5,443.8,424.9,397.6,766.3,616.79999999999995,536.4,489,458.9,438.1,410.3,858.2,651.6,549.70000000000005,490.3,456.5,426.7,379.7,43.8,41.6,39.799999999999997,39.299999999999997,39,38.200000000000003,38.6,142.30000000000001,141.6,147.19999999999999,154.6,164.2,180,180,851.7,700.2,644.1,622.6,612.20000000000005,596.79999999999995,593.29999999999995,556,468.4,444.7,436.2,431.7,426.3,419.9,523.5,451.6,431.2,422.5,417.2,413.8,402.4,499.1,440.3,417.3,402,392.9,387.1,375.8,505.8,442.6,416,393,375.4,364.2,352.1,542.79999999999995,449.3,414.4,389.5,372.7,358.3,323.60000000000002,561.79999999999995,458,419.2,387.7,360.8,343.8,312.8,627.4,500.3,440.9,410.2,379.7,350.3,289.60000000000002,747.8,593.79999999999995,498.3,443.6,414.8,386.6,331.1,863.5,685.7,575.4,507.4,465.5,432.2,380.2,1.1306,1.4356,1.6189,0.87070000000000003,1.1556999999999999,1.3230999999999999,0,0,0,0,1.1656,0,0,514.70000000000005,"ARG00006486",11.792,7973,35.4,76.099999999999994,48.1,135.4,0,597,470.2,416.9,775.2,584.1,510.2,540.79999999999995,1.1094999999999999,552.9,1.0851999999999999,0,0]
[null,"ARG308202","TERAPIA","ARG-3082","TERAPIA","HOLLAND 34","AST, DEL ESTUARIO","RON HOLLAND",1980,null,null,"CLUB","C",620,"18 01 2018 12:37:36",10.26,8.36,1.7549999999999999,3.38,4858,108.4,0.32,679.5,0.92059999999999997,733.2,0,0,1098.9000000000001,901.3,783.3,708,665.9,642,621,1053.2,865.9,760,698.5,665.4,646.1,627.79999999999995,934.9,755.6,659.3,603.4,569.4,547.9,522.79999999999995,985.8,791.8,686.4,624.5,586.5,562.29999999999995,533.9,1095.5999999999999,847.2,706.4,621.4,579.5,548,499,42.6,41.6,41.9,40.4,39.700000000000003,39.4,39.9,147.19999999999999,151.1,151.80000000000001,157.80000000000001,180,180,180,1131.9000000000001,953.3,845.9,783,759.5,748.9,749.8,747.2,634.70000000000005,571.79999999999995,545.79999999999995,534.20000000000005,529.20000000000005,526.70000000000005,710.9,604.70000000000005,555,533.29999999999995,521.1,514.70000000000005,510.4,684.7,584.9,543.6,522.6,507.9,496.3,483.7,691.2,587.5,538.9,515.4,503.2,488.7,465,705.2,582,531.5,505.3,483.9,465.4,445.9,723.1,595,537.29999999999995,509.7,486.6,464.9,431.5,789,646.4,561.79999999999995,525.70000000000005,502.2,480.2,439.9,923.1,735.7,625.29999999999995,557,525.20000000000005,503.4,463.3,1065.9000000000001,849.4,720.7,633.1,572.4,535.1,492.3,0.86550000000000005,1.1220000000000001,1.2555000000000001,0.67490000000000006,0.91379999999999995,1.0545,0,0,0,0,0.90980000000000005,0,0,659.5,"ARG00006490",7.8170000000000002,5558,22.5,23.7,37.4,74.5,0,779.9,601.6,537.6,1000.1,738.7,640.1,686,0.87460000000000004,708.1,0.84730000000000005,0,0]
[null,"ARG416603","ARG4166o","ARG-4166","TOO MATCH","MATCH 42","AST, SPEEDCRAFT","GERMAN FRERS",1995,null,null,"CLUB","C",830,"18 01 2018 12:37:46",12.64,11.455,2.19,3.56,5750,129.9,0,555.29999999999995,1.1149,605.4,0,0,914.2,736.5,637.5,585.4,555.70000000000005,534.6,502.1,867.4,699.8,615.6,572.70000000000005,546.79999999999995,527.70000000000005,493.2,766.5,618,538.70000000000005,492.6,463.5,443.2,414.2,819,655.5,566.9,514.6,481.5,458.8,427.8,913.6,692.2,575.70000000000005,510.9,474.8,444.5,396.5,43.9,42.2,40.299999999999997,39.1,38.200000000000003,37.9,37.200000000000003,141.19999999999999,146.19999999999999,147.4,154.80000000000001,163.80000000000001,180,180,920.7,750.1,672.8,641.70000000000005,625.70000000000005,618.20000000000005,604,600.9,498.7,464.2,452.7,446.6,442.9,436.1,566.5,479.8,452.2,440.2,433.1,428.6,422,541.79999999999995,468.6,442.2,424.2,411,402.8,394.6,549.29999999999995,470.5,441.4,419.4,399,382.4,364.1,579.6,474.7,436.7,409.5,389.7,374.4,349.6,597.5,484.6,441.3,411,382.4,358.3,330.1,662.3,527.70000000000005,461.6,430.8,400.7,370.6,310,786.1,626,521.6,462.8,433.8,406.6,351.8,907.8,722.9,602.29999999999995,529.20000000000005,485.8,451.1,400.2,1.0601,1.3718999999999999,1.5536000000000001,0.81779999999999997,1.1103000000000001,1.2790999999999999,0,0,0,0,1.1119000000000001,0,0,539.6,"ARG00006492",11.143000000000001,6832,30.2,48.8,48.4,121.4,109.7,636.70000000000005,492,434.5,825.4,607.9,527.70000000000005,569.6,1.0532999999999999,585,1.0256000000000001,0,0]
[null,"ARG401","FRA04","FRA-004","XE","S 33",null,"JAVIER SOTO ACEBAL",2011,null,null,"INTL","R",652,"18 01 2018 12:37:58",10.16,9.9649999999999999,2.161,3.13,2317,123.4,0,541.70000000000005,1.1329,595.79999999999995,0,0,867.6,698.5,628.70000000000005,592,559.29999999999995,526.79999999999995,480.8,827.3,675.1,609.20000000000005,572.70000000000005,543.5,518.79999999999995,493.8,738.3,600.5,526.9,482.8,452.9,430.3,395.5,814.5,655.20000000000005,568.6,516.6,482.5,458.2,424.8,865,659.2,567.29999999999995,510.1,469.4,431.6,372.3,43.7,40.9,38.6,38.299999999999997,37.700000000000003,37.4,38.700000000000003,142.69999999999999,145.19999999999999,151.69999999999999,150,146.4,144.6,144.30000000000001,893.7,733.3,685.1,667.3,655.20000000000005,644.20000000000005,649.79999999999995,583.6,501.2,480.7,471.6,466.5,457.2,451.2,550.70000000000005,486.7,463.5,451.2,443.8,435.4,423.5,530,476.1,439.7,417.7,406.1,399.2,379.9,535.6,477.8,437.3,399.4,375.7,363,348.7,532.9,464.1,427.1,398.8,373.4,351.3,301.60000000000002,546.6,467.6,416.2,384.1,359.3,335.6,293.89999999999998,611.6,494.9,443.2,391,343.5,308.8,265.8,728.8,574.79999999999995,493.6,447.6,401.3,354.6,270,841.5,663.7,572.4,516.79999999999995,463.4,409.5,311.8,1.1063000000000001,1.3903000000000001,1.6032999999999999,0.86199999999999999,1.1157999999999999,1.3039000000000001,0,0,0,0,1.1369,0,0,527.70000000000005,"ARG00006494",9.9909999999999997,3191,21.4,42,26.6,0,123.4,610.1,485.5,421,783.1,604.9,517.70000000000005,572.1,1.0488,585.9,1.0241,0,0]
[null,"ARG567601","ARG5676","ARG-5676","ZAFIRO","CORUM 280 CR","Ast, CORUM","PGYD",2007,null,null,"CLUB","C",517,"18 01 2018 12:38:04",8.7509999999999994,8.3089999999999993,1.667,3.15,3454,117,0.24,686.8,0.91359999999999997,738.8,0,0,1128.5,917,793.5,712.6,664.6,641.4,616.4,1085.5999999999999,885.2,773.3,705.6,666.4,644.6,619,951.4,766.2,666.1,607.4,571,547.29999999999995,517.4,1019.8,814.4,701.8,634.79999999999995,593,566,534.29999999999995,1121.5999999999999,859.9,715,626.5,580.4,547.9,493.9,43.2,41.6,41.5,40.299999999999997,39,38.6,39.1,146.69999999999999,151,152.5,160.69999999999999,180,180,180,1197.5999999999999,992.1,873.9,797.2,760.9,747.9,744.7,785,660,588.6,556.6,541.29999999999995,534.1,530.20000000000005,743.8,627.5,569.4,543.70000000000005,528.9,519.29999999999995,513.20000000000005,713.1,604.1,556.4,533.29999999999995,515.9,501.3,483.2,700.1,582.4,537.5,515.4,504.3,493.4,462.8,689.8,574.5,531.6,504.2,478.7,457.8,436.8,709.7,586.9,537.6,509.9,482.9,457.5,416.8,780.5,637.9,561.29999999999995,527.9,502.3,476,426.9,917.4,729.2,619.70000000000005,556.9,527,503.2,455.2,1059.3,842,713.1,628.1,568.4,534.9,488,0.85040000000000004,1.1122000000000001,1.2592000000000001,0.66,0.90649999999999997,1.0583,0,0,0,0,0.90200000000000002,0,0,665.2,"ARG00006495",7.6639999999999997,4138,19.8,26.6,20.2,60.6,0,793.7,606.9,536.1,1022.7,744.6,637.79999999999995,698.5,0.85899999999999999,724.6,0.82799999999999996,0,0]
[null,"ARG314902","SOL3","ARG-3149","DOLPHIN III","F&C 37","AST, F & C","G, FRERS",1988,null,null,"CLUB","C",380,"23 01 2018 17:08:48",11.11,8.9570000000000007,1.4610000000000001,3.67,7267,109.7,0.67,735.3,0.83620000000000005,807.2,0,0,1244.0999999999999,1002.2,872.4,784.8,727.8,693.6,667.7,1205.8,977.5,853.1,777.1,730.9,704,680.9,1031.5,825.3,712.3,645.4,604,577.79999999999995,549.29999999999995,1098.7,873.1,748,672.6,625.20000000000005,594.79999999999995,560.70000000000005,1231.7,936.5,775.3,670,612.20000000000005,571.79999999999995,513.20000000000005,46.3,44.7,44.3,45.2,46.1,46,46.4,147.30000000000001,151.19999999999999,153.5,155.30000000000001,173,180,180,1367.9,1122.5,997.3,916.5,870.7,849.3,843.4,868.1,725.2,643.6,587.5,559.5,548.20000000000005,542.6,807.2,681.4,601.4,555.29999999999995,534,523.20000000000005,517,763.3,645.70000000000005,569.9,533.70000000000005,515.6,503.4,488.9,762.1,627.20000000000005,549.70000000000005,518.6,507.9,495.1,472,739.4,607.4,536.1,506.4,486.3,469.7,453.7,758.4,622.20000000000005,543.4,510,488.2,468.7,437.9,830.4,675.7,578.20000000000005,528,502.5,481.9,443.8,970.2,764.2,649.29999999999995,569.5,526.9,503.4,465.2,1120.3,881.9,747.6,653.1,584.9,537.79999999999995,492,0.78039999999999998,1.0448,1.1943999999999999,0.60099999999999998,0.82530000000000003,0.97489999999999999,0,0,0,0,0.84260000000000002,0,0,712.1,"ARG00006499",7.133,8046,27.5,32,33.9,82,0,864.9,646.1,565.1,1123.0999999999999,817.9,692.4,745.9,0.8044,772.9,0.77629999999999999,0,0]
[null,"ARG544801","2ARG5448","ARG-5448","PERICLES II","PANDORA 31","AST, MARCO","GERMAN FRERS",1994,null,null,"CLUB","C",170,"08 02 2018 20:01:22",9.58,8.8930000000000007,1.6459999999999999,3.29,4233,120.1,0.14000000000000001,661.5,0.93289999999999995,723.5,0,0,1051.9000000000001,863.2,758.1,704.5,672,645.5,621.20000000000005,1007.9,829.2,737.5,690.1,662.6,642.79999999999995,620.6,898,730.2,642.29999999999995,592.79999999999995,563.29999999999995,544.29999999999995,520.5,961.1,773.5,672.8,614.5,579.1,556.6,529.5,1048.3,811,684.1,614,575.5,543.70000000000005,495.9,42.3,40.9,41,40.299999999999997,39.5,39.200000000000003,39,145.4,148.1,147.69999999999999,150.1,175.2,177.6,178.4,1087.8,912.3,823.9,780.9,761.2,751.9,747.4,719.3,611.79999999999995,560.70000000000005,540.6,532.70000000000005,528.70000000000005,527,684.3,585.1,544.20000000000005,526.79999999999995,518.4,514,511.1,658.7,567.20000000000005,532.1,514.70000000000005,502.5,493.7,485.6,658.5,558.20000000000005,523.29999999999995,509.9,494.8,481.2,459.2,651.29999999999995,548.9,513,490.6,474.4,462.7,443.3,672.3,559.5,517.29999999999995,492.6,468.9,447.2,423.7,748.5,609.4,538,508.1,484.2,459.5,414,879.9,705.1,599.6,544.20000000000005,518.4,500.2,460.8,1016.1,814.1,692.4,628.20000000000005,582.9,539.1,494.9,0.90700000000000003,1.1454,1.2603,0.70489999999999997,0.92779999999999996,1.0497000000000001,0,0,0,0,0.92920000000000003,0,0,645.70000000000005,"ARG00006603",8.1029999999999998,5008,21,31.6,26.5,0,78.7,744.2,589.29999999999995,535.6,957.6,727.5,643,673.9,0.89029999999999998,694,0.86460000000000004,0,0]
[null,"ARG365201","2ARG3652","ARG-3652","SAN SALVADOR","VICTORY 43","NAUTICA INTEGRAL","HECTOR DOMATO",1979,null,null,"CLUB","C",170,"08 02 2018 20:01:28",12.98,10.281000000000001,2.0070000000000001,4.17,10909,117.2,0.56999999999999995,648.5,0.95489999999999997,706.9,0,0,1046.7,859.4,756.3,688.2,647,619.29999999999995,595.4,1006.8,829.5,734.5,679,646.20000000000005,625.20000000000005,605,891,720.6,629.29999999999995,576.29999999999995,544.1,523.70000000000005,500.7,956,767,663.7,602.5,564.29999999999995,539.6,510.7,1041.5,807.4,678,596.6,553.1,521.29999999999995,476.3,43.3,41.4,41.7,43.1,42.7,42.3,42.2,146.30000000000001,150.80000000000001,150.6,154.69999999999999,169.7,180,180,1099,922.7,834.4,782.1,754.7,740.1,733.1,720.8,616.70000000000005,552,520.70000000000005,507.2,500.9,496.4,684.4,585.70000000000005,527.70000000000005,503,490.6,484.6,479.9,658.4,561.5,510.9,489.5,476.8,467.6,457.8,664.2,565.5,510,486.2,471.7,460.4,442.3,661.1,545.9,493.7,471,459.1,451.3,437.8,675,556.9,497.2,471.6,453.2,438.3,422.9,734.6,603.6,521.79999999999995,484.8,463.6,445.2,412.3,861.2,689.2,587.5,520.1,485.4,465.4,431,994.5,796,678.2,594.20000000000005,539.29999999999995,498.6,457.6,0.90849999999999997,1.1746000000000001,1.3131999999999999,0.70830000000000004,0.94430000000000003,1.0934999999999999,0,0,0,0,0.95169999999999999,0,0,630.5,"ARG00006604",8.7859999999999996,11913,35.799999999999997,37.700000000000003,54.4,134.6,0,743,574.70000000000005,514,953,714.8,617.29999999999995,664.7,0.90259999999999996,684.7,0.87629999999999997,0,0]
[null,"ARG340701","BWANA","ARG-3407","BWANA","HOLLAND 44","AST, DEL ESTUARIO","RON HOLLAND",1990,null,null,"CLUB","C",770,"08 02 2018 20:07:18",13.4,10.959,2.335,4.08,10962,122.6,0.24,602.29999999999995,1.0363,651.4,0,0,975.3,798.7,694.7,631.4,594.29999999999995,569,546.1,930,763.1,670.6,618.79999999999995,589.5,570.5,550.4,827.9,669.3,584.4,535.29999999999995,505.3,486,463,875.4,703.4,609.9,554.9,520.9,498.8,472.1,974.1,750.9,626.1,552.4,514.5,486.2,443.8,42.6,41.2,41.5,40.6,39.299999999999997,38.700000000000003,38.799999999999997,145.30000000000001,149.80000000000001,150.4,154.6,167.7,180,180,987,828.7,736.9,690.8,668.1,656.5,650.6,652.5,553.5,500.8,481.1,472.3,467.6,463.8,621.4,528.1,487.4,470.4,461,455.9,451.5,599.1,512.4,478.1,461.6,449.9,440.8,431,604.9,514.9,477.2,457.9,445.3,433.7,414.3,631.29999999999995,519.29999999999995,471.8,450,433.1,418.7,401.4,646.6,531.4,477,452.6,433.7,416,389.5,708.3,578.6,500.8,466.9,446.6,428,392.6,834.5,665.6,565.1,500.6,468.2,448.9,414.3,963.6,768.6,652.5,572,520.4,481.5,441.7,0.97840000000000005,1.2646999999999999,1.4152,0.76100000000000001,1.0271999999999999,1.1910000000000001,0,0,0,0,1.0247999999999999,0,0,585.5,"ARG00006605",10.151999999999999,12005,36.700000000000003,47.7,67.3,140.4,125.4,689.9,533.70000000000005,477,887,657.1,566.79999999999995,611.79999999999995,0.98070000000000002,629.20000000000005,0.9536,0,0]
[null,"ARG27602","URU276i","URU-276","LADY MARILINE","DUFOUR 40","DUFOUR","FELCI",2002,"MONTEVIDEO",null,"INTL","C",700,"20 02 2018 17:32:54",12.06,10.835000000000001,2.1619999999999999,3.89,7849,126.8,0.3,618.1,1.0065999999999999,670.6,0,0,1035.7,836.5,720.1,646.5,605.9,579.6,557.1,986.6,800.1,694.6,633.6,600.70000000000005,581,561.79999999999995,861.8,691.5,599,544.79999999999995,511.6,490.3,465.3,911.7,726.8,625.29999999999995,565.1,527.79999999999995,503.8,475.3,1033,784.5,645.4,561.70000000000005,520.4,489.7,441.9,43.4,41.9,41.7,40.799999999999997,39.9,40,40.4,145,149.6,151.1,154.5,167.3,180,180,1062.5,877.6,769.6,707.9,683.5,673.1,672.2,692.7,580.29999999999995,515.1,487.4,475.6,470.9,468,654.4,550.4,496.7,474.6,463,457.4,453.5,625.70000000000005,528.4,484.5,464,450.4,439.9,429,631,526.20000000000005,476.4,454.9,444.8,431.7,408.5,636.9,522.4,472.9,448.9,428.7,410.4,390.6,658.2,539.70000000000005,481.1,454.4,433.3,412.6,376.5,734.2,596.1,512.4,472.4,449.7,429,388.8,873.7,688.9,581,511.5,473.4,451.7,412.9,1008.8,795.4,670.7,585.20000000000005,528.4,486.1,442.1,0.93589999999999995,1.2403999999999999,1.4053,0.72109999999999996,0.99739999999999995,1.1682999999999999,0,0,0,0,1.0009999999999999,0,0,599.4,"ARG00006615",9.8670000000000009,8890,32.9,46.5,41.6,96.1,95.5,721.2,544.20000000000005,480.3,936.1,676.8,577.79999999999995,625.29999999999995,0.95950000000000002,645.9,0.92889999999999995,0,0]
[null,"ARG418503","ARG4185","ARG-4185","BIG MATCH","MATCH 42","AST, SPEEDCRAFT","GERMAN FRERS",1995,null,null,"CLUB","C",804,"23 02 2018 11:46:50",12.64,11.523,1.964,3.56,5917,126.1,0.09,565.20000000000005,1.0961000000000001,615.79999999999995,0,0,936.1,752.2,647.1,594.1,564.5,543.20000000000005,510.7,892.6,718.4,627.9,582.70000000000005,556.9,537.70000000000005,503.5,782.9,629.79999999999995,548,500.6,471,450.6,421.5,846.1,674.6,581.20000000000005,526.1,491.5,467.9,435.5,932.9,705.9,583.79999999999995,518.20000000000005,482,452.4,403.2,43.5,42.4,41.1,39.6,39.200000000000003,38.9,38.6,142.5,146.1,148.4,154.9,164.3,180,180,967.4,787,693.1,658,642.4,634.6,619.29999999999995,629.1,518.29999999999995,473.1,458.4,452,448.7,441,592.4,494.6,459.6,445.3,438.4,434.3,427.4,565.1,479.8,449.2,431.6,417.7,409.3,401.2,572.20000000000005,482.3,448.9,427.8,408.2,391.2,370.4,582.79999999999995,476.7,439,414.6,398.7,383.4,357.7,597.5,485.1,442.3,413.5,385.9,367.1,338.7,661.1,528.20000000000005,462.6,432.2,403.1,373.5,314.7,783.5,621.20000000000005,520.6,464.1,435.2,408.9,354.9,904.7,717.3,601.1,530.29999999999995,486.5,451.8,402.2,1.0361,1.3515999999999999,1.5275000000000001,0.79959999999999998,1.093,1.2585,0,0,0,0,1.0935999999999999,0,0,548.70000000000005,"ARG00006619",10.912000000000001,7010,30.8,48,40.6,121.6,0,651.5,499.4,441.9,844.2,617.6,536.4,583.6,1.0281,600.29999999999995,0.99950000000000006,0,0]
[null,"ARG566401","2ARG5664","ARG-5664","BRIBON","MALBEC 410","OCEANTECH","GERMAN FRERS",2008,null,null,"CLUB","C",170,"28 02 2018 19:01:40",11.99,11.593,1.944,3.39,9207,130.69999999999999,0.25,607.79999999999995,1.0187999999999999,662.5,0,0,992.3,806.8,706.1,644.1,606.1,580.6,551.20000000000005,947.9,775,683.6,632.5,603.1,583.79999999999995,554.9,836,675.5,589.70000000000005,540.20000000000005,509.9,490.2,465.4,892.3,714.9,618.5,561.79999999999995,526.70000000000005,503.6,474.4,988.9,757.6,633.70000000000005,559.20000000000005,519.5,490,445.4,43.8,41.5,41.4,41.5,40.799999999999997,40.299999999999997,39.700000000000003,144.1,149.4,151.6,154.69999999999999,168.5,180,180,1025.8,851.2,763.7,718.2,695.8,684.9,667.2,668.3,567.29999999999995,510.4,486.5,477.5,473,466.9,632.4,539.20000000000005,490.9,471.2,462.9,458.8,455.5,605.79999999999995,517.79999999999995,477.3,459.1,448.3,441.4,435.5,611.1,521,475.4,456.6,443.2,432.1,414.9,617.29999999999995,511.5,465.8,444.8,431.8,422.5,407.2,633.70000000000005,524.20000000000005,471,447.1,428.7,411.1,390.5,698.7,572.79999999999995,497.9,462.4,441.9,422.9,383.4,830.3,660.2,561.9,498.7,463.8,443.9,407,958.8,762.3,648.5,570,516.5,476.3,435.3,0.96950000000000003,1.2537,1.4028,0.75039999999999996,1.0092000000000001,1.1719999999999999,0,0,0,0,1.0144,0,0,591.5,"ARG00006622",10.119999999999999,10362,36.1,52.2,42.5,114.5,0,696.2,538.4,481.2,899.5,668.8,575.9,620.4,0.96709999999999996,638.4,0.93979999999999997,0,0]
[null,"ARG476101","AHOI","ARG-4761","AHOI","ROY 32","AST, NAUTIVELA","GERMAN FRERS",1983,null,null,"CLUB","C",509,"02 03 2018 17:03:02",9.6999999999999993,8.0180000000000007,1.617,3.19,4894,112.8,0.41,698.4,0.89239999999999997,756.4,0,0,1113.5999999999999,921.2,803.4,731.6,689.8,667.1,646.70000000000005,1072.2,887.3,783.2,724.3,692.1,673.1,655.5,954.9,774.3,677.9,622.5,589.1,568.1,544.1,1010.7,814,707.7,645.5,607.5,583.5,555.5,1108.9000000000001,865.7,724.8,642.20000000000005,599.70000000000005,567.70000000000005,518.5,42.5,41.5,42.3,41.4,40.799999999999997,40.4,41.1,147.80000000000001,151.9,151.69999999999999,159.4,180,180,180,1161.2,985.8,877.9,821.4,798.8,788.1,790.5,768.4,655.7,590.6,565.29999999999995,554.4,549.4,547.1,732.3,623.70000000000005,572.70000000000005,551.4,539.6,533.79999999999995,530.20000000000005,706,603,560.70000000000005,539.70000000000005,525.29999999999995,514,502.7,712.5,605.9,554.20000000000005,533.79999999999995,520.5,505.6,482.5,714.7,592.20000000000005,544.4,519.1,498.2,483.2,467.8,731.7,603.9,549.6,522.29999999999995,498.8,477.9,451,794.1,654.9,572.29999999999995,538,514.20000000000005,491.2,451.8,923.2,742.3,632.70000000000005,567.29999999999995,537.29999999999995,515.29999999999995,473.9,1066,856.5,728.9,641.70000000000005,580.79999999999995,546.1,503,0.84830000000000005,1.0888,1.2096,0.66349999999999998,0.8871,1.0147999999999999,0,0,0,0,0.88300000000000001,0,0,679.5,"ARG00006625",7.3129999999999997,5567,21.9,23.4,35.9,76.400000000000006,0,795.7,619.9,558,1017.3,760.9,665.2,708,0.84740000000000004,729.8,0.82210000000000005,0,0]
[null,"ARG563201","ARG5632o","ARG-5632","BAGUAL","MAXI 33","NOVATECNIA","S, MAZZA CAMPOS",2009,null,null,"CLUB","C",582,"02 03 2018 17:03:12",9.9700000000000006,9.1780000000000008,1.647,3.32,4116,116.9,0.19,650.5,0.9556,706.4,0,0,1078.3,871.7,751.2,679.1,641,619.5,594.1,1033.3,838.3,731.1,671.3,639.79999999999995,621.1,596.20000000000005,902.3,725.8,630.70000000000005,575.29999999999995,541.4,519.29999999999995,491.3,963,768.9,663.1,600.79999999999995,562.5,537.9,508.1,1072.3,817,675.8,593.6,552,519.4,465.7,44,42.8,42.2,40.9,40.200000000000003,40.799999999999997,41,145.6,149.6,150.69999999999999,157.6,180,180,180,1137.4000000000001,937.1,822.9,760.8,739.8,732.7,730.3,736.6,615.79999999999995,551,523.70000000000005,512.79999999999995,508.5,506.5,693.4,583.6,532.20000000000005,509.8,497.7,492.5,490.1,661.1,561.29999999999995,519.29999999999995,497.5,481.5,468.5,457.7,666,556.1,509.3,488.9,475.5,456.8,429,659.5,544.79999999999995,500.3,472.7,447.6,429.6,407.2,676.3,555.79999999999995,505.8,476.8,448.6,423.4,385.4,743.3,602.9,528.5,495.1,468.4,441.3,389.3,882.6,698.2,588.9,525.70000000000005,495.3,470.6,421.7,1019.1,806.2,679.5,597.29999999999995,542.1,506.3,458,0.89649999999999996,1.1758999999999999,1.3259000000000001,0.69230000000000003,0.95120000000000005,1.097,0,0,0,0,0.95099999999999996,0,0,630.9,"ARG00006627",8.4410000000000007,4891,23.1,31.6,28.7,77.2,0,752.9,574,509.1,975,709.6,615.29999999999995,662.9,0.9052,684.9,0.876,0,0]
[null,"ARG556002","ARG5560","ARG-5560","FAROLERO","REGGE 35","AST, REGGE","REGGE HNOS,",1975,null,null,"CLUB","C",591,"02 03 2018 17:03:22",10.7,9.2919999999999998,1.3879999999999999,3.2,6020,122.5,0.45,723.1,0.85489999999999999,789.6,0,0,1244.8,994.6,858.7,766.5,707.3,669.5,637.5,1200.5999999999999,966.1,836.3,755.7,706.5,676.7,647.4,1022.6,814.7,700.1,631.4,588.5,560.79999999999995,528.9,1072.5,850,726.2,651.4,604.29999999999995,573.70000000000005,538.20000000000005,1234.7,929.7,763,655.20000000000005,596.5,556.79999999999995,498.9,46.8,45.3,45,45.5,45.2,44.5,43.9,147.30000000000001,150.5,153.1,154.5,169.5,180,180,1345.6,1097.4000000000001,966.7,878.4,829,803.2,786.8,850.7,704.5,620.9,565.1,540.70000000000005,530.4,523.6,789.1,660.2,580.70000000000005,538.70000000000005,520,511.2,504.7,743.6,624.29999999999995,552.79999999999995,521,503.8,492.3,479.9,745.5,623.20000000000005,545.1,510.6,494.1,483.7,460.8,747.9,609.29999999999995,533.20000000000005,501.3,480.5,462,436.8,767.8,623.9,541,505.5,483.9,464.2,427.7,846,680.1,579.79999999999995,525.29999999999995,498.7,478.5,438.7,990.6,772.5,651.79999999999995,572.20000000000005,523.9,499.4,461.7,1143.9000000000001,891.9,750.6,654.70000000000005,585.6,535.79999999999995,488.3,0.78539999999999999,1.0657000000000001,1.2324999999999999,0.6028,0.84219999999999995,1.012,0,0,0,0,0.85809999999999997,0,0,699.2,"ARG00006629",7.5359999999999996,6808,28.9,28.5,36.4,64.7,0,859.4,633.4,547.70000000000005,1119.8,801.5,667,725,0.8276,750.7,0.79930000000000001,0,0]
[null,"ARG80901","2ARG809","ARG-809","CONFIANZA CIEGA","RG 650","RIOTECNA","Nicolas Goldenberg",2011,null,null,"CLUB","S",170,"03 03 2018 20:06:44",6.4820000000000002,6.4969999999999999,1.5820000000000001,2.97,1185,63.6,0.08,702,0.87019999999999997,775.7,0,0,1070.4000000000001,893.4,809.2,762.2,736.5,707.1,655.7,1029.0999999999999,868.4,795.6,757.1,730.5,701.6,668.6,930.4,768.1,684.2,636,604.6,581,543.79999999999995,1051.3,849.1,741.7,679.9,641.4,615.1,578,1066.2,841.5,732.8,667.1,627.29999999999995,586.79999999999995,515.1,43.9,40.5,38.799999999999997,38.6,40.1,40.1,41.1,147.1,151.4,156,180,180,180,141.6,1111.5,961,905.9,887.6,885.9,868.3,868.2,725.3,652.20000000000005,627.29999999999995,646.5,611.1,603.5,597.20000000000005,685.7,624.20000000000005,606.1,596.20000000000005,590,588.20000000000005,573.5,654,599.6,581.6,570.9,555.6,549.20000000000005,532.79999999999995,651.9,594.6,560,541.5,526.5,518,497.6,680.5,593.4,549.4,513.4,486.5,471.5,443.7,694.7,601.79999999999995,548.20000000000005,505.1,479.7,450.3,410.8,755.1,634,579.20000000000005,530.70000000000005,483.9,433.6,360.3,891.3,715.1,623,573.4,529.5,487.3,383.8,1029.2,825.8,712.6,636.79999999999995,587.1,546,443.2,0.88029999999999997,1.0610999999999999,1.1818,0.6875,0.86280000000000001,0.97099999999999997,0,0,0,0,0.86880000000000002,0,0,690.6,"ARG00006636",6.0789999999999997,1680,14.5,22.7,13.5,0,59.3,766.8,636.1,571.20000000000005,981.8,782.3,695.2,741.5,0.80920000000000003,764.5,0.78480000000000005,0,0]
[null,"ARG533301","ARG5665o","ARG-5665","USHUAIA","CORUM 280 CR","Ast, CORUM","PGYD",2007,null,null,"CLUB","C",512,"08 03 2018 16:02:54",8.7509999999999994,8.1669999999999998,1.649,3.15,3152,118,0.2,679.5,0.92279999999999995,731.5,0,0,1117.7,906.9,782.4,704,659.8,637.6,610.6,1073.5999999999999,873.8,762.6,697.2,660.5,639.6,612.20000000000005,940.9,757.8,659,601.1,565.29999999999995,541.6,511.4,1005.1,803.2,692.8,627.6,587,560.6,527.70000000000005,1111.3,850.5,705.9,619.79999999999995,575.5,542.5,487.4,43.2,41.9,41.7,39.700000000000003,38.9,38.5,38.4,146.5,150.6,152.1,161.1,180,180,180,1181.5999999999999,977.4,858.2,785.6,755.3,744,739.2,773.1,648,580.70000000000005,551.5,537.70000000000005,531.79999999999995,528.9,731.6,616.29999999999995,563.1,539,524.5,516.20000000000005,511.3,700.2,594.5,551,528.20000000000005,510.1,495.1,479.5,692.2,577,534.1,511.9,500.9,485.7,454.8,682.7,569.9,528.1,499.3,472.4,452,429.9,702.9,581.9,534.29999999999995,505.2,476,449.3,407.1,774.3,630.4,556.6,523.70000000000005,496.4,468.7,416.5,912.6,724.3,613.79999999999995,552.70000000000005,522.9,497.5,447.5,1053.8,836.5,706.7,622.5,564.29999999999995,531.29999999999995,482,0.86029999999999995,1.1241000000000001,1.2719,0.66679999999999995,0.91710000000000003,1.0663,0,0,0,0,0.91169999999999995,0,0,658.1,"ARG00006642",7.6970000000000001,3815,19.100000000000001,27.4,20.3,60,0,784.6,600.5,530.70000000000005,1012.3,736,633,690,0.86960000000000004,715.4,0.8387,0,0]
[null,"ARG483701","ARG4837O","ARG-4837","BADULAQUE","PND31","AST, MARCO","G, FRERS",1994,null,null,"CLUB","C",533,"08 03 2018 18:58:04",9.58,8.9169999999999998,1.6519999999999999,3.3,3954,122,0.2,665.1,0.93769999999999998,719.8,0,0,1086.8,881.7,762.4,694.8,654.5,632.79999999999995,612.6,1035.8,844.5,739.8,684.3,654.5,636.79999999999995,617.1,916,739.4,645.1,590.79999999999995,557.9,536.9,511.3,958.9,769.5,667.4,608.20000000000005,572.20000000000005,549.29999999999995,521.5,1085,828.5,688.1,609.4,568.79999999999995,537.70000000000005,485.7,43,41.7,41.5,40.1,39.200000000000003,39.1,39.299999999999997,146.5,151,152.9,158.69999999999999,180,180,180,1105,920,812.3,765.9,747.3,740.3,744.8,725.8,610.79999999999995,554.9,534.70000000000005,526.79999999999995,523,522.29999999999995,688.7,582.9,539.79999999999995,522,512.6,508.1,505.9,661.6,565.6,529.29999999999995,510.3,496.6,486.1,476.7,668.1,567.5,524.6,503.1,489.5,473.6,448.9,685.6,566,520.20000000000005,494.1,470.4,448.7,425.3,707.6,580.79999999999995,526.9,500,475.8,451.3,408,783.8,638.70000000000005,555,518.6,494.5,470.1,421.7,925.5,730.6,618.70000000000005,549.9,517.6,494.8,449,1068.5999999999999,843.5,712.4,623.79999999999995,561.79999999999995,525.29999999999995,480.3,0.88460000000000005,1.1472,1.2807999999999999,0.68579999999999997,0.93379999999999996,1.0703,0,0,0,0,0.9284,0,0,646.29999999999995,"ARG00006646",8.26,4723,20.9,29.9,28.2,56,0,763.1,588.4,527,984.3,722.9,630.70000000000005,667.9,0.89829999999999999,688.9,0.871,0,0]
[null,"ARG405601","BANZAIo","ARG-4056","BANZAI","PANDORA 31","AST, MARCO","GERMAN FRERS",1994,null,null,"CLUB","C",572,"08 03 2018 18:58:08",9.5,8.8330000000000002,1.9219999999999999,3.29,3814,122.1,7.0000000000000007E-2,646,0.97050000000000003,695.5,0,0,1045.5,849.5,734.8,671.6,633.79999999999995,612.9,588.29999999999995,993.4,810.5,712,660.5,632.1,614,589.4,886.6,717.2,626.9,574.9,543,522,494.9,932.3,749.4,651,593.79999999999995,558.70000000000005,535.70000000000005,506.2,1045.0999999999999,799.9,666.4,592.9,554.20000000000005,523.79999999999995,472.8,41.9,40.9,39.6,38.200000000000003,37.200000000000003,37.299999999999997,37.1,145.80000000000001,150.5,151.9,159.6,180,180,180,1049.9000000000001,874,773.6,731.9,714.9,707.4,704.8,697.8,588.4,542.6,524.79999999999995,517.20000000000005,513.29999999999995,511.6,665.1,567.70000000000005,530.79999999999995,514,504.2,499.3,496,641.79999999999995,555,522.4,503.3,488.4,476.7,466.3,649.70000000000005,557.1,517.20000000000005,496.6,481.8,464.5,439.2,665.4,553.79999999999995,512.70000000000005,486,461,440.6,418.5,687.1,567.20000000000005,519.4,492,465.1,439.7,397.8,760.9,619.4,543.70000000000005,510.6,485.4,459.2,408.7,901.6,714.3,604.1,540.4,510.3,486.6,438.4,1041.0999999999999,824.9,696.1,611.29999999999995,552.6,518.4,471.7,0.9153,1.1779999999999999,1.3173999999999999,0.71240000000000003,0.96699999999999997,1.1086,0,0,0,0,0.95640000000000003,0,0,627.4,"ARG00006647",8.5790000000000006,4575,21.3,31.9,28.5,63.2,0,737.5,573,512.4,947.5,698,608.9,650.79999999999995,0.92200000000000004,671.6,0.89339999999999997,0,0]
[null,"ARG410702","ARG4107","ARG-4107","COMPLICE","VAN 30","AST, DEL SUR","NESTOR VOLKER",1988,"BUENOS AIRES",null,"CLUB","C",489,"08 03 2018 18:58:12",9.25,7.9710000000000001,1.613,3.32,3595,110.1,0.15,688.9,0.90569999999999995,745.3,0,0,1109.9000000000001,907.9,788.3,720.5,679.7,657.5,633.6,1065.3,873.6,768.8,712.3,681.1,661.7,639.5,944.8,764.7,668.6,613.20000000000005,579.6,558,531.5,996.7,801.3,695.9,634.5,596.9,572.70000000000005,543.1,1105.9000000000001,853.3,712.6,633.4,591.20000000000005,558.6,506.3,42.9,42,41.9,40.799999999999997,40.1,40,40.200000000000003,147.19999999999999,150.9,152.19999999999999,160.1,180,180,180,1150,964.4,854.8,804.4,783.3,773.1,771.6,756,639.4,580.6,558.6,548.6,543.6,540.4,717.7,609.9,564.6,545.20000000000005,533.9,527.79999999999995,522.79999999999995,689.9,591.5,553.4,532.79999999999995,517.79999999999995,505.8,493.3,696.5,593.20000000000005,548.5,526.29999999999995,511.7,495.1,470.6,707.8,586.5,540.29999999999995,513.20000000000005,489.5,470.4,452.1,726.8,598.70000000000005,546,517.5,490.9,467.6,433.2,794.9,648.20000000000005,568.70000000000005,534.4,508.7,483.3,438.4,926.5,737.5,627,563.70000000000005,533.4,509.6,464,1069.8,851.5,721.8,636.5,576.1,541.9,495.5,0.85829999999999995,1.1047,1.2321,0.66900000000000004,0.90180000000000005,1.032,0,0,0,0,0.89600000000000002,0,0,669.7,"ARG00006648",7.431,4240,20.100000000000001,22.1,32.9,65.7,0,786.4,611,547.79999999999995,1009,748.5,654.1,696.3,0.86170000000000002,717.9,0.83579999999999999,0,0]
[null,"ARG337401","ARG3374","ARG-3374","GRULLA","COBRA 1000","AST, CESPEDES","GERMAN FRERS",1988,null,null,"CLUB","C",587,"08 03 2018 18:58:28",9.8000000000000007,8.7309999999999999,1.893,3.49,4612,110.9,0.15,656.6,0.95630000000000004,705.8,0,0,1054.9000000000001,863,748.1,682.1,643,620.70000000000005,599.6,1007,825.5,725,670.6,641,622.70000000000005,603.4,900.1,728.7,637.20000000000005,584.5,552.5,531.9,507,947.7,762.3,662.3,604,568.4,545.5,517.5,1053.8,812.6,678.2,602,562.9,533,485.4,41.9,40.700000000000003,40.200000000000003,38.6,37.6,37.4,37.9,146.5,150.69999999999999,151.9,158.19999999999999,180,180,180,1066.0999999999999,894.6,790.5,742.3,723.5,714.7,715.9,709.6,600.79999999999995,550.5,530.70000000000005,522,517.70000000000005,515.29999999999995,676.9,577.70000000000005,538,520.29999999999995,509.7,504.4,500.6,653.6,563.6,529.6,510.6,496.3,484.8,473.6,661.2,566.1,528.1,506.4,491.7,476,451.9,685.7,567.6,521.9,496.5,474.1,455,436.6,704.6,580.70000000000005,528,501.2,476.7,453.8,418.9,772.8,630.9,551.6,517.6,494,470.4,426.7,904,720,612.5,547.79999999999995,517.4,495.5,452.3,1043.8,831.3,705.8,621.9,562.5,526.70000000000005,483.3,0.90090000000000003,1.1589,1.2925,0.70389999999999997,0.95150000000000001,1.0915999999999999,0,0,0,0,0.94130000000000003,0,0,637.4,"ARG00006651",8.4120000000000008,5394,23.5,26.5,39.200000000000003,75.900000000000006,0,749.3,582.4,522.20000000000005,958.9,709.4,618.4,662.3,0.90590000000000004,683.2,0.87819999999999998,0,0]
[null,"ARG456302","ARG4563","ARG-4563","HAPPY HOUR","PANDORA 34","AST, MARCO","N, VOLKER",1992,null,null,"CLUB","C",620,"08 03 2018 18:58:32",10.43,8.7319999999999993,1.843,3.52,4826,113.5,0.05,650.5,0.96140000000000003,702.1,0,0,1042.0999999999999,853.5,740.8,678.8,641.5,620.6,601.5,995.8,817.2,719.6,668.4,640.5,623.29999999999995,606.6,889.7,721,631.29999999999995,580,549.1,529.5,506.2,938.5,755.5,657.1,600,565.29999999999995,543.20000000000005,516.70000000000005,1040.4000000000001,803.3,671.3,598.20000000000005,559.6,530,483.2,42.2,41.3,40.799999999999997,39.4,38.700000000000003,38.5,39.4,146.5,150.6,151.69999999999999,158.5,180,180,180,1058.2,889.1,788,745.8,728.8,721.6,727.3,702.1,594.20000000000005,545.70000000000005,527.4,519.79999999999995,516.1,514.6,669,571.1,533,516.1,506.7,502,498.9,645.70000000000005,557.4,524.29999999999995,505.6,491.7,481,471.1,652.9,559.20000000000005,522.5,501.9,485.9,470.6,448.3,675.1,559,515.29999999999995,489.9,468.1,450.5,433.5,693.3,571.1,521,494.1,469.4,447.6,415.9,760,619.79999999999995,543.5,510.5,486.5,462.8,420.4,888.5,708.3,601.9,539.79999999999995,510.2,487.9,445,1025.9000000000001,817.9,693.6,611.79999999999995,554.20000000000005,519.6,475.6,0.9123,1.1689000000000001,1.2978000000000001,0.71220000000000006,0.95779999999999998,1.0911,0,0,0,0,0.94869999999999999,0,0,632.4,"ARG00006652",8.375,5560,23.7,29,39.6,80.599999999999994,0,739.9,577.5,520.1,947.8,704.7,618.6,658,0.91190000000000004,677.8,0.88519999999999999,0,0]
[null,"ARG521001","ARG5210","ARG-5210","LEJOS 2","PANDORA 31","ASTILLERO MARCO","GERMAN FRERS",1994,null,null,"CLUB","C",588,"08 03 2018 18:58:42",9.5,8.9909999999999997,1.6679999999999999,3.29,4344,120.1,0.32,671.1,0.93189999999999995,724.3,0,0,1100.7,895.2,774.1,698.3,655.6,632,611.70000000000005,1050.4000000000001,858.1,749.9,688.3,655.4,636.29999999999995,617.1,927,747.4,650.79999999999995,594.79999999999995,560.6,538.79999999999995,512.5,972.7,779.8,675,613.6,576.1,552.1,523.6,1098,840.8,697.3,612.5,570.6,539.5,488.4,42.9,41.4,41.5,40.200000000000003,39.1,38.700000000000003,39.200000000000003,146.6,151.4,152.5,158.6,180,180,180,1128,941.3,830,769.4,746.4,736.5,738.7,740.8,625.79999999999995,562.4,537.70000000000005,526.9,522.20000000000005,519.9,703.2,595.6,545.79999999999995,525.20000000000005,513.70000000000005,507.9,504.2,675.4,575.5,534.6,514.1,500.1,488.9,476.5,681.6,575.1,526.29999999999995,504.6,491.6,479.5,453.7,688.7,569.9,522.6,497.6,475,453.9,428.5,710.4,585.29999999999995,529.6,503.3,480.4,456.4,415.1,784.9,642.5,557,520.29999999999995,497.3,474.7,429.2,929.6,735.5,623.29999999999995,552.20000000000005,519.6,497.9,455.1,1073.4000000000001,849.2,718.1,627.1,564.70000000000005,527.5,484.6,0.87250000000000005,1.1382000000000001,1.2770999999999999,0.6764,0.92559999999999998,1.071,0,0,0,0,0.92120000000000002,0,0,651.29999999999995,"ARG00006654",8.2620000000000005,5130,21.3,29.9,26.3,58.8,0,773.6,593,528.5,997.9,729.3,630.29999999999995,674.3,0.88980000000000004,696.7,0.86119999999999997,0,0]
[null,"ARG470101","ARG4701O","ARG-4701","PATAGONIA 3","BNT367","AST, BENETEAU","B, FARR",2001,null,null,"CLUB","C",662,"08 03 2018 18:59:18",10.64,9.6440000000000001,1.829,3.46,5837,121.9,0.03,627.9,0.99209999999999998,680.4,0,0,1016.1,830.1,719.6,657.1,620.9,600,579.29999999999995,969.4,794.1,697.9,646.5,619.20000000000005,602.5,583.29999999999995,860.7,696.7,609.29999999999995,559,528.70000000000005,509.3,485.7,905,728,632.70000000000005,577.29999999999995,543.6,521.9,495.6,1014.3,780.2,650.20000000000005,576.79999999999995,539.1,509.9,462.6,42.8,41.7,41.2,39.799999999999997,39,39.200000000000003,39.5,145.5,150.19999999999999,151.80000000000001,157.69999999999999,180,180,180,1034.7,866,766.4,721.9,705.6,699.4,700.8,680.6,575.5,525.1,505.8,498.8,495.7,495,645.9,550.70000000000005,511.6,494.5,486.2,482.3,480.1,620,535.1,502.3,484.2,471,461.9,454.7,624.6,536,499.1,479.3,464.7,449.6,428.3,646.1,536.20000000000005,493.7,469.3,447.4,429.9,410.9,664.5,548.79999999999995,499.8,474.1,450.6,428.1,393.4,732,598,523.70000000000005,490.9,468,445,401.8,863.9,687.7,583.70000000000005,521.1,491.1,469.6,427.3,997.5,794.1,672.9,592.29999999999995,536.20000000000005,500.6,457.8,0.94210000000000005,1.2122999999999999,1.3496999999999999,0.73119999999999996,0.98780000000000001,1.1297999999999999,0,0,0,0,0.98209999999999997,0,0,610.9,"ARG00006660",9.1010000000000009,6706,26.8,40.200000000000003,40.5,86.7,0,716.5,556.79999999999995,500.1,923.1,683.3,597.5,634.20000000000005,0.94610000000000005,652.70000000000005,0.91930000000000001,0,0]
[null,"ARG575701","ARG5757","ARG-5757","SANDOKAN","FAST 40+","M BOATS","SOTO ACEBAL",2017,null,null,"INTL","R",825,"08 03 2018 18:59:30",12.291,12.194000000000001,2.7320000000000002,3.85,4766,121.4,0,506.5,1.2110000000000001,557.4,0,0,817.1,658.5,586.29999999999995,550.20000000000005,523.5,493.3,452.5,776.9,632,567.9,533.70000000000005,507.4,483.6,460.6,691.3,561.5,492.5,451.5,424.2,403.8,372.8,758.9,610.29999999999995,529.6,481.2,449.5,427,395.6,815.4,620.20000000000005,529.1,474.9,440,405.6,352.9,43.8,41.3,39.200000000000003,38.299999999999997,38.200000000000003,37.6,38.1,142.19999999999999,141,148.4,152.19999999999999,148.4,145.5,143.69999999999999,834.2,686.1,635.5,616.20000000000005,603.9,590.1,588.70000000000005,544.20000000000005,463.1,442.1,433.5,428.6,420.9,414.2,512.4,447.9,427.3,417.4,410.7,403.5,390.7,490.1,437.3,408.8,389.3,378.6,371.9,354.4,495,438.1,405.9,374.6,353.2,341.6,328.6,500.4,431.7,401.5,377,354.9,335.2,291.2,515.6,434.7,392.6,365,343.2,322.39999999999998,286.39999999999998,579.6,459.2,415.2,372.6,331.6,299.89999999999998,263.2,692.8,546.4,465.1,417.1,383.7,343.5,273.89999999999998,800,631,537.1,484.1,443.1,396.6,316.3,1.1818,1.4893000000000001,1.7068000000000001,0.91490000000000005,1.1956,1.3900999999999999,0,0,0,0,1.2149000000000001,0,0,493.9,"ARG00006662",11.968999999999999,5991,32.4,65.2,44.9,0,197.7,571.20000000000005,453.2,395.5,737.8,564.6,485.6,533.9,1.1237999999999999,545.70000000000005,1.0994999999999999,0,0]
[null,"ARG307301","ARG3073","ARG-3073","TIMIDO II","RESCH 32","AST,RESCH Y GONZ,","J, GONZALEZ",1987,null,null,"CLUB","C",564,"08 03 2018 18:59:34",9.61,8.4649999999999999,1.5609999999999999,3.37,3531,101.4,0.32,692.6,0.90190000000000003,748.4,0,0,1141.9000000000001,927.5,804.2,721.9,675.3,650.79999999999995,630.1,1093.8,893,780.3,712.6,675.2,654.5,635.5,960.6,773.2,671.6,611.9,575.1,551.4,522.79999999999995,1010.3,808.5,698.2,632.9,592.4,566.4,535.5,1137.5999999999999,870.7,723.1,631.29999999999995,584.6,551.4,496.3,43.4,42.2,42.2,40.9,39.9,39.5,41.1,147.19999999999999,151.1,153,158.6,180,180,180,1184.9000000000001,987.3,874.6,801.2,771.9,761.4,767.4,773.3,653,585,553.5,539,533.29999999999995,531.5,731.5,619.9,564.9,539.6,525,517.1,513.20000000000005,701,596.5,551.1,528.29999999999995,510.4,495.7,480.6,706.9,598.6,541.79999999999995,515.70000000000005,498,487.6,457.2,713.8,589,536.70000000000005,508.4,481.5,458.2,429,734.8,603.70000000000005,543.6,514.29999999999995,488.1,462.2,417.8,809.4,660.3,571.9,532.6,506.8,481.1,433.1,951.7,751.7,637.4,565.70000000000005,531.5,507.4,460.5,1098.9000000000001,867.7,733.8,642.70000000000005,578.79999999999995,540.20000000000005,492.9,0.84119999999999995,1.1039000000000001,1.2498,0.65239999999999998,0.89419999999999999,1.0398000000000001,0,0,0,0,0.89400000000000002,0,0,671.2,"ARG00006663",7.7060000000000004,4233,20.2,24.4,27.1,56.6,0,802.4,611.5,540.1,1034.5999999999999,754.9,649.20000000000005,696.6,0.86129999999999995,720.7,0.83250000000000002,0,0]
[null,"ARG1303","ARG013","ARG-013","TOLERANCIA CERO","MATCH 30","AST, SPEED CRAFT","GERMAN FRERS",1993,null,null,"INTL","R",464,"08 03 2018 18:59:38",9.1199999999999992,8.048,1.7150000000000001,3.11,2068,113.7,0,627,0.98550000000000004,684.9,0,0,1015.9,825.5,715.1,661,630.4,611.79999999999995,578,967.2,788,696.4,650.20000000000005,623.79999999999995,605,567.70000000000005,859.2,696.1,608.9,558,525.5,502.6,468.7,922.6,741.1,643.20000000000005,585.9,549.9,525.20000000000005,490.4,1012.9,776.5,648.6,579.79999999999995,538.6,503.8,444.5,42.6,41.6,39.5,38.4,38.1,38.200000000000003,38.5,138.69999999999999,148.5,150.69999999999999,160,180,180,180,1046,862.8,767,735.7,725.2,722.3,718.4,688.8,579.70000000000005,539.6,523.79999999999995,517,513.5,505.4,653.29999999999995,560.5,526.70000000000005,507.6,497.3,491.6,483.2,627.20000000000005,548.5,515.9,488.7,468.6,457.4,448.2,629,538,505.4,484.5,457.1,434.4,408.5,622.29999999999995,532.4,489.5,454,430.8,412.5,381.2,640.5,540.6,497.2,456.1,419.4,390.5,354,711.2,577.1,521.9,483.2,445.6,407.6,325.5,853.8,682.6,575,520.6,485,450.8,378.7,985.9,788.2,663.2,586.4,535.70000000000005,501.3,437.7,0.94569999999999999,1.2102999999999999,1.3702000000000001,0.73309999999999997,0.98519999999999996,1.1178999999999999,0,0,0,0,0.98370000000000002,0,0,610,"ARG00006664",8.1440000000000001,2679,16.5,30.2,17.8,64.900000000000006,0,713.8,557.70000000000005,492.6,920.7,685.1,603.79999999999995,643.6,0.93220000000000003,663.5,0.90429999999999999,0,0]
[null,"ARG477101","ARG4771","ARG-4771","ZARATUSTRA","MAGIC 33","MORETI","J, SOTO",2001,null,null,"INTL","C",605,"09 03 2018 07:25:32",10.199999999999999,9.3030000000000008,1.95,3.33,3971,107.5,0,625,0.99139999999999995,680.9,0,0,1003.3,815.4,711.8,659.9,628.5,608.79999999999995,582.6,955,780.4,692.8,650.70000000000005,627.1,609.6,583.9,851.6,691.1,606.70000000000005,558.9,529.9,510.7,484.9,901.8,726.5,633,579.29999999999995,546.70000000000005,525.29999999999995,497.6,1001.6,767,644.5,579,542.4,511.5,461.3,42.5,41.4,40.1,39.200000000000003,39,38.799999999999997,40,144.69999999999999,149.19999999999999,151.5,159.19999999999999,180,180,180,1020.4,847.1,762,735.3,726.4,719.8,717.3,673.2,567.5,527.70000000000005,515.4,510.6,508.7,502,639,546.6,514.20000000000005,501.3,496,493.4,485.7,613.70000000000005,533.4,503.2,486.2,474.6,468.3,463.3,619.1,531.5,498.7,479.9,461.2,446,429.8,628.4,527.29999999999995,489.9,463.4,442.1,429,408.4,647.9,538.29999999999995,496.1,466.9,438.8,414.2,385.2,718.2,583.9,518.79999999999995,487.8,460.2,432,375.9,854,678.6,574.1,517.1,488.1,462.4,410.8,986.2,783.6,661.7,584.5,530.70000000000005,497.8,448,0.95640000000000003,1.2138,1.3445,0.74229999999999996,0.98929999999999996,1.1176999999999999,0,0,0,0,0.98499999999999999,0,0,609.20000000000005,"ARG00006666",8.7759999999999998,4769,22.1,38.5,27.8,72.5,0,705.8,556.1,502,909.3,682.3,603.9,635.1,0.94469999999999998,652.9,0.91900000000000004,0,0]
[null,"ARG552002","ARG5520","ARG-5520","FICCION","PANDORA 34","AST, MARCO","N, VOLKER",1992,null,null,"CLUB","C",580,"09 03 2018 16:40:36",10.43,8.8539999999999992,1.69,3.54,5077,111.7,0.24,664.6,0.93889999999999996,718.9,0,0,1078,880.7,764.1,694.6,654.29999999999995,631.20000000000005,610.9,1031.9000000000001,845.4,741.8,684.5,653.6,635.20000000000005,617.1,914.1,738.7,644.79999999999995,590.6,557.79999999999995,537,512.6,963.8,773.8,670.9,610.79999999999995,574.1,550.79999999999995,523.1,1075.0999999999999,827.5,689.3,609,568.1,537.20000000000005,488.4,42.9,41.9,42.1,40.9,40,39.9,40.299999999999997,146.69999999999999,150.80000000000001,152.1,157.5,180,180,180,1106.8,928,821.3,768,747.4,738.4,741.1,727.2,615.5,556.1,533.79999999999995,524.4,520,517.79999999999995,690.3,585.9,540.4,521.20000000000005,510.7,505.5,502.1,663.7,567.29999999999995,529.6,509.9,496.2,485.4,474.5,670.3,569.6,527.1,505.1,491,476,452.8,689.6,568.29999999999995,519.79999999999995,494.5,473.1,454.8,436,708.3,581.79999999999995,525.79999999999995,498.7,475.3,453.6,420,776.4,633.4,550.79999999999995,515,491.6,468.9,426.9,908.7,721.8,613.5,546.20000000000005,514.5,492.7,451,1049.2,833.4,706.9,621.20000000000005,561.20000000000005,524,480.7,0.88600000000000001,1.1471,1.2805,0.68920000000000003,0.93340000000000001,1.0725,0,0,0,0,0.92930000000000001,0,0,645.70000000000005,"ARG00006667",8.2080000000000002,5836,24.5,28.3,38.1,76.400000000000006,0,761.9,588.4,527.1,979.4,723.2,629.4,671.5,0.89349999999999996,692.3,0.86670000000000003,0,0]
[null,"ARG308311","2ARG3087","ARG-3087","LARA","ARIES 37","AST, ARIES","GERMAN FRERS",1988,null,null,"CLUB","C",170,"12 03 2018 16:33:58",11.3,9.52,1.9039999999999999,3.61,6290,112,0.16,639.20000000000005,0.97350000000000003,693.3,0,0,1019.4,836,733.3,673.3,637,614.4,592,973.8,801.6,711.1,662.8,635.6,618.1,598.1,871.6,707.2,620.4,571.1,541.70000000000005,523,500.9,925.3,745.2,648.4,592.29999999999995,558.1,536.20000000000005,509.9,1017.9,786.5,662,589.70000000000005,551.9,522.70000000000005,479,42.1,41,41.6,40.4,39.700000000000003,39.299999999999997,39.200000000000003,145.80000000000001,150.1,151.1,156.5,175.4,180,180,1034.5,870.7,786.1,747.3,730.4,722.1,719.1,686,583.20000000000005,535.29999999999995,517.79999999999995,510.7,507.2,505.8,653.79999999999995,558.1,520.79999999999995,504.6,497,493,490.5,631.29999999999995,542.70000000000005,510,493.4,481.9,473.9,467,638.70000000000005,545.20000000000005,508.4,489.7,475.6,463.4,444.4,660.2,545.29999999999995,501.4,479.2,464,454.8,438.2,676.8,557,505.7,480.8,460.2,441.5,422.3,741.7,605.6,528.5,495.2,473,451.8,413.2,869.7,693.8,589.9,525.9,495.7,474.9,435.2,1004.3,801.2,680.5,599.20000000000005,543.6,506.8,465,0.93289999999999995,1.1879999999999999,1.3125,0.72760000000000002,0.96740000000000004,1.1034999999999999,0,0,0,0,0.96440000000000003,0,0,622.20000000000005,"ARG00006673",8.7530000000000001,7142,27.3,30.9,45.9,97.4,0,723.6,568.20000000000005,514.29999999999995,927.7,697.7,611.70000000000005,650.6,0.92230000000000001,668.7,0.89729999999999999,0,0]
[null,"ARG545401","2ARG5454","ARG-5454","FUERZA DELTA","PANDORA 31","AST, CONNORS","GERMAN FRERS",1994,null,null,"CLUB","C",170,"14 03 2018 18:19:54",9.5,8.8460000000000001,1.702,3.29,3815,118,0.17,658,0.94230000000000003,716.4,0,0,1052.3,861,755,693.7,658.4,638.9,614.1,1004.5,825.9,734.1,686.5,659.9,642.9,618.70000000000005,895.1,727.2,638.79999999999995,588.79999999999995,558.79999999999995,539.4,514.5,954,768.3,669,611.70000000000005,577,554.79999999999995,527.79999999999995,1049.3,808.9,681.5,609.20000000000005,570.6,540,490.9,42.3,40.9,40.799999999999997,40.1,39.700000000000003,39.4,39.799999999999997,144.9,147.9,149.9,159.4,180,180,180,1081.7,905.2,818.1,782.2,767.3,761.2,758.2,714.6,606.29999999999995,558.5,541.20000000000005,534.4,531.4,529.1,679.5,580.6,542.20000000000005,526.20000000000005,519.29999999999995,515.6,514.20000000000005,653.79999999999995,563.4,529.79999999999995,512.79999999999995,500.9,493.2,487,653.9,555.5,521.5,507.5,491.9,477.8,456.9,649.4,547.6,512.1,489.1,471,458.9,438.9,670.1,559.1,516.79999999999995,491.3,466.5,443.7,418.5,744.2,610.1,538.20000000000005,507.5,482.3,456.3,407.9,885.8,707.4,599.20000000000005,535.70000000000005,507.3,483.6,435.5,1022.8,816.8,691.9,605.29999999999995,549.5,516.5,470,0.90969999999999995,1.1525000000000001,1.2725,0.7056,0.9385,1.0639000000000001,0,0,0,0,0.93479999999999996,0,0,641.79999999999995,"ARG00006685",8.0679999999999996,4575,20.6,30.3,25.5,60,70.900000000000006,742,585.70000000000005,530.5,956.6,719.2,634.5,670.8,0.89439999999999997,690,0.86960000000000004,0,0]
[null,"ARG341011","BIGBANG","ARG-3410","BIG BANG","F&C 40","AST, F&C","GERMAN FRERS",1986,null,null,"CLUB","C",740,"16 03 2018 18:59:42",12.31,10.195,2.2189999999999999,3.8,7185,116.3,0.03,603.6,1.0358000000000001,651.70000000000005,0,0,970.3,791.4,687.9,631.29999999999995,597.5,575.1,552.6,922.4,754.5,665,618.79999999999995,593,575.6,555.29999999999995,826.1,669,585.79999999999995,538.20000000000005,509.5,490.9,468.3,873.5,702.9,611,557.6,524.9,503.6,477.4,970.5,745.2,623,555,519.4,491.5,448.8,41.9,40.9,40.299999999999997,38.6,38.1,37.6,37.5,145.30000000000001,149.4,150.4,156,172.7,180,180,968.4,809.1,721.2,686.5,670.7,662.5,659.6,643.29999999999995,542.79999999999995,502.6,487.5,481,477.5,475.5,613,523.5,491.5,476.9,469.2,464.9,461.5,592.4,512.5,483.2,467.1,454.9,446.1,438,601.1,515.6,483.6,465,450.1,436.8,417.3,635,522.20000000000005,479.3,456.6,437.6,425.2,408.5,650.9,533.6,484.5,459.1,437.1,417.4,392.1,715.1,581,506.9,474.9,452.5,430.4,390.2,842,670,567.20000000000005,505.1,475.8,454.8,414.6,972.3,773.7,654.70000000000005,576.20000000000005,524.20000000000005,487.7,445.6,0.98340000000000005,1.2596000000000001,1.3994,0.76629999999999998,1.0304,1.1795,0,0,0,0,1.0226999999999999,0,0,586.70000000000005,"ARG00006694",9.83,8121,30.6,38.799999999999997,56.2,114.5,0,686.4,535.9,482.3,880.9,655.1,572.29999999999995,612.9,0.97899999999999998,630.20000000000005,0.95209999999999995,0,0]
[null,"ARG6001","ARG60","ARG-60","FJORD VI","FRERS 43","AST, RATTI","GERMAN FRERS",1970,null,null,"CLUB","C",730,"16 03 2018 19:00:20",12.964,10.079000000000001,1.992,3.65,10727,122.2,0.51,649.5,0.95399999999999996,707.6,0,0,1063.5999999999999,869.9,757,686.4,644.5,615.79999999999995,591.29999999999995,1018.1,835.3,733.4,675.3,641.79999999999995,620.4,599.5,897.7,723.8,629.9,575.20000000000005,541.9,520.9,497.2,948.4,760.2,657.4,596.5,558.6,534.20000000000005,505.5,1059.9000000000001,816.8,678.3,594.6,550.79999999999995,518.70000000000005,473.1,43.7,42.1,42.5,42.8,42.2,41.6,41.8,146.6,150.9,149.69999999999999,154.19999999999999,166.8,180,180,1100.2,923.4,823.1,771.3,743.5,728.7,721.4,719.2,612.5,543.70000000000005,514.6,502.9,496.8,491.5,683,581.20000000000005,521.6,497.9,486.9,481.2,476.3,657,557.5,507.2,485.9,473.2,464.2,455.4,663.1,561.9,507.3,483.8,469.2,457.5,439.2,676.4,555.1,496.3,471.8,455.8,447,432.8,691.2,567.20000000000005,501.2,473.6,454.5,437.6,418.3,753.7,616.6,528.4,488.4,466.6,448,413.8,889.4,706.9,598.29999999999995,525.70000000000005,488.9,468.5,434.2,1027,816.5,690.9,601.5,545.4,502.9,461.1,0.89910000000000001,1.1766000000000001,1.3210999999999999,0.69820000000000004,0.94440000000000002,1.0996999999999999,0,0,0,0,0.9506,0,0,631.20000000000005,"ARG00006702",8.7880000000000003,11664,35.299999999999997,39.200000000000003,61.4,126.7,0,750.8,573.70000000000005,510.9,966.8,714.7,613.79999999999995,659,0.91049999999999998,678.3,0.88460000000000005,0,0]
[null,"ARG453005","arg4530","ARG-4530","LADINO MILLENNIAL","PANDORA 34","AST, MARCO","NESTOR VOLKER",1992,null,null,"CLUB","C",535,"16 03 2018 19:00:28",10.43,8.7929999999999993,1.8360000000000001,3.52,5093,114.5,0.16,660.6,0.94489999999999996,714.3,0,0,1067,872.2,756.9,690.7,651.29999999999995,628.6,608.29999999999995,1020,836,734.8,680.3,650.5,632.20000000000005,614.1,906.7,733.4,640.9,587.79999999999995,555.70000000000005,535.4,511.3,955.2,767.8,666.6,607.70000000000005,571.79999999999995,548.9,521.6,1064.7,820,683.9,606.5,566.1,535.6,487.7,42.7,41.7,41.6,40.5,39.4,39.299999999999997,39.9,146.6,150.69999999999999,151.5,157.6,180,180,180,1089.5,913.9,810.3,763.2,743.3,734.3,737.1,718.6,607.79999999999995,552.9,532.5,524.1,519.9,517.70000000000005,683.3,580.5,538.29999999999995,520.29999999999995,510.5,505.6,502.2,657.9,563.79999999999995,527.9,509.2,495.7,485.3,475,664.6,565.79999999999995,526.70000000000005,505.4,489.5,474.9,452.5,686,565.70000000000005,518.70000000000005,493.7,472.5,454.9,436.7,704.3,578.5,524.4,497.4,473.7,452.2,420.4,771.6,629.20000000000005,548,513.4,489.8,466.8,425.1,904.6,719.2,610.20000000000005,544,513.20000000000005,491.2,449.2,1044.5,830.5,703.6,618.20000000000005,559.20000000000005,522.9,479.4,0.89419999999999999,1.153,1.284,0.69620000000000004,0.94010000000000005,1.0771999999999999,0,0,0,0,0.93440000000000001,0,0,642.1,"ARG00006704",8.2249999999999996,5840,24.7,29.1,40.1,80.3,0,754.9,585.4,525.70000000000005,969.5,718,626.6,667.6,0.89870000000000005,687.7,0.87250000000000005,0,0]
[null,"ARG570503","ARG5705","ARG-5705","OJO DE BALLENA","32DUE","AST, PIERMARINE","S, CARLINI",2015,null,null,"CLUB","C",594,"16 03 2018 19:00:40",9.7620000000000005,9.2309999999999999,1.92,3.29,4332,123.7,0.18,637.20000000000005,0.98019999999999996,688.6,0,0,1045.2,845.7,728.8,662.5,626.5,606.29999999999995,578,1000.1,811.6,709,653.79999999999995,624.70000000000005,606.79999999999995,577.70000000000005,880.8,709.6,617.79999999999995,564.79999999999995,532.29999999999995,511,482.7,944.2,754.6,651.4,591,553.9,529.79999999999995,499.6,1040.7,794.2,658.3,582.20000000000005,543,512,461.3,42.9,41.4,41,39.299999999999997,38.700000000000003,39.1,38.9,145.5,149.5,150.9,158,180,180,180,1090.8,898.7,788.3,734.7,716.7,710.5,701.2,715.6,598.6,539,515.20000000000005,505.9,502.2,498.6,678,571.1,523.6,503,492,487.6,485.7,650,552.70000000000005,513.1,492.3,476.7,464.8,456,657.6,546.6,504.4,487.7,472.3,454.6,427.4,647.79999999999995,537.20000000000005,495.6,469,445.2,431.1,408.9,664.8,547.9,501.2,472.8,445.2,419.9,387.7,731.2,593.4,523,491.1,464.8,437.9,385.8,865.7,686.6,580.1,520.5,491.4,467.1,418.5,999.6,792.8,669.2,590.29999999999995,536.4,502.1,454.7,0.91959999999999997,1.1990000000000001,1.3467,0.71389999999999998,0.97699999999999998,1.1235999999999999,0,0,0,0,0.97140000000000004,0,0,617.70000000000005,"ARG00006706",8.7460000000000004,5124,23.7,33.1,28.8,82.4,0,734,563,501.2,945.5,690.9,600.70000000000005,650.6,0.92220000000000002,672.8,0.89180000000000004,0,0]
[null,"ARG488802","2ARG4888","ARG-4888","ALCORNOQUE","FAYD 33","NOVATECNIA","MARTIN BILLOCH",1996,null,null,"CLUB","C",170,"22 03 2018 17:44:04",10.199999999999999,9.3049999999999997,1.782,3.25,3983,114.3,7.0000000000000007E-2,628.5,0.98619999999999997,684.4,0,0,1014.6,823.4,718.8,663.5,629.29999999999995,609.1,579,965.6,788,698,652.9,627.20000000000005,609.9,579.5,859.4,696.2,610,560.79999999999995,530.79999999999995,510.8,483.4,914.4,735.1,638.79999999999995,583.20000000000005,549.1,526.6,497.2,1012.9,774.4,649.5,581.1,543,512.6,461.5,42.5,41.2,40.200000000000003,39.200000000000003,38.700000000000003,39.4,39.6,144.6,149,151.1,157.80000000000001,180,180,180,1031.7,855.1,768.9,737.3,724.3,719.3,708.7,679.9,573.5,529.6,514.70000000000005,508.5,505.5,498.3,645.29999999999995,550.79999999999995,515,500.4,494,490.5,483.8,620.1,535.70000000000005,503.8,486.2,473.6,466.4,460.1,627.4,534.5,498.3,482.1,464.1,448.5,429.7,635.9,530.9,492,466.4,443.3,429.5,408.6,655.29999999999995,542.4,497.1,468.9,442.2,419.9,389.8,726.4,590.29999999999995,520.70000000000005,488,460.8,433.6,381.8,863.8,685.6,579.70000000000005,519.1,488.7,463.1,413.2,997.5,791.7,668.6,589.6,534.4,499,449.3,0.94679999999999997,1.2089000000000001,1.3454999999999999,0.73450000000000004,0.98299999999999998,1.1195999999999999,0,0,0,0,0.97989999999999999,0,0,612.29999999999995,"ARG00006728",8.7539999999999996,4771,22.2,34.9,27.8,73.2,59,712.9,558.4,501.7,919,686.7,602.9,640.70000000000005,0.9365,659.1,0.9103,0,0]
[null,"ARG454402","2ARG4544","ARG-4544","AZUL MARINO","PND 34","AST, MARCO","N, VOLKER",1992,"PACHECO",null,"CLUB","C",170,"22 03 2018 17:44:18",10.43,8.9610000000000003,1.518,3.54,5566,113.1,0.36,670.5,0.92610000000000003,728.9,0,0,1077.3,881.3,773.1,708.2,667.6,643.5,620.29999999999995,1030.9000000000001,847.7,751.1,698.3,668.1,649.20000000000005,628,917.1,743.1,650.70000000000005,597.9,566.29999999999995,546.20000000000005,522.29999999999995,968.4,779.2,677.4,618.20000000000005,582.20000000000005,559.20000000000005,531.5,1074.5999999999999,828.4,696.4,618.5,577.1,545.9,498.1,42.9,41.3,41.8,41.3,40.6,40.1,40.1,146.5,150.69999999999999,152,157.5,180,180,180,1104.2,927.5,837.3,793,772.3,762.3,758.5,726.9,617.79999999999995,563.5,541.79999999999995,533.20000000000005,528.79999999999995,526.4,690.7,589,545.20000000000005,526.6,517.9,513.29999999999995,510.1,664.3,569.6,531.79999999999995,513.79999999999995,501.8,493.2,485.1,671.1,571.9,529.5,509.3,494.8,482.2,461.8,688.6,569.6,521.5,498.2,479.9,468.7,452,707.3,582.79999999999995,526.4,500.3,479.4,459.6,435.3,775.4,634,552,515.5,492.8,471.2,431.6,909.7,723.3,615.1,547.70000000000005,515.29999999999995,493.9,453.5,1050.4000000000001,835.1,708.8,623.5,562.79999999999995,524.70000000000005,482.2,0.88560000000000005,1.1341000000000001,1.2578,0.68930000000000002,0.91949999999999998,1.0532999999999999,0,0,0,0,0.91900000000000004,0,0,652.9,"ARG00006730",8.0259999999999998,6343,25.7,29.4,38.4,80,0,762.2,595.20000000000005,536.70000000000005,979.3,734.1,640.79999999999995,679.1,0.88349999999999995,698.7,0.85870000000000002,0,0]
[null,"ARG408201","2ARG4082","ARG-4082","COCODRILO DADDY","PANDORA 31","ASTILLERO MARCO","GERMAN FRERS",1994,null,null,"CLUB","C",170,"22 03 2018 17:44:28",9.5,8.8800000000000008,1.639,3.29,3922,121.8,0.17,660.3,0.93869999999999998,719.1,0,0,1053,861.8,756.4,697.5,661.1,641.70000000000005,614.6,1007.1,828.5,737.2,690,663.5,646.6,619.1,898.1,729.7,641.1,591,560.9,541.29999999999995,515.4,952.4,767.7,669,612.20000000000005,577.9,555.70000000000005,527.6,1050,810.1,683.1,611.9,572.79999999999995,542.20000000000005,491.9,42.4,40.9,41,40.4,40,39.799999999999997,40,145.6,150.5,152.30000000000001,160.1,180,180,180,1082.4000000000001,908.1,821.8,785.8,771,765.2,756.7,714.9,607.29999999999995,559.29999999999995,541.79999999999995,535,532,525.6,679.5,580.9,542.4,526.4,519.4,515.79999999999995,511.5,653,563.1,529.70000000000005,512.70000000000005,500.9,493,486.9,659.3,559.9,523.9,507.3,491.6,477.2,455.8,658.8,552.79999999999995,514.79999999999995,491.5,474.2,462.4,442.7,679.8,564.9,519.70000000000005,494.3,470.2,447.5,423.9,751.7,614.4,542.29999999999995,510.7,486.3,461,413.4,886.4,706.3,600,539.4,510.3,487.3,440,1023.5,815.7,690.9,609.29999999999995,551.20000000000005,518.1,472.4,0.90669999999999995,1.1484000000000001,1.2681,0.70499999999999996,0.93520000000000003,1.0607,0,0,0,0,0.93169999999999997,0,0,644,"ARG00006732",8.0510000000000002,4690,20.6,33,22.3,62.9,0,744.5,587.79999999999995,532.29999999999995,957.4,721.8,636.4,670.7,0.89459999999999995,689.9,0.86970000000000003,0,0]
[null,"ARG491501","2ARG4915","ARG-4915","DON ANTONIO","FRAN 37","AST, FRAN","G, SCHROEDER",1990,null,null,"CLUB","C",170,"22 03 2018 17:44:34",11.18,9.49,1.8280000000000001,3.67,5814,109.6,0.21,643.4,0.96640000000000004,698.5,0,0,1039.0999999999999,848.4,740.4,677.5,639.1,615.4,590.6,993.8,814.5,719,667.2,638,619.20000000000005,596.20000000000005,881.6,713.7,624.4,573.1,542,522.1,497.4,937,752.7,653.20000000000005,595.1,559.4,536.4,507.9,1036.3,797.3,667.5,592.70000000000005,552.9,522.5,475.1,42.7,41.3,41.4,40.5,40,39.299999999999997,39.1,145.80000000000001,150.19999999999999,151.69999999999999,157.1,180,180,180,1066.7,891.8,798.3,753.2,733.6,723.8,716.7,701.8,594.4,541.5,519.5,510.6,506.1,503.3,666.2,567.4,524.70000000000005,506,496.4,491.6,488.1,640.1,549.29999999999995,512.5,494.5,481.8,472.1,462.9,647.29999999999995,550.6,507.6,491.4,476.4,462.9,441.1,653.20000000000005,543.29999999999995,500.8,478.2,458.9,446.3,430,673.7,557.5,506.7,481.6,459.9,439.8,413.3,745.6,607.70000000000005,531.4,496.8,474.2,452.2,412.1,876,697.1,592,528.20000000000005,496.9,475.6,434.7,1011.5,805,682.6,601.79999999999995,544.6,507.1,464.5,0.92059999999999997,1.1825000000000001,1.3166,0.71519999999999995,0.96,1.1029,0,0,0,0,0.95799999999999996,0,0,626.29999999999995,"ARG00006733",8.6750000000000007,6658,26.8,35,37,86.2,84.5,733.2,570.79999999999995,512.70000000000005,943.8,703.1,612,654.6,0.91659999999999997,673.9,0.89029999999999998,0,0]
[null,"ARG577501","2ARG5775","ARG-5775","GUALICHO","CORUM 300 CR","Ast, CORUM","PGYD",2007,"DON BOSCO",null,"CLUB","C",170,"22 03 2018 17:44:56",8.7509999999999994,8.2330000000000005,1.659,3.15,3297,118.2,0.23,682.7,0.91410000000000002,738.4,0,0,1107.3,899.9,782,713.4,673.1,651.79999999999995,619.6,1061.3,866.5,762.6,706.1,675,655.6,622.70000000000005,937.6,758,662.3,607.4,573.79999999999995,551.79999999999995,522.4,998.2,800.5,693.7,631.6,593.5,568.79999999999995,537.20000000000005,1102.5999999999999,845,706.1,627,585.79999999999995,553.70000000000005,500.4,42.9,41.3,41.1,40.4,39.6,39.299999999999997,39.1,146.5,150.80000000000001,152.69999999999999,161,180,180,180,1154.8,958.2,851.8,799.1,778.7,769.7,753.2,759.3,639.4,579.4,555.79999999999995,546.70000000000005,542.4,536.5,720.3,610,562.29999999999995,542.1,531.79999999999995,527.1,522.9,691,590.1,549.79999999999995,529.70000000000005,515.4,504.7,495.6,688.8,578.5,537.1,519.5,508.2,491.8,467.3,686.7,573.29999999999995,531.5,505.6,482.1,465.9,446.7,707.2,585.5,536.79999999999995,509.4,483.5,459.5,427.9,779.5,636.6,560.9,527.29999999999995,501.3,474.7,425.8,917.8,728.8,619.1,556.6,526.29999999999995,501.9,453.3,1059.8,841.5,712.2,627.70000000000005,567.5,533.9,485.9,0.86570000000000003,1.1156999999999999,1.246,0.67259999999999998,0.91,1.0465,0,0,0,0,0.90469999999999995,0,0,663.2,"ARG00006737",7.6079999999999997,3970,19.399999999999999,27.2,21.6,57.9,48.5,779.7,605,541.70000000000005,1003.6,741.8,645,692.9,0.8659,716.1,0.83789999999999998,0,0]
[null,"ARG362818","2ARG3628","ARG-3628","LIHUEN","PLENAMAR 40","AST, PLENAMAR","NESTOR VOLKER",1991,null,null,"CLUB","C",170,"22 03 2018 17:45:00",11.92,10.303000000000001,2.0670000000000002,3.91,7745,114.9,0.27,630.29999999999995,0.98899999999999999,682.5,0,0,1019.8,831.4,726.5,662.2,624.29999999999995,599.29999999999995,578.20000000000005,974.9,798.2,703.7,651,621.4,602.79999999999995,584.9,866.3,700.1,611.4,560.4,529.70000000000005,510.3,488,929.2,744.4,644,585,548.70000000000005,525.5,498.3,1017.2,782,654.4,578.20000000000005,538.79999999999995,509.2,466,42.4,40.9,40.9,40.6,39.799999999999997,39.4,39.9,145.4,149.80000000000001,151.1,155.30000000000001,171.7,180,180,1046.2,873,782.8,734.8,713.6,703.4,702.5,691,585.70000000000005,530.20000000000005,506.4,496.2,491.4,488.2,657.9,559.20000000000005,512.70000000000005,493,482.7,477.6,473.8,634.79999999999995,541.1,500.5,482,470,460.9,451.1,642.79999999999995,545.5,499.4,479,465.1,453.3,433.3,649.5,535.70000000000005,488.3,466.4,451.8,442.9,426.9,666,547.79999999999995,492.8,468,448.6,430.7,410.9,731.5,595.9,517.70000000000005,482,460.7,440.9,403.7,860.4,684,580.79999999999995,515.20000000000005,482.8,462.5,425.1,993.5,789.8,670.2,589.6,534.9,495.1,453.8,0.93579999999999997,1.2092000000000001,1.3468,0.72919999999999996,0.98070000000000002,1.1294999999999999,0,0,0,0,0.98060000000000003,0,0,611.9,"ARG00006738",9.2810000000000006,8700,31.3,35.799999999999997,43.7,107.8,0,721.3,558.20000000000005,501.2,925.7,688.3,597.6,644.6,0.93079999999999996,664.7,0.90269999999999995,0,0]
[null,"ARG558601","2ARG5586","ARG-5586","PEREGRINO","Mastracchio 28,5","Astilleros Del Sur","Mastracchio P",2014,null,null,"CLUB","C",170,"22 03 2018 17:45:10",8.8810000000000002,8.3780000000000001,1.698,2.98,2921,121.8,0.27,693.9,0.89700000000000002,752.5,0,0,1127.4000000000001,909.3,792,726.8,689.2,669.9,640.79999999999995,1080.2,877.3,772.6,719.2,691.2,674.5,644.1,953.6,770,672.9,617.9,585.20000000000005,564.4,537.4,1023.4,818.7,708.4,644.70000000000005,606.29999999999995,581.70000000000005,550.70000000000005,1122.0999999999999,854.5,715,637,596.1,565.29999999999995,512.9,42.7,41,40.1,40,39.700000000000003,39.9,40.1,146.19999999999999,150.5,152.69999999999999,159.6,180,180,180,1179.9000000000001,969.3,864.1,819.7,805.9,803.3,794.5,777.1,653.1,587.9,564.6,557.79999999999995,555.5,548.9,738.2,624,568.79999999999995,548.1,540.70000000000005,537.70000000000005,533.20000000000005,710.3,603,555.29999999999995,533.9,521.20000000000005,514.29999999999995,510.7,705.7,590,549.70000000000005,531.20000000000005,513.79999999999995,499.1,479.4,695.4,578.79999999999995,534.4,510.3,496.3,484.3,466.5,715.9,591.79999999999995,539.4,511.3,485.6,465.7,442,789.8,643.9,564.20000000000005,528.70000000000005,501.9,473.7,419.6,930.8,735.5,625.4,559.9,528.1,503,450.2,1074.8,849.3,719.9,633.79999999999995,572.4,536.6,487.1,0.85160000000000002,1.0994999999999999,1.2164999999999999,0.66279999999999994,0.89490000000000003,1.0167999999999999,0,0,0,0,0.89090000000000003,0,0,673.5,"ARG00006740",7.5069999999999997,3636,19.100000000000001,23.3,19.899999999999999,57,0,792.6,613.9,554.9,1018.4,754.3,663.8,707,0.84860000000000002,731.7,0.82,0,0]
[null,"ARG571801","2ARG5718","ARG-5718","SAN PATRICIO","N 34,5","AST, NOVATECNIA","PGYD",2013,null,null,"CLUB","C",170,"22 03 2018 17:45:16",10.462999999999999,9.91,1.6919999999999999,3.35,5896,122,0.27,650.5,0.95640000000000003,705.8,0,0,1085.8,875.4,756.1,681.5,638.9,612.5,583.5,1041.5,843.4,734.8,672.5,637.79999999999995,616.29999999999995,587.79999999999995,905,726.7,630.4,574.29999999999995,539.9,517.70000000000005,490.5,968.4,771.4,663.3,599.20000000000005,559.4,533.6,502,1079,820,677.6,592.70000000000005,549,516.70000000000005,467.9,44.5,42.6,42.1,42,41.3,40.9,40.299999999999997,145.30000000000001,149.69999999999999,151,156.19999999999999,173.8,180,180,1153.0999999999999,945.1,832.1,766.6,738.3,724.9,710.1,744.4,622.1,551.6,518.5,505,499.6,495.1,699.7,588.70000000000005,528.70000000000005,502.8,490.3,484.9,480.9,666.2,562.9,513.1,490.7,476.7,466.7,457.3,669.1,553.79999999999995,502.3,487.3,471.7,457.7,435,656.7,541,493,469.3,451.9,441.2,423.7,674.2,553.5,498.4,472.3,450.7,429.5,405.4,742.3,603.9,524.70000000000005,488.7,466,443.8,400.5,882,697.7,589.5,522,489.2,467.8,426.1,1018.4,805.6,680.2,596.4,539.5,500.1,457,0.89259999999999995,1.1778999999999999,1.3301000000000001,0.68840000000000001,0.94820000000000004,1.1097999999999999,0,0,0,0,0.9516,0,0,630.5,"ARG00006741",8.7490000000000006,6799,27.8,37,29.8,85.6,0,756.2,573.1,507.5,980.5,711.9,608.20000000000005,662.6,0.90549999999999997,685.3,0.87549999999999994,0,0]
[null,"ARG551401","2ARG5514","ARG-5514","TATA","N 34,5","NUEVO MILENIO","PGYD",2013,null,null,"CLUB","C",170,"22 03 2018 17:45:38",10.462999999999999,9.673,1.9590000000000001,3.35,5048,120.5,0.21,633.5,0.98429999999999995,685.8,0,0,1048.7,844.9,728.5,660.9,623.6,600.5,569,1002.5,810.7,707.1,650.9,620.79999999999995,601.6,570.20000000000005,878.6,706.4,614,560.6,528,506.6,478.7,943.8,752.4,648.1,586.70000000000005,548.79999999999995,524,492.1,1044.0999999999999,792.9,655.7,577.6,538.20000000000005,507.9,458,43.3,41.6,41.1,40.200000000000003,39.4,39.1,38.799999999999997,145,149.1,150.69999999999999,156.4,174,180,180,1094.4000000000001,896.1,787.9,733.7,714,705.6,688.6,715.5,596.4,533,508,499.5,495.6,489.5,676.5,567.9,515.79999999999995,494.7,485.5,481.4,477.1,647.5,547.70000000000005,504.2,483.4,469.9,461.1,454.4,651.6,540.5,494.7,477.6,465.2,449.9,428.6,644.6,532.1,487.8,463.5,443.7,429.4,409.9,662.8,544.20000000000005,493.2,466.3,441.9,421.6,390.6,732.3,593.1,517.4,483.3,458.6,433.7,386.7,868.6,687.3,579.70000000000005,515.5,484.1,461,415.5,1003,793.6,669.1,588.1,533.20000000000005,495.4,449.5,0.92100000000000004,1.2081,1.3579000000000001,0.71289999999999998,0.97909999999999997,1.1354,0,0,0,0,0.97719999999999996,0,0,614,"ARG00006745",8.9789999999999992,5911,26.3,35.9,29.4,85.5,65.2,732.9,558.70000000000005,497.1,946.8,689.4,594.5,647.4,0.92679999999999996,669.6,0.89610000000000001,0,0]
[null,"ARG140602","CHANTA","ARG-1406","CHANTA","CP 30","CESPEDES Y PEONA","GERMAN FRERS",1984,null,null,"CLUB","C",470,"23 03 2018 16:13:54",9.1199999999999992,7.4850000000000003,1.587,3.07,3547,110.7,0.18,707.2,0.88260000000000005,764.8,0,0,1123.0999999999999,927.9,806.7,738.4,698.7,678.3,660.9,1080,892,787,730.6,700.7,683.6,669.4,965.5,783.3,686.5,631.1,598.20000000000005,577.79999999999995,554.79999999999995,1017.4,820.2,714.2,652.79999999999995,615.70000000000005,592.5,565.9,1119.5,873,730.3,650.6,609.1,577.5,528,42.1,41.4,41.6,40.6,39.9,40,41.1,148,151.80000000000001,152,161,180,180,180,1159.2,983.5,872.7,823.7,805.7,799,810.3,772,655.5,596.5,574.5,565.9,562,561.70000000000005,737,627.4,581.29999999999995,561.5,550.79999999999995,545.9,543.70000000000005,711.8,610.1,570.9,549.70000000000005,534.6,523.29999999999995,513.29999999999995,719.6,612.79999999999995,565.4,543.6,529.20000000000005,512.9,489.8,728.8,604.20000000000005,556.79999999999995,529.4,506.5,489.3,473.2,748.1,616.29999999999995,562.5,533.5,507.4,485,455.4,813.9,667,584.9,550.1,524.29999999999995,499.5,457.4,941.4,756,643.5,579.5,549,525.20000000000005,481,1087.0999999999999,872.3,740.7,653.20000000000005,591.6,557.6,511.4,0.8397,1.0749,1.1887000000000001,0.65820000000000001,0.88,0.99729999999999996,0,0,0,0,0.87219999999999998,0,0,687.9,"ARG00006758",7.0289999999999999,4166,18.600000000000001,19.3,32.6,63.7,0,803.9,628,567.79999999999995,1025.5,767,676.8,714.6,0.8397,736.5,0.81469999999999998,0,0]
[null,"ARG222403","2ARG2224","ARG-2224","ASTARTE","NAVALTEC 37","AST, NAVALTEC","ING, TETTAMANTI",1984,null,null,"CLUB","C",170,"23 03 2018 16:41:40",11.21,9.3079999999999998,1.7190000000000001,3.68,7019,109.3,0.43,667.4,0.92620000000000002,728.8,0,0,1077.2,881.4,773.3,707.8,668,643.70000000000005,619.29999999999995,1034.7,850.1,753,699.6,669.2,650.4,628.1,914.7,740.3,647.5,594.6,562.9,543.1,520.1,977.1,784.5,680.2,619.29999999999995,582.1,558.29999999999995,530.1,1072.0999999999999,827.5,694.2,614.79999999999995,572.6,541.4,494.5,43.7,41.9,42.6,43.1,42.4,41.9,41.8,146.5,150.6,150.80000000000001,156.19999999999999,174.7,180,180,1128.5,944.9,852.7,806.3,783.6,773.7,766.6,737.1,626.6,563.79999999999995,538.1,528.5,524,522.4,698.5,594.6,541.5,520.20000000000005,511,506.6,504,670.9,571.20000000000005,526.1,506.3,494.4,486.6,480.1,677,574.6,524.6,502.3,487.8,476.1,458.2,677.7,559,510,487.7,474.8,466.3,451.4,693.1,570.1,513.70000000000005,488.1,468.3,451.8,434.9,755.9,618.29999999999995,537.29999999999995,502,479.8,459.3,422.9,888.5,708.2,601.20000000000005,533.70000000000005,502.3,481.5,443.3,1025.9000000000001,817.9,693.8,609.20000000000005,552.4,513.79999999999995,472,0.88660000000000005,1.1409,1.2646999999999999,0.68930000000000002,0.91949999999999998,1.0537000000000001,0,0,0,0,0.92359999999999998,0,0,649.6,"ARG00006760",8.0830000000000002,7859,27.8,30.3,42.8,102.2,0,761.3,591.6,533.70000000000005,979.3,734.1,640.6,682.1,0.87960000000000005,701.9,0.8548,0,0]
[null,"ARG448501","2ARG4485","ARG-4485","RECKLESS TOO","PANDORA 34","AST, MARCO","NESTOR VOLKER",1992,null,null,"CLUB","C",170,"23 03 2018 16:42:00",10.43,8.8960000000000008,1.647,3.54,5301,109.1,0.32,675.8,0.91790000000000005,735.4,0,0,1089.2,890.9,780.3,713.1,672.9,649.9,627.5,1045.5999999999999,858.8,759.6,704.8,674.4,656.3,635.79999999999995,925.7,749.4,655.7,602.1,570.1,550,526.4,985.2,791.4,686.7,625.70000000000005,588.6,565.1,537.29999999999995,1084.5999999999999,836.7,702,622.29999999999995,580.5,549.20000000000005,501.1,43.2,41.6,42,42,41.2,40.9,41,146.4,150.69999999999999,151.6,157.5,180,180,180,1135.3,950.8,855.1,805.2,784.4,775.8,773.4,743.8,631.29999999999995,571.29999999999995,546.29999999999995,536.79999999999995,532.29999999999995,530.70000000000005,705.1,599.70000000000005,550.70000000000005,530.20000000000005,520.4,515.9,513.20000000000005,676.6,577.6,535.9,516.79999999999995,504.5,495.6,487.3,682.8,580.29999999999995,532.5,512.5,497.7,485,464.4,686.2,568.1,521.20000000000005,498.2,480.8,470.8,453.4,703.9,580.4,525.6,499.8,478.8,459.1,436.7,770.5,630.1,549.5,514.29999999999995,491.6,469.9,430.6,903.3,719.7,612,545.6,514.20000000000005,492.8,452.4,1043,831.1,705.5,620.9,561.4,524,481.6,0.87660000000000005,1.1266,1.2490000000000001,0.68179999999999996,0.91190000000000004,1.0428999999999999,0,0,0,0,0.91239999999999999,0,0,657.6,"ARG00006764",7.8869999999999996,6069,24.4,28,33.799999999999997,79.900000000000006,0,770,599.1,540.4,990,740.2,647.20000000000005,687.9,0.87229999999999996,708.5,0.84689999999999999,0,0]
[null,"ARG562601","ARG5626","ARG-5626","PULSION","MM 35","MILLENIUM MARINE","Javier Soto Acebal",2012,null,null,"INTL","C",620,"29 03 2018 19:04:14",10.53,9.5630000000000006,1.595,3.37,4445,124.5,0,618.4,0.99129999999999996,680.9,0,0,1005.3,815.7,711.6,659.2,629.6,609.5,586.20000000000005,963.1,784.6,695.8,652.79999999999995,628.5,610.6,588.29999999999995,845.5,684.9,600.1,552,522.9,503.8,478.8,900,723.4,628.9,574.5,541.5,520.1,493.3,1000.1,764.5,640.5,573.4,535.4,503,451.2,45,43.8,42.9,42.1,41.8,42.3,43.6,140.69999999999999,148.4,150.19999999999999,157.80000000000001,180,180,180,1057.9000000000001,873,784.9,755,744.6,737,741.5,680.8,569.1,522.70000000000005,508.9,503.4,501.3,495.6,637.9,540.4,504.5,491.7,486.2,483.7,476.2,605.29999999999995,521.9,490.9,473.5,462.5,456.4,451.2,607.29999999999995,520.6,487.4,465.7,446.7,431,415.7,616.4,513.4,475.7,449.5,431.4,416.8,394.2,630.79999999999995,521.5,479.6,449.3,420.9,398.8,371.3,694.1,560.9,499,468.2,438.7,409.9,350.6,825.1,656.8,552.79999999999995,497.6,469.1,441.9,389.4,952.8,758.4,638.20000000000005,563.5,514.6,482,430.9,0.9627,1.2287999999999999,1.3633,0.74129999999999996,0.98929999999999996,1.1143000000000001,0,0,0,0,0.99409999999999998,0,0,603.6,"ARG00006781",8.6929999999999996,5274,24.6,42.3,32.5,94.2,0,701.2,549.29999999999995,495.1,910.6,682.3,605.79999999999995,632.79999999999995,0.94820000000000004,648.9,0.92459999999999998,0,0]
[null,"ARG102","ARG0001","ARG-001","MAC","S 40 OD","M BOATS","SOTO ACEBAL",2008,null,null,"INTL","R",900,"04 04 2018 18:19:38",12.3,12.196,2.6139999999999999,3.8,4454,126.4,0,508.2,1.2072000000000001,559.20000000000005,0,0,819.2,659.3,589.20000000000005,552.9,523.79999999999995,494.9,452.7,778.7,633.29999999999995,570.29999999999995,535.9,508.9,487,462.2,692.6,563,494.2,453.5,426.4,406.1,375.3,759.1,611,530.79999999999995,482.8,451.5,429.3,398.6,817.6,620.79999999999995,531.4,477.5,442.3,408.1,355.7,43.8,41.4,39.299999999999997,38.4,38.200000000000003,37.799999999999997,38.299999999999997,142.1,140.69999999999999,148.30000000000001,152.19999999999999,148.1,145.1,144.80000000000001,835.7,687.1,640.70000000000005,621.9,606.79999999999995,595.9,596.1,543.70000000000005,463.6,445.3,437.3,431.9,423.6,419.8,510.6,448,430.6,421.6,415.8,406.4,397.3,487.9,436.4,409.6,394.1,384.6,378.6,360.4,492.4,437.1,403.8,374.6,358,347.8,335.4,500.5,432.4,404.7,379.4,358.5,334,293.8,516,434.7,393.8,368.4,346.8,324.60000000000002,288.10000000000002,581.4,459.1,414.5,370.3,330,302,264.89999999999998,695.2,546.79999999999995,465.6,416.1,381.7,341.1,267.8,802.8,631.4,537.6,483.8,440.8,393.8,309.2,1.181,1.4830000000000001,1.6967000000000001,0.91310000000000002,1.1914,1.3880999999999999,0,0,0,0,1.2098,0,0,496,"ARG00006785",11.862,5677,30.9,64.2,42.5,0,187.2,571.5,455.2,397.8,739.2,566.6,486.3,535.5,1.1205000000000001,546.9,1.0971,0,0]
[null,"ARG530001","ARG5300","ARG-5300","MAD MAX","MUMM 36","AST, DEL SUR","BRUCE FARR",1993,null,null,"INTL","R",650,"04 04 2018 18:19:46",10.9,9.8450000000000006,2.3029999999999999,3.61,3767,118.3,0.1,595.20000000000005,1.0412999999999999,648.20000000000005,0,0,979.7,787.2,678.3,625.4,594.79999999999995,575.1,540.70000000000005,930.6,750.7,658.3,613.20000000000005,587.70000000000005,569.5,532.9,823,662.9,577.29999999999995,527.5,496.2,474.4,442.8,885.3,707.1,610.5,553.79999999999995,518.29999999999995,494.2,460.8,978,740.1,613.79999999999995,546.6,508.8,476.4,419.9,42.4,41.2,39.5,38.5,38.1,38.1,37.9,141.6,147.4,150,156.80000000000001,173.7,180,180,996.7,814.5,718.9,687.4,675.7,671.6,658.7,656.6,545.20000000000005,501.9,487.4,481.7,478.8,469.9,622.5,524.5,489.5,473.5,465.8,461.5,452.3,597.79999999999995,511.7,479.6,457.4,440.4,431.1,423.7,606.70000000000005,507.8,472.6,451.3,430.4,410.9,388.7,611.6,505.7,465.5,433.2,404.4,385.8,358.5,629.6,515.70000000000005,472,436.5,403.9,376.1,333.7,699.6,560.6,495.5,462.3,429.1,396.6,331.2,833.7,658.1,552.20000000000005,495.3,464.3,433.8,374.9,962.7,760,637.70000000000005,563.29999999999995,513.79999999999995,478.7,422.7,0.98640000000000005,1.2816000000000001,1.4514,0.7641,1.0403,1.1901999999999999,0,0,0,0,1.0390999999999999,0,0,577.4,"ARG00006786",9.6419999999999995,4638,24.8,38.4,30.4,87.7,71.900000000000006,684.3,526.70000000000005,465.1,883.4,648.9,567.1,611.4,0.98140000000000005,630.5,0.9516,0,0]
[null,"ARG517001","2ARG5170","ARG-5170","MAX POWER","MATCH 30","AST, SPEEDCRAFT","GERMAN FRERS",1993,null,null,"CLUB","R",170,"04 04 2018 18:19:54",9.1199999999999992,8.06,1.99,3.11,2095,107.2,0.1,640.79999999999995,0.96870000000000001,696.8,0,0,1022.9,827.8,727.6,678.7,647.6,624,592.29999999999995,972.6,793.5,708.9,668.2,642.4,620.20000000000005,591.9,871.7,708.2,622.4,573.4,543,522,492.4,932.9,750.9,653.70000000000005,597.29999999999995,562.20000000000005,538.6,507.7,1021.5,780,660.5,595.70000000000005,557.1,524.6,470.8,41.6,40.299999999999997,38.5,38.200000000000003,38.1,37.6,38.5,144.4,148.1,151.80000000000001,160.19999999999999,180,180,180,1037.2,856.9,781.5,759.3,750.8,738,736.4,689,582.70000000000005,548.79999999999995,538.29999999999995,533.5,529.9,522.6,655.20000000000005,563.70000000000005,534.70000000000005,522.4,516.20000000000005,514.9,502.3,630.6,550.9,521.20000000000005,501.2,488,481.2,473.9,639.70000000000005,549.4,519.20000000000005,493.5,471.2,454.7,440.1,638.1,541.79999999999995,504,478.6,460.9,445.2,415.9,658.7,550.9,508.5,472.1,443.5,426.2,395.3,733.6,593.29999999999995,532.29999999999995,495.8,459.7,425,359.7,873.5,691.7,584.9,530.9,497,463.5,398.8,1008.6,798.7,673.7,598.1,544.5,509.9,448.2,0.93679999999999997,1.1809000000000001,1.3163,0.72950000000000004,0.96479999999999999,1.0922000000000001,0,0,0,0,0.96160000000000001,0,0,624,"ARG00006788",7.8979999999999997,2711,17.2,27.4,19.399999999999999,57.5,0,720.5,571.6,512.79999999999995,925.3,699.6,618,655.20000000000005,0.91579999999999995,674.1,0.8901,0,0]
[null,"ARG483603","arg4836","ARG-4836","MERCENARIO 4","SOTO 44 C/R","E, ANZOLA","J, SOTO A,",2004,null,null,"INTL","C",876,"04 04 2018 18:20:02",13.48,12.010999999999999,2.778,3.55,7812,146.4,0,532,1.1609,581.4,0,0,864.3,696.9,610.4,566.20000000000005,540.1,516.4,488.7,820.5,664.7,590.20000000000005,554,531,510.2,484.7,728.4,589.6,516.4,474.3,448,429.6,403.9,780.3,626.79999999999995,544.20000000000005,495.8,465.4,444.7,417.5,863.4,655.29999999999995,551.20000000000005,493.1,460.3,430.8,386,42.9,41.8,40.1,39.1,38.6,38,38,142.30000000000001,145.19999999999999,148.5,155.19999999999999,164.4,180,180,872.8,712.5,646.9,623.9,613.29999999999995,599,592.6,570.9,474.9,447.1,438.4,434.1,429.8,423.1,538.79999999999995,458,434.4,426,421.2,418.5,408.5,514.70000000000005,448.3,423.4,408.9,401,395.8,385.9,520.4,449.8,422.8,401.7,384.5,372.9,361.6,542.9,450.6,416.7,391.7,376.1,362.6,337.1,560.5,459,421.2,392.5,367.6,346.7,319.39999999999998,623.1,499.9,441.9,413,384.9,356.8,300.7,741,590,497.1,445,417,391.1,340.1,855.7,681.2,574,508.6,467,433.7,384.7,1.1195999999999999,1.4261999999999999,1.6001000000000001,0.86480000000000001,1.1532,1.3186,0,0,0,0,1.1579999999999999,0,0,518.1,"ARG00006789",11.734,8971,37.5,77.599999999999994,50.5,153.9,119.7,602.9,473.3,421.8,780.5,585.29999999999995,511.9,547.9,1.0951,561.29999999999995,1.0689,0,0]
[null,"ARG462101","2MISSLILY","ARG-4621","MISS LILY","PANDORA 31","AST,MARCO","GERMAN FRERS",1994,null,null,"CLUB","C",170,"04 04 2018 18:20:08",9.5,8.9979999999999993,1.6659999999999999,3.29,4331,120.4,0.28999999999999998,673.8,0.92179999999999995,732.3,0,0,1092.7,890.1,777.7,708.6,668.5,646.6,624.29999999999995,1044.3,855.9,756,700.8,670.4,652.4,630.6,923.1,747.2,653.79999999999995,600.4,568.4,548.20000000000005,523.70000000000005,980.6,787.6,683.5,623,586.29999999999995,563,535.1,1088.7,835.3,699.9,620.20000000000005,579,548,499,43,41,41.1,40.9,40.299999999999997,40,40.1,146.1,151.1,151.6,158.5,180,180,180,1132.5,944.1,847.7,797.2,776.7,768.6,766.8,743.8,630.70000000000005,571.29999999999995,546.9,537.6,533.29999999999995,532.1,705.6,600.20000000000005,551.70000000000005,531.6,521.9,517.4,515,676.9,578.4,537.5,518.6,506.2,497.1,489,673.2,567,526.4,513.4,499.3,486,464,669.1,559.70000000000005,519.29999999999995,496.8,478.2,466.8,448.5,691,574.1,525,500.3,478.2,456.3,430.1,765.8,629.29999999999995,550,516.20000000000005,493.4,470.3,425.6,911.8,723.9,613.9,546.5,515.9,494.4,450.8,1052.9000000000001,836.1,707.7,620.1,560.29999999999995,524.6,481.7,0.87960000000000005,1.1296999999999999,1.2533000000000001,0.68089999999999995,0.91620000000000001,1.0486,0,0,0,0,0.91469999999999996,0,0,655.9,"ARG00006790",8.0079999999999991,5116,21.3,29.2,25.5,61.4,66.099999999999994,767.4,597.5,538.6,991.3,736.7,643.70000000000005,684,0.87719999999999998,705.3,0.85070000000000001,0,0]
[null,"ARG505502","arg5055","ARG-5055","MONARCA","MONARCA 33","CORUM YACHTS","H, SALERNO",2007,null,null,"CLUB","C",585,"04 04 2018 18:20:14",9.9969999999999999,9.3219999999999992,2.157,3.09,4025,124,0.11,621.79999999999995,1.0057,671.2,0,0,1013.7,819.2,706.5,647.5,612.79999999999995,592.4,561.9,963.4,781.4,684.5,635.5,609,591.20000000000005,559.29999999999995,856.3,691.2,603.1,552.4,521.20000000000005,500.3,471.7,910,729.1,631.4,574.5,539.4,516.29999999999995,485.7,1012.7,771.1,640.29999999999995,570.1,532.5,502,451.8,41.9,40.6,39.200000000000003,37.5,37.299999999999997,37.299999999999997,37,144.80000000000001,149.30000000000001,151.30000000000001,158,180,180,180,1024.4000000000001,843.8,742.7,704.7,691,685.3,673.3,679.7,568.9,520.79999999999995,504,498.1,495.2,488.2,646.6,547.79999999999995,509.1,492.2,485,481.3,475.2,622.4,534.29999999999995,500.6,480.7,466.1,457.8,451.1,632,534.4,496.3,480.6,460.5,442.5,421,639.4,531.29999999999995,490.7,463.1,438.8,424.7,401.7,659.9,543.9,497.6,468.5,440.1,413.5,380,732.4,593.9,521.9,489,462.1,434.4,379.3,868.7,688.1,581.20000000000005,520,489.5,464.4,414,1003.1,794.6,670.2,590.29999999999995,534.70000000000005,499.5,450.5,0.94740000000000002,1.2262999999999999,1.3749,0.73650000000000004,1.0033000000000001,1.1516999999999999,0,0,0,0,0.99450000000000005,0,0,603.29999999999995,"ARG00006791",9.1509999999999998,4826,22.9,36,27,70.900000000000006,0,712.5,550.4,490.9,916.5,672.8,586.1,631.20000000000005,0.95050000000000001,651.79999999999995,0.92049999999999998,0,0]
[null,"ARG373713","ARG3737","ARG-3737","MONTE ANCHO","F&C 40","AST, F&C","GERMAN FRERS",1986,null,null,"CLUB","C",712,"04 04 2018 18:20:18",12.3,10.345000000000001,2.1379999999999999,3.83,7072,118,0,596.20000000000005,1.0463,645.1,0,0,952.6,779.8,680.3,625.9,593,570.9,546.9,906.8,744.1,658.5,614.20000000000005,588.9,571.1,549.29999999999995,812.7,659.7,578.9,532.70000000000005,504.6,486.3,463.3,856.7,691.3,602.5,551,519.20000000000005,498.4,472.1,952.3,734.2,616.1,550.29999999999995,515.1,487.1,444.4,42.2,41.4,40.4,38.799999999999997,38.4,37.9,37.6,145.1,149.4,150.30000000000001,156.4,173,180,180,955.4,800.2,717.3,684.1,668.4,659.3,653.5,633.1,535.9,498.4,484.6,478.2,474.7,472.3,602,517,487.1,473.5,466.3,462,458.3,579.70000000000005,505.8,478.6,462.9,451,442.6,434.4,586.9,507.8,478.1,459.9,444.8,431.5,412.7,621.70000000000005,514.1,474.2,451.8,432.8,421.6,404.4,636.70000000000005,524.29999999999995,478.9,454,431.7,412.2,388.4,698.7,569.20000000000005,499.6,469.4,446.8,424.2,384.1,822.6,657.8,557.20000000000005,498.4,470.5,449.3,408.3,949.8,759.5,643.29999999999995,567.79999999999995,517.6,482.5,440.2,1.0006999999999999,1.2723,1.4123000000000001,0.7792,1.0406,1.1896,0,0,0,0,1.0337000000000001,0,0,580.5,"ARG00006792",9.9369999999999994,8032,29.2,43.7,55.7,116.6,0,674.5,530.5,477.9,866.3,648.70000000000005,567.4,605.20000000000005,0.99139999999999995,621.1,0.96599999999999997,0,0]
[null,"ARG528201","arg5282","ARG-5282","MUKA MALUGA 3","NATIVO 38","AST, NATIVO","GERMAN FRERS",2006,null,null,"CLUB","C",700,"04 04 2018 18:20:22",11.6,10.866,2.7770000000000001,3.65,9704,121.3,0.37,616.29999999999995,1.0213000000000001,660.9,0,0,1001.9,816.1,709.4,639.5,599.5,574.6,547.79999999999995,959.1,783.2,685.1,627.6,595.79999999999995,576.70000000000005,550.79999999999995,851.7,686.6,597.70000000000005,546,514.6,494.4,470,910.7,728.3,628.4,569.4,532.9,509.4,481.6,998.5,768.1,639.70000000000005,561.20000000000005,522.70000000000005,494.9,453,41.5,39.4,39.299999999999997,38.700000000000003,37.6,37.1,36.200000000000003,145.1,150.4,152,155.6,172,180,180,1035.9000000000001,857.8,757.9,697.4,672.4,661.1,646.4,691.5,584.5,520.1,493.1,481.8,477.3,473.9,660.7,559.79999999999995,504.6,482.3,471.3,466,462.1,639,541.9,494.3,473.7,461.2,452.3,443.2,646.9,536.70000000000005,486.7,470.3,458.9,447,427.4,630.6,522.70000000000005,478,457.2,441,430.5,414.9,648.29999999999995,537,484.3,460.7,442.4,424.6,400.3,713.1,586.5,510.2,475.8,455.9,437.8,401.2,838.2,670.5,573,508.5,476.8,457.8,423.4,967.9,774.3,660.8,581.5,526.6,488,449.3,0.94930000000000003,1.2396,1.3916999999999999,0.74260000000000004,1.0113000000000001,1.1826000000000001,0,0,0,0,1.0062,0,0,596.29999999999995,"ARG00006793",10.018000000000001,10775,33.299999999999997,47.6,39.5,109.2,0,711.1,544.5,485,909,667.5,570.79999999999995,626.5,0.95760000000000001,648.79999999999995,0.92479999999999996,0,0]
[null,"ARG462701","2NICO","ARG-4627","NICO","MAGIC 33","MORETI","J, SOTO",2001,null,null,"CLUB","C",170,"04 04 2018 18:20:28",10.199999999999999,9.3369999999999997,2.0219999999999998,3.33,4057,122.6,0.18,632.20000000000005,0.98480000000000001,685.4,0,0,1019.3,827.4,720.5,663.7,629.1,608.79999999999995,577.5,970.5,791.8,700.2,653.79999999999995,627.5,609.6,577.5,864.9,700.4,613.5,564.1,534,514,486.4,923.7,741.1,642.9,586,551.20000000000005,528.4,498.5,1017.2,778.2,652.1,583,545.20000000000005,515.9,466.6,41.8,40.299999999999997,39.700000000000003,38.6,38.200000000000003,38,38.5,144.6,149.1,150.9,158.19999999999999,180,180,180,1040,862.4,772.7,738,723.7,717.4,703.6,690.1,580.70000000000005,535,518.70000000000005,512.1,508.9,501,656.3,557.79999999999995,520.4,504.9,497.9,494.1,487.4,631.29999999999995,542.20000000000005,509.3,491.7,479.2,471.1,464.4,639.1,538.79999999999995,507.4,487.1,470.1,454.6,433.6,635.70000000000005,531.5,494.2,471.1,457,444.5,424.3,655.20000000000005,542.29999999999995,498.7,471.6,445.9,428,404.4,726.4,589.79999999999995,521.20000000000005,489.6,463,435.8,383.7,864.8,686.3,579.4,519.70000000000005,490.2,465.2,414.7,998.6,792.5,668.4,589.4,534.6,500.3,451.5,0.94079999999999997,1.2023999999999999,1.3366,0.73099999999999998,0.98160000000000003,1.1209,0,0,0,0,0.97560000000000002,0,0,615,"ARG00006794",8.7620000000000005,4863,22.7,35.5,24.6,74.2,0,717.5,561.4,505,923.4,687.7,602.20000000000005,645,0.93020000000000003,663.5,0.90429999999999999,0,0]
[null,"AUS4205",4205,"B45","SCAMP","Beneteau First 45","Beneteau yachts","B Farr",2008,"4171 QLD",null,"INTL","C",903,"27 06 2017 16:24:06",13.68,12.333,2.3639999999999999,4.2,11371,129.80000000000001,0.22,583.1,1.0649999999999999,633.79999999999995,0,0,992.6,797.3,685.7,611.70000000000005,569.9,542.29999999999995,513.79999999999995,950,765.6,662.2,599.70000000000005,564,542,515.29999999999995,819.2,654.79999999999995,564.79999999999995,511.5,478.2,456.3,429.2,885.2,701.4,599.20000000000005,537.5,498.5,472.9,442.1,1007.4,770.6,635.70000000000005,552.4,498.1,460.5,409.4,44.2,42.7,42.5,41.7,40.299999999999997,39.5,39.5,144.1,148,150.30000000000001,153.30000000000001,160.69999999999999,180,180,1044.8,853.6,747.1,676.8,644.29999999999995,628.79999999999995,615.1,673.9,559.1,492,457.8,443.5,437.6,432.8,630,526,469.5,443.6,430.7,424.3,419,595,499.4,454.1,433,418.5,406.9,394.4,596.5,491.2,442.9,425.2,416.3,402.4,376.6,598.5,488.4,440.3,416.8,397.6,384.4,366.1,618.4,503.1,446.9,421.6,400.6,379.5,350.6,686.1,552,474.7,438.1,416.8,396.8,356.6,814.3,641.79999999999995,540.70000000000005,476.1,440.2,419.6,382.3,940.3,741.1,624.29999999999995,546.5,495.4,455.8,412.4,0.98329999999999995,1.3179000000000001,1.5125999999999999,0.75419999999999998,1.0524,1.2535000000000001,0,0,0,0,1.0625,0,0,564.70000000000005,"AUS00000728",11.035,12609,43,58.1,49.9,151.30000000000001,134.69999999999999,686.5,512.20000000000005,446.3,895,641.4,538.5,600.20000000000005,0.99970000000000003,619.4,0.96870000000000001,0,0]
[null,"AUS323300",3233,"B330","HARTBREAKER","Reichel Pugh 46","Hart Marine","Reichel/Pugh",2003,"VICTORIA 3186",null,"INTL","R",1079,"29 06 2017 09:18:08",14.21,13.58,3.31,3.58,7137,157.69999999999999,0,490,1.2523,539,0,0,813.7,649.79999999999995,566.9,525.9,501.2,474.8,429.2,774,622.20000000000005,549.20000000000005,510.5,483.6,460,432.1,677.2,546.20000000000005,475.8,433.9,406,384.8,351.2,744.8,594.5,511.9,461.7,428.6,404.9,372.4,835.2,643.20000000000005,535.20000000000005,468.2,422.4,387.7,333.8,43.3,42.4,39.799999999999997,38.5,37.4,36.5,36.200000000000003,141.5,141.9,147.9,152.5,149.5,146.80000000000001,142.19999999999999,842.1,680.6,609,578.9,561.6,546.70000000000005,537.9,546.4,449,419.5,408.2,401.3,394.4,383.6,509.9,429.7,405.1,393.2,384.7,378.3,362.5,477.9,416.8,388.5,367.2,355.3,347.6,331.9,478.8,418,388.5,356.9,333.5,320.89999999999998,306.7,485.9,412.7,387.5,365.5,344.2,324.3,273.5,505.4,419,380.6,356.6,337.3,316.39999999999998,274.39999999999998,566.6,450.5,405.5,369.9,332.8,298.8,262.8,680,536.1,454.4,407.8,381.7,349,277.60000000000002,785.2,619,524.70000000000005,473,440.8,402.9,320.5,1.2020999999999999,1.5498000000000001,1.7923,0.92249999999999999,1.2414000000000001,1.4538,0,0,0,0,1.2585999999999999,0,0,476.7,"AUS00000732",13.443,8572,38.799999999999997,79.7,51.2,0,219.9,561.5,435.5,376.6,731.7,543.70000000000005,464.3,516.5,1.1616,528.1,1.1361000000000001,0,0]
[null,"AUS280800",2808,6024,"WINDY TOO","FARR 40 One Design","McConaughy","FARR",1996,"NSW 2075",null,"INTL","R",781,"29 06 2017 09:27:26",12.411,11.228999999999999,2.593,3.96,5000,128.6,0,530.70000000000005,1.1594,582.20000000000005,0,0,857.7,692.6,611.1,568.29999999999995,541.6,519.20000000000005,478.5,819.8,666.8,594.29999999999995,555.79999999999995,529.5,507,480.3,724.1,588.1,515.79999999999995,473.3,445.5,424.9,393.8,782.7,629.79999999999995,546.9,497.6,465.6,443.2,412.1,889.6,690.3,578.79999999999995,510,463.4,428.4,374.5,43.2,42.6,39.700000000000003,38.4,37.5,36.799999999999997,37,143.30000000000001,142.69999999999999,150.1,157.30000000000001,172.4,180,142.19999999999999,892.2,730.7,660.9,632.70000000000005,617.70000000000005,604.29999999999995,598.9,579.9,485.9,459,448.3,442,435.3,425.9,542,468,444.2,432.2,424.2,418.7,404.3,509.9,455.1,427,405.9,394.5,387.1,374,509,453.6,424.1,394.9,372.3,358.7,345.6,525.29999999999995,451,421.2,399.8,379.8,361.3,314,541.9,456.9,417.7,389,369.7,350.8,311.5,600.70000000000005,485.2,441.2,405.3,369.2,332.7,290.39999999999998,712.9,566.9,486.1,443.6,411.1,378.5,310.2,823.2,654.6,561.20000000000005,503.9,465.6,434,358.2,1.1267,1.4233,1.6207,0.87080000000000002,1.1514,1.3247,0,0,0,0,1.1597999999999999,0,0,517.29999999999995,"AUS00000734",11.185,6058,29.8,64.400000000000006,40.4,159.30000000000001,0,599.1,474.2,416.5,775.1,586.20000000000005,509.5,551,1.089,563.70000000000005,1.0644,0,0]
[null,"AUS271200",2712,10447,"LE BILLET","FIRST 44,7","BENETEAU","FARR",2003,"NSW 2106",null,"INTL","R",1020,"29 06 2017 10:06:36",13.352,11.95,2.6349999999999998,3.97,9781,125.2,0,564.5,1.1005,613.4,0,0,928.2,755.6,652.29999999999995,593.1,559,534.9,509,886.6,722.1,631.29999999999995,581.70000000000005,553.4,533.79999999999995,508.8,778.3,628.20000000000005,547.70000000000005,500.9,471.9,452.7,428.4,830.3,665.4,575.4,522.20000000000005,488.7,466.6,438.4,955.3,737.8,615,539.9,491.2,457.5,411.4,43.3,42,41.6,39.700000000000003,38.299999999999997,38.1,37.700000000000003,142.9,147.80000000000001,150,155,165.8,180,180,956.3,793.4,697.3,650.70000000000005,628.9,616.70000000000005,606.29999999999995,623.70000000000005,523.5,471.9,453,445.4,441.3,437.8,586.5,496.3,457.3,440.9,433.3,428.9,424.4,555.20000000000005,477.3,447.1,429.6,416.6,408.4,400.7,554.6,475.5,443.3,427.2,411.2,395.9,376.4,577.9,477.9,439.5,417.4,401.7,390.9,371.9,596.4,489.3,445.2,421.4,398.4,379.4,358,659.4,534.29999999999995,466.9,437.5,416,393.9,350.3,779.5,621.70000000000005,525.9,467.9,439.5,419.3,378.6,900.1,717.9,607.20000000000005,535.4,489,453.1,411.7,1.0405,1.3503000000000001,1.5203,0.80179999999999996,1.0925,1.2706999999999999,0,0,0,0,1.0925,0,0,549.20000000000005,"AUS00000735",11.241,10985,38.4,63.5,56.1,155.19999999999999,139.80000000000001,648.70000000000005,499.9,444,841.9,617.79999999999995,531.20000000000005,578.29999999999995,1.0375000000000001,593.79999999999995,1.0104,0,0]
[null,"AUS271400",2714,545,"PRETTY WOMAN","FARR45","CARROLL","FARR",1996,"NSW   1590",null,"INTL","R",1020,"29 06 2017 10:34:10",13.801,12.43,2.9009999999999998,4.1900000000000004,7298,137.80000000000001,0,517.79999999999995,1.1898,567.29999999999995,0,0,858.8,692.5,596.70000000000005,548.4,521,499.5,464.5,817.9,659.8,578.20000000000005,535.9,509.6,488.6,457.4,715.5,577.1,502.6,458.6,430.2,409.9,380.4,772.7,618.29999999999995,533.9,483.3,450.5,427.5,395.2,881.1,678.8,564.6,494.2,447.3,412.9,361.8,43.3,42.4,40.200000000000003,38.799999999999997,37.700000000000003,36.9,36.5,142,139.69999999999999,146.4,154.30000000000001,164,180,147.30000000000001,884.6,722.5,637.20000000000005,603.79999999999995,586.79999999999995,574.70000000000005,563.1,574.70000000000005,475.7,438.9,426.5,419.4,414.4,402.7,537.5,454.5,426.1,411.9,402.9,396.8,383.5,505.5,440.7,413.5,390.7,376,367.5,358.6,506,440.3,413.2,386.9,362.7,344.6,327.60000000000002,522.5,438.4,403.3,383.5,365.5,348.5,314,538.9,444.7,407.9,374.1,354,337.5,303.60000000000002,605.79999999999995,481.7,428.7,397.4,365.3,332.9,279.8,721.3,573.70000000000005,481.7,430.9,403.3,374.2,316.89999999999998,832.9,662.5,556.20000000000005,493,455.2,424.4,365.9,1.1336999999999999,1.4699,1.6814,0.87019999999999997,1.1849000000000001,1.3726,0,0,0,0,1.1914,0,0,503.6,"AUS00000737",12.331,8549,37.700000000000003,76.7,50.5,199.8,0,595.4,459.2,401.5,775.7,569.70000000000005,491.8,537.6,1.1160000000000001,550.79999999999995,1.0892999999999999,0,0]
[null,"AUS277200",2772,"A164","STICKY","SALONA 38","AD BOATS","JAKOBIN/KER",2011,"NSW 2114",null,"INTL","R",724,"29 06 2017 11:56:32",11.462,10.443,2.3410000000000002,3.58,6506,121,0.11,605.5,1.0204,661.5,0,0,998.1,810.7,698.6,637.6,610,582.1,555.20000000000005,955.1,776.1,677.2,623.79999999999995,595.1,574,550.6,835.7,673.7,587.20000000000005,537.29999999999995,506.9,487.1,462.2,901.5,719.9,620.4,561.5,524.79999999999995,500.9,471.9,1024.8,791.2,659.5,579.20000000000005,527.29999999999995,491.1,441.7,43.1,41.7,41.5,39.799999999999997,38.5,38.4,38.200000000000003,144,147.80000000000001,147.5,149.69999999999999,152.5,176.1,178,1041.0999999999999,860.8,754.5,698,674.4,662.4,655.20000000000005,680,568.9,508.9,485,476.2,471.7,468.2,639.9,538.20000000000005,492.2,472.3,462.8,457.8,453.4,607.29999999999995,516.4,480.8,461,445.7,435,426.7,608.5,506.3,472,459.2,441.8,424.8,401,605.4,502.4,464.8,440.3,425.5,414,393.6,624.1,514.1,471.4,445.7,419.8,399.3,377.1,698.8,564.29999999999995,493.9,463.8,440,415.7,368.5,827.3,658.8,556.6,499.9,475.9,455.8,416.7,955.2,760.7,642.70000000000005,577.29999999999995,545.5,501.8,455.2,0.96930000000000005,1.2607999999999999,1.4113,0.74629999999999996,1.0143,1.1657999999999999,0,0,0,0,1.0192000000000001,0,0,588.70000000000005,"AUS00000738",9.798,7483,30.6,45.5,37.9,0,123.6,696.4,535.4,478.3,904.5,665.5,579,621.70000000000005,0.96499999999999997,640.70000000000005,0.9365,0,0]
[null,"AUS263900",2639,7027,"THE GOAT","SYDNEY 38","Sydney Yachts","MURRAY BURNS DOVEL",2000,"ABN 69 620 959",null,"INTL","R",748,"29 06 2017 14:17:34",11.78,10.706,2.6030000000000002,3.71,5391,121.3,0.03,571.20000000000005,1.0835999999999999,622.9,0,0,937,759.6,653.70000000000005,601.29999999999995,570.9,550.1,517.6,897,727.3,636.79999999999995,590.6,564,544.5,511,786.7,635.20000000000005,554.29999999999995,507.2,477.5,457,427.8,851.3,680.9,588,533,498.1,474.5,443,963,744.3,621.20000000000005,545.9,496.5,461.1,409.3,43.1,42,40.799999999999997,39.4,38.5,38.1,37.799999999999997,142.80000000000001,146.6,150,156.69999999999999,172.3,180,180,980.9,806.5,704.9,666.6,650.20000000000005,641.5,628.5,639.20000000000005,531.79999999999995,482.8,467.7,461.2,457.6,448.6,600.29999999999995,506.1,469,453.4,446.1,441.6,431.5,568.4,489,458.3,436.3,420.8,412.9,405.6,569.4,483.6,457.4,434.2,410.7,391.2,373.9,573.6,479.6,443.6,423.1,407,391.3,364.1,589.79999999999995,488,449.7,417.1,393.2,377.5,348.4,653.5,527.4,470.3,440.1,409.6,379.2,320.2,773.5,617.20000000000005,521.79999999999995,471.4,443.2,415.3,359.7,893.2,712.7,602.5,535.9,491.6,458.6,406.8,1.0311999999999999,1.333,1.5061,0.79569999999999996,1.0810999999999999,1.2427999999999999,0,0,0,0,1.0803,0,0,555.4,"AUS00000739",10.37,6402,29.8,51.5,36.6,131.5,0,654.6,506.4,448.2,848.3,624.4,543.1,590.79999999999995,1.0156000000000001,606.9,0.98860000000000003,0,0]
[null,"AUS268500",2685,7777,"CALIBRE","SYDNEY 38 OD","SYDNEY YACHTS","Murray/Burns/Dovel",2000,"Cremorne NSW 2090",null,"INTL","R",752,"29 06 2017 14:40:36",11.795,10.731999999999999,2.609,3.71,5522,119.4,0.03,572.20000000000005,1.0827,623.4,0,0,936.9,759.5,654.5,602.6,571.79999999999995,550,518.5,895.7,726.8,637.1,591.70000000000005,565.1,545,512.5,787.2,636,555.29999999999995,508.3,478.9,458.5,429.7,850,680.5,588.20000000000005,533.70000000000005,499.3,475.8,444,964,745.3,622.29999999999995,547.20000000000005,497.9,462.6,411.5,43,41.9,40.6,38.799999999999997,38.4,37.799999999999997,37.799999999999997,142.6,146.9,150.30000000000001,156.69999999999999,172.3,180,180,974.4,802.4,703.2,666.6,650.29999999999995,639.9,628,636,530.1,482.8,468.4,462,458.3,449.5,597.70000000000005,505.3,469.2,454.4,447.3,443,432.8,566.70000000000005,488.8,458.7,437.4,422.6,415,407.9,568.29999999999995,485,457.9,435.4,412.5,393.5,376.7,576.6,481.8,445.6,424.3,408.4,393,367,593.4,490.6,451.9,420.2,394.6,379.1,351,657.8,531.1,472.4,442.9,413.2,383.4,323.5,778.9,620.70000000000005,524.70000000000005,473.6,445.5,418.2,363.4,899.4,716.7,605.79999999999995,538.5,493.3,460.1,409.1,1.0308999999999999,1.3301000000000001,1.5011000000000001,0.79579999999999995,1.0794999999999999,1.2416,0,0,0,0,1.0782,0,0,556.5,"AUS00000740",10.382999999999999,6540,30,51.6,37,127.5,0,654.79999999999995,507.5,449.7,848.2,625.29999999999995,543.70000000000005,590.9,1.0154000000000001,607.1,0.98829999999999996,0,0]
[null,"AUS900500",9005,8824,"CHANCELLOR","FIRST 47,7","BENETEAU","FARR",2001,"NSW 2049",null,"INTL","R",1100,"30 06 2017 12:00:26",14.506,12.817,2.8069999999999999,4.51,12168,119.8,0.15,565.29999999999995,1.0995999999999999,613.9,0,0,953.6,770,662.3,592.5,553.5,526.70000000000005,498.4,910.5,736.3,638.1,579.6,546.20000000000005,524.70000000000005,498.9,790.6,633.6,547.9,497.1,465.1,444,417.8,846.2,673.5,577.9,520.29999999999995,483.8,459.4,428.7,972.3,745.5,616.29999999999995,536.6,484.6,448.6,399.6,43.8,42.5,42,40.799999999999997,39.299999999999997,39,38.299999999999997,141.5,147.80000000000001,149.19999999999999,153.19999999999999,159.9,180,180,988.7,811.8,711.2,648.5,619.29999999999995,603.70000000000005,590.4,640.70000000000005,534,473.1,444.5,432.7,427,421.7,600.5,503.5,454,432,420.3,414.4,408.3,567.29999999999995,479.2,440.9,421.7,407.5,395.9,384.3,567.1,478.4,436.3,417.7,404.8,390.3,366.2,589.1,481.3,433.1,409.6,391.2,377.4,359.5,605.9,493.6,439.4,414.4,393.2,372.7,345.4,670.5,540.79999999999995,465.7,430.2,409.1,389,349.8,795.4,630.79999999999995,531.20000000000005,467.2,432.7,412.5,375.3,918.5,728.3,613.29999999999995,536.5,487.6,449.6,406.4,1.0197000000000001,1.3562000000000001,1.554,0.78320000000000001,1.0872999999999999,1.2911999999999999,0,0,0,0,1.0946,0,0,548.1,"AUS00000746",11.71,13517,44,65.2,62.8,171.9,152.9,662,497.7,434.4,861.8,620.79999999999995,522.79999999999995,579.29999999999995,1.0358000000000001,596.9,1.0052000000000001,0,0]
[null,"AUS273600",2736,6755,"CALIBAN II","BENETEAU 47,7 WING","BENETEAU","FARR",2001,"NSW 2120",null,"INTL","R",850,"30 06 2017 13:30:06",14.505000000000001,12.867000000000001,1.8660000000000001,4.5199999999999996,12590,117.1,0.27,598.1,1.0202,661.6,0,0,1041.4000000000001,835.9,716.6,640.5,593.29999999999995,561.29999999999995,529.9,998.6,803.7,695.2,629.6,589.1,562.70000000000005,534.5,842.7,672.7,579.29999999999995,523.6,488.5,465.2,436.3,935.8,737.7,626.4,558.4,514.70000000000005,485.9,451.7,1049.3,799.5,656.2,567.1,508.5,467.8,413.1,47.3,46.1,46.1,45.8,43.9,43,42.4,138.9,148.30000000000001,147.5,152.30000000000001,158.4,175.3,180,1118.5,911.8,801.2,732.2,689.7,665.2,647.9,700.1,576.9,506.5,468.6,451.1,442.5,435.1,637.1,529.6,469.2,442.4,431.1,424.7,418.6,581.1,486.9,443.9,424.7,412.3,403.5,394.2,570,480.9,440.9,421.8,407.5,394.1,371.9,615.6,499.9,442.1,416.8,398.5,386.6,364.4,630.4,511.6,448.2,420.5,400.7,380.9,355,696.1,558.4,477.2,436.2,414.5,395.8,358.6,835.1,658.2,547.4,476.9,438.5,417.5,382.5,964.3,760.1,632.1,548.79999999999995,496.8,457.5,412,0.95469999999999999,1.286,1.4850000000000001,0.71909999999999996,1.0068999999999999,1.2107000000000001,0,0,0,0,1.0302,0,0,582.4,"AUS00000747",10.593,13931,45,59.7,42.7,160.69999999999999,0,707,524.9,454.5,938.7,670.4,557.5,627.29999999999995,0.95650000000000002,648,0.92589999999999995,0,0]
[null,"AUS273500",2735,33345,"BLACK SHEEP","FIRST 45","BENETEAU","Phillippe Briand",2007,"NSW 2500",null,"INTL","C",1105,"30 06 2017 13:43:52",13.664999999999999,12.327999999999999,2.7530000000000001,4.2,11104,121.8,0.2,569.20000000000005,1.0967,615.5,0,0,953.1,770.1,663.2,593.29999999999995,555.79999999999995,530.4,502.3,913.7,739.1,641.1,582.6,549.9,529,502.1,794.5,637.1,551.70000000000005,501.3,470,449.4,423.5,864.8,686.8,588.1,528.70000000000005,491.2,466.6,436.7,972.6,747.2,619.1,540.4,489.4,454.3,407.1,43.3,41.7,41.5,40.200000000000003,38.700000000000003,38.5,37.799999999999997,142.5,147.69999999999999,149.80000000000001,154,161.80000000000001,180,180,1004.6,823.6,721,654.1,625.70000000000005,611.6,597.29999999999995,653.5,544.29999999999995,481.5,451.7,439.7,434.6,430.3,613.79999999999995,514.20000000000005,462.8,439.5,427.8,422.2,417.2,581.9,490.7,450,430.1,415.7,404.4,393.7,583.79999999999995,483.6,442.2,428.6,413.8,399.5,374.3,583,477.1,434.1,412.3,400,389.7,371.3,598,488.1,439.7,415.8,393.7,376.6,356.9,660.4,533.5,462.7,431.5,410.5,389.5,347.5,780.8,620.70000000000005,524.4,464.9,433.7,413.8,375,901.6,716.7,605.5,532.5,485.9,449.2,407.4,1.0161,1.3466,1.534,0.78339999999999999,1.0851999999999999,1.2827,0,0,0,0,1.0887,0,0,551.1,"AUS00000748",11.375,12340,42.1,60,49.8,172.7,0,664.3,501.3,440,861.6,622,526.20000000000005,588.9,1.0187999999999999,607.70000000000005,0.98729999999999996,0,0]
[null,"AUS275000",2750,"MH115","BEAR NECESSITY","C&C 115","C & C","JACKET TIM",2005,"NSW 2041",null,"INTL","C",745,"30 06 2017 14:01:28",11.5,10.656000000000001,2.048,3.65,6611,116.6,0.19,603.29999999999995,1.0321,654,0,0,991.5,806.7,697.7,631,594.29999999999995,571.20000000000005,542.1,952.2,775.7,678.6,622.79999999999995,591.5,571.1,541.5,832.3,671.6,585.29999999999995,535,503.8,482.9,455.5,901.6,720.6,621.5,562.70000000000005,525.9,501.6,470.4,1018.9,787.3,656.5,576.4,524.29999999999995,487.9,437.5,43.4,41.9,41.9,40.5,39.1,38.4,38.299999999999997,141.9,148.69999999999999,150.30000000000001,156.69999999999999,173.4,180,180,1049.3,867.7,763.7,703.1,678.4,666.2,651.6,682.6,572.4,511.9,487.2,478,473.3,467.9,641.20000000000005,540.79999999999995,494.4,474.5,464.4,459.4,455.2,607.70000000000005,518,482.2,463,448.2,437.2,428.2,604.5,505.4,472.1,461,445.2,428.6,403.9,600.79999999999995,501.5,465.7,442.5,425.9,414.2,394,618.29999999999995,512.79999999999995,471.8,446.3,421.1,400.6,376.6,684.4,556.70000000000005,491.8,462.9,439.2,414.6,366.2,808.6,645.9,547.1,491.3,464.2,442.2,397.1,933.7,745.8,631.6,559,510.3,476.2,432.5,0.97360000000000002,1.2637,1.4253,0.75070000000000003,1.0246999999999999,1.1923999999999999,0,0,0,0,1.0237000000000001,0,0,586.1,"AUS00000749",9.8390000000000004,7619,30.3,44.8,35.9,125.6,120.4,693.3,534.1,473.6,899.2,658.7,566.1,622.29999999999995,0.96409999999999996,641.6,0.93520000000000003,0,0]
[null,"AUS272100",2721,6343,"GREAT XPECTATIONS","X 43","X Yachts","Jeppesen",2003,"NSW 2023",null,"INTL","R",850,"30 06 2017 14:32:36",12.903,11.611000000000001,2.5089999999999999,3.95,8613,122,0.12,581.4,1.0709,630.29999999999995,0,0,961.4,780.1,672.7,609,572.6,547.79999999999995,521.6,918.5,746.5,651,597.6,567.29999999999995,547.20000000000005,521.70000000000005,804.6,648.1,563.79999999999995,514.70000000000005,484.3,464.3,439.2,860.4,687.8,593.4,537.29999999999995,502.1,478.9,449.6,986.9,760.8,632.9,554.70000000000005,504.1,469.2,421.8,43.3,41.9,41.6,40.1,38.6,37.9,37.799999999999997,142.4,148.4,150.30000000000001,155,166.6,180,180,993.8,822.4,721.8,669,644.9,632.4,622.1,647.70000000000005,542.70000000000005,486,463.8,455.3,450.8,447,608.9,513.1,469.8,451.4,442.7,437.9,433.4,576.79999999999995,491.9,458.4,440.3,426.8,417.2,409,578.1,491.8,457.3,439,423.3,408,385.6,599.5,492.6,450.6,428,414.6,403.3,383.6,615.70000000000005,504,456.4,431.9,408.7,389.9,369.5,680,550.5,479.3,448.2,426.4,404.2,359.7,804.6,639,540.20000000000005,480.8,449.8,429.2,388,929.1,737.9,623.70000000000005,549,500.4,463.1,421,1.0056,1.3138000000000001,1.4827999999999999,0.7752,1.0623,1.2403999999999999,0,0,0,0,1.0626,0,0,564.6,"AUS00000750",10.788,9769,35.299999999999997,52,50.4,135.19999999999999,0,671.2,513.79999999999995,455.2,870.7,635.4,544.20000000000005,595.4,1.0078,612.5,0.97960000000000003,0,0]
[null,"AUS301300",3013,3430,"AZZURRO","S&S 34 (MOD)1,92","SWARBRICK BROS","SPARKMAN&STEPHENS",1968,"NSW 2047",null,"INTL","C",460,"30 06 2017 15:17:24",10.086,7.71,1.9330000000000001,3.06,5087,132.5,0.41,697.7,0.89529999999999998,753.9,0,0,1122.0999999999999,926.8,806.2,729.3,683.6,658.4,629.4,1081.8,893.1,786.1,722.7,686,663.2,636.5,957.1,775.1,677.3,620.29999999999995,585.1,562.29999999999995,534.20000000000005,1012.4,814.5,707,643.4,603.79999999999995,577.79999999999995,545.5,1164,904.9,758.2,667.9,609.20000000000005,568.6,513,42.7,41.6,42.6,41.2,40.200000000000003,39.299999999999997,38.799999999999997,148,152,151.6,160.80000000000001,180,180,180,1176.8,995.3,884.8,818.2,787.3,770,756.3,776,657.6,591.9,564.29999999999995,550.9,544,538.1,735.1,622.29999999999995,572.6,550.4,536.20000000000005,527.9,520.9,700.6,597.9,559,538.1,521.5,507.5,493.1,702,597.70000000000005,551.29999999999995,528.9,518.5,502.1,476.2,711.1,590,545.6,518.9,498.1,482.2,466.7,731.6,602.20000000000005,551.1,523.79999999999995,498.9,477.4,453,797.3,654.1,573,539.79999999999995,515.29999999999995,491.9,454.5,924.4,743.8,631.6,568.20000000000005,538.9,516.20000000000005,474.8,1067.4000000000001,858.4,727.6,640.5,579.9,546.79999999999995,502.5,0.84619999999999995,1.0902000000000001,1.2239,0.65890000000000004,0.88819999999999999,1.0324,0,0,0,0,0.88439999999999996,0,0,678.5,"AUS00000751",7.1849999999999996,5721,22.8,27.2,35.4,84,68.400000000000006,797.7,619.20000000000005,551.5,1024.4000000000001,760,653.79999999999995,707,0.84870000000000001,729,0.82299999999999995,0,0]
[null,"AUS508400",5084,"B40","BRAVO","FIRST 40","Beneteau","Farr",2008,4551,null,"INTL","R",790,"30 06 2017 17:18:06",12.28,11.205,2.4769999999999999,3.9,7689,133,0.18,580.4,1.0744,628.20000000000005,0,0,963.6,780.2,671.1,605.79999999999995,569.70000000000005,545.29999999999995,515.6,922.8,747.8,650.70000000000005,595.6,564.29999999999995,543.1,512.9,805.6,648,562.9,512.9,481.4,460.1,431.4,873.4,695.7,597.9,539.5,502.6,478.1,447,986.5,759.8,631.4,552.6,501.2,464.9,413.5,43.2,41.7,41.3,39.5,38.6,37.799999999999997,37.1,142.5,147.69999999999999,149.80000000000001,155.6,169.8,180,180,1010.4,830.6,725.7,667.1,642.1,628.5,613,658,548.5,489.8,465.4,455.5,450.2,444.7,617.79999999999995,518.6,473.6,453.5,442.3,436.4,430.6,585.20000000000005,497.2,462.4,443,426.9,414,402.2,588.79999999999995,491.7,454.4,439.3,426.3,408.8,379.6,589.1,487.2,449.3,425.8,406,392.4,370.7,605.70000000000005,497.7,455.1,429.6,403.8,385.5,353.5,670.8,542.70000000000005,476.4,446.9,423.3,398.5,348.5,794,632.1,533.9,476.8,448.9,427,381.8,916.9,729.9,616.5,544.5,497.3,462.1,418.2,1.0041,1.3165,1.4978,0.77410000000000001,1.0662,1.2494000000000001,0,0,0,0,1.0656000000000001,0,0,563.1,"AUS00000754",10.613,8762,34.5,54.5,38.1,138.80000000000001,105.6,672.2,512.70000000000005,450.7,872,633.1,540.29999999999995,599.29999999999995,1.0011000000000001,617.6,0.97150000000000003,0,0]
[null,"AUS272900","XS MOMENT",11744,"XS MOMENT","XP44","X-YACHTS","Jeppesen",2011,"NSW 2107",null,"INTL","C",1020,"30 06 2017 17:32:36",13.305,12.343999999999999,2.6869999999999998,4.05,9534,133,0.1,551.29999999999995,1.1264000000000001,599.20000000000005,0,0,912.8,740.1,636.29999999999995,578.1,545.70000000000005,522.70000000000005,492.7,873.9,708.2,617.1,567.6,539.4,519.4,487.9,763.3,614.70000000000005,534.70000000000005,487.9,458.5,438.5,411,828.6,661.1,569.20000000000005,514.5,479.9,456.8,426.6,935.4,721.3,600.1,525.9,477.3,443.1,394.7,43.4,42,41.4,39.6,38.299999999999997,38.200000000000003,37.4,143.19999999999999,146.6,148.80000000000001,154.9,164.1,180,180,955.5,786,686.5,638.20000000000005,616.20000000000005,604.4,587.5,621.29999999999995,518.1,463.7,443.3,435.5,431.1,424.6,582.70000000000005,489.9,448.6,431.1,422.8,418.1,412.6,551.1,470,438.2,419.8,405.4,395.7,387.3,552.5,467.1,432.9,418.9,401.9,384.6,360.7,561.20000000000005,462.8,426,405.2,388.2,376.6,354.2,576,471.8,431.2,406.1,383.4,363.7,338.1,636.9,513.9,451.2,423.2,399.9,375,323.39999999999998,753.5,601.20000000000005,507.6,453.6,426,404.5,359.2,870.1,694.2,586.1,518.1,475.1,441.1,398,1.0602,1.3849,1.5707,0.81669999999999998,1.1195999999999999,1.3049999999999999,0,0,0,0,1.1201000000000001,0,0,535.70000000000005,"AUS00000755",11.647,10772,39.5,65,49,176.1,135.4,636.70000000000005,487.4,429.7,826.5,602.9,517.20000000000005,571.5,1.0499000000000001,587.79999999999995,1.0207999999999999,0,0]
[null,"AUS2855",2855,7155,"CHUTNEY MARY","ELAN S4","ELAN","HUMPHREYS",2014,"NSW 2108  AUSTRALIA",null,"CLUB","C",684,"01 07 2017 20:16:26",10.5,10.135,2.1440000000000001,3.54,5350,121.9,0.2,614.29999999999995,1.0051000000000001,671.6,0,0,1015.5,823.2,712,647.6,619.1,590.6,562.20000000000005,973.8,790.7,691,635,604.5,582.5,555.29999999999995,848.7,684,595.79999999999995,544.6,512.9,491.8,464,917.7,732.3,630.70000000000005,570.29999999999995,532.4,507.6,476.5,1041.7,803.7,669.4,587,533.20000000000005,495.1,441.8,43.4,42,41.8,40.4,39.1,38.9,38.6,144,147.80000000000001,147.69999999999999,150,153.4,176.4,177.8,1070.9000000000001,882.3,777.9,713.5,687.6,675.7,664.8,695.7,581.6,520.79999999999995,493.6,482.8,477.9,474.7,652.70000000000005,549.1,502.4,480.4,468.3,463,459,617.4,525.70000000000005,489.4,469.1,452,438.7,428.4,614.6,512.20000000000005,475.1,463.2,449.1,430.5,399.9,608.6,507.3,470.1,443.4,424,411.1,387.4,627,518.1,476.6,450.1,421.9,395.4,367.8,702.6,567.1,498.3,468.7,443.9,417.5,363.6,831.5,661.8,559.6,503.8,481.3,460.3,416.9,960.1,764.2,646.20000000000005,581.70000000000005,550.5,505.6,459.6,0.95489999999999997,1.2423,1.399,0.73419999999999996,0.99770000000000003,1.1496999999999999,0,0,0,0,1.0054000000000001,0,0,596.79999999999995,"AUS00000759",9.4480000000000004,6270,27,38.700000000000003,30.3,0,108.6,706.9,543.29999999999995,482.5,919.4,676.6,587.1,630.79999999999995,0.95120000000000005,651.29999999999995,0.92120000000000002,0,0]
[null,"AUS203400",2034,5850,"Haupia","J35 modified","Tilostsn Pearson","Johnstone/Jutson",1983,"2076 Wahroonga Australia",null,"CLUB","C",700,"05 07 2017 15:58:12",10.85,9.19,2.12,3.65,4798,109.7,0,622.79999999999995,1.0014000000000001,674,0,0,1013.7,826.8,716.2,652.70000000000005,613.70000000000005,589.29999999999995,561.5,966.5,790.1,694.2,641.5,610.20000000000005,588.9,562.20000000000005,854.6,691.8,604.6,553.70000000000005,522,500.8,473.3,893,719.7,626,570.70000000000005,536.20000000000005,513.20000000000005,483.7,1048.5999999999999,811.7,678.3,596.6,543.29999999999995,505.9,453.8,43.4,42.5,41.5,39.4,38.1,37.200000000000003,36.5,145.9,150,150.9,157.69999999999999,180,180,180,1029.0999999999999,859,760.7,713.1,689.3,675,664.9,671.1,566.1,520.9,503.2,494.6,489.4,484.3,631.70000000000005,541.20000000000005,507.5,490.3,480.2,473.7,467,599,524.70000000000005,496.7,477.1,460.4,448.7,438.8,599.1,523.70000000000005,495,475,455.9,438.8,415.7,649.29999999999995,538,496.9,469.9,445.2,430.9,410.1,667,549.4,502.6,475.6,449,424.3,393.5,733.2,595.70000000000005,524.5,492.8,467.9,442.9,396.9,864.5,688.2,582.29999999999995,521.9,493,469.9,424.9,998.2,794.6,671.7,592.4,538.1,503.6,458.1,0.94950000000000001,1.2202999999999999,1.375,0.73350000000000004,0.99460000000000004,1.1538999999999999,0,0,0,0,0.98980000000000001,0,0,606.20000000000005,"AUS00000760",8.98,5620,24.7,32.6,47.4,92.7,0,710.9,553.1,490.9,920.2,678.7,585,628.4,0.95479999999999998,645.20000000000005,0.92989999999999995,0,0]
[null,"AUS279900",2799,6128,"VENUE","YOUNG 88","YOUNG","jim young",1981,"2107  Australia",null,"CLUB","C",400,"05 07 2017 16:22:52",8.9619999999999997,7.8890000000000002,1.7689999999999999,3.31,2750,112.6,0,665,0.93659999999999999,720.7,0,0,1088.8,884.5,762.2,694.4,655.6,633.79999999999995,603.70000000000005,1034.5,844.5,741.1,686.4,655.20000000000005,634.20000000000005,603.29999999999995,912.4,738.6,645.6,591.4,557.70000000000005,535.1,504.9,955.5,769.3,669,610.29999999999995,573.70000000000005,549.20000000000005,517.4,1122.7,867.9,724.6,637.1,580,539.70000000000005,482.4,43,42.1,40.9,39.1,38.200000000000003,37.4,37.4,146.5,151.1,151.19999999999999,161.1,180,180,180,1110.0999999999999,924.2,815.4,769.9,749.1,737.3,729.7,725.8,611.5,561.9,544.29999999999995,536.4,531.79999999999995,526.9,683,584.79999999999995,547.6,529.5,520.29999999999995,514.6,509.6,647.9,567.20000000000005,536.20000000000005,513.6,495.4,485,475.9,648,561.6,525.79999999999995,507.5,487.5,466.6,444.4,663.6,563.20000000000005,525.5,493.9,465.4,448.7,424.7,689.5,575.29999999999995,533,502.3,470.7,440.5,402.7,768.2,628.70000000000005,555.29999999999995,523.29999999999995,493.9,464.5,405,924.6,731,615.1,552.1,522.6,495,441.4,1067.5999999999999,844.8,709,618.9,562,530.29999999999995,477.6,0.88900000000000001,1.1432,1.2864,0.68410000000000004,0.9335,1.0749,0,0,0,0,0.92659999999999998,0,0,647.6,"AUS00000761",7.7060000000000004,3376,18.399999999999999,30.6,22.5,57.5,52.7,759.3,590.4,524.70000000000005,986.7,723.1,628,670.3,0.89510000000000001,689.8,0.86980000000000002,0,0]
[null,"AUS282000",2820,6138,"Conspiracy","Sydney 38 OD","Sydney Yachts","Murray Burns Dovel",2000,"2106 Newport Australia",null,"CLUB","C",757,"05 07 2017 16:43:20",11.795,10.786,2.617,3.71,5670,121.3,0.01,568.1,1.0941000000000001,616.9,0,0,925.5,751.9,648.70000000000005,596.9,565.6,543.4,511.9,884.5,718.9,630.79999999999995,585.6,558.6,538,505.1,780.3,631.1,551.4,505,475.7,455.3,426.4,841.4,674.4,583.6,529.9,495.9,472.8,441.9,954.4,738.7,617.4,543.20000000000005,494.6,459.8,409.6,42.8,41.7,40.1,38.1,37.5,36.700000000000003,36.4,143,146.9,150.4,156.80000000000001,172.7,180,180,958.4,790.3,693.4,656.4,638.6,627,614.20000000000005,627.70000000000005,524.79999999999995,480.1,465.8,459.1,455.1,445.7,591.29999999999995,502,467.6,452.5,445,440.3,430.3,561.9,487.1,457.8,436.7,421.4,413.4,405.8,563.79999999999995,484.3,457.3,435.2,412.7,393.5,375.7,574.20000000000005,481.1,445.5,423.9,408.3,393.1,367.4,590.6,489.7,451.7,420.6,394.6,379.1,351.1,653.6,529,471.8,442.8,413.6,384.2,324,773,617.9,523.20000000000005,472.9,445.4,418.6,364.3,892.5,713.5,604,537.4,492.7,459.9,409.6,1.0402,1.3381000000000001,1.5118,0.80479999999999996,1.0900000000000001,1.2565999999999999,0,0,0,0,1.0863,0,0,552.29999999999995,"AUS00000762",10.569000000000001,6695,30.2,51.6,38.1,129.9,0,648.9,504.4,446.5,838.7,619.29999999999995,537.20000000000005,586,1.0239,602.20000000000005,0.99629999999999996,0,0]
[null,"AUS280600",2806,6611,"Hans Free","Hanse 342","Hanse Yachts","Judel/Vrolijk",2004,"2106 Newport Beach Australia",null,"CLUB","C",380,"05 07 2017 17:40:20",10.35,9.2569999999999997,1.742,3.41,5250,125.2,0.2,678.6,0.91539999999999999,737.4,0,0,1143.2,919.7,790.1,712.6,664.4,635.5,611.4,1078.9000000000001,877.4,764.4,698.6,662.1,641.29999999999995,620.5,942,757.7,658,599.6,563.6,540.4,512,942,757.7,658,599.6,563.6,540.4,512,1171.0999999999999,897,742.2,647.9,587.20000000000005,545.6,489.2,43.9,42.9,43.1,41.8,40.6,40,40.1,150,158.5,168.8,172,174,178.3,179.4,1103.5999999999999,927.3,823.8,769.5,745.6,734.9,732.5,716.7,607.1,547.5,523.70000000000005,514.70000000000005,510.5,508.5,673.8,572.9,528.4,508.9,499.5,494.8,492,638,549.29999999999995,515,496.1,481.7,471,462.9,637.20000000000005,547.20000000000005,512.4,493.3,476.9,460.9,436.7,706.9,590.29999999999995,529,503,484,465,427.1,750.1,623.9,548.4,513.5,492.7,473.8,435.4,868.8,698.8,599.79999999999995,539.4,509.9,490.2,452.8,1024.3,794.9,670.2,586.9,535.29999999999995,508,470.6,1182.8,912,756.4,655.8,583.1,536.1,490.3,0.85750000000000004,1.1274,1.2747999999999999,0.65439999999999998,0.90769999999999995,1.0651999999999999,0,0,0,0,0.9083,0,0,660.6,"AUS00000764",8.3949999999999996,6069,24.7,32.6,37,0,0,787.2,598.70000000000005,529.5,1031.5,743.6,633.70000000000005,660.6,0.9083,678.6,0.88419999999999999,0,0]
[null,"AUS283400",2834,7108,"Scoot","NS 340","Northshore Yachts","Hank Kaufman",2003,"2106 Newport Australia",null,"CLUB","C",420,"05 07 2017 17:59:14",10.42,9.1820000000000004,1.7,3.12,3995,120.2,0.28999999999999998,668.8,0.92830000000000001,727.1,0,0,1127,906.5,778.1,699,656.3,631.1,606.29999999999995,1075.7,869.8,755.6,691.3,655.9,633.70000000000005,609,930.8,747.2,648.1,590.4,555,532.20000000000005,504.6,984.1,785.3,676.8,612.9,573.4,547.79999999999995,516.6,1147.5,880.4,729.3,636.9,577.29999999999995,536.1,480.3,44.4,43,42.9,41.8,40.6,40,40,146.1,150.19999999999999,148.9,157.4,176.1,180,180,1179.0999999999999,969.4,852.9,787.4,759.7,746.1,744,759,632.70000000000005,562.6,534.70000000000005,524.79999999999995,519.79999999999995,516.70000000000005,708.8,594.29999999999995,540.1,518.29999999999995,508.7,503.5,499.3,667.9,565.20000000000005,524.29999999999995,503.5,488.5,478.4,470.1,668.2,562.20000000000005,516,500.6,482.4,464.8,441.4,672.4,554.20000000000005,509.8,482.7,462.4,449.5,427.2,694.2,567.29999999999995,516,488.2,459.9,433.7,407,776.4,628.6,539.70000000000005,505.7,480.1,452.7,397.9,930.9,730.6,609.1,536.79999999999995,505.9,482.1,431.6,1074.9000000000001,843.7,703.3,610.6,552.9,516.1,468.6,0.86799999999999999,1.1456999999999999,1.294,0.66390000000000005,0.92220000000000002,1.0747,0,0,0,0,0.92410000000000003,0,0,649.20000000000005,"AUS00000765",8.1869999999999994,4809,23.6,28.9,30.1,75.7,0,777.6,589.20000000000005,521.6,1016.7,731.9,628.1,677.8,0.88529999999999998,699.1,0.85819999999999996,0,0]
[null,"AUS281800",2818,7058,"Nouvel Amour","335 Grand Large","Dufour Yachts","Umberto Felci",2004,"2303 Hamilton South Australia",null,"CLUB","C",500,"06 07 2017 09:48:48",9.99,9.3949999999999996,1.9450000000000001,3.54,5900,111.1,0.42,706.3,0.871,775,0,0,1208.5999999999999,972.6,844.7,758,698.2,653.20000000000005,612.5,1161,938.4,815.4,736.5,683.4,649.1,614.6,992.8,794,684.5,618.5,576.20000000000005,547.70000000000005,512.4,1096.4000000000001,866.5,737,656.9,604.29999999999995,568.79999999999995,526.5,1227.5999999999999,938.8,773.1,669.3,600.70000000000005,552.9,489.2,45.4,43.5,43.1,43.5,42.4,40.9,39.4,145.69999999999999,147,146.6,146.80000000000001,174.8,176,178.6,1283.9000000000001,1050,925.3,839.2,774.4,742.2,718.9,817.1,679.9,599.5,548.6,522.9,510.2,501.6,755.4,634.20000000000005,561.20000000000005,525.5,506.8,495.1,485.1,703.7,594.9,536.79999999999995,511.6,495.8,482.7,461.8,708.1,591.9,526.70000000000005,498.8,480.3,469.9,443.3,714.5,591.1,526.79999999999995,499.1,479.5,460.1,424.5,744.7,613.20000000000005,538.20000000000005,505.8,485.5,466.6,428.5,833.1,674.7,579.1,526.6,500.9,482.2,446.1,981.4,775.2,661.6,586.1,541.6,514.6,482.5,1133.2,895.1,764,676.8,622.1,564.29999999999995,506.1,0.81110000000000004,1.0861000000000001,1.2625999999999999,0.61890000000000001,0.85460000000000003,1.0397000000000001,0,0,0,0,0.87429999999999997,0,0,686.3,"AUS00000768",7.8630000000000004,6743,25.9,29.5,16.5,0,62.6,832.2,621.5,534.6,1090.5999999999999,789.8,649.20000000000005,732.2,0.81950000000000001,761.7,0.78769999999999996,0,0]
[null,"AUS285200",2852,222,"Dancelot","Cavalier 28","Cavalier YACHTS","l,Davidson",1975,"2104 Bayview Australia",null,"CLUB","C",500,"06 07 2017 10:17:54",8.4700000000000006,7.4349999999999996,1.5840000000000001,2.93,2779,109.7,0.28000000000000003,721.1,0.86450000000000005,780.8,0,0,1187.3,966.5,837.5,753,705.3,679.9,654.29999999999995,1137.9000000000001,930.1,813.9,745.8,707.4,684.6,660.2,996,803.5,699.6,638.79999999999995,601.20000000000005,576.79999999999995,547.29999999999995,1035.0999999999999,831.6,721.1,656.2,616.20000000000005,590.29999999999995,559.4,1222.0999999999999,943.4,785.7,688.9,626,582.1,520.70000000000005,44.1,43,43.2,41.6,40.6,40,40.1,148.19999999999999,152.1,151.80000000000001,161,180,180,180,1229.2,1027,912.8,842.5,810.9,795.7,791.4,796.4,671.5,606.1,577,564.6,558.79999999999995,555.4,748.3,634.20000000000005,585.1,561.79999999999995,547.70000000000005,541.1,536.6,708.4,608,569.70000000000005,548,529.5,514.4,503.1,707.9,606.5,567.5,540.79999999999995,526.20000000000005,507.2,478.1,742.3,613.29999999999995,563.1,534.79999999999995,507.3,483,462.3,763.2,626.9,569.20000000000005,540.5,513.9,487.6,444.3,847.2,690.2,594.29999999999995,557.6,531.70000000000005,505.7,458.7,992,785.6,661.5,588,556.1,532.1,485.1,1145.4000000000001,906,762.2,663.5,599.6,564.1,517.20000000000005,0.81269999999999998,1.0578000000000001,1.1940999999999999,0.62680000000000002,0.85770000000000002,0.99760000000000004,0,0,0,0,0.85629999999999995,0,0,700.7,"AUS00000769",6.859,3378,17.2,17.8,27.8,52.3,0,830.6,638.1,565.29999999999995,1076.9000000000001,787,676.6,721.3,0.83179999999999998,743.9,0.80659999999999998,0,0]
[null,"AUS283800",2838,403,"Ghost Rider","MC38","McConaghy Boats","Harry Dunning",2011,"2104 Bayview Australia",null,"CLUB","R",600,"06 07 2017 10:45:16",11.275,10.829000000000001,2.7930000000000001,3.5,3200,117.5,0,504.7,1.2094,558.1,0,0,803.4,660,595.29999999999995,556.29999999999995,520.6,487.4,439.3,765.6,636.20000000000005,575,536,505.8,483.7,451.1,683.1,558.6,491.7,450.8,422.4,400.7,368.2,743.6,602.1,525,478,446.5,423.6,390.6,844.5,659.2,554,486.9,439.3,402.4,346.5,43.9,40.700000000000003,39.1,37.5,36.299999999999997,36.1,35.9,141.30000000000001,144.4,151.5,149.69999999999999,141.6,140.80000000000001,147.5,820.5,698.4,651.4,625.29999999999995,603.5,595.29999999999995,587.9,530.70000000000005,472.9,455.7,445.4,434.4,424.7,415.9,497.6,455.2,438.6,426.5,416.2,402.3,392.3,477,431.8,409.1,394.6,384.8,375.2,355.5,478.4,426.8,386.2,367.7,355.5,346.7,330.4,488.5,435.7,401.5,374.1,331.4,311.10000000000002,295.39999999999998,504.8,433.3,395.5,369,334.5,314,275.8,566.9,462.7,412.5,360.6,324.60000000000002,301.3,260.89999999999998,681,538.29999999999995,463.8,422,379.1,328.7,251.7,786.4,621.6,539.20000000000005,487.3,437.7,379.5,290.7,1.1943999999999999,1.4844999999999999,1.7237,0.92249999999999999,1.1861999999999999,1.4131,0,0,0,0,1.2105999999999999,0,0,495.6,"AUS00000770",11.117000000000001,4176,28,60,40.299999999999997,0,163.5,565.1,454.7,391.6,731.7,569,477.7,530.9,1.1301000000000001,540.1,1.1109,0,0]
[null,"AUS2833",2833,6279,"Summersalt","Custom","G Goetzee","Will Hardcastle",2002,"2069 Roseville Australia",null,"CLUB","R",540,"06 07 2017 10:59:16",9.4239999999999995,8.5220000000000002,2.2679999999999998,3.07,2600,126.2,0,605.79999999999995,1.0241,659.1,0,0,966.9,787,687.2,640.5,610.5,589.1,555.1,926.4,757.7,673,630,603,581.4,549,823.9,670.2,588.79999999999995,541.4,511,489.4,457.4,889.4,716.5,623.29999999999995,568.5,533.9,510,476.6,1005,782.3,657.7,581.5,530.70000000000005,493.3,437.1,42.3,41.4,39,37.5,36.799999999999997,36.299999999999997,36.5,143.19999999999999,147.4,153.4,162.6,180,180,180,1008.7,834.5,743.4,712.6,699,689.1,683.5,663.1,560.70000000000005,524.29999999999995,511.6,504.9,501,491,625.20000000000005,541.6,510.8,494.7,486.1,481.1,468.7,594.79999999999995,528.5,497.7,471.2,455.1,447.1,440.3,596.79999999999995,522,496.9,467.7,440.4,420,403.4,596.5,517.1,477.1,454.9,435.9,417.8,384.2,613.29999999999995,524.79999999999995,483.8,443.7,419.5,401.2,364.7,678.7,555.6,508.1,471,433.9,396.2,329.1,801.2,640.4,549.70000000000005,507.2,472.9,439.1,370.7,925.1,739.5,631,568.29999999999995,521.9,489.1,426.7,0.98850000000000005,1.2474000000000001,1.4060999999999999,0.76970000000000005,1.0216000000000001,1.1604000000000001,0,0,0,0,1.0176000000000001,0,0,589.6,"AUS00000771",8.6519999999999992,3297,19.2,34.700000000000003,23.3,85.3,0,682.9,541.1,480.1,877,660.7,581.70000000000005,624.79999999999995,0.96030000000000004,642.5,0.93389999999999995,0,0]
[null,"AUS281200",2812,10410,"RUBY","Dufour 410 GL","DUFOUR","FELCI",2013,"2094 FAIRLIGHT, Australia",null,"CLUB","C",450,"06 07 2017 11:22:10",11.98,10.847,2.101,4.2,8940,111.7,0.37,639.4,0.97170000000000001,694.6,0,0,1084.9000000000001,876.3,759.2,676.7,619.9,585.4,555,1042.7,845.8,735.3,663.4,616.1,587.9,558.4,898.4,718.8,619.70000000000005,559.9,521.9,496.8,466.9,965.1,766.4,655.29999999999995,587.4,543.70000000000005,514.6,479.5,1103.8,845.6,697.4,604.9,544.1,502.1,446.4,44.4,42.6,42.2,42.7,41.4,40.299999999999997,40,145.5,150,151.4,153.9,165,180,180,1157.7,951.8,840.2,760.3,704.5,679.4,662.6,746,624.70000000000005,551.1,504.6,481.9,470.7,463.6,698.2,588.9,520.79999999999995,486.2,468.4,457.7,448.8,660.4,558.4,499.8,473.3,457.4,444.8,425.8,652.6,539.20000000000005,481.3,457.3,446.3,439.5,417.5,648.6,534.5,479.1,454.1,434.8,417.4,397.5,670.5,552.20000000000005,487,458.9,439.2,419.9,386.6,740.1,603,518.5,476,453.6,435,398.4,876.5,693.5,587.6,517.5,477.4,455.8,421,1012.1,800.8,678.1,593,535.29999999999995,491.4,447.5,0.89580000000000004,1.2,1.3919999999999999,0.68840000000000001,0.95520000000000005,1.1585000000000001,0,0,0,0,0.96819999999999995,0,0,619.70000000000005,"AUS00000772",9.2799999999999994,9985,34.1,40.299999999999997,36.700000000000003,108.3,102.8,753.5,562.5,484.9,980.5,706.7,582.6,654.1,0.9173,676.9,0.88639999999999997,0,0]
[null,"AUS282900",2829,122,"Jazzamatazz","j 122","J Composites","Rod Johnstone",2006,"2106 Newport Australia",null,"CLUB","C",760,"06 07 2017 12:00:22",12.19,10.938000000000001,2.3679999999999999,3.64,6854,127.9,0.16,575.1,1.0770999999999999,626.70000000000005,0,0,946.6,767.4,658.2,602.20000000000005,577.70000000000005,554,523,906.4,734.1,639.29999999999995,589.1,562.29999999999995,542.20000000000005,510.8,793.1,639.70000000000005,557.79999999999995,510.5,481.4,461.6,433.6,869.1,693.1,596.4,538.79999999999995,502.5,478.1,446,970.8,749.6,625.20000000000005,549.5,500.5,466.1,417.2,42.8,41.6,40.9,38.799999999999997,37.6,37,36.200000000000003,143.5,146.80000000000001,148.4,150.6,152.30000000000001,175.7,177.5,994.4,816.9,709.3,656.3,635,624,607.9,650.4,540.70000000000005,485.2,464.2,455.9,451.3,444.9,612.1,513.70000000000005,471.6,452.7,442.6,437.3,432,582.70000000000005,496.1,462.5,442.5,426.2,414.5,405.5,575.6,481,457.2,442.3,423.9,405.6,379.1,570.79999999999995,477.8,443.6,423.7,410.1,397.9,373.3,586.9,486.7,449.9,422.7,397.5,382.7,358.3,656.6,529.6,470.3,442.4,416.9,390.5,335.4,778.4,621.79999999999995,525.79999999999995,475,453.4,433.8,388.2,898.9,718,607.1,548.1,520.5,484.1,438.1,1.0219,1.3266,1.4897,0.78759999999999997,1.0739000000000001,1.2311000000000001,0,0,0,0,1.0743,0,0,558.5,"AUS00000773",10.645,7911,31.9,48.5,39.299999999999997,0,149.4,660.5,508.8,453.1,857,628.6,548.29999999999995,597.6,1.0041,615.9,0.97419999999999995,0,0]
[null,"AUS274900",2749,3242,"SOLUTIONS","DEHLER 41DB","DEHLER","Judel/Vrolijk",2010,"NSW 2106",null,"INTL","R",866,"06 07 2017 15:13:36",12.382999999999999,11.87,2.415,3.94,8406,124.2,0.17,581.70000000000005,1.0692999999999999,631.29999999999995,0,0,984.7,793.1,680.5,607.1,568.9,543.29999999999995,514.20000000000005,942.9,760.1,657.6,596.70000000000005,562.9,541.1,511.8,814.9,652.29999999999995,563.70000000000005,511.2,478.1,456,427.2,882,700.1,599.5,539,500.8,475.5,443.9,1000.8,766.9,633.6,551.4,497.7,460.1,407.8,44,42.5,42,40.700000000000003,39.200000000000003,38.5,38.4,140.6,147.80000000000001,149,154.30000000000001,163.1,180,180,1041.3,848.9,740.8,671,642.5,628.79999999999995,614.9,672.1,557,491.3,460.5,449.2,444,439.6,627.9,524.4,471.3,447.5,435.8,430.4,425.5,591.79999999999995,498.6,457.9,437.1,420.8,408.4,398.3,592.9,491.2,447.5,430.6,419.3,401.9,372.8,595.20000000000005,486.9,443.4,418.5,396.9,383.5,360.9,610.79999999999995,498.2,449.2,423.4,397.4,375.1,343.6,675.2,544.20000000000005,472.9,440.8,417.7,393.1,342.6,803.7,638.6,537,474.7,442.9,421.3,376.3,928,737.4,620.1,543.20000000000005,495.3,457.8,413.5,0.98970000000000002,1.319,1.5130999999999999,0.75939999999999996,1.0588,1.2527999999999999,0,0,0,0,1.0649999999999999,0,0,563.4,"AUS00000777",10.888,9589,37.5,54.8,41.7,143.5,115.2,682,511.8,446.1,888.9,637.5,538.79999999999995,599.6,1.0005999999999999,619.6,0.96840000000000004,0,0]
[null,"AUS419000",4190,7120,"EUPHORIA","J 120","J BOATS / FRANCE","JOHNSTONE",1994,"QLD 4159",null,"INTL","C",700,"06 07 2017 15:22:26",12.19,11.215,2.16,3.67,6773,119,0.14000000000000001,587,1.0495000000000001,643.20000000000005,0,0,979,790.9,677.4,617.70000000000005,591.20000000000005,566.70000000000005,535.4,937.4,756.3,658.4,606.4,577.20000000000005,555.1,523.70000000000005,812.5,653.9,569,520,489.8,469.4,441.2,882,703.7,605.79999999999995,547.4,510.6,486,454.8,999.7,769.6,639.9,560.9,509.7,473.8,422.8,44.4,43.1,42.7,40.799999999999997,39.4,38.4,38,143.6,147.30000000000001,146.69999999999999,150.6,151.9,175.5,177.6,1030.9000000000001,846,740.9,687.5,661.3,645.9,630.1,664.2,552.29999999999995,493.3,472.3,463.3,458.2,453.3,620.70000000000005,520.29999999999995,475.9,458.2,449.5,444.1,438.4,584.4,496.9,463,444.7,430.6,420.5,410.7,585.6,492.1,462.4,443.1,425.5,408.5,384.9,583.79999999999995,484.2,448.5,430,416.1,403.1,377.5,597.6,491.6,452.5,425.4,402.2,387.4,360,677.4,536.20000000000005,471,443,417,389.5,334.1,803,637.1,531.6,474.8,453.1,434.4,387.7,927.2,735.7,613.9,548,521.1,487.5,440.6,0.99660000000000004,1.3023,1.4653,0.76280000000000003,1.0459000000000001,1.2031000000000001,0,0,0,0,1.0510999999999999,0,0,570.9,"AUS00000778",10.324999999999999,7875,32.4,46.8,44.5,0,161,677.3,518.29999999999995,460.7,884.9,645.4,561.1,609.20000000000005,0.9849,625.5,0.95920000000000005,0,0]
[null,"AUS272500",2725,7722,"JUST A DASH","FIRST 40","BENETEAU","FARR",2008,"NSW 2093",null,"INTL","R",795,"06 07 2017 16:19:34",12.24,11.239000000000001,2.4860000000000002,3.9,7878,131.1,0.18,585.1,1.0649,633.79999999999995,0,0,971.7,787,677.5,611.1,574.70000000000005,550.4,520.79999999999995,931,754.9,657,601.20000000000005,569.9,549.1,519.1,812,653.1,567.29999999999995,517,485.5,464.3,436,878,699.9,602.1,543.70000000000005,506.9,482.3,450.5,994.6,766,636.6,557.20000000000005,505.4,469,417.8,43.3,41.8,41.5,39.799999999999997,38.5,38.299999999999997,37.6,142.5,147.9,150,155.6,169.4,180,180,1020.8,840.2,735.1,675.3,650.29999999999995,637.4,621.5,664.2,554.29999999999995,494.3,469.3,459.3,454.1,448.5,623.4,523.6,477.4,457,446,440.5,435.2,590.29999999999995,501.2,465.7,446.3,430.8,418.5,407.5,591.4,494.6,455.9,441.2,427.9,411,383.1,593.9,490,451,427.9,408.5,395.5,374.3,610.29999999999995,500.8,456.8,431.7,406.6,388.1,357.6,675.4,546.4,478.4,448.6,425.6,401.5,353,799,635.4,536.79999999999995,478.7,450.4,429,384.9,922.6,733.7,619.79999999999995,547,499.1,463.4,420.2,0.996,1.3065,1.484,0.76759999999999995,1.0567,1.2376,0,0,0,0,1.0569999999999999,0,0,567.70000000000005,"AUS00000780",10.509,8958,34.700000000000003,53.6,39.6,137.19999999999999,107.3,677.7,516.6,454.9,879.4,638.79999999999995,545.4,602.9,0.99509999999999998,621.79999999999995,0.96489999999999998,0,0]
[null,"AUS275600",2756,6609,"AMANTE","SYDNEY 36 CR","SYDNEY YACHTS","Murray/Burns/Dovel",1995,"NSW 2089",null,"INTL","C",699,"06 07 2017 16:26:04",10.97,10.334,2.359,3.4,5392,124.1,0.18,609.9,1.0254000000000001,658.3,0,0,1014.4,820.6,707.1,634.6,594.4,569.5,537.4,972.2,788.4,686.4,625.5,590.20000000000005,567.29999999999995,533.70000000000005,846.7,681.2,591.6,538.70000000000005,505.1,482.1,451.2,915.6,729.9,627.70000000000005,566.5,527.70000000000005,501.6,467.4,1037.9000000000001,799,663.5,580.1,525.4,487,433.3,43.4,41.8,41.6,39.6,38,37.200000000000003,36.1,144.6,148.69999999999999,150.4,156.80000000000001,174,180,180,1070.8,880,770.9,700.8,670.6,655.29999999999995,637.70000000000005,696.5,581.20000000000005,518.79999999999995,491.7,479.6,473.5,468.1,653.70000000000005,549.20000000000005,501.7,479.7,466.3,459.1,452.1,618.79999999999995,526.20000000000005,489.5,468.9,451.1,436.3,422.7,611.5,511.3,476.6,463.9,449.4,430.3,399,609.29999999999995,508.5,472.1,445.6,425.5,412.5,388.9,627.9,520.20000000000005,478.9,452,423.5,398.7,370.1,698.7,567.29999999999995,500.6,470.5,445,418,363.1,829.6,659.2,557.29999999999995,499.7,471.7,448.1,398.7,958,761.2,643.29999999999995,568.29999999999995,518.20000000000005,483.6,437.2,0.95599999999999996,1.2518,1.4300999999999999,0.73570000000000002,1.0162,1.1975,0,0,0,0,1.0149999999999999,0,0,591.1,"AUS00000781",9.7070000000000007,6334,27.7,41,31.6,106.7,105.7,706.1,539.20000000000005,472,917.5,664.2,563.70000000000005,627.29999999999995,0.95650000000000002,648.20000000000005,0.92559999999999998,0,0]
[null,"AUS271500",2715,8126,"REVERIE","FIRST 40,7","BENETEAU","FARR",1997,"NSW 2103",null,"INTL","R",830,"06 07 2017 16:52:24",11.923999999999999,10.648999999999999,2.4180000000000001,3.77,7172,122.2,0.01,589.5,1.0576000000000001,638.20000000000005,0,0,964.1,785.8,678.4,616.29999999999995,580.79999999999995,557.79999999999995,533,922.6,752.4,658.4,606.20000000000005,576.70000000000005,557,533.1,811.9,655.7,572,523.29999999999995,493.3,473.5,448.6,869.3,696.5,602.29999999999995,546.6,511.8,488.9,460.1,993.3,768.1,641.1,563.4,513.20000000000005,478.4,430.8,43,41.7,41.4,39.4,38.6,38.1,37.700000000000003,142.30000000000001,148.6,150.1,156.30000000000001,172.1,180,180,1000.7,831.1,730.4,679.1,656.5,644.79999999999995,638.5,655.1,550.1,496.1,475.1,467.1,462.8,459.5,617.20000000000005,522.20000000000005,481.5,463.3,454.4,449.4,445,586.1,503,471.3,452.4,437.4,427.1,418.9,586.5,502,468.7,450.5,433.2,416.5,393.9,600.9,497.8,459.8,436.4,422.9,411.3,391.1,616.79999999999995,508.2,465.5,440.1,415,397.5,376.5,680.1,552.4,486.2,456.9,433.5,409.6,363.5,803.3,641.29999999999995,542.5,485.9,458.5,436.7,393.2,927.5,740.5,626.4,553.6,505.2,470.7,427.4,0.99790000000000001,1.2925,1.4532,0.77149999999999996,1.0508999999999999,1.2179,0,0,0,0,1.0475000000000001,0,0,572.79999999999995,"AUS00000782",10.16,8175,31.3,49.5,44,130,0,676.4,522.20000000000005,464.5,874.9,642.29999999999995,554.20000000000005,604,0.99339999999999995,621.6,0.96530000000000005,0,0]
[null,"AUS280200",2802,52000,"RKO","TP52","King","Judel/Vrolijk",2007,"NSW 2030",null,"INTL","R",1232,"06 07 2017 17:20:14",15.85,15.631,3.17,4.42,7240,132.9,0,450.1,1.3519000000000001,499.3,0,0,769.5,608.6,531.5,491.6,461,430.1,388.4,732.1,584.9,514.20000000000005,474.1,444.5,421.3,393.8,631.29999999999995,505.6,436.8,394.7,365.8,343.9,311.10000000000002,695.4,552.4,472.9,423.9,390.9,366.8,332.4,783,598.5,493.4,426.8,380.2,344.5,290.7,44.8,44.3,41.4,40.200000000000003,38.799999999999997,38,38,141.1,141.9,145.80000000000001,151.6,146.80000000000001,139.9,144.6,801.6,645.20000000000005,578.1,547,526.79999999999995,512.29999999999995,502.6,512.20000000000005,418.8,389.4,376.3,367,355.7,341.2,473.5,397,372.4,356.6,345.2,334.3,317,438.8,381.2,346.5,325.5,312.89999999999998,303.7,281.39999999999998,437,381.2,342.4,307.5,288.8,275.89999999999998,258.5,459.3,382.4,350.2,322.10000000000002,298.89999999999998,268.60000000000002,228,476.7,388.7,344.4,317.60000000000002,295.10000000000002,271.8,232.9,531.79999999999995,416.9,370,327.5,287.5,262.60000000000002,229.5,638.6,495.4,419.9,376.2,342.3,301.3,237.5,737.4,572.1,484.8,436.1,395.2,347.9,274.3,1.2847999999999999,1.6934,2.0125000000000002,0.97960000000000003,1.3313999999999999,1.5988,0,0,0,0,1.3709,0,0,437.7,"AUS00000784",15.266,9017,46.1,93.7,63.3,0,267.5,525.4,398.6,335.4,689.1,507,422.2,478.2,1.2545999999999999,488.2,1.2290000000000001,0,0]
[null,"AUS252200",2522,8009,"OCCASIONAL COARSE LANG 1","COOKSON 12","COOKSONS","BRUCE FARR",1995,"NSW 2069",null,"INTL","R",830,"06 07 2017 17:29:28",11.98,10.989000000000001,2.6,3.79,5176,125.5,0,561.5,1.1005,613.4,0,0,924.2,750.9,645,591.9,561.6,539.6,507.3,881.7,714.9,626.1,580.5,553,531.9,498.9,774,625,545,497.9,467.9,446.7,416.2,833.8,667.1,576.29999999999995,522.1,487.5,463.7,431.6,950.2,733.8,611.5,536.20000000000005,486.4,450.4,397.7,43.2,42.1,40.4,38.9,38.1,37.200000000000003,37,141,139.9,148.19999999999999,155.69999999999999,171,180,180,956.4,784.7,689.3,653.5,636.29999999999995,625,613.9,623.20000000000005,517.70000000000005,475,461.2,454.2,450.1,440.2,584.6,494.1,461.8,446.6,438.3,432.9,421.6,552.4,478.6,450.1,427.5,411,402.3,394,553.5,477.7,448.9,424.2,399.5,379.7,361,567.6,474.3,437.6,414.5,397,380.3,349.1,584.4,482.3,444.1,409.5,383.3,366.6,334.7,649,523.29999999999995,464.9,434,401.7,369.3,306.8,772.5,621.1,520.29999999999995,466.1,437.5,408.1,348.7,892,717.2,600.70000000000005,530.29999999999995,486.9,454.2,400.6,1.0472999999999999,1.3552999999999999,1.5423,0.80589999999999995,1.097,1.2664,0,0,0,0,1.0980000000000001,0,0,546.4,"AUS00000785",10.715,6202,29.4,53.3,36.799999999999997,130,0,644.5,498,437.7,837.6,615.29999999999995,533,579.20000000000005,1.036,594.6,1.0091000000000001,0,0]
[null,"AUS210600",2106,3663,"TOO IMPETUOUS","HOLLAND 42","LAMBERT","HOLLAND",1983,"QLD   4163",null,"INTL","C",800,"06 07 2017 17:36:54",12.878,9.9309999999999992,2.3250000000000002,3.81,7145,124.1,0.01,604.4,1.0323,653.9,0,0,982,804.3,697,632.9,595,570.29999999999995,544.9,938.5,769.1,674.7,621.29999999999995,590.70000000000005,570.79999999999995,547.9,831.2,672,586.6,536.79999999999995,506.1,486.1,461.5,883.6,709.6,614.79999999999995,558.6,523.4,500.2,471.3,1016,786.9,657.5,578.20000000000005,526.79999999999995,491.3,443.3,42.6,41.6,41.7,40.1,38.700000000000003,38,37.700000000000003,145.6,149.80000000000001,150.5,156.19999999999999,173,180,180,1001.8,839.4,742.9,692,668.1,655.4,647.1,659.7,555.4,505,484.2,474.3,468.6,463.7,623.70000000000005,528.6,490.5,472.3,460.8,454.2,448.1,594.29999999999995,510.8,479.9,461.3,446.8,435.3,423.5,598.5,512.70000000000005,480.1,461.4,445.7,431.4,409.6,629.9,518.70000000000005,476.3,451.4,433,423.2,406.9,646.70000000000005,530.4,482.1,456.3,433.8,413.8,392.2,710.7,578.4,504.9,472.5,449.8,428.8,390.6,833.3,666.2,564.1,503.1,473.3,452,413.6,962.2,769.3,651.1,573.9,521.79999999999995,485.2,442.8,0.97489999999999999,1.2595000000000001,1.4157999999999999,0.75570000000000004,1.0242,1.1906000000000001,0,0,0,0,1.0212000000000001,0,0,587.6,"AUS00000786",9.6229999999999993,8061,29.1,38.1,51.7,121.3,0,692.4,535.9,476.8,893.2,659.1,566.9,616.5,0.97319999999999995,634.1,0.94620000000000004,0,0]
[null,"AUS275100",2751,65007,"ELENA NOVA","J/V 42","ALEGRO YACHTING","J/V",2011,"NSW 2159",null,"INTL","R",902,"06 07 2017 17:44:30",12.802,12.456,2.7210000000000001,3.82,5449,130.30000000000001,0,518.1,1.1803999999999999,571.9,0,0,870.6,696.5,599.79999999999995,554.5,528.70000000000005,502.7,457.8,829.7,665.3,582.6,539.70000000000005,511.9,488.2,458.3,720.2,579,502.7,457.2,427.3,405.4,372,789.7,629.1,540.6,487.1,452.3,427.8,394.1,888.4,682.2,565.70000000000005,493.3,444.2,407.4,351.3,43.9,43.1,41.2,39.299999999999997,38.700000000000003,38,37.799999999999997,142.1,143.5,147.19999999999999,152.30000000000001,148.9,146.30000000000001,140.5,907.9,736.8,649.79999999999995,616.20000000000005,599.1,586.9,577.1,586.4,481,442,429.1,421.6,416.9,405,546.5,457.8,427.2,412.4,402.6,396.2,381.2,512,442.7,412,385.1,370.3,361.3,350.2,512.1,441.3,410.9,378.6,349.7,332,316.5,517,433.9,400.2,378.1,356.2,335.6,291.8,533.4,439.9,398.2,366.4,345.8,327.60000000000002,288.7,603.4,472.5,423.8,386.2,347.4,309.5,268,721.7,568.20000000000005,476.2,425.5,396.9,362.5,293.10000000000002,833.3,656.1,549.9,492.7,458.4,418.6,338.4,1.1259999999999999,1.4717,1.7020999999999999,0.86150000000000004,1.1738999999999999,1.3709,0,0,0,0,1.1909000000000001,0,0,503.8,"AUS00000787",12.1,6683,34.200000000000003,62.5,43.8,0,188.4,599.5,458.7,396.6,783.5,575,492.4,544.9,1.1012,558.1,1.0750999999999999,0,0]
[null,"AUS271100",2711,"A140","ARIEL","FIRST 40","BENETEAU","FARR",2008,"NSW 2090",null,"INTL","R",850,"07 07 2017 10:15:28",12.24,11.257,2.4900000000000002,3.9,7975,128.5,0.18,587.29999999999995,1.0626,635.29999999999995,0,0,976.6,789.9,680.4,612.4,575.4,550.9,522.29999999999995,936,758.3,659.7,602.6,570.70000000000005,549.9,521.1,815.9,655.8,569.4,518.79999999999995,487.2,466.1,438.6,883.3,703.2,603.9,544.6,507.4,482.9,452.4,998.9,769,638.70000000000005,558.9,507,471,421.4,43.3,41.7,41.5,40,38.6,38.4,37.799999999999997,142.69999999999999,148.1,150.19999999999999,155.5,169.5,180,180,1027.9000000000001,844.7,739.6,676.7,650.9,637.9,623.5,668.7,557.70000000000005,496.2,469.7,459.1,453.9,449.1,627.9,526.6,478.6,457.4,446,440.4,435.3,594.79999999999995,503.5,466.6,447,431.6,419.3,408.1,597.1,495.6,460,446.2,429.9,413.3,385.3,595.1,490.9,451.6,428.7,415.2,403.7,382.4,611.79999999999995,502,457.5,432.6,407.8,389.3,367.3,677.4,548.20000000000005,479.4,449.4,426.7,403,355.2,801.3,636.70000000000005,538.1,479.7,451.2,429.9,386.3,925.3,735.2,621.20000000000005,548.1,499.9,463.9,421,0.99150000000000005,1.3022,1.4781,0.76419999999999999,1.0537000000000001,1.2356,0,0,0,0,1.054,0,0,569.20000000000005,"AUS00000789",10.497999999999999,9059,34.799999999999997,53.5,38,135.5,0,680.8,518.4,456.7,883.3,640.6,546.29999999999995,605.1,0.99160000000000004,623.9,0.9617,0,0]
[null,"AUS273800",2738,11011,"ANGER MANAGEMENT","CORBY 43","SALTHOUSE","CORBY",2007,"NSW 2305",null,"INTL","R",1020,"07 07 2017 10:42:44",13.1,11.601000000000001,2.419,3.8,6167,138.6,0,523.5,1.167,578.4,0,0,877.5,704.2,607.1,559.70000000000005,534.5,510,466.6,836.2,673.1,589.4,545.6,517.9,494,459.8,725.9,584.29999999999995,508,462.7,433.1,411.4,377.7,790.7,631.29999999999995,543.70000000000005,490.7,456.3,432.2,399.8,896.8,689.3,571.9,499.2,450.1,413.5,357.6,44.2,44,42.2,40.1,39,37.9,37.9,142.30000000000001,139.80000000000001,147,152,149.30000000000001,147.1,138.30000000000001,911.3,742.6,657.2,619.79999999999995,600.1,584.1,575.20000000000005,586.79999999999995,482.6,443.2,429.5,421.5,415.7,402.4,546.4,458.8,427.7,412.9,403.3,396.9,381.4,510.9,443.7,413.4,388,374.6,366.3,355.5,511.6,444.4,414.8,385.3,358.6,340.6,324.8,523.1,438.9,402.5,382.5,363.1,344.7,306.3,538.79999999999995,444.8,405.3,371.2,351.9,334.5,293.39999999999998,611.5,485.3,429.3,394.9,361.1,326.10000000000002,265.10000000000002,730.7,576.6,482.4,432.2,406,377.4,310.10000000000002,843.8,665.8,557.1,499.6,468.8,435.8,358,1.1169,1.4558,1.6760999999999999,0.85350000000000004,1.1613,1.3505,0,0,0,0,1.1778,0,0,509.4,"AUS00000792",11.605,7247,33.6,60.4,53.8,0,196.3,604.4,463.7,402.7,790.9,581.20000000000005,499.8,548.20000000000005,1.0945,561,1.0694999999999999,0,0]
[null,"AUS2840",2840,"AUS32","SKAGERAK","International 5,5m","LARS HALVORSEN & S","LUDERS",1970,"2103 Mona Vale Australia",null,"CLUB","R",250,"07 07 2017 10:57:22",9.07,8.0730000000000004,1.35,1.9,2032,98.4,0.23,700.6,0.88339999999999996,764.1,0,0,1155.5,932.2,804.9,738.7,699.9,672.9,636.79999999999995,1112,899.6,789.4,734.3,701.3,674.5,644.5,962.9,777.8,679.6,623.5,589.20000000000005,566.20000000000005,535.1,1042.3,832.1,718.4,652.20000000000005,611.79999999999995,585.4,552.20000000000005,1183.3,914.3,763.8,672.7,613.79999999999995,572.29999999999995,513.5,43.6,42.4,42.2,41.5,40.9,40.1,40,145,149.30000000000001,150.1,159.4,180,180,180,1241.9000000000001,1018.7,899.8,854.6,833.4,811.2,795,805.1,667.6,597.5,577.70000000000005,569.5,563.9,552.70000000000005,754.5,628.79999999999995,574,557.20000000000005,550.4,546.5,535.5,713.7,601.20000000000005,558.1,536.5,526.5,521.20000000000005,513.4,671.8,581.4,555.70000000000005,532.29999999999995,511.9,495.8,485.5,666,563.9,534.20000000000005,518.9,504.9,490.9,462.2,695.1,573.79999999999995,533.5,506.1,488.8,473.2,445.7,783.7,628.1,554.5,523.4,491.7,456.9,410.1,925.8,732.5,614.9,553.1,524.1,494.8,430.6,1069.0999999999999,845.8,710,622.9,566.5,534.6,478.5,0.84379999999999999,1.0871,1.2137,0.64659999999999995,0.87980000000000003,1.0133000000000001,0,0,0,0,0.87880000000000003,0,0,682.7,"AUS00000794",7.09,2653,15.1,22.1,10,52,0,800,620.9,556.20000000000005,1043.9000000000001,767.2,666.1,721,0.83220000000000005,742.2,0.80840000000000001,0,0]
[null,"AUS281100",2811,8126,"Reverie","First 40,7","Beneteau","FARR",1997,"2103 Sydney Australia",null,"CLUB","C",830,"07 07 2017 11:04:56",11.923999999999999,10.648,2.419,3.77,7172,125.2,0.02,586.70000000000005,1.0617000000000001,635.79999999999995,0,0,958.9,783.1,676.4,614.1,578.4,555.29999999999995,529.1,918.6,750.1,656.6,604.1,574.20000000000005,554.4,528.70000000000005,807.5,652.5,569.4,520.9,490.8,470.8,445.2,864.5,693.2,599.70000000000005,544.29999999999995,509.5,486.5,457.1,988.5,764.8,638.4,561,510.7,475.6,427.4,43,41.8,41.6,39.6,38.6,37.9,37.5,142.5,148.6,150.1,156.4,172.3,180,180,997.3,829.7,729.3,676.6,653.1,641,631.5,652.5,548.4,494.7,473.3,464.9,460.4,456.7,614.70000000000005,520.4,480.1,461.8,452.2,446.9,442,583.1,501.1,469.9,451,435.7,424.5,415.5,582.9,495.8,462.2,449,431.8,415,391.1,591.79999999999995,493.4,457.7,433.6,417.4,406.2,386.2,609.70000000000005,505.1,464.1,439,413.8,393.3,371.2,676.6,549.9,484.6,455.7,432.5,408.8,363,797.2,637.9,540.1,484.3,457.3,435.7,392.7,920.6,736.5,623.6,551.6,503.7,469.6,426.6,1.0034000000000001,1.2978000000000001,1.4619,0.77490000000000003,1.0546,1.2244999999999999,0,0,0,0,1.0517000000000001,0,0,570.5,"AUS00000795",10.195,8179,31.3,48.2,45.7,130,125.3,672.7,520.1,461.7,871.1,640.1,551.20000000000005,601.5,0.99750000000000005,618.70000000000005,0.9698,0,0]
[null,"AUS251300",2513,933,"Leroy Brown","Farr 40 one design","Mconaghy","Farr",1997,"2107 Newport Australia",null,"CLUB","R",777,"07 07 2017 11:25:14",12.414999999999999,11.137,2.597,3.96,4970,128.9,0,527.20000000000005,1.1694,577.20000000000005,0,0,849,685.7,606.6,564.20000000000005,537.4,514.6,473,811.4,660.4,589.4,551.29999999999995,524.70000000000005,501.9,475.5,718.3,583.9,512.5,470.5,442.8,422.2,390.8,775.6,624.70000000000005,543,494.3,462.7,440.4,409.4,882,685,574.70000000000005,506.8,460.7,426,372.4,43,42.3,39.5,37.799999999999997,36.799999999999997,36,36.200000000000003,143.30000000000001,143,150.4,157.4,172.6,180,142.4,881.7,721.6,654.5,626.1,610.4,596.29999999999995,591.20000000000005,574,482.4,457.4,446.8,440.1,432.7,423.3,536.6,465.6,442.8,430.8,422.7,416.4,402.4,505.8,453.1,425.1,404.8,393.6,386.5,372.6,504.8,452,422,393.1,371.5,358.5,345.6,521.29999999999995,449.4,420.9,399.4,379.6,360.5,312.5,537.9,455.2,416.1,389.1,370,350.6,310.3,596,482.7,439.6,403.5,367.7,331.1,290.39999999999998,707,562.70000000000005,483.9,442.2,409.6,377,307.39999999999998,816.4,649.70000000000005,558.6,502.3,464.4,432.9,354.9,1.1365000000000001,1.4312,1.6311,0.87960000000000005,1.1603000000000001,1.3373999999999999,0,0,0,0,1.1677999999999999,0,0,513.79999999999995,"AUS00000796",11.257,6023,29.4,64.3,40.1,159.30000000000001,0,593.9,471.6,413.8,767.4,581.70000000000005,504.7,546.9,1.0972,559.5,1.0724,0,0]
[null,"AUS4200",4200,"Q40","BROADSWORD","A40","Archambault","Nivelt",2003,"QLD  4151",null,"INTL","R",867,"07 07 2017 12:06:52",11.99,11.69,2.4009999999999998,3.76,6577,119.8,0.08,574.5,1.0820000000000001,623.9,0,0,958.9,774.5,664.9,601.79999999999995,566.29999999999995,541.5,513,913.7,738.6,642.29999999999995,589.5,559,537.5,508,797.8,641.70000000000005,557.20000000000005,507.4,475.8,454.3,425.5,851.7,680.1,586.1,530,494.5,470.6,439.7,981.3,754.5,626,546.9,495,458.3,406.8,43.5,42,41.4,39.200000000000003,37.799999999999997,37,36.299999999999997,141.1,147.6,149,154.69999999999999,165.1,180,180,985.6,808.7,706.8,656.7,633.29999999999995,620.4,609.6,640.29999999999995,533.29999999999995,480.1,460.6,452.4,447.5,443,600.70000000000005,505.2,465.6,448,439,433.3,427.5,567.6,485.6,454.8,435.1,418.4,407.6,397.5,567.4,484.4,452.3,433,412.6,393,367.9,591.5,487,447.7,421.3,399.3,385.7,359.4,609.4,499.1,454.5,427.8,398.6,373.5,342.3,679.9,547.5,477,446,420.9,393.5,337.5,807.2,641.1,539.5,478.5,448.1,425,375,932.1,740.3,623,546.79999999999995,499.4,462.6,416.5,1.014,1.3294999999999999,1.5176000000000001,0.77880000000000005,1.0742,1.2568999999999999,0,0,0,0,1.0754999999999999,0,0,557.9,"AUS00000799",11.015000000000001,7761,32.6,46,48.8,126.1,122.2,665.7,507.7,444.8,866.7,628.4,537,588.20000000000005,1.0201,605.1,0.99160000000000004,0,0]
[null,"AUS274400",2744,248,"WAX LYRICAL","X 50","X YACHTS","N Jeppesen",2005,"NSW 2027",null,"INTL","C",1040,"07 07 2017 15:03:56",15.22,13.439,2.9660000000000002,4.29,12945,129.5,0,533,1.1572,583.29999999999995,0,0,881.8,718.1,619.70000000000005,564.1,531.70000000000005,509,478.8,838.1,681.4,596.5,550.79999999999995,524.29999999999995,505.5,475.5,735.1,593.20000000000005,517.1,472.8,445.4,427,402.4,778,624.70000000000005,541.29999999999995,491.8,460.7,439.8,413,907.2,699.8,582.5,510.8,464.4,432.4,388.4,43.7,42.8,41.6,39.799999999999997,39,38.4,37.700000000000003,141.4,146.69999999999999,146.5,153.30000000000001,160,180,180,892.4,736.9,653.79999999999995,615.5,595.4,584.5,566.6,578.79999999999995,482.7,440,426.3,419.5,415.4,409.3,542.29999999999995,457.7,425.1,413.9,407.9,404,398.9,510.9,440.7,414.1,399.3,390.8,385.1,379,509.7,439.8,412.7,395.3,379.9,367.7,356.6,557.70000000000005,456,414.6,395.4,383.7,371.8,351,573.20000000000005,466.4,420.2,396.5,375.1,361.6,341.4,634.6,511.5,443.3,412.6,391.6,370,326.60000000000002,754.4,605.70000000000005,507.1,446.5,415.9,395.9,356.4,871.1,699.4,585.6,512.6,468.1,433.5,391,1.1016999999999999,1.4307000000000001,1.6115999999999999,0.84379999999999999,1.1492,1.341,0,0,0,0,1.1537999999999999,0,0,520,"AUS00000800",12.605,14386,46.1,75.3,80.400000000000006,201.4,0,612.70000000000005,471.8,418.8,800,587.4,503.4,546.6,1.0978000000000001,558.29999999999995,1.0747,0,0]
[null,"AUS268600",2686,"N2099","ELEKTRA","FIRST 47,7","BENETEAU","FARR",1999,"North Victoria 3153",null,"INTL","R",988,"10 07 2017 12:17:52",14.506,12.923,2.819,4.51,12610,118.3,0.17,565.5,1.0991,614.1,0,0,951.2,769.9,662.8,593,553.79999999999995,527.1,499.2,908.6,736.1,638.6,580.20000000000005,546.79999999999995,525.6,500.1,789.5,633.29999999999995,548.20000000000005,497.7,466.1,445.2,419.5,841.6,670.7,576.4,519.6,483.6,459.6,429.6,971.2,745.4,616.79999999999995,537.4,485.7,450,401.8,43.8,42.2,41.9,40.700000000000003,39.200000000000003,38.299999999999997,38.200000000000003,141.5,148,149.30000000000001,153.30000000000001,160.19999999999999,180,180,986.9,811.8,711.8,648.9,619.4,604,590.70000000000005,639.29999999999995,534.1,473.3,445.1,433.5,427.8,422.5,598.79999999999995,503.1,454,432.5,421.2,415.5,409.7,564.5,478.2,440.7,422,408.4,397.5,386.5,563.29999999999995,476.8,438.5,418,405.5,391.5,368.3,588.6,481.4,433.8,410.9,394.1,379,362.2,604.4,493.8,440.1,415.6,395.3,375.4,349.1,668.3,540.70000000000005,466.4,431.1,410.6,391.3,353.2,792.8,630.4,531.6,467.8,433.5,413.7,377.7,915.4,728,613.79999999999995,537.1,488.1,450.1,407.7,1.0216000000000001,1.3546,1.5492999999999999,0.78439999999999999,1.0866,1.2899,0,0,0,0,1.0934999999999999,0,0,548.70000000000005,"AUS00000804",11.757,13973,44.7,66.900000000000006,62,166.2,121.6,660.7,498.3,435.7,860.5,621.20000000000005,523.29999999999995,578,1.0381,595.20000000000005,1.0081,0,0]
[null,"AUS272200",2722,7771,"BALANCE","TP 52","Goetz","FARR",2004,"NSW 2061",null,"INTL","R",1110,"10 07 2017 16:35:22",15.84,14.965999999999999,3.6429999999999998,4.38,7254,142.19999999999999,0,454.8,1.343,502.6,0,0,772,608.5,533.29999999999995,494,464.9,436.8,393.3,732.1,583.6,514.70000000000005,476.5,448.7,427.1,397.8,634.5,509.3,441.4,400.3,372.5,351.5,319.5,695.9,554.20000000000005,476.1,428.4,396.7,373.8,341.5,787.5,602.70000000000005,498.2,432.8,387.6,353.1,300.89999999999998,44.4,43.1,40.299999999999997,39.1,37.799999999999997,37,36.799999999999997,140.69999999999999,140.30000000000001,146.6,151.5,148.5,141.19999999999999,144.6,795.1,636.5,575,546.5,528.20000000000005,515.20000000000005,506.9,509.8,417.6,393,381.3,373.1,362.2,351.1,472.5,398.8,377,362.9,353,343,329.3,440.1,384,352.3,334.4,323.2,315.39999999999998,296.10000000000002,439.7,384.9,346.5,316.60000000000002,300.10000000000002,289,274.8,458.6,385.6,357,331.8,308.5,277.7,240.3,477,392,350.3,327.39999999999998,305.7,281,242.8,538.5,420.4,374.8,333.7,295.5,271.8,234.2,648.6,502.8,425.7,378.8,347.8,310.3,242.2,749,580.6,491.5,441.5,401.7,358.4,279.60000000000002,1.2817000000000001,1.6740999999999999,1.966,0.97789999999999999,1.3251999999999999,1.579,0,0,0,0,1.3569,0,0,442.2,"AUS00000813",14.949,8918,44.3,95.5,61.5,0,267.8,526.6,403.2,343.3,690.3,509.4,427.5,481.1,1.2472000000000001,491.3,1.2212000000000001,0,0]
[null,"AUS274000",2740,5223,"EXCAPADE","NSX 38","North Shore Yachts","Kaufman/Jutson",1980,"NSW 2263",null,"INTL","R",600,"12 07 2017 11:08:34",11.63,10.098000000000001,2.371,3.39,5611,124.7,0.01,601,1.0387999999999999,649.79999999999995,0,0,983.3,798.1,687.3,628.20000000000005,592.4,568.5,539.4,939.1,763.2,668.1,617.79999999999995,588.1,566.70000000000005,537.29999999999995,826.4,667.9,583.20000000000005,534.1,503.7,483.3,456.3,883.2,708,612.9,556.79999999999995,521.70000000000005,498.3,467.8,1012.2,782.5,653.4,574.9,524.20000000000005,489,440.4,43.2,42.1,41,38.799999999999997,37.799999999999997,36.9,36.299999999999997,144.4,148.30000000000001,150.19999999999999,157.19999999999999,175.4,180,180,1017.3,840.7,737,692.2,669.9,655.7,644,664.4,555.29999999999995,505.2,488.8,480.9,476.2,471.4,625.79999999999995,529.29999999999995,491.6,475.9,467.9,462.8,457.2,593.29999999999995,512.1,481.4,462.8,448.5,439.7,430.9,594.70000000000005,511.3,480.6,460.8,442,425.2,405.6,608.4,507.4,471,450.1,436.6,423.7,402,625.9,517.4,476.9,449.8,424.4,409.4,386.6,693.1,561,497.2,468,442.5,416.1,363.4,822.2,654.29999999999995,552.29999999999995,496.7,469.4,445.7,397.6,949.3,755.5,637.70000000000005,564.1,514.79999999999995,481.3,434.9,0.98150000000000004,1.2666999999999999,1.4234,0.75780000000000003,1.0335000000000001,1.1977,0,0,0,0,1.0269999999999999,0,0,584.20000000000005,"AUS00000819",9.702,6549,28.1,44.9,39.700000000000003,112.3,0,687.7,532.9,474.2,890.7,653.1,563.6,615,0.97560000000000002,632.4,0.94879999999999998,0,0]
[null,"AUS285600","ARCH RIVAL",415,"ARCH RIVAL","INGLIS/JONES 40","Mal Hart","Don Jones",1994,"NSW 2156",null,"INTL","R",868,"12 07 2017 11:45:04",11.99,11.188000000000001,2.637,3.82,5059,121.8,0.05,555,1.1164000000000001,604.6,0,0,915.7,739.8,635.29999999999995,583.6,553.5,532.1,497.8,875.2,707,618,571.79999999999995,543.9,522.70000000000005,488.1,767.5,618.6,538.6,491.4,461,439.5,408.5,835,666.6,574.5,519.5,484.2,459.9,426.3,939.5,724.7,603.4,528.6,479,443.1,390.4,43.7,41.7,40.1,38,37.200000000000003,36.4,35.9,143.4,145.69999999999999,149.6,156.5,171.1,180,180,954.5,780.2,681.1,642.20000000000005,623.9,613.6,599.9,622.9,515.6,471.9,456.9,449.3,444.7,434.4,584.9,492.3,459.2,442.5,433.2,427.1,416.6,553.6,477,448.2,424.3,406,396.2,386.9,555.9,470.8,446.8,422.5,396.8,375,353.1,560.9,469.7,433.3,405.7,388.9,371.7,342.7,577.4,477.3,439.5,403.8,375.8,356.6,326.89999999999998,640.6,514.5,460.4,429,395.4,361.5,300.39999999999998,759.5,605.70000000000005,510.6,461.9,432.9,402.5,341.8,876.9,699.4,589.6,525.1,483,450.6,395.7,1.0569999999999999,1.3723000000000001,1.5682,0.81540000000000001,1.1132,1.2867,0,0,0,0,1.1136999999999999,0,0,538.79999999999995,"AUS00000821",11.000999999999999,6130,29.5,51.4,35.4,133.30000000000001,114.9,638.6,491.9,430.4,827.8,606.4,524.6,576.5,1.0407999999999999,593,1.0118,0,0]
[null,"AUS285600",2856,415,"ARCH RIVAL","INGLIS/JONES 40","Mal Hart","Don Jones",1994,"NSW 2156",null,"INTL","R",868,"12 07 2017 11:48:08",11.99,11.188000000000001,2.637,3.82,5059,121.8,0.05,555,1.1164000000000001,604.6,0,0,915.7,739.8,635.29999999999995,583.6,553.5,532.1,497.8,875.2,707,618,571.79999999999995,543.9,522.70000000000005,488.1,767.5,618.6,538.6,491.4,461,439.5,408.5,835,666.6,574.5,519.5,484.2,459.9,426.3,939.5,724.7,603.4,528.6,479,443.1,390.4,43.7,41.7,40.1,38,37.200000000000003,36.4,35.9,143.4,145.69999999999999,149.6,156.5,171.1,180,180,954.5,780.2,681.1,642.20000000000005,623.9,613.6,599.9,622.9,515.6,471.9,456.9,449.3,444.7,434.4,584.9,492.3,459.2,442.5,433.2,427.1,416.6,553.6,477,448.2,424.3,406,396.2,386.9,555.9,470.8,446.8,422.5,396.8,375,353.1,560.9,469.7,433.3,405.7,388.9,371.7,342.7,577.4,477.3,439.5,403.8,375.8,356.6,326.89999999999998,640.6,514.5,460.4,429,395.4,361.5,300.39999999999998,759.5,605.70000000000005,510.6,461.9,432.9,402.5,341.8,876.9,699.4,589.6,525.1,483,450.6,395.7,1.0569999999999999,1.3723000000000001,1.5682,0.81540000000000001,1.1132,1.2867,0,0,0,0,1.1136999999999999,0,0,538.79999999999995,"AUS00000822",11.000999999999999,6130,29.5,51.4,35.4,133.30000000000001,114.9,638.6,491.9,430.4,827.8,606.4,524.6,576.5,1.0407999999999999,593,1.0118,0,0]
[null,"AUS6111",6111,"AUS 52","M3","TP 52","GOETZ","FARR",2005,"6110 WA",null,"INTL","R",1275,"12 07 2017 15:58:50",15.847,15.074999999999999,3.1930000000000001,4.43,7498,137.19999999999999,0,458.3,1.3321000000000001,506.7,0,0,772.9,612.29999999999995,536.9,497.5,469.5,441.8,399,735.8,588.70000000000005,519.4,481.3,454.1,432.8,404.3,637.5,512.5,444.8,404,376.4,355.6,323.7,699.2,557.20000000000005,478.9,431.2,399.6,376.9,344.7,789.8,605.9,501.9,436.8,391.6,357.1,304.5,44.6,43.7,41,39.700000000000003,38.5,37.799999999999997,37.700000000000003,141,141.30000000000001,145.9,151.69999999999999,149.6,142.30000000000001,145,806.8,648.29999999999995,582.79999999999995,554.20000000000005,536.70000000000005,523.4,515.9,516.70000000000005,422.7,396.1,384.5,376.8,367.6,356.6,478.3,402.9,380.2,366.5,356.9,348,333.5,444.2,388.2,356.7,337.5,326,318.3,299.60000000000002,442.2,387.5,351.6,319.89999999999998,302.2,291,276.8,458.4,387.2,360.9,335.2,312.3,283.7,243.3,475.9,392.5,353.6,330.6,308.5,285.60000000000002,246.5,532.6,419.5,375.7,335.3,297.39999999999998,274.89999999999998,237.4,640,499.2,425.2,380.9,348.5,312,244.3,739.1,576.4,491,440.9,402.4,360.2,282.10000000000002,1.276,1.6597999999999999,1.9427000000000001,0.97450000000000003,1.3151999999999999,1.56,0,0,0,0,1.3452999999999999,0,0,446,"AUS00000826",14.798,9165,43.6,92.7,62,0,268.3,529,406.7,347.5,692.7,513.20000000000005,432.7,484,1.2397,494.2,1.2141,0,0]
[null,"AUS714400",7144,"RQ432","DEKADENCE","DK 46","DK-COMPOSITES","MILLS",2003,"QLD 4171",null,"INTL","R",1040,"12 07 2017 16:32:00",14.1,12.82,3.0150000000000001,4.1100000000000003,9192,136.80000000000001,0,522.4,1.1880999999999999,568.1,0,0,855.3,692.8,598.4,549.5,521.20000000000005,500.3,470,817.9,663.2,581.5,538.70000000000005,512.9,493.7,464.3,718.3,580.6,507.1,464.3,437.2,418.2,391.3,780.8,624.9,539.70000000000005,488.8,456.4,434.3,404.9,880.3,680.7,568.5,499.9,455,422.8,376.4,44,41.8,40.5,38.299999999999997,37.5,36.799999999999997,36.200000000000003,143.30000000000001,144,149.1,155.6,165.1,180,180,892.7,732.8,642.70000000000005,604.6,586.1,575.5,560.9,582.20000000000005,484.3,442.4,427.6,420.6,416.4,407.9,546.4,461.6,430.1,415.4,407.6,402.5,394.1,516.6,446.7,420.3,401.7,386.6,378,369.4,516.9,440.7,419.2,399.5,379.4,361.5,342.3,520,438.5,408,392.3,378.4,364.5,338.2,538,446.6,412.5,386.2,366.9,352.8,326.8,597.1,482.2,431,404.6,377.6,350.1,303.3,708.2,565.4,479.9,433.7,408.6,384.1,334.5,817.8,652.79999999999995,554.20000000000005,494.5,456.2,425.2,379.1,1.131,1.4552,1.6459999999999999,0.87209999999999999,1.1828000000000001,1.3658999999999999,0,0,0,0,1.1811,0,0,508,"AUS00000827",12.510999999999999,10481,40.200000000000003,77.599999999999994,49.9,197.6,182,596.79999999999995,463.9,410.1,774,570.70000000000005,494.2,543.20000000000005,1.1046,556.79999999999995,1.0775999999999999,0,0]
[null,"AUS261200",2612,1236,"LOCAL HERO","BH 36","BASHFORD BOATS","Ian Murray & Ass",1995,"NSW",null,"INTL","R",680,"12 07 2017 17:00:22",10.97,9.891,2.2210000000000001,3.4,4211,119.6,0.18,608.20000000000005,1.0213000000000001,660.9,0,0,1015.4,816.6,701.5,636,600.6,578.1,544.5,971.2,783.4,681.7,626,595,574.20000000000005,538.70000000000005,845.8,679.5,589.6,536.9,503.6,480.7,449.2,913.5,727.4,625.29999999999995,564.4,525.9,499.9,465.8,1036.8,797,661.4,578.1,523.4,484.4,428.8,44.1,42.2,41.8,39.700000000000003,39.1,38.700000000000003,38.299999999999997,144.19999999999999,147.69999999999999,150.1,156.6,173.2,180,180,1063.9000000000001,869.7,760.2,704.2,683.4,673.8,659,690.2,572.29999999999995,512.9,489.8,481.4,476.9,469.9,646.70000000000005,541.4,496.5,475.8,465,459.2,453.4,612.20000000000005,519.70000000000005,484.2,461.3,441.3,428.4,419.3,615.79999999999995,516.4,479.3,460.7,438,415.8,387,618.29999999999995,510.9,470.8,439.7,421.5,406.4,379.6,636.1,521.6,477.4,445.5,412.7,389.4,361,706.2,567.70000000000005,499.4,467.2,436.9,406.6,344.4,837.3,661.2,556.70000000000005,498.9,469,441.2,385.8,966.9,763.5,642.79999999999995,567.9,517.70000000000005,482.5,430.1,0.95699999999999996,1.2574000000000001,1.4338,0.7369,1.0165,1.1818,0,0,0,0,1.018,0,0,589.4,"AUS00000828",9.4429999999999996,5074,25.7,36.299999999999997,29.7,97.2,0,705.3,536.79999999999995,470.8,916,664,571.20000000000005,625.9,0.95860000000000001,645.9,0.92889999999999995,0,0]
[null,"AUS254900",2549,6111,"NEVER A DULL MOMENT","MKL49","MACKMAN BOATS","DAVID LYONS",2001,"NSW 2533",null,"INTL","C",1050,"13 07 2017 10:58:50",14.99,13.295999999999999,3.2930000000000001,4.3,10647,136.5,0.05,526,1.1749000000000001,574.5,0,0,879.4,707,608.4,555.5,525.4,501.7,470.2,836.6,673.4,587.79999999999995,543.4,516.6,495.3,464.8,729.5,586.70000000000005,510.1,465.4,437.2,417.6,390.1,793.9,632.20000000000005,543.6,490.8,457.2,434.4,404.4,899,691.1,574,502.3,455.5,422.2,374.7,43.3,42.2,41,39.299999999999997,38.700000000000003,37.700000000000003,37.200000000000003,142,141.19999999999999,146,153.6,160.69999999999999,180,180,906.9,737.7,649.6,612.5,593.5,578.6,561.79999999999995,589.70000000000005,485.5,440.1,425.6,418.4,414.1,403.8,552,459.6,425.7,412.4,405.2,400.5,389.9,520.4,442,414,396.9,384.1,376.6,368.5,521.9,441.2,412.5,393,374,358,342.1,530.4,437.1,404.6,389.2,375.1,361.2,335.4,548.70000000000005,446.4,408.7,383.1,364.2,350.1,323.89999999999998,616.29999999999995,492.5,430.3,402.3,376.6,349.8,300.2,737.7,585.70000000000005,491.1,434.7,406.6,383.1,334.6,851.8,676.3,567.1,498.5,457.4,424.7,378.6,1.1115999999999999,1.4516,1.6492,0.85099999999999998,1.1673,1.3613999999999999,0,0,0,0,1.1728000000000001,0,0,511.6,"AUS00000830",12.592000000000001,12029,47,82.2,61,0,213.8,607.20000000000005,465,409.3,793.2,578.29999999999995,495.8,547.1,1.0966,561.5,1.0686,0,0]
[null,"AUS3301",3301,"Sm 3600","Maverick","Sun Fast 3600","Jeanneau","Andrieu",2013,"Vic 3933",null,"INTL","C",672,"13 07 2017 15:10:02",10.8,10.141,2.157,3.55,5200,123.1,0.18,608.9,1.0146999999999999,665.2,0,0,1020.1,822.1,707.6,639.9,609.79999999999995,582.20000000000005,554.9,976.7,788.5,685.4,626.29999999999995,593.70000000000005,571,545,847.5,680.5,590.20000000000005,537.20000000000005,504,481.6,452,921.8,732.4,627.70000000000005,564.79999999999995,525.1,498.8,466.2,1041,799.9,663.2,579,523.6,484.2,428.5,43.5,42.2,41.6,40,39.299999999999997,38.6,38.9,143.9,147.4,147.4,149.69999999999999,152,175.8,177.3,1073.3,878.6,770.6,701.3,672.7,659.7,654.20000000000005,696.5,579,516.29999999999995,486.3,473.4,468,463.9,653.29999999999995,547.70000000000005,498,473.6,458.6,451.5,446,618.79999999999995,524.6,485.2,462.9,442.3,424.8,411.1,615.20000000000005,510,470.2,455.8,440.9,421,382.9,608.79999999999995,504.5,465.2,435.3,412.5,398.5,371.6,627.4,515.9,472.1,442.9,412.2,382.6,352.1,706.3,566.1,495,463.6,436.2,407.9,350.1,837.3,663,558.29999999999995,501,476,454.9,407.1,966.8,765.6,644.70000000000005,578.5,547,504.7,455.7,0.95440000000000003,1.2567999999999999,1.4308000000000001,0.73280000000000001,1.0073000000000001,1.1660999999999999,0,0,0,0,1.0165999999999999,0,0,590.20000000000005,"AUS00000832",9.6039999999999992,6102,28.3,39.5,31.1,0,114.7,707.3,537.1,471.8,921.1,670.1,578.9,628,0.95540000000000003,648.6,0.92510000000000003,0,0]
[null,"AUS325000",3250,"M 25","HASTA LA VISTA","SYDNEY 38 OD","SYDNEY YACHTS","Murray/Burns/Dovel",2000,"QLD 4575",null,"INTL","R",850,"13 07 2017 18:53:02",11.795,10.779,2.6150000000000002,3.71,5635,120.1,0,574.20000000000005,1.0783,626,0,0,944.2,765.3,658.9,604.79999999999995,572.6,550.6,518.70000000000005,899.6,729.9,639.1,593,566.20000000000005,546.6,513.1,791.3,638.9,557.20000000000005,509.6,479.6,458.9,430.3,844.8,676.9,585.70000000000005,531.79999999999995,497.8,474.7,443.5,971.5,750,625.20000000000005,548.70000000000005,498.4,462.5,411,43,41.9,40.6,38.6,38.200000000000003,37.700000000000003,37.4,141.5,147.5,150.30000000000001,156.30000000000001,171.7,180,180,966.4,797.6,699.8,663.3,646.70000000000005,637.4,623.5,631.20000000000005,527.4,481.2,467.1,460.7,457,447.7,593.5,503.2,468.1,453.3,446.2,441.8,431.4,562.70000000000005,487.1,457.6,436.4,421.7,414.1,406.8,564,486.5,456.8,434.3,411.5,392.7,375.8,587.4,487.6,450,420.5,403.7,387.7,365.3,605.70000000000005,498.1,456.7,426.7,395.5,373.2,346.4,673.2,542.70000000000005,478.4,449,420.8,392.2,333.3,798.4,634.9,535.4,479.6,450.7,424.7,372.5,921.9,733.1,618.1,546.4,498.4,463.8,414,1.0245,1.3262,1.5002,0.78969999999999996,1.0746,1.2404999999999999,0,0,0,0,1.0741000000000001,0,0,558.6,"AUS00000839",10.458,6656,30.2,51.9,39.1,104.9,0,658.9,509,449.9,854.8,628.1,544.1,588.5,1.0195000000000001,604.4,0.99270000000000003,0,0]
[null,"AUS4215",4215,4242,"Wild Flower 2","Jeanneau SO 42 DS","Jeanneau (FRA)","Marc Lombard",2010,"QLD  4223",null,"INTL","C",856,"13 07 2017 19:00:02",12.93,11.750999999999999,2.1,4.12,8287,113.1,0.34,619.6,1.0017,673.9,0,0,1072.3,853.9,731.9,651.70000000000005,601.5,570.6,541.5,1021.9,819.1,706.2,636.70000000000005,594.79999999999995,570.4,542.70000000000005,877.4,698.5,599.9,540.70000000000005,503.4,478.7,448.9,936.1,740.2,631,564.9,523,495.5,462.6,1082.3,823.6,675.8,584.20000000000005,524.29999999999995,482.6,425.6,44.8,43.2,42.6,42.3,41.1,40.299999999999997,39.9,145.1,148.80000000000001,150.80000000000001,153.19999999999999,160.4,180,180,1116.3,906.8,793.4,719.3,677.3,659.8,649.70000000000005,716.8,591.4,521.1,481.3,462.6,455.5,450.7,668.3,556.4,494.6,464.4,448.8,440.7,435.2,630.6,528.5,476,452.1,436.1,422.9,407.8,633,529.79999999999995,472.2,444.4,433.4,419.1,390.4,649.70000000000005,527.20000000000005,466.1,438.9,416.7,395.9,374.5,669.6,542.6,474.3,443.9,422.5,400.2,358.7,745.2,596.79999999999995,510.7,463.8,439.4,418.8,375.6,890.5,693.8,580.79999999999995,508.5,465.1,441.7,402.4,1028.3,801.1,670.5,584.1,525.70000000000005,481.3,433.3,0.91590000000000005,1.2436,1.4442999999999999,0.70089999999999997,0.98870000000000002,1.1896,0,0,0,0,1.0011000000000001,0,0,599.29999999999995,"AUS00000840",10.186,9456,36.9,39.200000000000003,44.6,108.6,0,737,542.79999999999995,467.4,963,682.7,567.4,630.4,0.95179999999999998,652.5,0.91949999999999998,0,0]
[null,"AUS278800",2788,"R7","Wind Charmer","Hanse 325","Hanse Yachts","Judel / Vrolijk",2008,"NSW",null,"CLUB","C",480,"14 07 2017 15:11:36",9.6300000000000008,8.5079999999999991,1.8740000000000001,3.3,5200,124.7,0.43,698.5,0.89300000000000002,755.9,0,0,1144.5999999999999,936.5,819.5,736.3,678.1,649.29999999999995,624.29999999999995,1109.5,910.5,801,729.8,682.7,656.2,629.5,966.4,779.4,677.8,617.6,579.79999999999995,555.1,525.5,1037.5,829.4,714.5,645.4,601.79999999999995,573.5,540.9,1178.5,912.1,760.2,665.8,603.9,560.79999999999995,502.6,43.7,42,42,42.5,40.799999999999997,39.9,39.6,147.30000000000001,151.9,153.4,160.1,180,180,180,1242.0999999999999,1034.4000000000001,923.7,842.2,786.6,763.4,754.8,806.2,683.2,607.4,565.6,544.29999999999995,533.20000000000005,527.6,758.7,644.79999999999995,578.5,547.9,530.4,518.9,510.3,720.5,612.20000000000005,557.79999999999995,534.4,518.29999999999995,504.1,482.5,700.7,584.5,535.9,513,502.3,495.8,471.3,695.9,579,533,508.2,485.4,466.6,447,715,592.5,539,513.1,490.3,467.7,434.3,780.4,642.79999999999995,562.9,528.6,506.1,484,442.9,906.9,726.8,622.29999999999995,557.79999999999995,527.70000000000005,506.7,465.8,1047.0999999999999,838.5,715.4,630.5,569.5,535.20000000000005,493.8,0.83730000000000004,1.0915999999999999,1.2428999999999999,0.64870000000000005,0.88100000000000001,1.0430999999999999,0,0,0,0,0.88460000000000005,0,0,678.3,"AUS00000842",7.3979999999999997,5924,23.1,28.6,23.8,74.7,65.8,806.2,618.4,543.1,1040.5,766.2,647.1,713.6,0.84089999999999998,737.4,0.81369999999999998,0,0]
[null,"AUS2822",2822,7065,"Volante","E3","Elan Yachts","Rob Humphreys",2009,"2107 Avalon Australia",null,"CLUB","C",480,"14 07 2017 15:22:40",9.91,8.2219999999999995,1.71,3.31,3750,115.9,0.01,653.1,0.94889999999999997,711.3,0,0,1055.8,866.5,752.3,686.4,649.29999999999995,629,599.9,1010.6,830.7,733.6,680.4,650.29999999999995,631.4,602.9,891.7,723.6,634.20000000000005,582.6,550.9,530,502.7,948.6,764.2,664.7,606.6,570.6,547,517.4,1093.7,849.4,712,628,573.29999999999995,534.79999999999995,480.3,43.1,42.3,42.1,40.9,40.1,39.6,39.4,145.80000000000001,147.80000000000001,150.5,160.6,180,180,180,1099.7,921.6,821.6,773.2,751.7,741.6,731,719.1,606.79999999999995,555.5,535.20000000000005,526.5,521.79999999999995,519.1,676.9,577.29999999999995,539.20000000000005,521.20000000000005,510.2,504.2,499.6,642.1,557.5,526.9,507.2,490.8,478,466.9,642.1,549.20000000000005,515.29999999999995,499.5,484.7,467.3,443.5,640.20000000000005,544.6,509.9,481.7,459.4,447.1,428.5,661.4,554.5,516.29999999999995,488.2,460.8,438,410.4,736.4,603.4,536.1,506.7,480,454.6,408.5,876.3,702.7,591.9,533.9,506.7,481.8,435.8,1011.8,811.4,683,599.5,546.9,516.5,468.9,0.91080000000000005,1.1618999999999999,1.2972999999999999,0.70230000000000004,0.94530000000000003,1.0831999999999999,0,0,0,0,0.94130000000000003,0,0,637.4,"AUS00000843",7.8410000000000002,4400,20.399999999999999,30.5,27.4,70.8,83.7,741.1,580.9,520.29999999999995,961.1,714.1,623.20000000000005,666.8,0.89980000000000004,685.4,0.87539999999999996,0,0]
[null,"AUS2779","WILD OATS XI","AUS 10001","WILD OATS XI","REICHEL/PUGH 30m","Mc Conaughy Boats","REICHEL/PUGH",2015,"NSW 1570",null,"INTL","R",2125,"15 07 2017 19:06:00",30.48,30.091000000000001,5.891,5.09,28076,123.8,0,317.8,1.8931,356.6,0,0,521.6,427.9,386.4,355.7,327.7,306.60000000000002,279.60000000000002,502.1,413.7,369.5,340.8,317.89999999999998,302.10000000000002,281.10000000000002,432.9,353.1,309.60000000000002,282.5,263.39999999999998,248.9,227.7,467.6,377.8,328.5,297.89999999999998,276.5,259.89999999999998,233.6,542.1,421.2,351.5,306.2,273.89999999999998,249.2,212.9,46.6,42.8,40.799999999999997,38.799999999999997,37.299999999999997,36.299999999999997,35.799999999999997,136.5,141.30000000000001,136.19999999999999,137.80000000000001,144.5,144.30000000000001,151.4,573.4,474.3,426.2,398.7,374.4,364.5,353.4,363,309.60000000000002,287.8,276.5,264,256.60000000000002,246.1,333,291.8,275.8,265.5,250.9,242.5,231.5,295.60000000000002,270.60000000000002,254.6,242.3,230.2,217.8,204.8,285.2,260.10000000000002,241.9,228.8,218.5,208.7,187.8,285.89999999999998,256.39999999999998,234.6,218.2,205.7,195.5,181,289.3,259.7,238.3,219.8,199.9,190.6,174.3,331.2,277,247.6,227,208.5,194,173.8,406.9,330.3,300.10000000000002,270.7,243.4,215.5,177.9,469.9,381.5,346.5,312.60000000000002,281,248.8,205.8,1.8812,2.3607999999999998,2.7810000000000001,1.4218,1.8496999999999999,2.2368000000000001,0,0,0,0,1.9154,0,0,313.2,"AUS00000847",29.07,36039,115,371.5,251.4,0,929.5,358.8,285.89999999999998,242.7,474.8,364.9,301.8,334.1,1.796,337.9,1.7757000000000001,0,0]
[null,"AUS324400",3244,"R33","CHUTZPAH","CAPRICE 40","MAL HART","REICHEL PUGH",2007,"VIC 3123",null,"INTL","R",850,"19 07 2017 17:04:40",12.32,12.006,2.661,3.79,4648,130.30000000000001,0,515.6,1.1856,569.29999999999995,0,0,848.4,681.6,595.9,556.5,531,503.8,458.1,809.3,654.70000000000005,579.6,540.1,512.6,487.9,456,709.8,573.9,500.9,457.2,428,405.9,371.1,775.7,621,536.1,484.6,450.7,426.4,392.6,873.8,674.9,562.6,492.7,444.7,408,351,43.4,42.7,39.9,38.6,37.5,36.799999999999997,36.9,142.19999999999999,143.4,150.1,152.5,148.80000000000001,146,139.69999999999999,883.5,719.8,643,613,597,584.6,577.20000000000005,573,475.5,444.2,432.6,425.6,419.5,408.3,534.9,456.4,429.4,415.5,406.2,400,384.3,502.5,443.7,412.2,386.2,372.9,364.7,350.5,503.9,444.6,413.3,378.1,349.7,334.9,321.10000000000002,509,437.3,400.9,377.8,355.2,336,286.3,528,444,401.6,366,344.6,325.7,280.7,589.1,474.3,430.1,391.1,350.5,310.3,258,704.3,557.20000000000005,475.1,432.6,402.6,366.3,293.60000000000002,813.3,643.4,548.9,500.1,464.9,423,339,1.1456999999999999,1.4703999999999999,1.6992,0.88239999999999996,1.1766000000000001,1.3678999999999999,0,0,0,0,1.1955,0,0,501.9,"AUS00000854",11.938000000000001,5829,30.6,59.7,39.6,0,151.6,589.20000000000005,459.1,397.2,765,573.70000000000005,493.5,540.29999999999995,1.1105,552.79999999999995,1.0853999999999999,0,0]
[null,"AUS2778",2778,"AUS 52152","KOA","TP 52","GOETZ","FARR",2004,"Vaucluse NSW 2030",null,"INTL","R",1270,"20 07 2017 10:28:12",15.847,15.054,3.1429999999999998,4.3499999999999996,7695,135.1,0,462,1.3197000000000001,511.5,0,0,776.9,617.29999999999995,542.6,502.8,473.2,445.8,401.5,740.6,594.29999999999995,525.6,486.9,458.2,436.4,405.7,641.70000000000005,516.29999999999995,448.5,407.6,380,359,326.89999999999998,702,559.9,481.7,434,402.3,379.4,347.2,795.1,610.70000000000005,506.3,440.9,395.5,360.8,308.3,44.8,43.6,41.4,40.299999999999997,39.1,38.200000000000003,37.799999999999997,141.30000000000001,142,145.9,152.9,150.6,144.19999999999999,144.80000000000001,813.5,656.7,593,563.4,541.5,526.9,516.70000000000005,520.1,426.4,399.2,387.9,380.1,368.5,359.2,481,404.2,383.1,370.9,362.1,350,337.2,445.8,388.3,359.3,342,331.4,324.3,303.7,443.6,388.1,352.9,323.3,307.60000000000002,297.39999999999998,282.5,462,388.8,362.9,338,314.7,284.5,247.6,479.4,393.9,355.8,333.1,311.5,287.2,249.7,534.4,421.6,377.1,337.5,300.10000000000002,277.60000000000002,240.7,641.1,500.5,426.3,381.5,347.7,315.8,247.8,740.3,578,492.3,442.3,404.8,364.6,286.2,1.2686999999999999,1.6448,1.9244000000000001,0.96830000000000005,1.3026,1.5482,0,0,0,0,1.333,0,0,450.1,"AUS00000855",14.553000000000001,9389,44.1,93.8,61.8,0,261.7,532,410.4,350.8,697.1,518.20000000000005,436,487.2,1.2315,497,1.2072000000000001,0,0]
[null,"AUS274100",2741,360,"PATRICE","KER 46","McConaghy Boats","Jason Ker",2012,"NSW 2007",null,"INTL","R",1100,"20 07 2017 16:49:56",14.022,13.161,3.3159999999999998,4.37,6250,137.80000000000001,0,481.3,1.2727999999999999,530.29999999999995,0,0,802.9,640.5,557.1,517.5,491.7,466.3,419.2,764.3,613.70000000000005,539.9,501,474.9,453,422.9,667.1,537.4,467.3,425.1,396.8,375.4,341.4,740.5,590.29999999999995,507.3,456.8,423.6,399.8,366.4,822.3,632.5,525.20000000000005,458.2,412.1,376.9,322.39999999999998,43.4,42.7,40.200000000000003,38.4,37.5,36.799999999999997,36.5,141.4,141.19999999999999,148,152.1,149.19999999999999,146.5,142.6,835.2,675.9,598.70000000000005,569.9,555.6,544.4,533.9,541,446.1,413.8,400.8,392.5,386.9,373.2,504.6,427.8,399.6,382.6,372.4,366,351.4,473.5,415.5,383.8,356.7,342.6,334,323.10000000000002,475.5,416.4,385.2,352.4,324.39999999999998,307.2,291.10000000000002,476.3,407.3,378.2,356.6,334.3,313.39999999999998,267.2,494.2,413.3,370.5,346.4,326.8,304.7,266,555.79999999999995,440.5,397.8,358.5,320.10000000000002,287.8,251.8,667.4,524.1,446.4,400.6,370.6,336.2,263.60000000000002,770.7,605.20000000000005,515.5,465,427.9,388.3,304.39999999999998,1.2175,1.5799000000000001,1.8389,0.93520000000000003,1.2627999999999999,1.4835,0,0,0,0,1.2828999999999999,0,0,467.7,"AUS00000860",13.446,7561,36.799999999999997,71.7,47.9,0,230.4,554.4,427.2,367.1,721.8,534.5,455,511.5,1.1731,523.6,1.1458999999999999,0,0]
[null,"AUS8021",8021,5844,"X-Factor","X-412 Mk 2","X-Yachts","Jeppesen",1990,"0810 Brinkin Australia",null,"CLUB","C",600,"21 07 2017 15:11:18",12.512,10.443,2.2749999999999999,3.92,8740,120.9,0.23,618.29999999999995,1.0085999999999999,669.3,0,0,1019.1,831.4,721.9,648.20000000000005,605.4,577.5,550.5,975.4,797.9,697.7,636.79999999999995,601.5,579.29999999999995,554.20000000000005,855.8,689.7,599.79999999999995,546.9,513.79999999999995,492.2,465.8,905.8,725.5,626.6,567.5,530.29999999999995,505.7,475.4,1049.3,809.8,673.7,589.9,535.4,497.7,446.5,43.4,41.9,42.3,41.2,39.9,39,38.299999999999997,145.6,150.1,151.30000000000001,155,170.7,180,180,1052.4000000000001,878.8,778.4,713.1,682.1,665.6,652.29999999999995,686.4,579.9,517.1,490.1,477.5,471.5,466.2,646.4,546.5,498.3,477.3,465,458,451.8,613,521.4,485.3,466.6,452.6,440.9,427.5,613.79999999999995,521.20000000000005,483,462.4,451,437.5,413.1,639.9,526.6,480.2,456.8,437.5,422.3,406.2,659.7,542.9,486.6,461.3,440.9,420.9,391.3,725.4,591.79999999999995,512.4,476.8,455.6,436.3,398.7,853.7,678.9,576.6,511.2,477.4,457.5,421.6,985.7,784,665.4,583.4,528.70000000000005,489.4,448.8,0.94499999999999995,1.2343,1.4,0.72950000000000004,0.99650000000000005,1.1752,0,0,0,0,0.99919999999999998,0,0,600.5,"AUS00000864",9.6059999999999999,9736,33.1,40.9,52.3,118.4,111.2,714.3,546.9,482.1,925.3,677.4,574.4,627.9,0.9556,646.5,0.92810000000000004,0,0]
[null,"AUS319000",3190,"RQ4077","Beachball","FIRST 40,7","BENETEAU","B FARR",1997,"QLD    4129",null,"INTL","C",743,"26 07 2017 10:30:04",11.925000000000001,10.641,2.4169999999999998,3.77,7130,123.1,0.05,595.29999999999995,1.0442,646.4,0,0,982.2,802.2,688.2,621.9,586.70000000000005,563.1,537.6,936.8,763.8,666.7,612.5,582.20000000000005,562.1,537.5,822.3,663.2,577.4,527.4,496.4,475.9,450.1,879.6,704.4,608.70000000000005,551.9,516.4,493,463.7,1009.1,778.9,648.5,568.6,516.79999999999995,480.7,430.3,43.3,42,41.9,40.1,39.200000000000003,38.5,38.200000000000003,138.9,149.1,147.4,155.9,170.5,180,180,1017,845,742.7,689.2,665.6,653.29999999999995,645.70000000000005,663.9,557.29999999999995,500.7,478.4,470,465.4,461.8,624.9,527.70000000000005,485,466.1,456.8,451.7,447,592.5,507.1,474,454.9,440,429.3,420.7,592.70000000000005,505.9,469.8,450.7,435.9,419.3,396.1,606.9,501,461.6,438.3,420.3,404.7,385.7,621.4,510.4,466.8,441,415.9,399.2,368.2,684.5,554.5,486.8,457.4,433.8,409.6,363,820.6,657.6,548.79999999999995,486.4,459.1,437.3,393.8,947.5,759.4,633.6,554.70000000000005,507.8,472.9,429.4,0.98340000000000005,1.2819,1.4464999999999999,0.75649999999999995,1.0381,1.2065999999999999,0,0,0,0,1.036,0,0,579.20000000000005,"AUS00000866",10.015000000000001,8134,31.3,45.1,47.2,139.6,95.7,686.4,526.6,466.6,892.3,650.20000000000005,559.4,610.6,0.98260000000000003,628.20000000000005,0.95509999999999995,0,0]
[null,"AUS283500",2835,12450,"Bushranger","MAT 1245","M,A,T","Mark Mills",2005,"2104 NSW",null,"INTL","C",780,"26 07 2017 15:14:04",12.45,11.19,2.5619999999999998,3.75,7216,144.80000000000001,0.01,561.5,1.107,609.70000000000005,0,0,923.1,749.4,644.29999999999995,588.4,556.20000000000005,534.4,503.5,884.5,717.7,627.1,578.4,550,529.9,497.6,774.2,624.9,544.9,498.2,468.7,448.3,419.6,840.7,671.9,579.5,524.5,489.5,465.9,434.9,948.1,732.4,610.79999999999995,536.29999999999995,487.6,453,403.6,43.2,42.1,41.2,39.299999999999997,38.1,37.4,36.700000000000003,143.4,146.5,149.80000000000001,156.5,171.2,180,180,970.3,798.5,696.7,650.29999999999995,628.79999999999995,617.5,602.5,632.1,525.79999999999995,475.4,456.7,448.9,444.3,437.3,593.1,499.4,461.8,444.6,435.2,429.6,423.3,560.70000000000005,481.7,451.8,432.2,415.8,404.4,394.7,561.5,471.8,449.9,431,411.4,392.3,366.8,557.9,468.9,435.9,415.9,402,388.8,363,574.79999999999995,477.6,442.1,414.4,389.4,374.2,349,640.9,518.20000000000005,461.7,433.9,407.2,379.8,325.3,758.5,606.5,512.6,462.8,436.6,412.1,362.5,875.9,700.4,591.9,526.5,483.6,451.2,404.5,1.0477000000000001,1.3561000000000001,1.536,0.80720000000000003,1.1022000000000001,1.2778,0,0,0,0,1.0992999999999999,0,0,545.79999999999995,"AUS00000868",10.868,8272,33.299999999999997,58.6,41.4,155.19999999999999,152.1,644.29999999999995,497.8,439.5,836.2,612.4,528.29999999999995,581.70000000000005,1.0314000000000001,598.20000000000005,1.0029999999999999,0,0]
[null,"AUS419700",4197,"RQ6165","DRAKE'S PRAYER","FIRST 40,7","BENETEAU","FARR",1997,"QLD 4171",null,"INTL","R",758,"26 07 2017 16:10:10",11.923999999999999,10.747,2.444,3.77,7722,124.1,0.03,598.70000000000005,1.0407999999999999,648.5,0,0,988.3,804.3,693.4,626.5,588.1,562.5,536.70000000000005,940.5,767,669.7,614.70000000000005,583.4,562.6,538.20000000000005,827.2,667,580.79999999999995,530.29999999999995,498.9,478.4,452.9,872.6,699.8,605.5,549.6,514.6,491.5,462.4,1016.5,784,652.4,571.79999999999995,519.6,483.4,434.1,43.2,41.9,41.7,39.799999999999997,38.700000000000003,38.1,37.299999999999997,140.30000000000001,149.4,149.69999999999999,155.6,170.5,180,180,1008.2,839.5,738.3,685.3,660.3,646.6,636.79999999999995,658.8,554.20000000000005,499,477.5,469,464.4,460.3,620.70000000000005,525.29999999999995,483.9,465.7,456.7,451.5,446.5,588.4,505.1,473.1,454.9,440.9,430.7,421.9,588,503.5,471,452.6,436.6,421.1,398.5,620.5,510.6,467.6,443.8,424.5,408.7,391.2,637.4,522.9,473.5,448.8,426.2,404.1,376.3,702.4,571.4,497.5,465,443.3,421.5,379.1,838.6,666,561.5,496.5,466.3,445.8,405.5,968.3,769.1,648.4,567.70000000000005,516,478.4,436.6,0.97819999999999996,1.2743,1.4395,0.75309999999999999,1.0321,1.2070000000000001,0,0,0,0,1.0309999999999999,0,0,582,"AUS00000869",10.122,8747,32,48.3,49.5,119.4,95.8,690,529.70000000000005,468.9,896.3,654,559.20000000000005,607.6,0.98750000000000004,624.70000000000005,0.96050000000000002,0,0]
[null,"AUS220300",2203,4966,"KING BILLY","KING 38 CUSTOM","SAILORS BAY B'SHED","KING",1992,"NSW 2106",null,"INTL","C",670,"27 07 2017 10:29:44",11.5,9.7249999999999996,2.0609999999999999,3.83,7473,119,0.23,641,0.97230000000000005,694.2,0,0,1053.2,859.6,748,672.8,628.20000000000005,600.6,573.6,1008.3,825.9,723.8,662.1,626.1,603.6,578.1,885.6,714.4,622,567.6,533.79999999999995,511.6,484.6,931.9,747.5,646.70000000000005,586.79999999999995,549.20000000000005,524.4,493.6,1085.9000000000001,838.8,698.6,612.29999999999995,556.1,517.1,463.9,43.9,42.5,43.1,41.9,40.4,39.5,38.799999999999997,146.19999999999999,150.6,151.69999999999999,155.9,173.9,180,180,1086.2,909.2,809.1,744,712.6,695.9,683,706.4,597.6,535.6,509.4,497.1,491,485.7,665.3,563.20000000000005,517,496,483.5,476.6,470.3,631.4,538.79999999999995,503.7,484.7,470.1,457.8,443.7,631.29999999999995,537.6,501.3,481.9,467.2,452.8,427.8,666.3,547.79999999999995,499.2,474.6,453.7,437.7,421.4,684.7,562.4,505.3,479.2,458,437.1,406.2,752,613.29999999999995,530.70000000000005,494.8,472.8,452.6,414.1,883.4,701.4,595.6,526.9,494.9,474.2,436.8,1020.1,809.9,687,601.6,543.79999999999995,505.4,464.2,0.91420000000000001,1.1894,1.3465,0.70579999999999998,0.96120000000000005,1.1298999999999999,0,0,0,0,0.96330000000000005,0,0,622.79999999999995,"AUS00000873",8.891,8366,30.3,36.9,49.7,105.3,0,738.4,567.5,501.3,956.4,702.2,597.4,648.1,0.92569999999999997,667.1,0.89939999999999998,0,0]
[null,"AUS4204",4204,"W1424","MAYFAIR","First 40 2,48","Beneteau Yachts","Farr",2008,"QLD 4106",null,"INTL","R",798,"27 07 2017 10:42:34",12.24,11.243,2.4900000000000002,3.9,7952,132.80000000000001,0.18,584.29999999999995,1.0672999999999999,632.5,0,0,971.6,787.4,677,609.4,572.70000000000005,548.1,518.79999999999995,930.4,754.3,655.9,599.4,567.70000000000005,546.6,516.9,810.9,652.29999999999995,566.6,516.20000000000005,484.7,463.5,435.6,877.4,699.4,601.4,542.9,506,481.3,449.5,994.2,765.5,635.9,556.29999999999995,504.5,468.4,418.6,43.2,41.7,41.4,39.700000000000003,38.200000000000003,38.1,37.4,141.6,148,149.4,155.5,169.1,180,180,1019.8,839,733.4,672.3,646.4,632.79999999999995,617.20000000000005,664,554,493.9,468.6,458.2,452.8,447.5,623.5,523.4,477.2,456.7,445.2,439.4,433.7,590.5,501.2,465.7,446.3,430.7,417.9,406.1,589.5,489.5,455.5,444.6,428.1,411.2,382.7,587.79999999999995,487.1,450,426.3,411,399.4,378.2,605.9,499,456.6,431.6,406.5,385.6,362.9,674.4,545.6,478.1,448.3,425.4,401.4,353.2,799.7,637.29999999999995,537.4,478.3,450.2,428.9,385,923.4,735.9,620.5,546.5,499.1,463.4,420.4,0.99750000000000005,1.3081,1.4863999999999999,0.76749999999999996,1.0587,1.2424999999999999,0,0,0,0,1.0584,0,0,566.9,"AUS00000874",10.555,9036,34.799999999999997,54.1,39.4,139.5,134.69999999999999,676.7,516,454.1,879.5,637.6,543.29999999999995,602,0.99660000000000004,621.1,0.96599999999999997,0,0]
[null,"AUS4219",4219,"RQ122","Javelin","J 122 2,2","J Composite France","R Johnson",2007,null,null,"INTL","C",799,"27 07 2017 11:20:18",12.19,11.180999999999999,2.3940000000000001,3.64,7551,127.9,0.15,582.6,1.0689,631.5,0,0,966.5,786.1,673.6,607.29999999999995,572.4,548.70000000000005,518.29999999999995,926.5,751.3,653.70000000000005,598.5,567.5,546.4,514.9,806.7,649.70000000000005,565,515.5,484.6,463.7,435.6,876.8,699.4,602,544,507.5,483.3,452.4,989.4,762.7,634.29999999999995,555.6,504.5,469,419.7,43.5,42,41.8,39.9,38.5,38.1,37.1,142.19999999999999,147.5,148,155.9,169.5,180,180,1019.2,839.2,733,674.4,649,635.5,618.29999999999995,662.5,552.79999999999995,493.2,469.4,460.1,455.1,449.4,621.70000000000005,522.20000000000005,476.9,457.5,447.1,441.8,436.7,588.20000000000005,500.2,465.5,446.5,431.6,420.1,410.5,585.5,487.2,459.9,445.5,428.9,412.1,386.2,578.9,482.3,447.8,427.4,414.4,402.7,380.7,594.20000000000005,491.5,453.3,428,403.7,387.8,364.5,667.8,536.4,473.3,445.5,421.7,396.5,345.7,791.4,634.79999999999995,531.9,473.9,447.6,425.5,380,913.8,732.9,614.1,540.20000000000005,495.8,461.9,418.3,1.0031000000000001,1.3108,1.4851000000000001,0.77029999999999998,1.0621,1.2424999999999999,0,0,0,0,1.06,0,0,566,"AUS00000875",10.493,8636,33.4,49.4,42.6,0,154.19999999999999,672.9,515,454.5,876.3,635.5,543.29999999999995,603.20000000000005,0.99460000000000004,621.70000000000005,0.96509999999999996,0,0]
[null,"AUS279200",2792,6982,"Les Girls II","Hanse 350","Hanse Yachtbau","Judel/Vrolijk",2008,"2041 Sydney Australia",null,"CLUB","C",560,"31 07 2017 15:44:46",10.5,9.7729999999999997,1.8779999999999999,3.55,6338,125.1,0.36,681.7,0.91579999999999995,737.1,0,0,1187.8,940.4,801.9,711.6,656.3,621,589.4,1114.5999999999999,895.6,772.6,695,649.5,623.4,597.79999999999995,962.2,767.4,660.1,596,555.70000000000005,529.6,498.6,962.2,767.4,660.1,596,555.70000000000005,529.6,498.6,1201.5999999999999,911,745.9,644.70000000000005,579.6,535.4,477.4,44.3,42.7,42.9,42.2,40.799999999999997,40.200000000000003,39.9,144.6,168.1,169.4,170.4,170.7,172.7,176,1139.0999999999999,942.1,833.5,758.2,722.5,704.8,693.5,734.7,616.20000000000005,547,512.79999999999995,497.6,491.4,486.6,687.2,578.70000000000005,522.70000000000005,497.4,483.6,476.7,471.4,648.1,548.70000000000005,506.1,485.4,470.2,457.6,444.4,648.6,548.9,505.1,484.4,469,454.2,427.1,724.8,601.5,527.29999999999995,495.5,476.5,459.6,424.2,772.9,636.29999999999995,551.29999999999995,507.4,484.7,467.4,432.8,896.5,712.5,610,541.20000000000005,504.9,484.4,451.8,1070.8,824.4,689.4,602.79999999999995,541.29999999999995,506.2,469.6,1236.5,938.7,770.2,665,590.20000000000005,537.20000000000005,485.3,0.83589999999999998,1.1293,1.3049999999999999,0.63439999999999996,0.90369999999999995,1.0923,0,0,0,0,0.90810000000000002,0,0,660.7,"AUS00000882",8.766,7235,28.4,32.9,39.9,0,0,807.5,597.70000000000005,517.20000000000005,1064,746.9,618,660.7,0.90810000000000002,681.7,0.88019999999999998,0,0]
[null,"AUS418700",4187,"AUS87","ITALIAN JOB","Farr 30","Ovington","Farr",1995,null,null,"INTL","R",450,"31 07 2017 15:56:16",9.4350000000000005,8.8829999999999991,2.1320000000000001,3.04,2203,119.7,0,593.29999999999995,1.0415000000000001,648.1,0,0,942.6,767.7,678.3,633.4,603.6,579.4,532.29999999999995,903.3,740.7,663,621.20000000000005,591.79999999999995,567,535.29999999999995,804.1,656,577.29999999999995,530.70000000000005,499.9,477,442.1,873.1,704.1,612.79999999999995,558.6,523.4,498.6,463.9,983.6,767,645.70000000000005,570.70000000000005,519.70000000000005,481,421.1,42.3,41.5,38.6,36.9,36.299999999999997,35.700000000000003,35.9,143,146.1,153.69999999999999,162.4,180,180,143.80000000000001,984.4,813,737.8,708.3,693.2,679.7,675.1,646,549.70000000000005,521.1,509.4,502.4,496.1,486,606.9,532.1,506,491.8,482.6,478.6,461.9,576.6,519.20000000000005,488.7,463.1,448.8,440.2,427.7,574.4,516.6,486.3,453.5,425.6,407.2,392.6,573.4,505.5,470.3,447.6,425.5,404.8,358.6,590.79999999999995,513.79999999999995,470.1,432.6,409.9,389.7,349.3,659.5,541.79999999999995,497.1,454.6,410.9,368.4,316.7,780,625.6,539.20000000000005,496.8,458.3,419,337.3,900.7,722.4,618.79999999999995,558.6,513.9,479.1,389.4,1.0144,1.2685,1.4441999999999999,0.7893,1.0350999999999999,1.1889000000000001,0,0,0,0,1.0368999999999999,0,0,578.70000000000005,"AUS00000883",8.8859999999999992,2940,17.600000000000001,35.799999999999997,20,86.3,82.4,665.4,532.1,467.4,855.2,652.1,567.79999999999995,615.1,0.97550000000000003,631.29999999999995,0.95040000000000002,0,0]
[null,"AUS272600",2726,226,"SWISH","ES 44","ES YACHTS","Tim Kernan",2009,"NSW 2000",null,"INTL","R",984,"01 08 2017 17:01:44",13.41,13.034000000000001,2.7509999999999999,3.66,6151,134.9,0,498,1.2301,548.70000000000005,0,0,817.3,654.79999999999995,576.70000000000005,536.70000000000005,510.2,486.7,438.9,779.3,629.1,559.5,521.4,494.6,474,443.3,683.6,553.29999999999995,483.8,442.7,415.3,394.5,360.8,750.1,601.1,519.6,470.5,438.1,415,383.2,843.2,651.70000000000005,544.29999999999995,477.8,432.2,397.4,342.9,44,42.5,40,38.4,37.799999999999997,37.200000000000003,37.1,141.80000000000001,140.69999999999999,148,152.19999999999999,149,145.1,143.80000000000001,852.3,692.2,627.79999999999995,599.20000000000005,581.5,568.9,561,552,457.6,432.1,421.4,415.4,407.5,398.8,514.70000000000005,438.7,417.3,406.3,398.3,390.5,377.2,482.3,425.2,398,379.5,368.1,360.5,343.2,481.6,424.3,393.8,362.8,342.7,331.6,318.3,485.3,418.8,396.4,372.8,351,330.7,281.8,502.4,422.5,387.3,364.3,344.4,322.2,281.39999999999998,565.70000000000005,448.3,407.1,368.3,329.5,303.7,267.89999999999998,677.5,534.6,455.3,408.8,380,350.4,274.3,782.3,617.29999999999995,525.70000000000005,474.3,438.8,404.6,316.8,1.1937,1.5205,1.7472000000000001,0.91710000000000003,1.22,1.4220999999999999,0,0,0,0,1.2358,0,0,485.5,"AUS00000890",12.728,7508,36,76.099999999999994,44.3,0,220.7,565.5,443.9,386.3,736,553.29999999999995,474.7,524.6,1.1437999999999999,535.79999999999995,1.1197999999999999,0,0]
[null,"AUS323900",3239,"S390","JAZZ PLAYER","Z 39","HAKES MARINE","BAKEWELL- WHITE",2004,"VIC 3144",null,"INTL","R",748,"03 08 2017 15:30:52",11.92,10.978999999999999,2.99,3.75,5021,137.69999999999999,0,536.4,1.1455,589.29999999999995,0,0,875.4,704,613.79999999999995,572.79999999999995,550.1,526.20000000000005,483.5,833.2,673.4,596,557,531.70000000000005,508.8,475.9,734.6,595.1,520.9,477.6,449.6,428.8,396.1,797.2,639.4,553.6,502.3,469.3,446.3,414.8,903.5,698.9,584.4,514.29999999999995,467.3,432.2,378.2,42.7,42,39.299999999999997,37.5,36.5,35.6,35.5,142.4,144,149.4,152,149.19999999999999,146.80000000000001,139,901.1,733,655,624.79999999999995,609.20000000000005,595.29999999999995,587.70000000000005,588.5,489,458.6,447.7,441.1,435.2,425,551.6,471.3,445.2,432.6,424.6,419.3,405,520.4,459.7,430.9,408.3,396.5,389.3,377.2,522,460,431.1,401.9,377.4,362.3,349.5,529.1,453.8,420.2,400.4,381.2,364.3,321.10000000000002,547.70000000000005,460.9,423,388.9,369.5,352.1,311.39999999999998,616.1,494.3,447.9,413.9,379.1,343.3,284,735.8,584.5,495.9,451.6,425.2,395.8,328.5,849.7,674.9,572.6,520.79999999999995,491,457,379.4,1.1085,1.4131,1.6049,0.8548,1.1408,1.3077000000000001,0,0,0,0,1.1493,0,0,522.1,"AUS00000893",11.201000000000001,6032,29.9,58.2,41.3,0,153.4,608.9,477.7,420.6,789.7,591.70000000000005,516.20000000000005,556.9,1.0773999999999999,570.9,1.0509999999999999,0,0]
[null,"AUS276500",2765,"M16","SHAKTI","ROGERS 46","CMI","ROGERS",2006,"NSW 2280",null,"INTL","R",1020,"07 08 2017 11:17:44",14.03,13.451000000000001,2.9119999999999999,3.98,6474,141.69999999999999,0,491.6,1.2477,541,0,0,831.5,660.7,570.1,525.79999999999995,499.4,472.8,425.8,790.8,631.9,552.20000000000005,510,481.8,457.8,427.6,685.5,550.29999999999995,477,433,403.5,381.4,346.7,752,598.5,513.79999999999995,462.1,427.9,403.4,368.6,846.8,648.79999999999995,536.70000000000005,467,419.4,383.5,328.3,44,43.4,40.700000000000003,38.700000000000003,37.4,36.5,36.200000000000003,141.6,139.80000000000001,146.69999999999999,152.1,149.19999999999999,146.5,141.69999999999999,863.1,694.3,612.1,578.29999999999995,560.20000000000005,546.29999999999995,535.1,556.5,453.8,419.6,406.8,398.6,391.5,377.4,517.9,433.1,405.1,390.1,379.6,372.4,355.4,483.6,419.5,388.5,363.2,349.7,340.8,326.3,484.4,420.4,389.1,355.8,329.8,314.60000000000002,298.7,493,415.3,383.8,361.1,339.2,319.2,270.3,510.9,421.4,379.7,351.3,331.3,310,270.2,577.6,456.9,405.8,368.1,330,293.89999999999998,256.3,692.7,543.1,457.4,408.2,379.8,345.8,274,799.9,627.1,528.1,473.3,438.6,399.3,316.39999999999998,1.1829000000000001,1.5513999999999999,1.8103,0.90469999999999995,1.2381,1.4617,0,0,0,0,1.2569999999999999,0,0,477.3,"AUS00000898",13.391999999999999,7884,38.200000000000003,74.5,51.7,0,221.5,570.6,435.1,372.9,746.1,545.20000000000005,461.8,517.9,1.1585000000000001,530.29999999999995,1.1314,0,0]
[null,"AUS419600",4196,"M42","SYNCHRONICITY","SIMONIS 42 - MOD","FAST YACHTS","SIMONIS",1991,"820 NT",null,"INTL","R",650,"09 08 2017 11:25:44",12.488,11.507999999999999,2.048,3.88,7175,120.1,0,573.20000000000005,1.0765,627,0,0,939.8,765.3,663.5,606.29999999999995,573.70000000000005,552,523.29999999999995,898.7,732.3,645.6,598.4,569.6,549.29999999999995,520.5,785.6,636.1,556.5,510.4,481.6,462,435.2,835.1,671.8,583.5,531.6,498.9,476.9,448,968.6,749.4,626,550.6,501.5,466.8,417.6,44.5,43.4,42.6,40.700000000000003,39.4,38.799999999999997,38.6,143.69999999999999,147.80000000000001,148,156,171.9,180,180,979.9,813.2,726,683.2,660.5,648.6,638.4,631.6,529.1,485.2,470.2,462.7,458,452.3,590.29999999999995,500.6,468.1,455.9,448.9,444.3,438.7,554.29999999999995,481.3,454.8,438.6,427.9,420.3,412.2,551.29999999999995,478.8,451.8,432.6,414.2,399,383.9,566.70000000000005,476.1,444.5,426.9,412.2,398.3,372.6,580.70000000000005,483.3,447.8,421.1,399.2,384.5,358.3,655.29999999999995,523.20000000000005,465.8,438.7,411.7,383.7,331.3,779.3,621.29999999999995,520.6,466.2,440.7,415.9,364.7,899.8,717.4,601.1,529.4,487,455.3,408.3,1.0345,1.3250999999999999,1.4888999999999999,0.79169999999999996,1.0706,1.2346999999999999,0,0,0,0,1.0724,0,0,559.5,"AUS00000903",10.532,8334,33.700000000000003,62,49.9,0,158.1,652.5,509.4,453.4,852.6,630.5,546.70000000000005,588.1,1.0203,601.70000000000005,0.99719999999999998,0,0]
[null,"AUS280300",2803,6316,"Gezzabelle","Adams 10","Blueline Yachts","Joe adams",1987,"2147 Seven Hills Australia",null,"CLUB","R",620,"09 08 2017 13:27:30",9.99,9.3409999999999993,1.7869999999999999,2.74,2910,121.1,0.12,613.79999999999995,1.0109999999999999,667.7,0,0,1010.4,819,702.8,643.1,609.29999999999995,587.6,553.70000000000005,969.3,784.1,685.9,633.70000000000005,602.29999999999995,579.5,548,846.9,683.4,595.6,544.20000000000005,511.6,489.1,458.2,918.2,733.8,633.4,574.1,536.6,511.2,477.3,1036.5999999999999,800.7,667.5,585.79999999999995,531.9,493.3,437.4,43.6,42.4,41.3,39.1,38,37.5,37.4,141.30000000000001,147.69999999999999,149.69999999999999,158,180,180,149.1,1070.3,875.8,765.9,719.6,698.7,686.7,679.6,694.5,575.1,523.9,506.4,498.4,493.7,489.7,650.6,547,509.4,491.2,482.1,476.3,471.2,614.20000000000005,528.70000000000005,497.6,473.7,454.5,444.3,434.9,613.29999999999995,519,496.7,472.4,446.2,422.8,399.6,609.1,514.29999999999995,478.4,453.8,436,418.1,387,624.70000000000005,521,482.1,445.4,418.8,400.1,366.3,695.7,557.29999999999995,502.1,468.8,431.8,393.7,333.5,823.2,660.2,554,501.6,471.1,437.9,370.4,950.5,762.3,639.70000000000005,566.6,519.9,488.6,427.7,0.95809999999999995,1.2404999999999999,1.4088000000000001,0.7379,1.0086999999999999,1.1632,0,0,0,0,1.0059,0,0,596.5,"AUS00000904",8.9770000000000003,3748,20.399999999999999,28.2,28.6,94,82.4,704.5,544.1,479.1,914.8,669.2,580.29999999999995,635,0.94489999999999996,653.9,0.91759999999999997,0,0]
[null,"AUS229400",2294,294,"LOVE & WAR","S & S","QUILKEY","S & S",1973,"NSW  2024",null,"INTL","R",890,"10 08 2017 13:58:30",14.218,11.071,2.2530000000000001,4.0999999999999996,14185,144.80000000000001,0.42,625,0.9899,681.9,0,0,1031.5,845.3,738.5,663.5,617.79999999999995,586.20000000000005,554.6,988.7,813,713.8,651.6,613.70000000000005,589.1,560.20000000000005,865.4,697.6,606.4,552.29999999999995,518.29999999999995,495.8,468.5,910.1,730.1,631.1,571.5,533.70000000000005,508.5,477.7,1063.3,821,682.6,596.70000000000005,540.29999999999995,501.2,448.6,44.8,43.1,44.1,44,42.4,41.5,40.4,145.9,150.6,150.6,153.69999999999999,164.1,180,180,1070.9000000000001,901.1,806,740.8,704.3,683.6,661.6,691.5,589.5,522.9,491.2,477.1,469.5,462.1,650.79999999999995,553.9,498.8,475.5,462.9,455.2,447.4,618.1,524.79999999999995,483.2,463.9,450.7,439.9,425.6,616.4,523.1,480.7,461.6,448,436.1,415.1,651.5,535.9,479.1,454.6,436.8,425.3,411.5,666.6,549.4,485.2,458.4,439.8,422.3,398,729,597.1,513.29999999999995,473.6,452.6,435.3,402.7,859.2,683.5,581.29999999999995,511.6,474.6,454.7,422.9,992.2,789.4,671,586.20000000000005,531.20000000000005,488.9,447.7,0.93340000000000001,1.2208000000000001,1.3906000000000001,0.71930000000000005,0.97509999999999997,1.1593,0,0,0,0,0.98650000000000004,0,0,608.20000000000005,"AUS00000906",9.5990000000000002,15301,41.8,45.2,82,164.9,0,723.2,552.9,485.4,938.4,692.2,582.20000000000005,633.70000000000005,0.94689999999999996,650.79999999999995,0.92190000000000005,0,0]
[null,"AUS324700",3247,"G4646R","EXTASEA","DK 46","DK Yachts","Mark Mills",2003,"VIC 3220",null,"INTL","R",1077,"10 08 2017 14:39:00",14.1,12.72,3.008,4.1100000000000003,8901,138.19999999999999,0,523.20000000000005,1.1837,570.29999999999995,0,0,858.9,695.3,600.79999999999995,552.1,523.20000000000005,501.7,471,818.9,663.9,582.79999999999995,540.5,514.70000000000005,494.9,464.5,719.3,581.5,507.9,465,437.7,418.5,390.9,779.6,624.1,539.20000000000005,488.5,456,433.8,404.2,884,683,570,500.9,455.4,422.9,375.5,43,42,40.4,38.6,37.5,36.6,36.1,142.5,143.6,149.1,155.5,164.6,180,180,888.9,729.7,641.9,606,587.5,576.1,561.70000000000005,579.6,481.7,442.1,428.5,421.5,417.1,407.4,543.6,459.6,429.8,415.8,407.9,402.7,392.8,513,445.2,419.4,400.4,385.4,377.3,368.7,513.29999999999995,441.7,418.2,397.5,376.7,359,340.7,519.70000000000005,438.5,408.3,392.7,378,363.5,335.1,538.1,446.4,412.9,384.9,366.7,352.5,324.89999999999998,601.29999999999995,485.1,433.2,406.6,379.5,352,301.39999999999998,717.8,572.5,484.7,436.7,410.7,385.8,335.7,828.9,661,559.70000000000005,498.2,458.9,427.2,380.3,1.1294999999999999,1.4525999999999999,1.6452,0.86860000000000004,1.1778999999999999,1.3622000000000001,0,0,0,0,1.1783999999999999,0,0,509.2,"AUS00000910",12.433,10164,39.5,78.2,50.6,185.3,186.7,597.6,464.7,410.3,777.1,573.1,495.5,543.1,1.1049,556.29999999999995,1.0786,0,0]
[null,"AUS277000",2770,"M400","IGNITION","FARR 400","PREMIER COMPOSITES","FARR YACHT DESIGNS",2011,"NSW 2280",null,"INTL","R",795,"14 08 2017 16:52:28",12.2,11.481,2.8969999999999998,3.41,4029,139,0,511.6,1.1953,564.70000000000005,0,0,836.4,671.4,596.6,556.5,523.9,498,448,796.5,645.5,577.20000000000005,537.9,508,487.2,455.5,701,568.4,497.4,454.7,426,404.1,369.6,765.1,614.6,532.5,482.9,450.3,426.9,393.8,866.2,670.3,559.9,490.9,443,406.4,349.8,43.4,42.1,39.299999999999997,38.4,37.299999999999997,36.700000000000003,37.200000000000003,141.80000000000001,143.6,149.1,151.69999999999999,147.69999999999999,143.5,145,865,705.7,648.4,621.9,601.5,591.4,588.1,560.5,471.1,449.4,439.1,430.9,421.2,414,522.6,453.3,433.2,421.2,412.8,400.6,390.3,492.4,439.1,407.3,390,379.4,372.5,352.7,492.9,440.7,401.8,368.8,351.9,341.4,327.10000000000002,497.2,433.5,406.3,379.6,356.7,326.89999999999998,284.89999999999998,513.5,437.6,396.1,371.1,347,322.60000000000002,283.39999999999998,583.6,464.4,419.3,373.7,329.9,304.8,267.60000000000002,699.7,551.70000000000005,471.8,423,386.5,350.4,266.7,807.9,637.1,544.79999999999995,491,446.3,404.6,308,1.1637999999999999,1.4766999999999999,1.7076,0.89529999999999998,1.1815,1.3896999999999999,0,0,0,0,1.2017,0,0,499.3,"AUS00000913",11.505000000000001,5108,29.2,63.6,37.4,0,180.4,580,457.1,395.3,753.9,571.29999999999995,485.7,536.79999999999995,1.1176999999999999,548.79999999999995,1.0932999999999999,0,0]
[null,"AUS281500",2815,7775,"FIRE FLY","FIRST 40,7","BENETEAU","FARR",1997,"NSW 2063",null,"CLUB","C",752,"16 08 2017 16:03:30",11.923999999999999,10.702999999999999,2.4340000000000002,3.77,7493,121.7,0.14000000000000001,603.29999999999995,1.0339,652.9,0,0,1000.5,812,700.6,630.1,590.9,565.29999999999995,541,956.7,778.2,677.9,619.20000000000005,586.6,565.9,543.29999999999995,836.2,673.1,585,533.4,501.5,480.6,455.1,892.4,713,614.70000000000005,556.20000000000005,519.6,495.7,466.3,1026,790.4,656.9,575,522,485.3,435.5,43.1,41.6,41.7,40,38.9,38.200000000000003,38.4,144.9,149.4,151.1,155.69999999999999,170.9,180,180,1038.5,859.7,754.7,691.5,665.6,652.20000000000005,645.79999999999995,677.6,567.9,506.8,481,471,466,461.7,637.1,536.4,489.4,468.8,457.9,452.7,447.7,603.5,513.4,477.6,458.3,443.3,431.8,422.2,603.79999999999995,508.2,468.6,454.7,440.3,424.3,399.5,612.6,506.4,466.1,442.5,423.3,411.2,391.9,632.4,520.6,473.2,448.7,425.7,403,376.4,704.1,572.4,498.7,465.9,443.8,421.7,378.7,833.5,662,560.29999999999995,497.5,466.8,446,405.1,962.5,764.4,646.6,568.6,516.20000000000005,478.5,436.2,0.96719999999999995,1.2665999999999999,1.4332,0.74480000000000002,1.0243,1.1998,0,0,0,0,1.0247999999999999,0,0,585.5,"AUS00000933",10.015000000000001,8510,31.8,47.9,41.5,108.7,108.2,697.9,532.9,471,906.3,659,562.6,615.5,0.97489999999999999,634.6,0.94550000000000001,0,0]
[null,"AUS281600",2816,"AUS211","Inevitable","11m OD","Pacesetter Yachts","Ron Holland",1972,"NSW 2106 Australia",null,"CLUB","R",450,"31 08 2017 15:38:26",10.305,8.6029999999999998,1.704,2.5299999999999998,1625,116.6,0.13,596,1.0253000000000001,658.3,0,0,993.9,796.4,689.8,639.20000000000005,608,581.6,521.1,956.4,769.9,675,625.4,593.9,567.9,528.4,826.5,665.7,578.6,526.29999999999995,491.2,464.7,422.4,911.1,724.8,622.29999999999995,560.5,520.20000000000005,491.5,449.5,1015,781.7,649.4,566.4,509,464.8,395.9,44.1,44,41.9,40.200000000000003,39.4,39.1,39,143.30000000000001,141.6,152.30000000000001,158.1,155.80000000000001,150.6,143.1,1077.4000000000001,872.3,764.7,726.3,709.5,700.4,686.6,693.7,567.5,519.20000000000005,501.7,491.9,485.8,469.8,644.5,539.1,500.5,477.6,465.5,458.3,440.9,602.70000000000005,520,481.2,447,427.4,416.8,404.3,588.6,510.9,478.3,440.9,406.2,380.6,357.8,578.4,495.9,454.7,430.8,406.7,379.5,325.3,594.6,503.4,450.5,415.1,391.1,364.7,319.60000000000002,663.3,534.29999999999995,481.8,434.7,388.9,340.3,293.60000000000002,788.4,624,533.4,483.3,441,396,307.89999999999998,910.4,720.5,614.9,552,506.4,462.9,355.6,0.98140000000000005,1.2766,1.4856,0.75409999999999999,1.0206,1.1936,0,0,0,0,1.0363,0,0,579,"AUS03000004",8.5280000000000005,2277,15.7,29.1,13.7,74,0,687.8,528.70000000000005,454.4,895.1,661.4,565.5,624.9,0.96009999999999995,642.6,0.93369999999999997,0,0]
[null,"AUS272300",2723,6869,"TAILWIND","FIRST 40","BENETEAU","FARR",2008,"NSW 2088",null,"INTL","R",850,"01 09 2017 11:42:14",12.24,11.256,2.488,3.9,7949,130.4,0.01,577.1,1.0769,626.79999999999995,0,0,949.6,772.5,665.8,605.5,570.9,547.1,520.79999999999995,907.5,738.4,645.5,594.79999999999995,565.70000000000005,545.4,519.20000000000005,795.8,642.29999999999995,559.9,511.8,481.9,461.8,435.7,849.1,680.4,588.4,533.9,499.7,476.9,447.6,976.6,754.2,628.6,551.70000000000005,501.6,466.5,417.1,43.5,42.2,41.7,39.700000000000003,38.4,38.1,37.6,141.80000000000001,148,149.4,155.6,169.3,180,180,982.7,814,714.8,667,644.4,631.70000000000005,622.29999999999995,639.1,535.5,483.7,464.7,456.9,452.5,448.7,599.9,507.4,469,452.2,444.1,439.3,434.3,566.6,488.1,458.3,440.2,425.9,416.6,407.9,565.5,486.1,456.1,437.7,420.5,403.8,381.5,592.4,488.9,450.2,427.5,408.6,395.2,373.6,607.6,498.7,455.6,430.5,405.3,388.1,357.2,670.8,542.70000000000005,476.3,447,423.9,399.5,350.5,793.7,633,534.1,476.5,448.9,427.5,383.1,916.5,730.9,616.70000000000005,544,497.5,462.4,419.3,1.0179,1.3206,1.4906999999999999,0.78400000000000003,1.07,1.2426999999999999,0,0,0,0,1.0687,0,0,561.4,"AUS03000005",10.641,9031,34.799999999999997,52.4,55,146.1,109.2,663.1,511.1,452.8,861,630.79999999999995,543.20000000000005,591.20000000000005,1.0147999999999999,607.20000000000005,0.98809999999999998,0,0]
[null,"AUS269200",2692,421,"SMUGGLER","ROGERS 46","CMI","ROGERS",2006,"NSW 2041",null,"INTL","R",1105,"01 09 2017 16:12:16",14.03,13.448,2.9119999999999999,3.98,6465,139.80000000000001,0,495.4,1.2377,545.4,0,0,839.5,667.8,572.9,528.5,502.6,477.2,429.9,799.2,637.6,555.5,512.9,485.3,462,430.4,691.9,554.79999999999995,480.5,436,406.6,384.6,350.4,762.1,605.20000000000005,518.5,465.6,430.9,406.4,372.4,853.3,653.5,540.4,470.3,422.6,386.8,331.8,43.9,43.8,40.700000000000003,38.9,37.700000000000003,36.799999999999997,36.4,141.69999999999999,140.80000000000001,147.1,152.19999999999999,149.30000000000001,146.69999999999999,141.1,875.8,704.6,615,581.1,563.4,551.29999999999995,539.5,565.1,459.5,421.1,408.1,400.2,394.8,381.2,526.1,437.3,407.2,391.8,381.5,374.7,359.5,492.5,423.2,392.3,365.8,351.7,343,331.1,494.1,424.2,393.7,360.9,333.3,316.89999999999998,301.39999999999998,497.1,417.1,383.8,362.1,340.7,321.2,275.3,515.4,423.5,382,351.4,331.4,313.7,273.8,580.29999999999995,455.9,408.3,371.4,333.7,297,256.39999999999998,695.6,546.5,459.7,410.7,382.7,349.2,277.5,803.2,631,530.79999999999995,475.9,441.9,403.2,320.39999999999998,1.1709000000000001,1.542,1.7948999999999999,0.89559999999999995,1.2307999999999999,1.4490000000000001,0,0,0,0,1.2476,0,0,480.9,"AUS03000007",13.327999999999999,7874,38.1,73.3,47.5,0,210.4,576.5,437.7,376.1,753.7,548.4,465.8,522.70000000000005,1.1477999999999999,535.4,1.1207,0,0]
[null,"AUS416500",4165,"E2","Euphoria 2","First 42","BENETEAU","G Frers",1982,"QLD  4020",null,"INTL","C",766,"01 09 2017 17:23:16",12.79,10.672000000000001,2.2389999999999999,3.96,9884,118.2,0.36,634.1,0.98040000000000005,688.5,0,0,1054.7,856.4,745.1,668.2,622.1,591.79999999999995,564.1,1007.1,822.3,718.5,654.4,617.1,594.20000000000005,569.6,881.5,708.8,614.9,559.5,525,502.6,476.2,923.7,738.9,637.4,576.79999999999995,538.70000000000005,513.70000000000005,483.4,1083.5,833.8,691.7,604.20000000000005,547.20000000000005,508,455.3,44,42.5,42.8,42.4,40.700000000000003,39.700000000000003,39.5,146.1,150.4,152.6,153.6,166.8,180,180,1078.4000000000001,899.4,800,733,701,684.5,672.1,700.3,592.29999999999995,525.4,496.8,484.4,478.1,473,659.3,557.79999999999995,504.5,482.5,470.4,463.9,458.2,626,529.5,490.2,470.7,457.2,446.3,433.9,626.29999999999995,529.20000000000005,488,468.5,454.3,441.5,419.3,669.8,549.4,490.1,464.2,444.9,429.3,414,688.9,565.9,497.3,468.9,449.1,430.8,400.2,758,617.79999999999995,529.9,486.4,463.6,445.2,409.8,892.9,704.4,598.5,526.70000000000005,486.7,465.1,431,1031,813.4,690.2,603.29999999999995,543.1,499.1,456,0.9163,1.2059,1.3717999999999999,0.70640000000000003,0.96709999999999996,1.1460999999999999,0,0,0,0,0.97460000000000002,0,0,615.70000000000005,"AUS03000010",9.4860000000000007,10921,35.1,39,61.5,111.5,0,736.7,559.70000000000005,492.1,955.5,698,589,638.79999999999995,0.93930000000000002,657.8,0.91210000000000002,0,0]
[null,"AUS285800",2858,8289,"ZEPHYR","FARR 1020","SEA NYMPH BOATS","FARR",1981,"VIC 3195",null,"INTL","R",605,"01 09 2017 17:45:48",10.34,9.0860000000000003,1.8120000000000001,3.18,4316,112.5,0.17,653.9,0.9526,708.6,0,0,1084.5,878.6,758.9,682.8,640.70000000000005,616.6,591.5,1035.3,842.7,736.1,674.4,640,618.70000000000005,594.1,904.9,729,634.20000000000005,578.70000000000005,544.4,522.1,494.1,956.1,765.4,661.5,600.20000000000005,562.1,537.29999999999995,506.3,1112.3,857,712.6,624.20000000000005,566.70000000000005,526.70000000000005,471.5,43.8,42.4,42.6,40.9,39.5,39.1,39.299999999999997,145.9,150.4,150.5,158.30000000000001,180,180,180,1126.9000000000001,933,824.2,759.5,732.9,719.8,715.2,731.1,612.5,550.1,524,514.20000000000005,509.2,505.4,685.9,578.1,531.20000000000005,510.1,499.3,493.7,489.1,648.4,553.9,517.6,497.3,481,468.7,458.8,649.29999999999995,553.79999999999995,511,494.6,477.2,458.8,431.9,663.3,549.5,507.5,480.8,456.1,442.1,420.2,683.6,562.70000000000005,513.70000000000005,486.9,460.2,433.5,401.8,755,615.5,537.1,504.2,479.6,453.9,403.8,902.4,713.5,600.9,534.20000000000005,504.2,481.1,433.8,1042,824.2,693.6,606,548.5,513.4,467.7,0.89439999999999997,1.1678999999999999,1.3193999999999999,0.68769999999999998,0.94550000000000001,1.1008,0,0,0,0,0.9446,0,0,635.20000000000005,"AUS03000015",8.4079999999999995,5124,23.2,33.700000000000003,29.5,76.2,0,754.7,578,511.6,981.5,713.9,613.20000000000005,662,0.90639999999999998,682.8,0.87870000000000004,0,0]
[null,"AUS285900",2859,6409,"Tempus","FIRST 33,7","Beneteau","Jean Berret /Olivi",1996,"2106 Newport Australia",null,"CLUB","C",425,"07 09 2017 14:12:32",9.798,9.0820000000000007,2.0990000000000002,3.33,4516,115.5,0.23,642.9,0.97199999999999998,694.5,0,0,1044.0999999999999,853.7,738.2,669.8,631.20000000000005,608.9,581.29999999999995,1003.5,820.9,720.6,663.3,630.5,609.6,582.1,883.3,714.3,623.9,571.5,539.1,517.79999999999995,490.1,953.7,764.2,661,599.9,562,537.20000000000005,507.1,1076.7,834.8,698.3,614.9,561,523.5,471.6,43.1,41.6,41.6,39.700000000000003,38.4,38.200000000000003,37.700000000000003,139.9,150,150.9,158.4,180,180,180,1110.5,922.9,811.5,750.5,724.5,711.3,702.6,725.4,610,549,524.4,514.70000000000005,509.4,504.9,682.9,577.79999999999995,531.79999999999995,511.5,500.3,494.6,489.3,647.79999999999995,555.20000000000005,519.4,499.4,483.6,471.1,460.3,648.70000000000005,549.5,513.29999999999995,497.5,480,462.5,435.8,645.1,538.6,500.5,475.9,461.5,449.1,428.4,657.9,546.20000000000005,504.7,476.8,449.7,433.7,411.7,713.6,582.70000000000005,524.4,495.2,469.2,442.8,392.5,846.8,678.1,576.6,521.79999999999995,495.3,471.4,423.9,977.8,784.6,664.9,589.1,537.79999999999995,506.4,460,0.91810000000000003,1.1839999999999999,1.3287,0.71130000000000004,0.9667,1.1173999999999999,0,0,0,0,0.96050000000000002,0,0,624.70000000000005,"AUS03000017",8.5,5319,23.6,30.9,31.1,95.6,0,735.2,570.1,508,949,698.3,604.1,661.6,0.90690000000000004,682.1,0.87960000000000005,0,0]
[null,"AUS281400",2814,401,"Alibi","First 40","Beneteau","Bruce Farr",2008,"2084 Sydney Australia",null,"CLUB","C",795,"07 09 2017 16:04:16",12.24,11.178000000000001,2.496,3.9,7929,129,0.19,581.6,1.0711999999999999,630.1,0,0,957.6,779.2,671.2,608,572.79999999999995,549,519.29999999999995,917.6,746.5,651.5,598.20000000000005,568.1,547.6,517.29999999999995,803.8,648,564.20000000000005,515.20000000000005,484.7,464.2,436.7,870.8,695.4,599.20000000000005,541.9,505.8,481.7,450.3,983.4,759.3,632.6,555,504.5,469.4,420.4,43,41.7,41.4,39.700000000000003,38.9,38.200000000000003,37.700000000000003,142.19999999999999,148,149.6,155.80000000000001,170,180,180,1004.3,830.5,727.5,672.6,648.79999999999995,636,619.5,655.4,548.6,491,467.6,458.5,453.5,447.8,616.29999999999995,519,474.9,455.5,445.3,440,435,584.5,498.1,463.9,444.9,429.9,418.2,408.3,587.20000000000005,491.9,460.4,444.3,427.8,411.3,384.5,588,486.9,449.4,428.1,415.7,404.4,382.7,603.79999999999995,496.9,455,430.1,405.6,390.1,368.2,666.9,540.6,475.7,446.8,423.9,399.9,351.7,788.8,630.4,532.5,476.1,448.8,427.4,383.7,910.8,727.9,614.9,543.29999999999995,496.7,462,419.2,1.0072000000000001,1.3119000000000001,1.4833000000000001,0.77729999999999999,1.0638000000000001,1.2413000000000001,0,0,0,0,1.0622,0,0,564.9,"AUS03000018",10.516999999999999,9008,34.5,53.7,38.5,141.69999999999999,0,670.2,514.5,455.1,868.4,634.5,543.79999999999995,600.4,0.99929999999999997,618.6,0.96989999999999998,0,0]
[null,"AUS2837",2837,5944,"RISK","Sydney 38","Sydney Yachts","Murray Burns Dovel",2000,"2105 Church Point AUSTRALIA",null,"CLUB","R",800,"07 09 2017 16:11:38",11.795,10.757,2.613,3.71,5576,121.2,0.04,567.70000000000005,1.0949,616.5,0,0,926.6,752.5,648.29999999999995,595.9,564.6,542.79999999999995,511,885.7,719.4,630.5,584.70000000000005,557.5,537.1,503.5,780.8,631.1,551,504.3,474.7,454.2,425,843.5,675.6,584.1,529.9,495.4,471.9,439.7,954.7,738.6,616.9,542.4,493.5,458.5,407.9,42.7,41.6,40.1,38.4,37.4,36.700000000000003,36.299999999999997,142.9,146.9,150.4,156.80000000000001,172.6,180,180,960.9,792,693.3,655,637.1,626.20000000000005,613.20000000000005,629.4,525.79999999999995,480.1,465.1,458.3,454.3,444.8,592.79999999999995,502.7,467.6,451.7,444,439.1,429.3,563.29999999999995,487.5,457.9,436.1,420,411.7,403.9,565.5,483.7,457.5,435.1,412.3,392.3,373.4,573.79999999999995,480.6,444.7,422.4,406.7,391.4,365.4,590.20000000000005,489.1,451.1,419.6,392.8,377.2,348.8,653.29999999999995,528.4,471.3,442.1,412.5,382.9,321.7,772.7,617.4,522.6,472.5,444.7,417.6,362.9,892.2,712.9,603.29999999999995,536.9,492.2,459.5,408.8,1.0392999999999999,1.3396999999999999,1.5158,0.80400000000000005,1.0911,1.2585,0,0,0,0,1.0874999999999999,0,0,551.70000000000005,"AUS03000019",10.576000000000001,6597,30,51.2,37.6,129.4,0,649.5,503.8,445.3,839.6,618.6,536.4,586.20000000000005,1.0235000000000001,602.70000000000005,0.99550000000000005,0,0]
[null,"AUS279000",2790,"BSC35","Matagi","MD 35","Patridge Yachts NZ","Mark Mills",1993,"2041  Australia",null,"CLUB","R",350,"08 09 2017 16:38:58",10.67,9.7070000000000007,2.23,2.27,2651,157.69999999999999,0.03,583,1.0557000000000001,639.4,0,0,953.7,764.1,669.1,624.4,597.20000000000005,567.5,515.9,912.1,736.4,652.6,609.20000000000005,579.6,553.9,523,799.9,647.29999999999995,566.29999999999995,518.79999999999995,487.6,464.3,427.6,877.5,701.5,605.5,548.4,511.7,486.3,452.2,982.6,760.1,635.70000000000005,559.20000000000005,507.3,468,407.4,43.4,42.3,40.6,39.299999999999997,38.4,37.5,37.700000000000003,142.80000000000001,144.6,149.6,151.69999999999999,148.19999999999999,145.5,143.30000000000001,1004.2,816.7,734.3,699.2,680.4,662.6,655.20000000000005,651.79999999999995,539.1,501.4,488.3,481.1,475.1,464.9,609.1,515.1,484.9,471.6,463.3,457.8,442.5,573,498.7,468.7,445.6,432.1,423.6,411.9,573.9,497.9,466.5,436.6,410.5,393.2,377.5,566,486.1,463.7,442.3,419.7,397.4,348.5,582.9,490.1,452.9,429.5,409.2,385.6,342.2,656.3,523.79999999999995,473.4,433.7,393,359.8,318.60000000000002,782.2,616.1,523.1,475.6,445.2,409.1,326.2,903.2,711.5,604,549.6,514.1,472.3,376.7,1.0201,1.2994000000000001,1.4831000000000001,0.78590000000000004,1.0479000000000001,1.2149000000000001,0,0,0,0,1.0569,0,0,567.70000000000005,"AUS03000022",9.4149999999999991,3436,18.899999999999999,32.1,22.5,0,95.6,661.7,519.5,455.1,858.9,644.1,555.6,609.1,0.98499999999999999,624.9,0.96020000000000005,0,0]
[null,"AUS278400",2784,"AUS66","Balmain Tiger","Flying Tiger 10","Hansheng Yachts","Bob Perry",2007,"2041 Birchgove Australia",null,"CLUB","R",510,"08 09 2017 16:55:34",9.94,9.0969999999999995,2.2879999999999998,2.79,2220,134.4,0,563.6,1.0908,618.79999999999995,0,0,903.5,728.9,651.70000000000005,611.6,579.20000000000005,548.5,497.1,862.1,703.4,632.20000000000005,592.20000000000005,561,536.1,505.1,765.8,623.79999999999995,548.29999999999995,503.3,472.9,449.5,412.2,837.1,674.5,586.4,533.70000000000005,499.4,474.9,440.1,941.8,732.4,615.1,542,491.2,452.2,391.7,42.8,41.4,38.9,37.4,36.299999999999997,35.9,36.5,142.6,145.19999999999999,150.5,150.4,147.4,144,143.9,935.5,767.3,707.4,680.6,661.3,650.70000000000005,650.79999999999995,609.9,519.79999999999995,497.6,486.8,479.8,469.2,462,571.70000000000005,503.5,480.8,467.8,459.2,449.3,437.2,543.70000000000005,490.6,456.6,436.6,425.2,417.9,398.2,545.5,491.6,454,418.7,396.2,384.1,370.2,543.70000000000005,478.3,449.1,423.5,399.6,378,323.7,557.70000000000005,483.9,437.1,410.8,387.7,362.8,317.10000000000002,632.20000000000005,513.6,464.8,418.4,371.3,334.7,289.39999999999998,754.7,597.9,515.70000000000005,469.8,430.5,386.6,297.3,871.4,690.4,595.9,542.5,497.1,446.4,343.3,1.0668,1.3351,1.5335000000000001,0.82699999999999996,1.0771999999999999,1.2572000000000001,0,0,0,0,1.0913999999999999,0,0,549.79999999999995,"AUS03000023",9.3620000000000001,2984,19.100000000000001,36,25.6,0,113.6,632.70000000000005,505.6,440.2,816.2,626.6,536.9,590,1.0169999999999999,604.1,0.99319999999999997,0,0]
[null,"AUS125420",125420,"GBR 5790R","ENIGMA","FIRST 47,7","BENETEAU","BRUCE FARR",2000,"NSW 2093",null,"INTL","C",983,"13 09 2017 15:38:00",14.506,12.885999999999999,2.8119999999999998,4.51,12389,120.3,0.13,569.70000000000005,1.0894999999999999,619.5,0,0,966.9,780.4,669.3,597.6,557.20000000000005,529.6,500,922.5,744.9,644.5,584.5,549.9,527.70000000000005,500.5,798.2,639.1,552,500.2,467.7,446.1,419.3,849.1,675.7,579.70000000000005,521.79999999999995,485,460.3,429.2,983.9,753.3,621.70000000000005,540.4,487.4,450.8,401.5,44.3,42.7,42.5,41.4,39.799999999999997,39.200000000000003,38.4,140.6,148,148.19999999999999,152.9,159.4,180,180,1001,821,718.9,655.29999999999995,624,607.1,591.6,645.79999999999995,537.70000000000005,475.4,445.9,433.7,427.7,421.9,604.1,506.2,455.3,432.9,421.1,415,408.6,569.20000000000005,480.4,441.4,422.2,408.2,396.7,384.7,567.79999999999995,478.7,438.4,419.8,405,390.6,366.6,593.79999999999995,484.8,435.5,411.7,393.2,380.6,362.7,612.5,498.5,441.8,416.3,395.7,375.2,349.5,680,546.1,468.9,432,411,391.4,352.7,807.8,640.79999999999995,536.70000000000005,469.9,434.5,414.2,377.7,932.8,740,619.70000000000005,540,490.4,452.1,408.4,1.0091000000000001,1.347,1.5472999999999999,0.77259999999999995,1.0771999999999999,1.2847,0,0,0,0,1.0855999999999999,0,0,552.70000000000005,"AUS03000025",11.635999999999999,13744,44.4,65.3,65.7,169,156.1,668.9,501.1,436.2,873.7,626.6,525.4,581.5,1.0319,598.79999999999995,1.002,0,0]
[null,"AUS6109",6109,"AUS2000","Enterprise","Farr 40 MOD",null,"Farr",1996,null,null,"INTL","R",799,"14 09 2017 11:00:20",12.411,11.323,2.4780000000000002,3.96,5375,124.5,0,538.6,1.1457999999999999,589.1,0,0,877.7,709.3,618.1,572.29999999999995,544.29999999999995,522.4,487.3,839.5,680.9,601.79999999999995,560.70000000000005,533.9,512.20000000000005,483.2,738.8,598.1,523.1,479.1,450.8,430.6,401.7,802.1,643.1,556.6,505,471.9,448.9,418,906,701.5,586.6,515.9,468.6,433.8,382.2,44,42.4,40,38.6,37.5,36.799999999999997,36.799999999999997,143.4,142.6,149.9,156.9,171.7,180,146.6,916.9,750.3,667.9,635.70000000000005,619,606.5,598.20000000000005,596.4,495.8,461.6,450.1,443.6,438.8,429,558.5,475.2,448.1,435.5,427.4,422,408.9,526.20000000000005,461.7,434.5,412.6,399.6,391.6,382.6,526.70000000000005,459,432.9,406.1,382.3,365.7,351.3,536.9,455.6,422.2,397.1,380.6,363.3,330.5,553,461.9,424.7,394.1,367.5,349.5,318.2,612.29999999999995,493.3,446.2,413.3,379.2,344.7,293.5,726.2,578.79999999999995,492.2,448.2,418.2,387.4,326,838.5,668.3,568.4,508.9,469.6,438.3,376.4,1.1017999999999999,1.4077999999999999,1.5993999999999999,0.85060000000000002,1.1402000000000001,1.3113999999999999,0,0,0,0,1.1444000000000001,0,0,524.29999999999995,"AUS03000027",11.178000000000001,6460,30.7,60.8,38.700000000000003,155.1,116.1,612.6,479.5,422,793.6,592,514.70000000000005,560.20000000000005,1.071,574.1,1.0450999999999999,0,0]
[null,"AUS802200",8022,"D183","Wallop","Sun Odyssey 509","Jeanneau","Philippe Briand",2012,"0810 Darwin Australia",null,"CLUB","C",500,"21 09 2017 10:27:18",15,14.013,2.2610000000000001,4.6900000000000004,14000,108.5,0.31,582.4,1.0503,642.70000000000005,0,0,1024.2,813.2,692.7,616.29999999999995,573.4,551,514.6,981.1,780.8,668.7,601,562.1,540.1,508.2,828.7,657.6,563.20000000000005,507.2,472.4,449.8,421.4,905.1,711.3,602.29999999999995,535.70000000000005,493.1,465,431.3,1025.4000000000001,777.9,636.20000000000005,548.70000000000005,491.7,452.4,399.1,45.6,44.2,43.5,43.1,42.4,41.5,40.799999999999997,142.69999999999999,146.5,146.9,147.80000000000001,149,151,177.1,1097.5999999999999,882.2,763.4,687.2,645.6,625.70000000000005,610.6,698,569.20000000000005,496.4,451.7,431,423.2,417.2,645.5,532,466.5,431.4,415.3,408.3,402.7,603.29999999999995,501.7,444.8,417.6,402.3,391.4,379.8,599.1,486.9,429.4,410.4,400,386.8,362.1,591.5,479.5,423.2,398.8,381.3,370.3,352,609,493.8,431.7,403.8,384,363.8,336.6,689.8,546.29999999999995,466.1,422.5,399.9,381.1,341.9,823.4,644.5,538.6,472.2,434,413.6,383.9,950.8,744.2,621.9,545.29999999999995,501.2,476.3,418.6,0.96740000000000004,1.3289,1.5365,0.73470000000000002,1.0426,1.2432000000000001,0,0,0,0,1.0639000000000001,0,0,564,"AUS03000033",11.728,15551,52.4,61,54.2,0,180.2,697.7,507.9,439.3,918.7,647.4,543,603.20000000000005,0.99480000000000002,623.5,0.96230000000000004,0,0]
[null,"AUS270500",2705,6654,"ISABELLA","HANSE 400E","HANSE YACHTS","JUDEL/VROLIJK",2006,"NSW 2097",null,"INTL","R",680,"22 09 2017 11:11:20",12.27,11.182,1.98,4.04,8832,116,0.13,602.9,1.0249999999999999,658.5,0,0,1003.4,815.4,707,637.20000000000005,597,570.79999999999995,546.9,961,783.7,685.3,626.9,593.79999999999995,573.1,551.29999999999995,834.8,672.6,584.79999999999995,533.20000000000005,501.2,480.3,455.2,885,708.3,611.5,553.9,517.9,494.3,465.6,1028.8,792.7,658.5,575.9,521.79999999999995,484.1,432,44.7,43.3,43.2,42.3,40.9,40.299999999999997,41,144.6,149.5,151.80000000000001,155.4,170.4,180,180,1051.5999999999999,872.9,771.9,709.5,681.9,668.6,663,676.4,568.9,507.3,478.3,467.7,462.6,458.9,631.70000000000005,534.5,485.4,463.7,453.3,448.3,444.2,594.5,507.7,470.7,451.7,437.6,427,418.3,592,505.3,463.3,445.9,433.5,418.4,394.5,607.79999999999995,503.1,460.5,437.6,416.1,401.4,382.6,626.29999999999995,517.4,467.5,443,421.3,399.1,367.5,696.5,567.5,494.7,460.3,438.7,417.8,376.7,827.1,656.5,556.6,493.6,461,440.4,401.4,955.1,758,642.20000000000005,564.9,512,473,430.9,0.96870000000000001,1.2664,1.4341999999999999,0.74219999999999997,1.0145999999999999,1.1876,0,0,0,0,1.0226999999999999,0,0,586.70000000000005,"AUS03000034",10.021000000000001,9926,35.700000000000003,52.7,50,112.5,114.2,696.8,533,470.6,909.5,665.3,568.4,613.79999999999995,0.97750000000000004,631.1,0.95069999999999999,0,0]
[null,"AUS279300",2793,8033,"Pistol Dawn","Young 88","Peter Parvin","Jim Young",1992,"2041 Balmain Australia",null,"CLUB","C",480,"22 09 2017 11:47:52",8.9619999999999997,7.8449999999999998,1.7709999999999999,3.31,2750,112.7,0,666.8,0.93589999999999995,721.2,0,0,1094.7,887.8,766.2,694.4,654.4,632.79999999999995,605.4,1043.8,850.4,745.2,686.7,653.9,633.29999999999995,605.70000000000005,917.7,741.7,647.1,591.9,557.5,534.4,504.4,964.2,774.6,671.9,611.5,573.9,549,517.6,1127,870.4,725.9,637.4,579.6,538.5,479.8,43.2,42.2,41.3,39.299999999999997,38.1,37.5,37.6,146.30000000000001,150.69999999999999,151.80000000000001,161.6,180,180,180,1128.0999999999999,935,824.8,768.3,745.5,734.5,732,736.7,617.70000000000005,564.9,542.9,533.9,529,525.79999999999995,692.8,589.29999999999995,549.9,529.20000000000005,517.4,511,505.7,657.1,570.79999999999995,538.20000000000005,515.1,494.7,481.1,471.2,657,563,525.79999999999995,505.6,489,467.5,440.2,665.3,563.20000000000005,525.79999999999995,494.4,463.6,445.8,420.6,690.7,576.6,533.9,503.2,472,441.8,398.2,770.2,628.29999999999995,556.6,524.20000000000005,495,465.7,407.1,919.1,727.7,614.4,553.29999999999995,523.4,496.1,442.8,1061.2,840.6,707.6,620.5,563.20000000000005,531.20000000000005,478.7,0.88370000000000004,1.1415,1.2885,0.68100000000000005,0.93169999999999997,1.075,0,0,0,0,0.92589999999999995,0,0,648,"AUS03000035",7.7,3376,18.3,29.8,22.5,56.8,55.2,763.8,591.29999999999995,523.9,991.2,724.5,627.9,672,0.89290000000000003,693.1,0.86570000000000003,0,0]
[null,"AUS279800",2798,"MH37","Madge","Adams 10",null,"Joe Adams",1993,"2039 Rozelle Australia",null,"CLUB","R",650,"22 09 2017 11:54:32",9.99,9.4120000000000008,1.8149999999999999,2.74,3300,117.2,0.23,626.9,0.99429999999999996,678.9,0,0,1032.9000000000001,836.9,718.6,653,617.29999999999995,595.6,566.29999999999995,991.2,802.4,700.9,645.29999999999995,613,591,562,865.9,698.1,608.1,555.70000000000005,522.9,500.8,470.8,941.6,751.3,647.5,586.29999999999995,548,522.6,489.7,1058.5999999999999,817.4,681.4,598.29999999999995,544.1,505.9,451.9,43.3,41.9,41.5,39.299999999999997,38.1,37.4,37.299999999999997,140.19999999999999,148.4,149.69999999999999,157.69999999999999,180,180,180,1098.5,899.3,786.9,731.7,708.4,696.4,692.2,715.2,593.5,535.20000000000005,513.4,505.1,500.5,497.4,672,563.1,519.6,499.8,490.3,484.8,480.3,637.79999999999995,543,508,486.4,468.3,457,447.9,630.6,528.79999999999995,500.5,484.8,463.5,441.5,415.8,621,521.20000000000005,485.8,462.5,446,431.2,403.6,637,529,490.2,457.3,433.9,412.6,383.5,705.9,568.1,509.3,479,446.4,412.1,350.6,837.6,670.8,563.20000000000005,508.6,480.6,451.1,389.4,967.2,774.5,650.29999999999995,574.4,526.1,494.8,440.4,0.9365,1.2163999999999999,1.3751,0.72199999999999998,0.99080000000000001,1.1439999999999999,0,0,0,0,0.9859,0,0,608.6,"AUS03000036",8.8710000000000004,4176,21.3,28.3,27.2,91.8,74.3,720.8,554.9,490.9,934.9,681.3,590,647.79999999999995,0.92610000000000003,668.8,0.89710000000000001,0,0]
[null,"AUS278300",2783,4930,"X-RAY","X-332","X-YACHTS","JEPPESEN",1994,"2046 ABBOTSFORD AUSTRALIA",null,"CLUB","C",560,"22 09 2017 12:04:44",10.06,9.17,1.8320000000000001,3.28,4690,117.6,0.09,639,0.9738,693.1,0,0,1034.5999999999999,846.8,734.2,670.2,631.4,609.6,584.70000000000005,991.4,812.8,714.9,661.4,631.1,611.79999999999995,587.20000000000005,874.8,708.8,620.29999999999995,569.1,537.79999999999995,517.29999999999995,491.5,926.2,745,647.1,589.9,554.5,531.4,502.2,1070.7,830.6,695.5,613,559.6,522.29999999999995,470.8,43.1,42,41.9,40,38.9,38.700000000000003,38.799999999999997,145.5,150.19999999999999,152,159.4,180,180,180,1071.5,897,793,743.1,721.6,710.9,706,700.6,591.4,537.79999999999995,517.6,510,505.9,503.4,659.8,562,522.1,504.3,495.7,491,487.4,626.20000000000005,542.29999999999995,510.9,491.5,476.3,466.3,458.5,627.6,542.1,506.1,490.2,472,454.4,431.5,645.79999999999995,540.20000000000005,502.1,476.1,456.2,444.3,423.8,666,552.6,508.4,482.4,456.1,431.5,407.1,735.8,600.6,530.5,499.7,475.5,450.4,402.8,864.1,689.8,586.4,528.20000000000005,499.9,477.1,431.2,997.7,796.5,675.5,597.29999999999995,541.20000000000005,508.3,463.4,0.92730000000000001,1.1896,1.3294999999999999,0.71760000000000002,0.96899999999999997,1.1144000000000001,0,0,0,0,0.96399999999999997,0,0,622.4,"AUS03000037",8.6219999999999999,5504,24.4,35.4,32.9,82.2,0,727.9,567.4,507.7,940.6,696.6,605.70000000000005,649.1,0.9244,667.5,0.89890000000000003,0,0]
[null,"AUS280100",2801,"BSC 945","Between Partners","Swarbrick 945","J & S Scarlett","Kim Swarbrick",1995,"2041 Birchgrove Australia",null,"CLUB","C",400,"22 09 2017 12:35:16",9.6,8.6470000000000002,1.714,3.3,3210,107.6,0.18,650.70000000000005,0.95340000000000003,708,0,0,1075.0999999999999,870.9,751.2,682.8,643.4,620.5,594.4,1029.7,836.8,732.3,674.7,641.70000000000005,620.5,594.20000000000005,898.8,724.8,631.20000000000005,576.6,542.70000000000005,520.29999999999995,491.6,956,765.4,661.8,600.79999999999995,562.79999999999995,537.79999999999995,506.1,1102.9000000000001,851,708.7,621.5,564.4,524.20000000000005,467.8,44,42.8,42.4,40.5,39.9,39.299999999999997,39.700000000000003,145.6,149.6,150.80000000000001,159,180,180,180,1130.5,933.5,820.8,764.8,740.6,728.8,728.4,731.2,611.20000000000005,550.79999999999995,527.1,518.1,513.29999999999995,510.2,684.2,577.6,532.5,511.7,501.4,495.4,490.7,645.79999999999995,554.20000000000005,518.9,496.4,477.7,465.8,456.6,646.29999999999995,549.70000000000005,510.3,494,472.5,451.7,426.7,654.29999999999995,546,505.6,474.8,450.8,436.6,412.7,673.2,557,511.9,481,449.6,423.4,392.2,743.4,602.79999999999995,533.6,501.1,471.7,442.5,383,883,699.9,590.79999999999995,531.20000000000005,501.3,474.2,421.2,1019.6,808.2,681.5,600.70000000000005,546.1,512.20000000000005,460.4,0.90149999999999997,1.1720999999999999,1.3238000000000001,0.69379999999999997,0.94879999999999998,1.095,0,0,0,0,0.94840000000000002,0,0,632.70000000000005,"AUS03000039",8.1349999999999998,3937,20.6,28.8,26.2,71.5,63.9,748.8,575.9,509.9,972.9,711.4,616.4,663.1,0.90480000000000005,683.1,0.87829999999999997,0,0]
[null,"AUS283900",2839,"AUS 29","Antares","5,5 Metre","Mr I, Perdriau","Mr E, B, Fay",1970,"2106  Newport  Australia",null,"CLUB","R",150,"22 09 2017 12:40:14",9.07,8.0730000000000004,1.35,1.9,2032,98.2,0.25,710.6,0.87009999999999998,775.8,0,0,1168.9000000000001,941.1,820.3,754.7,715.1,681.8,651.20000000000005,1122.5,908.8,803,750.5,716.9,685.6,667.4,974.6,787.8,689.3,633.29999999999995,599.29999999999995,577,549,1047.8,837.3,724.2,658.9,619,593.29999999999995,563.5,1200.3,927.8,775.9,684.1,624.79999999999995,583.29999999999995,526.29999999999995,44.1,42.3,42.1,41.6,41.3,40.5,40.9,145.19999999999999,149.6,149.6,158.5,180,180,180,1243.9000000000001,1019.3,918.4,878.8,858.4,825,818.3,806.3,668.2,606.20000000000005,588.4,580,568.1,561.20000000000005,755.6,628.9,578.4,564.9,558.5,552.6,543.1,714.9,601.4,558.6,541.1,534.1,530,518.79999999999995,679.7,592.6,556.29999999999995,533.20000000000005,515.29999999999995,505.8,499.5,676.7,569.4,541.29999999999995,526.70000000000005,513.70000000000005,501.7,471.3,705.9,580.70000000000005,538.20000000000005,515,499.3,484.9,459.6,801.1,641.20000000000005,560.29999999999995,528.6,498.8,465.9,426.8,947.4,747.3,625.4,558.70000000000005,529.1,501.3,439.5,1094,862.9,722.2,630.6,571.79999999999995,538.6,484,0.83530000000000004,1.0705,1.1904999999999999,0.63980000000000004,0.86299999999999999,0.99470000000000003,0,0,0,0,0.86570000000000003,0,0,693.1,"AUS03000040",6.9240000000000004,2653,15.1,21.7,10.4,47.2,0,808.1,630.5,567,1055,782.2,678.6,727.5,0.82479999999999998,748.1,0.80200000000000005,0,0]
[null,"AUS279100",2791,6380,"TANA","Sun Fast 32i","Jeanneau","Philippe Briand",2003,"2041 Balmain Australia",null,"CLUB","C",440,"22 09 2017 12:52:42",9.44,8.75,1.9750000000000001,3.33,4050,121.6,0.32,674.5,0.92730000000000001,727.9,0,0,1126.4000000000001,909.9,785.3,701.7,654.5,627.79999999999995,603.20000000000005,1075.0999999999999,873.2,759.5,691.1,652.9,630.5,606.79999999999995,938.9,754.2,653.9,594.79999999999995,558.29999999999995,534.6,506,989.5,790.1,680.8,616,575.6,549.4,517.70000000000005,1152.7,885.8,734.5,641.70000000000005,581.6,540.1,483,43.3,41.7,41.8,40.299999999999997,39.1,38.799999999999997,39.1,146.9,150.9,151.6,157.69999999999999,180,180,180,1161,959.7,847,772.6,740.8,726.6,722.1,756.5,633.9,566,534.9,520.9,515.29999999999995,512,712,599.1,545.4,521,507.1,499.9,495.3,676.2,573.4,530.9,509.4,492.7,478.6,464.9,680.8,574.9,524,500.9,491.9,475.4,446.4,692.1,571.5,523,496.9,472,451,431.4,717.6,589.6,530.9,503.1,478.7,453.6,413.5,797.7,650.1,559,520.4,496.2,472.4,426.1,945.6,744.9,627.5,554,519.9,497.3,453.1,1091.8,860.1,723.6,630.9,568.20000000000005,529,484.2,0.86009999999999998,1.1352,1.2895000000000001,0.66300000000000003,0.91820000000000002,1.0795999999999999,0,0,0,0,0.91790000000000005,0,0,653.70000000000005,"AUS03000041",8.1110000000000007,4794,21.9,24.6,29.7,66,64.099999999999994,784.8,594.6,523.5,1018.1,735.1,625.20000000000005,679.4,0.88319999999999999,703,0.85350000000000004,0,0]
[null,"AUS278700",2787,5958,"Tenspeed","Farr 1020","Sea Nymph","Bruce Farr",1982,"2047 Drummoyne Australia",null,"CLUB","C",480,"05 10 2017 16:23:32",10.38,8.9550000000000001,1.823,3.22,4400,113.1,0.2,655.9,0.94820000000000004,711.9,0,0,1090.7,884.6,762.8,686.4,643,617.5,591,1041.7,848.1,739.8,677.5,642.20000000000005,620,594.29999999999995,908.2,731.5,636.20000000000005,580.29999999999995,545.79999999999995,523.20000000000005,495,956.5,765.9,662,600.6,562.29999999999995,537.29999999999995,505.8,1117.9000000000001,861,715.5,626.4,568.4,528.1,472.7,44,42.7,43,41.1,39.9,39.1,38.9,145.9,150.4,150.5,157.80000000000001,180,180,180,1133.7,940.2,827.8,763.7,735.2,720.1,712.3,734.1,615.20000000000005,550.79999999999995,525,514.79999999999995,509.3,504.6,687.9,579.29999999999995,531.70000000000005,510.7,499.6,493.7,488.2,648.9,553.9,518,497.5,481.4,469.1,458.9,648,551.1,509.3,492.4,476.6,458.9,432.5,661.8,549,507.7,481.9,457.3,442.7,422.3,685.1,564.4,514.79999999999995,488.1,462.8,437.4,405.6,760,619.79999999999995,539.20000000000005,505.5,481.3,456.7,409.5,907.4,717.8,604.5,536.29999999999995,505.6,482.9,437.6,1047.8,829,697.8,609.20000000000005,550.79999999999995,514.9,469.8,0.89070000000000005,1.1644000000000001,1.3168,0.68340000000000001,0.94069999999999998,1.0993999999999999,0,0,0,0,0.94069999999999998,0,0,637.79999999999995,"AUS00000943",8.3010000000000002,5208,23.8,33.5,30.4,74,71.3,757.8,579.70000000000005,512.6,987.7,717.6,614,663.2,0.90480000000000005,683.2,0.87819999999999998,0,0]
[null,"AUS246300",2463,6606,"AURIC'S QUEST","NM 46 IMS RACER","CARROLL MARINE","NELSON - MAREK",1998,"QLD 4216",null,"INTL",null,845,"09 10 2017 14:07:12",14.18,12.108000000000001,3.01,4.08,8144,135.1,0,528.79999999999995,1.1681999999999999,577.79999999999995,0,0,869.6,705.3,609.20000000000005,558.79999999999995,530.6,508.5,477.9,829.7,671.9,589.70000000000005,547.1,521.4,501.4,472.9,728.6,588.20000000000005,513.20000000000005,469.4,441.7,422.5,395.3,787.8,630.29999999999995,544.4,493.2,460.6,438.3,409.1,894.7,691.1,576.4,506.1,459.9,426.8,378.9,43,42.2,40.4,39.200000000000003,38.299999999999997,37.5,37.200000000000003,141.80000000000001,140.5,146.4,154.69999999999999,163.4,180,180,899.7,736.2,650.20000000000005,616.1,599,586.9,574.4,586.9,485.3,444.7,432.1,425.3,421.1,411,550.5,462.3,431.5,418.2,410.7,405.8,394.4,519.6,447.8,420,400.3,387.2,379.9,372.7,521.1,448.4,420.2,397.5,376.6,360.7,345.5,534.70000000000005,445.1,411.8,395.6,380.2,366,337.1,551.29999999999995,452.7,415.6,386.5,369.3,355.3,327.10000000000002,611.9,490.9,436,407,378.8,351.3,303.10000000000002,727,584,492,438.7,411.6,385.7,336.2,839.5,674.3,568.1,501.5,462.2,430.2,381.5,1.1141000000000001,1.4394,1.6294,0.85719999999999996,1.1623000000000001,1.3431,0,0,0,0,1.1657,0,0,514.70000000000005,"AUS00000949",11.927,9334,37.700000000000003,74,50.5,189.4,0,605.9,468.9,414.3,787.4,580.70000000000005,502.6,548.20000000000005,1.0945,561.79999999999995,1.0680000000000001,0,0]
[null,"AUS266000",2660,46,"KHALEESI","DK46","DK Yachts","Mark Mills",2003,"NSW 2041",null,"INTL","R",1077,"09 10 2017 16:02:20",14.1,12.662000000000001,2.9990000000000001,4.1100000000000003,8690,141.9,0.05,525.4,1.1776,573.20000000000005,0,0,872.2,704.5,604.9,552.9,523.70000000000005,502.6,469.7,833.6,673.2,587.1,541.79999999999995,515,495.3,461.8,726.4,585.6,509.8,465.3,436.9,416.8,387.1,795.8,634.6,546.1,493,459,435.6,404,893.4,688.4,572.6,501.6,454.8,421.3,372.4,43.1,42,40.799999999999997,38.9,37.799999999999997,37.1,36.1,143.30000000000001,142.6,148.1,155.1,163.5,180,180,909.8,744.6,649.20000000000005,608.1,588.5,577.6,558.79999999999995,592.70000000000005,490.4,444.8,428.3,420.8,416.2,405.8,555.79999999999995,464.4,431,416,407,401.2,392.2,515.4,443.9,417.4,398.4,384.8,375.6,366.1,509.4,441.7,416.8,396.6,376,358,338,529.20000000000005,441.5,408.6,388.2,373.6,359.1,322.10000000000002,546.70000000000005,449.8,414.4,385.7,362,347,317.2,609.5,488.4,433.3,405.7,378,350.3,298.89999999999998,722.8,575.29999999999995,485.6,435.7,409.7,384.7,334.5,834.6,664.3,560.70000000000005,497.7,459,427.5,380.5,1.1158999999999999,1.4504999999999999,1.6531,0.85619999999999996,1.1727000000000001,1.3622000000000001,0,0,0,0,1.1739999999999999,0,0,511.1,"AUS00000953",12.36,9940,39.200000000000003,68.900000000000006,48.8,195.6,185.1,604.9,465.4,408.3,788.4,575.6,495.5,549.20000000000005,1.0925,563.79999999999995,1.0642,0,0]
[null,"AUS329700",3297,"Sm3535","White Noise","First 35","Beneteau","Bruce Farr",2009,"Vic 3115",null,"INTL","C",690,"11 10 2017 13:31:38",10.66,9.7230000000000008,2.2029999999999998,3.64,5831,118.1,0.21,633.70000000000005,0.98409999999999997,685.9,0,0,1049.9000000000001,849.2,734.1,660.9,621,597.9,571.20000000000005,1009.2,818.8,714.3,653.29999999999995,620,600,573.6,878.9,706.9,614.4,560.5,527.5,506,479.3,950.3,757.1,651.20000000000005,588.5,549.5,524.20000000000005,493.2,1074.7,828.2,688.9,603.70000000000005,548.70000000000005,510.8,459.1,43.4,41.9,41.8,40.6,39.5,39,39.5,145.30000000000001,149.5,151.4,157.19999999999999,175.3,180,180,1115.4000000000001,917.9,808.5,739.7,714,703.1,694,725.3,605.20000000000005,539.1,508.9,497.8,493.2,489.3,681.6,571.6,518.70000000000005,494.8,483.1,478.3,475.9,646.70000000000005,546.4,504.4,483.5,467.6,455.8,447,642.79999999999995,532.1,492.2,480.8,464.5,447.9,421.5,636.29999999999995,526.20000000000005,485,459.9,444.6,433.3,413.9,655.1,538.5,491.1,464.9,439.1,418.1,397.1,723.9,586.4,514,481.9,458.1,433.7,386.9,852.4,676,572,511.6,482.3,460,415.4,984.3,780.6,659.7,582,527.9,492.6,448.4,0.92110000000000003,1.2068000000000001,1.3604000000000001,0.71089999999999998,0.97689999999999999,1.1371,0,0,0,0,0.97689999999999999,0,0,614.20000000000005,"AUS00000956",8.9369999999999994,6695,28.2,39.6,30,100.6,0,732.8,559.29999999999995,496.2,949.5,691,593.6,650.1,0.92290000000000005,672.8,0.89180000000000004,0,0]
[null,"AUS2689","SHOWTIME john",8338,"SHOWTIME","KER 40","McConaughy Yachts","Jason Ker",2011,"NSW 2106",null,"INTL","R",803,"13 10 2017 14:44:36",12.15,11.606999999999999,2.95,4.2,4410,134.80000000000001,0,509,1.2022999999999999,561.4,0,0,840.5,673.7,591.20000000000005,550.4,522.5,493.9,445.7,799.7,645.70000000000005,572.4,532.70000000000005,504.2,479.4,450.5,702,567.29999999999995,494.6,450.7,421,398.4,362.9,769.4,615.9,531.6,480.4,446.4,422.1,387.5,865.8,667.8,555.9,485.8,437.3,400,342.5,43.2,42.3,39.700000000000003,37.9,36.799999999999997,36.1,36.1,141.9,143.30000000000001,149,152,148.4,145.69999999999999,141.9,867.1,705.6,635.70000000000005,606.6,591.1,578.20000000000005,571.4,563.4,471,442,429.5,421.1,413.4,401,526.6,453.9,425.8,409.8,399.6,393,377.3,496.4,441.7,406.5,379.9,366.9,358.5,344.2,496.8,441,406.2,370.2,342.7,327.60000000000002,311.60000000000002,503,432.9,398.4,374.5,350.9,329.7,278.8,520.1,439.3,392.7,363.6,342.2,319.10000000000002,277.3,588.20000000000005,467.6,423.1,380.8,338.7,300.5,261.7,704.8,555.79999999999995,473.4,426.6,393.1,354.7,277.10000000000002,813.8,641.70000000000005,546.6,494.1,453.9,409.6,319.89999999999998,1.1581999999999999,1.4888999999999999,1.7325999999999999,0.89159999999999995,1.1899,1.3976,0,0,0,0,1.2115,0,0,495.3,"AUS00000958",11.864000000000001,5501,30.1,59.6,41.3,0,179.3,582.79999999999995,453.4,389.6,757.1,567.29999999999995,483,535.29999999999995,1.1209,548.1,1.0947,0,0]
[null,"AUS269700",2697,7709,"SAIL EXCHANGE","Cookson 12","Cookson","FARR",1995,"2099 NSW",null,"INTL","C",810,"13 10 2017 16:53:38",11.99,10.920999999999999,2.5720000000000001,3.84,5044,122.8,0,558.20000000000005,1.1071,609.70000000000005,0,0,916.9,741.7,639.70000000000005,589.70000000000005,559.9,538.29999999999995,505.5,876.4,709.7,622.79999999999995,578.29999999999995,551.20000000000005,530.20000000000005,497.6,768.9,621,541.79999999999995,495.4,465.7,444.8,414.9,834.3,667.3,576.20000000000005,521.9,487.2,463.3,431.1,942.9,728.4,607.6,533.29999999999995,484,448.3,395.8,43.1,42,40.299999999999997,38.799999999999997,37.9,37.299999999999997,37,143.6,145.69999999999999,150,156.80000000000001,172.1,180,180,954.6,783.1,688.3,652.6,635.5,624.70000000000005,613.6,622.4,517.1,474.5,460.7,453.7,449.6,439.7,584,493.6,461.3,446,437.5,432.1,420.9,552.20000000000005,478.2,449.6,426.5,410,401.4,393.1,553.70000000000005,471.3,448.4,423.4,398.6,378.8,360.2,555.79999999999995,469.5,433.8,409.4,392.7,376.2,347.9,574.70000000000005,478.1,441.3,406.6,378.9,361.7,331.1,642.4,516.20000000000005,462.3,431,398.1,365.3,304.89999999999998,761.4,606.5,511.9,463.8,434.7,404.7,345.6,879.2,700.3,591.1,526.79999999999995,484.2,451.9,397.4,1.0562,1.3624000000000001,1.5484,0.81389999999999996,1.1036999999999999,1.2703,0,0,0,0,1.1052999999999999,0,0,542.9,"AUS00000959",10.696,6055,28.9,52.4,35.6,131.69999999999999,125.2,639.1,495.4,435.9,829.3,611.6,531.4,579.1,1.036,594.6,1.0091000000000001,0,0]
[null,"AUS330300",3303,"H8118","Merlion","Ben First 40,7",null,null,1997,"Vic  3016",null,"INTL","C",755,"19 10 2017 14:17:10",11.92,10.736000000000001,2.4390000000000001,3.77,7622,119.2,0.03,597.6,1.0422,647.70000000000005,0,0,980.6,799.2,690.1,625.9,589,564.4,538.4,936.2,764,668.2,614.9,584.79999999999995,564.70000000000005,539.6,823.7,665,579.79999999999995,530.29999999999995,499.8,479.9,455.1,874.6,701.3,606.9,551.1,516.29999999999995,493.4,464.6,1010,780.3,650.6,571.4,520.20000000000005,485,437.4,43.1,41.8,41.6,39.799999999999997,38.5,38.200000000000003,37.700000000000003,144.69999999999999,149.19999999999999,150.1,155.80000000000001,171,180,180,1008.5,839.9,739.3,688.3,665,652.29999999999995,642.1,659.7,555.1,499.8,479,471,466.7,463.3,621.79999999999995,526.20000000000005,484.4,466.7,458.5,453.9,449.5,589.79999999999995,506,473.7,455.5,441.9,433,425.3,589.79999999999995,504.6,471.6,453.1,437,421.6,400.9,614.6,506.9,465.7,442.5,428.3,417.3,398.1,631.4,518.70000000000005,471.6,447.1,423.8,404.3,383.9,696.4,566,494.2,463,441,418.8,375.5,825,656.8,555.1,493.4,464.3,443.7,402.6,952.6,758.4,641,563.6,512.9,476.4,434.6,0.98299999999999998,1.2758,1.4339,0.75849999999999995,1.0345,1.2037,0,0,0,0,1.0327,0,0,581,"AUS00000976",10.074999999999999,8644,31.9,49,46.4,121.9,0,686.7,529.1,470.7,889.9,652.5,560.79999999999995,609,0.98519999999999996,626.20000000000005,0.95820000000000005,0,0]
[null,"AUS261000",2610,7447,"ANOTHER PAINKILLER","FIRST 44,7","BENETEAU","FARR",2003,"QLD 4226",null,"INTL","R",862,"27 10 2017 10:25:24",13.352,11.856999999999999,2.6190000000000002,3.97,9407,132.30000000000001,0.17,568.29999999999995,1.0983000000000001,614.6,0,0,941.8,763.9,657.5,593,557.4,532.70000000000005,504.1,901.3,731.2,636.29999999999995,582.1,551.5,530.9,502.9,788.2,634.29999999999995,551.20000000000005,502.4,472,451.5,425,853.2,680.1,584.70000000000005,527.6,491.6,467.8,438,965.2,743.7,618.20000000000005,541.20000000000005,491.2,456.5,409.1,43,41.5,41,39.299999999999997,38.4,37.6,36.9,142.69999999999999,147.6,150,155.1,165.9,180,180,983.5,810,708,650.4,625.70000000000005,612.1,597.1,642.1,536.4,479.2,455,445.2,440,435,603.70000000000005,508,463.6,443.7,432.8,427.2,421.6,572.79999999999995,487.6,452.9,434,418.9,406.9,395.9,574.6,481.3,446.3,432.7,416.7,400.5,374.4,578.29999999999995,477.7,439.1,416.5,402.9,391.9,372,594.79999999999995,488.4,444.9,420.7,396.9,378.5,357.9,658.4,533.20000000000005,466.8,437.5,415.5,392.9,348.4,779.5,621.6,525.6,468,439.6,418.9,377.4,900.1,717.8,607,535.5,489.2,453.2,411.1,1.0261,1.3444,1.5256000000000001,0.79149999999999998,1.089,1.278,0,0,0,0,1.0884,0,0,551.29999999999995,"AUS00000998",11.199,10585,37.9,62.2,41.7,152.9,0,657.8,502.1,442.4,852.8,619.79999999999995,528.20000000000005,586.29999999999995,1.0235000000000001,603.79999999999995,0.99370000000000003,0,0]
[null,"AUS269900",2699,"ESP 6100","DUENDE","IMS R 52","Longitud Cero","Judel/Vrolijk",2003,"NSW 2083",null,"INTL","R",1190,"30 10 2017 12:46:58",15.398,13.497,3.1960000000000002,3.89,9302,139.1,0,498.1,1.2307999999999999,548.4,0,0,823.4,657.9,576.79999999999995,534.70000000000005,507.4,485.9,454.3,783.9,631,559.20000000000005,522.20000000000005,496.6,475.9,452.1,685.6,553.4,483.3,442.8,417.1,398.9,371.8,743,594.5,513.9,466,435.4,414.5,387,846.5,652.70000000000005,544.29999999999995,478.1,434.3,402.4,355.3,44.1,42.7,40.700000000000003,40,39.200000000000003,38.5,38.9,142.30000000000001,143.69999999999999,147.80000000000001,154.5,160.69999999999999,175.3,141.5,851.1,688.3,623.70000000000005,596.79999999999995,578.5,564.9,560.6,550.6,451.1,422.5,412.3,406.7,399.2,393.9,513.4,429.3,407.4,398,392.3,385.6,376.8,481.6,415.2,390.1,376.6,368.2,362.8,348.5,482.2,416.2,388.1,362.7,347.5,339.2,330,494.7,414.4,385,368,352,338.5,298.89999999999998,516.5,422.7,386.4,359.4,342.7,327.9,295.7,577.20000000000005,458.9,407.8,377.5,347.2,316.89999999999998,274.39999999999998,689.1,543.4,459,411.8,385,357.3,301.3,795.7,627.5,530,472.7,436.3,406.9,347.9,1.1896,1.5265,1.7252000000000001,0.91139999999999999,1.2223999999999999,1.4079999999999999,0,0,0,0,1.2364999999999999,0,0,485.2,"AUS00001002",13.009,10703,44,95.3,58.6,217.2,188.6,567.4,442.2,391.3,740.6,552.20000000000005,479.4,518.9,1.1561999999999999,530.29999999999995,1.1314,0,0]
[null,"AUS4202",4202,"RQ809","MARRIAH","Ketch Roper 57","Roper Yachts","Ian Linton",1980,"QLD 4017",null,"INTL","C",957,"31 10 2017 10:17:44",17.37,13.038,2.3250000000000002,4.8,21679,138.69999999999999,0.71,639.20000000000005,0.96189999999999998,701.7,0,0,1128.8,895.1,769,687.9,625.1,579.4,532.20000000000005,1085.9000000000001,867.7,748.3,672,617.79999999999995,579.79999999999995,540.29999999999995,915.3,725.5,618.79999999999995,553,509.9,480.6,444,975,768.2,651.1,578.1,529.70000000000005,496.5,455.3,1130.8,856.8,698.1,597.79999999999995,530.79999999999995,484,422.8,46.5,44.9,44,44.4,45.4,44.9,43.5,146.5,150.19999999999999,152.9,154,156.4,171.9,180,1222.0999999999999,985.6,862.3,785.7,724.4,681,642.6,771.8,633.1,557.9,503.9,466,445.4,429.1,710.6,591.70000000000005,520.29999999999995,470.4,443.2,428.5,413.3,661.6,556.29999999999995,486.7,447.4,427.8,415.3,397.7,659.3,550.5,473.2,433.4,415.3,408.8,392.6,658.6,540.29999999999995,465,429.1,410.4,395.6,374.7,680.3,556.9,477.7,435.3,414.5,399.2,371.8,758.2,607.20000000000005,520.9,460.3,429,411.1,382.7,896.8,696.7,586.70000000000005,513.29999999999995,459.9,430.5,399.2,1035.5,804.5,675.7,590.20000000000005,525.79999999999995,477.9,421.9,0.87450000000000006,1.2070000000000001,1.4448000000000001,0.66700000000000004,0.94210000000000005,1.1777,0,0,0,0,0.9708,0,0,618,"AUS00001004",10.131,22995,58.9,43,63.4,144.69999999999999,158.19999999999999,771.9,559.20000000000005,467.2,1012,716.5,573.20000000000005,649.20000000000005,0.92420000000000002,673.1,0.89139999999999997,0,0]
[null,"AUS3300",3300,"Sm 701","Meltemi","Wauquiez Centurion","Wauquez Yachts","Berret/Racoupeau",2003,"Vic 3188",null,"INTL","C",830,"02 11 2017 11:46:08",12.35,11.416,2.3149999999999999,3.85,8687,119.8,0.25,605.79999999999995,1.0242,659.1,0,0,1012.2,819.3,707.9,637.6,596.4,569.20000000000005,545.5,964.6,783.9,683.1,624.9,591.9,571.1,549.29999999999995,840.9,676.3,587.4,535.29999999999995,503.2,482.5,457.8,886.8,708.8,611.4,553.70000000000005,517.79999999999995,494.4,466.2,1036.7,797.2,661.4,578.20000000000005,524.29999999999995,487,436.5,43.7,42,42.2,41.2,39.799999999999997,39.1,38.9,144,149.5,151.30000000000001,154.6,167.4,180,180,1038.5,859.6,758.2,700.8,673.7,659.9,653.9,673.9,565.70000000000005,503.9,478.9,469.3,464.4,460.4,632.4,532.79999999999995,484.7,465,455.8,451,446.7,597.79999999999995,507.4,471.3,453.2,440.5,431.2,423.3,597.4,506.1,466.4,450.3,435.7,421.7,399.7,619.70000000000005,509.7,464.8,442.4,423.2,410.3,391.4,641.4,526.9,472.7,448.3,428.3,407.2,376.2,718,582.6,502.2,465.1,444.1,424.8,384,853.8,674.7,569.6,502.2,466.2,445.9,408.8,985.8,779.1,657.5,574.29999999999995,519.20000000000005,478.5,437,0.96120000000000005,1.2624,1.4277,0.73709999999999998,1.0137,1.1902999999999999,0,0,0,0,1.0184,0,0,589.1,"AUS00001017",10.249000000000001,9818,35.1,52.8,44.2,0,106.6,702.2,534.70000000000005,472.8,915.8,665.9,567.1,613.29999999999995,0.97840000000000005,631.29999999999995,0.95040000000000002,0,0]
[null,"AUS283100",2831,7079,"Revolver","Ritchie 38","Noakes Group","Bruce Ritchie",2015,"2093 Balgowlah Australia",null,"CLUB","C",550,"02 11 2017 17:02:42",11.35,10.935,2.7549999999999999,3.51,3456,123.1,0,511.8,1.1989000000000001,563,0,0,820.8,662,595.9,559.79999999999995,526.1,496,458.8,784,640.6,577.20000000000005,540.20000000000005,510.9,489.6,463.4,695.7,566.79999999999995,498,456.7,428.7,407.7,377.1,763.3,615.1,534.4,485.6,453.2,429.7,396.3,856.5,666.3,559.4,492.3,445.6,409.9,356.7,43.2,41.1,38.4,37.5,36.4,35.9,36.299999999999997,141.69999999999999,144.69999999999999,151.69999999999999,150.69999999999999,146.69999999999999,140.1,142.9,856.8,700.8,650.29999999999995,626.4,606.79999999999995,596.6,593.29999999999995,556.29999999999995,475.2,456.6,446.8,437.5,426.8,419.2,520,459.2,440.2,428.1,419.4,404.5,394.8,494.4,444.6,412.5,396,385.6,377.9,355.9,492.8,443.6,402.1,370.7,355.3,345.2,329.3,492,439.2,410.7,383.1,358.6,324.5,289.39999999999998,507,438.2,401.5,376.1,350.4,325.5,286,567.1,464.9,419.3,371.7,331.8,308.60000000000002,269.89999999999998,679.6,539.70000000000005,466.6,424.8,385.7,342.4,280.89999999999998,784.8,623.20000000000005,541.5,493.1,445.4,395.4,324.3,1.1747000000000001,1.4688000000000001,1.6922999999999999,0.91039999999999999,1.1802999999999999,1.3788,0,0,0,0,1.2010000000000001,0,0,499.6,"AUS00001019",11.151,4461,26.5,55.8,38.1,0,169.6,574.6,459.6,398.9,741.4,571.9,489.6,538.70000000000005,1.1137999999999999,550.29999999999995,1.0903,0,0]
[null,"AUS4207",4207,7007,"BUMBLEBEE IV","Maxi","Kelly & Haugh","German Frers",1990,"QLD 4557",null,"INTL","C",1842,"03 11 2017 10:50:22",24.132000000000001,19.594999999999999,4.2350000000000003,5.52,36723,148.69999999999999,0.02,463.6,1.3325,506.6,0,0,786.3,632.6,542.20000000000005,489.3,457.5,436.3,408.9,744.8,599.29999999999995,519.6,474.7,448.2,429.9,404.8,646.6,518.6,449.3,408.7,383.3,366.3,343.2,690.1,551.20000000000005,474.8,428.7,399.1,378.9,353,801.1,613.29999999999995,506.8,441.8,399.8,370.9,332.1,44.3,42.8,42.3,40.299999999999997,38.6,37.299999999999997,36.1,141.9,141.9,145.5,150.4,155.30000000000001,161.6,180,792.9,649.29999999999995,570.1,527.1,503.6,488.2,473.5,511,424.1,380.1,363.7,355.5,350.7,345,477.5,399.4,366.5,353,345.7,340.9,334.8,449.4,382.2,357,343.7,333.2,325.8,317,447.1,380.8,354.8,340.7,328.6,316.7,299.60000000000002,487.2,397.1,357.1,342.8,333.6,324.3,305.89999999999998,502.2,406.3,361.1,341.4,327,316.89999999999998,299.5,564.1,446.9,384.2,355.1,338,321.39999999999998,286.60000000000002,675.2,533.29999999999995,445.4,391.2,360.5,343.2,312,779.7,615.79999999999995,514.29999999999995,451.6,411.4,384.4,344.4,1.2492000000000001,1.6532,1.8816999999999999,0.95150000000000001,1.3210999999999999,1.5649,0,0,0,0,1.3302,0,0,451.1,"AUS00001020",17.824000000000002,39419,93.9,143,196.1,0,503.1,540.29999999999995,408.3,358.7,709.4,510.9,431.3,479.5,1.2514000000000001,490,1.2244999999999999,0,0]
[null,"AUS2777",2777,8565,"EVE","SWAN 65","NAUTOR","SPARKMAN&STEPHENS",1981,"NSW 2107",null,"INTL","C",1000,"07 11 2017 11:29:46",19.68,15.222,2.9510000000000001,4.97,33621,138.9,0.61,571.70000000000005,1.0654999999999999,633.5,0,0,981.6,793.8,690,618.5,568,536.1,498.8,942.6,763.9,664.6,600.4,557.79999999999995,530.6,498.2,805.4,643.70000000000005,554.1,499.7,464.9,441.8,413.8,846.5,674.4,578.4,519.29999999999995,480.8,454.5,421.7,996.8,762.2,626.6,541.20000000000005,484.5,445.2,394.1,46,44.1,43.4,44.5,44.6,43.5,41.9,141.80000000000001,146.19999999999999,148.1,148.19999999999999,151.80000000000001,156.6,171.2,1050.3,858.9,758.6,691.1,643.5,614.70000000000005,586.29999999999995,666.8,557,492.2,445.5,421.2,409.6,399.2,618.79999999999995,523.29999999999995,459.9,423,405.3,395.1,386.1,580.79999999999995,493.1,435.2,408.2,392.4,380.9,369.9,578.1,482.3,420.6,395.5,381.9,371.5,356.1,578.20000000000005,474.6,416.1,392.4,378.4,369.8,359,592,490.4,426.3,397.9,381.8,368.6,350.3,663.4,540.4,464.6,417.6,395.1,380.7,356,790.6,631.1,538.20000000000005,472.8,427.7,402.5,376,912.9,728.7,621.4,545.9,492.5,457.5,411.3,0.99739999999999995,1.343,1.5664,0.76039999999999996,1.0476000000000001,1.2734000000000001,0,0,0,0,1.0789,0,0,556.1,"AUS00001044",12.28,35362,72.5,68.099999999999994,113.3,246.7,235,676.8,502.6,430.9,887.7,644.29999999999995,530.1,583.20000000000005,1.0287999999999999,596.9,1.0052000000000001,0,0]
[null,"AUS6112",6112,"AUS 47","INDIAN","CARKEEK 47","PREMIER CT","CARKEEK DES PARTNE",2013,"WA 6011",null,"INTL","R",1010,"08 11 2017 16:31:56",14.3,13.968999999999999,3.2930000000000001,4.29,6320,135.80000000000001,0,466.8,1.3076000000000001,516.20000000000005,0,0,780.1,621.6,546.6,507.9,480,450.4,407.2,740.7,595.79999999999995,527.9,490.2,462,437.9,412.4,647.5,521.79999999999995,453.5,411.9,383.5,361.7,327.9,712.4,569.1,490,441.3,408.4,384.5,350.8,801.1,615.9,510.9,444.7,398.5,362.9,308.10000000000002,43.8,42.8,39.799999999999997,38.5,37.4,36.5,36.6,141.1,141.30000000000001,147.80000000000001,152.1,148.69999999999999,143.30000000000001,142.80000000000001,801.2,648.29999999999995,586.4,559,542.5,527.6,522,517,429.5,404.6,392.7,384.1,373.8,361,481.7,412.8,388.3,373.3,363,354.5,337.2,452.4,400.3,365.5,343.1,330.6,322.39999999999998,301.8,453.5,402,365.1,328.4,305.89999999999998,293.7,276.8,468.5,399,367.2,340.7,317.7,294.3,244,486.7,405.6,360.2,334,313.39999999999998,289.8,247.3,546.9,433.1,389.5,348,306.8,275.60000000000002,241.3,657.4,515.1,438.9,392.9,361.5,323.3,253.2,759.1,594.79999999999995,506.8,456.8,417.5,373.3,292.39999999999998,1.2554000000000001,1.6257999999999999,1.9105000000000001,0.96309999999999996,1.2899,1.5285,0,0,0,0,1.3211999999999999,0,0,454.1,"AUS00001047",14.12,7806,40.1,78.7,55.9,0,240.9,537.70000000000005,415.2,353.3,700.9,523.29999999999995,441.6,494.9,1.2123999999999999,505.2,1.1876,0,0]
[null,"AUS4177",4177,"H4000","BLUNDERBUSS","FIRST 40","BENETEAU","FARR",2008,"VIC 3030",null,"INTL","R",805,"09 11 2017 14:56:28",12.24,11.295999999999999,2.5,3.9,8204,134.19999999999999,0.19,586.6,1.0653999999999999,633.5,0,0,976.8,790.7,680.9,611,572.5,547.1,518.79999999999995,937.1,759.3,660,601.20000000000005,567.6,545.9,517.4,815.6,655.5,568.79999999999995,517.70000000000005,485.7,464.2,436.2,886.2,705.3,605.5,545.6,507.6,482.4,451.3,998.6,768.5,638,557.79999999999995,505.5,469.2,419.3,43.2,41.6,41.4,39.799999999999997,38.200000000000003,37.799999999999997,37,142.4,148,149.80000000000001,155.5,169.5,180,180,1032.8,847.8,741.7,674.7,645.4,630.5,616.1,672.2,560.4,497.9,470.3,457.9,452.1,446.8,631.29999999999995,529.20000000000005,480.4,458.5,445.8,438.9,432.4,598.1,505.9,468.3,448.7,433.1,419.6,405,592.29999999999995,491.6,455.4,444.2,431.1,414.8,385,592,489.9,451.4,428.3,411.3,399.9,379.7,610.20000000000005,500.9,457.1,432.5,408,387.5,364.1,674.3,546.29999999999995,478.5,448.9,426.5,403,356,797.4,635.20000000000005,536.9,478.8,450.8,429.9,386.9,920.8,733.5,620,547.20000000000005,499.5,463.8,421.5,0.99150000000000005,1.3037000000000001,1.4849000000000001,0.76380000000000003,1.0552999999999999,1.2435,0,0,0,0,1.0556000000000001,0,0,568.4,"AUS00001050",10.545999999999999,9297,35.1,53.8,38,141.1,128.5,680.8,517.79999999999995,454.6,883.7,639.6,542.79999999999995,605.5,0.99080000000000001,625.5,0.95920000000000005,0,0]
[null,"AUS3304",3304,"H20","Minna","Cole 43","East Coast Yachts","Peter Cole",1970,"Vic 3185",null,"INTL","C",707,"10 11 2017 11:59:34",13.27,10.462999999999999,2.028,3.3,9274,138.9,0.55000000000000004,672.9,0.92179999999999995,732.3,0,0,1158.7,928,800.9,713.1,653.79999999999995,614.29999999999995,575.9,1111.5999999999999,895.5,775.2,699,649.29999999999995,617.4,581.70000000000005,952.1,758.8,651.70000000000005,587,545.9,518.70000000000005,486.4,1012.7,802.4,684.8,612.79999999999995,566.29999999999995,535.29999999999995,498,1172.0999999999999,893.9,734.2,634.5,569.1,524.1,465,45.2,43.3,42.7,43.9,43.3,42.1,40.700000000000003,146.6,150.30000000000001,150.6,152.6,160.5,180,180,1230.3,1004.3,886.6,807,750.6,718.9,688.9,787.1,655.9,577.5,526,500.3,487.5,476.5,733.8,617.1,541.6,502.8,483.9,472.7,461.3,691.2,582.1,515.29999999999995,486.7,470.9,459.4,441.3,691.2,582.5,509,478,468.3,456.1,434.7,697.8,570.6,499.6,470.6,452.1,438.4,424.4,719.8,585.9,507.7,475,455.6,438.2,409.4,796,642,543.20000000000005,492.5,468.4,450.9,417.5,941.5,737.5,619.4,538.79999999999995,493.3,470.4,438.2,1087.0999999999999,851.7,715.1,619.29999999999995,557,509.8,462.9,0.84289999999999998,1.1438999999999999,1.3339000000000001,0.64690000000000003,0.90549999999999997,1.107,0,0,0,0,0.92130000000000001,0,0,651.20000000000005,"AUS00001053",8.6560000000000006,10226,32.200000000000003,30.6,43.2,101.4,0,800.8,590.1,506,1043.4000000000001,745.4,609.79999999999995,683.8,0.87749999999999995,707.6,0.84789999999999999,0,0]
[null,"AUS7151",7151,5200,"Fifty Two Hundred","T/PAC 52","COOKSON","FARR",2004,"4212 QLD",null,"INTL","R",1275,"15 11 2017 15:45:16",15.85,15.161,3.19,4.3899999999999997,7735,140.5,0,458.3,1.3315999999999999,506.9,0,0,771.2,612.1,536.5,497.1,469.9,443,399.1,735,588.9,519.4,481.1,454,432,404.1,637.6,512.6,444.9,404.1,376.5,355.5,322.8,699.8,557.70000000000005,479.3,431.4,399.4,376.3,342.9,788.5,605.20000000000005,501.6,436.6,391.5,357,303.7,44.5,43.6,41.1,39.799999999999997,38.6,37.700000000000003,37.5,141.6,142.4,146.1,153.4,150.80000000000001,145.1,144.30000000000001,806.3,649.20000000000005,582.4,552.6,535.6,521.1,512.20000000000005,517.20000000000005,423.2,395.1,383.1,375.2,366.9,354.3,479.3,403,379.3,365.3,355.4,347.9,331.6,445.4,388.6,357.8,336.8,324.8,316.7,299.39999999999998,444.4,388.9,354.7,322.39999999999998,302,290.2,275.10000000000002,461.4,388.2,359.9,334.9,313.2,289.2,243.1,478.7,393.8,353.5,328.6,309.3,286.39999999999998,246.3,532.29999999999995,420.7,376.6,337.1,299.60000000000002,273.5,239.6,637.4,498,424.9,380.8,347.7,315.89999999999998,247.7,736,575,490.6,441.5,404.2,364.8,286,1.2754000000000001,1.6598999999999999,1.9430000000000001,0.97589999999999999,1.3158000000000001,1.5580000000000001,0,0,0,0,1.3458000000000001,0,0,445.8,"AUS00001062",14.882,9430,43.3,93.5,61.7,0,260.2,529.20000000000005,406.7,347.4,691.7,513,433.2,484.3,1.2388999999999999,494.6,1.2131000000000001,0,0]
[null,"AUSNZ8008","NZ8008","NZL 8008","RIKKI","REICHEL PUGH 42","DAVIE NORRIS","REICHEL PUGH",2011,"NEW ZEALAND RD1",null,"INTL","R",874,"15 11 2017 16:09:20",12.97,12.249000000000001,2.8740000000000001,4.3499999999999996,5309,135.1,0,503.4,1.2092000000000001,558.20000000000005,0,0,831,669.5,586.4,545.6,519.70000000000005,493.2,446.2,792.2,641.79999999999995,569,529.79999999999995,502.7,479.2,449.9,693.4,560.79999999999995,489.2,446.1,417,395,360.2,755.6,605.9,523.70000000000005,473.6,440.3,416.4,382.7,856.3,661,550.4,481,432.9,395.8,338.3,43.6,42.8,40.4,39.200000000000003,38.299999999999997,37.700000000000003,37.799999999999997,142,143.4,148.5,152.5,148.9,145.9,141.4,862.2,707.2,635.6,606.20000000000005,591.4,580.1,572.6,557.79999999999995,466.6,435.9,423.5,415.8,410.1,397.1,520.1,447.4,420.3,404.1,393.7,387.1,371.6,487.2,433.6,401.6,374.3,359.9,351,338.8,485.4,431.5,399.4,365.4,337.1,319.89999999999998,302.8,497.1,426.3,391,367.9,344.9,323.60000000000002,274.2,513.70000000000005,432.2,388.3,357,335.9,314,273.3,578.79999999999995,459.4,416.3,376.6,336.4,298.2,258.2,692.6,547.20000000000005,465.3,418.6,388,351.9,277,799.7,631.79999999999995,537.20000000000005,484.9,448,406.4,319.89999999999998,1.1719999999999999,1.5054000000000001,1.7472000000000001,0.89970000000000006,1.1988000000000001,1.3997999999999999,0,0,0,0,1.2230000000000001,0,0,490.6,"AUS00001067",12.193,6503,33.1,68.400000000000006,44.8,0,194.5,575.9,448.4,386.3,750.3,563.1,482.2,528.5,1.1353,539.79999999999995,1.1114999999999999,0,0]
[null,"AUS326800",3268,"S313","WEEKEND OPTION","NORTHSHORE 38","NORTHSHORE YACHTS","H,KAUFMAN",1980,"VICTORIA , AUSTRALIA",null,"INTL","C",722,"16 11 2017 14:20:48",11.62,10.367000000000001,1.9490000000000001,3.31,6318,125,0.21,631.20000000000005,0.98460000000000003,685.6,0,0,1068.8,860.1,737.6,659.6,617.29999999999995,590.6,563.4,1018.3,822.9,713.3,650.1,614.79999999999995,592.4,565.5,880.5,706.2,611.70000000000005,556.20000000000005,521.79999999999995,499.3,471.4,926.6,739.4,636.9,576.1,538.1,513.1,481.8,1087.7,833.3,689,600.6,543.29999999999995,503.7,450,44.5,42.9,43.1,41.7,40.299999999999997,39.299999999999997,38.9,145,149.80000000000001,148.30000000000001,156,172.2,180,180,1108.4000000000001,911.4,800.4,734.4,704.8,689.4,678.3,713.3,594.6,527.79999999999995,500.6,490.5,485,479.9,665.8,557.79999999999995,507,486.1,476.1,470.4,464.8,625.5,529.6,492.4,472.9,458.3,447.5,437.3,623.1,527.1,487.2,469.4,452.2,435.3,410.8,642.1,527.1,483,458.3,436.5,424,402.5,663.6,540.6,489.2,463.8,439.5,414.6,386.1,743.3,599.79999999999995,513.70000000000005,480.2,457.5,433.9,386.5,891.3,700.4,584.5,512,481,459.5,415.4,1029.2,808.8,674.9,584.70000000000005,529.79999999999995,491.8,448.5,0.91700000000000004,1.2142999999999999,1.3804000000000001,0.69989999999999997,0.9758,1.1497999999999999,0,0,0,0,0.97909999999999997,0,0,612.79999999999995,"AUS00001068",9.3179999999999996,7293,30.6,46.4,35.9,97.5,0,736.1,555.9,489,964.4,691.7,587.1,638.29999999999995,0.94,657.7,0.9123,0,0]
[null,"AUS711100",7111,1195,"LAST HURRAH","Elliot 13","MILNER","ELLIOT",1994,"NSW 2088",null,"INTL","R",850,"20 11 2017 12:04:10",13.05,11.846,3.1619999999999999,4.0599999999999996,6040,124.7,0,526.29999999999995,1.1642999999999999,579.79999999999995,0,0,854.8,690,603.4,563.6,542.1,519.5,476.7,815.3,661.3,586.79999999999995,549.70000000000005,525.9,504.6,475.4,718.1,582.70000000000005,511.2,469.8,443.2,423.8,393.6,783.8,629.29999999999995,545.4,495.6,463.6,441.5,411.4,883.8,685.1,574.1,506.3,461,427.4,375.7,43,42.3,39.700000000000003,38.6,37.799999999999997,37.200000000000003,36.9,142.19999999999999,143.6,149,152.30000000000001,149.5,147.19999999999999,142.19999999999999,887.9,727.3,651.9,624.20000000000005,610.29999999999995,597.6,588.1,578.4,482.1,452.1,441.6,435.5,430.9,420.1,541.4,463,438.5,426.8,419,413.9,400.2,509.1,449.5,423.7,403.7,392.1,384.8,375.4,508.3,446.8,419.7,394,373.7,359.4,345.9,511.3,440,412.7,394,377,360.9,326,529.20000000000005,446,409.6,383.4,365.6,349.6,318.5,595.1,476.6,432.7,399.8,366.8,333.6,290.5,711.7,565.4,480.5,435.5,410.4,382.2,316.39999999999998,821.8,652.79999999999995,554.79999999999995,503.1,473.9,441.3,365.4,1.1353,1.4383999999999999,1.6224000000000001,0.87390000000000001,1.1597,1.3259000000000001,0,0,0,0,1.1687000000000001,0,0,513.4,"AUS00001074",11.646000000000001,7205,33.200000000000003,66.900000000000006,47.2,0,188.2,594.6,469.3,416.1,772.4,582,509.1,550,1.0908,562.4,1.0669,0,0]
[null,"AUS286000",2860,6559,"WOTS NEXT","SYDNEY 47","Sydney Yachts","Murray/Burns/Dovel",1998,"NSW 2156",null,"INTL","R",954,"23 11 2017 16:29:18",14.27,12.851000000000001,2.9540000000000002,4.08,9508,130.80000000000001,0.03,529.29999999999995,1.171,576.4,0,0,874.4,707.6,608.79999999999995,556.29999999999995,527.29999999999995,505.7,474.4,836.2,676.3,590.79999999999995,545.70000000000005,519.1,499.2,468.5,730.7,589.20000000000005,513.5,469.3,441.5,422.3,395.2,799.4,638.1,549.79999999999995,497.1,463.6,440.7,409.9,896.5,691.7,576.29999999999995,505.8,459.7,427,379.9,43.3,42.2,41.2,39.1,38.200000000000003,37.5,36.799999999999997,142.9,142.69999999999999,147.30000000000001,154.9,162.6,180,180,917.7,751.6,656.4,615.70000000000005,595.9,584,567.5,596.79999999999995,494.5,446.6,431,423.8,419.5,410.8,559.4,468.8,433.2,418.3,410.9,406.1,397.5,528.29999999999995,451.6,422.8,404.6,390.5,382.6,374.4,528.9,445.6,421.9,402.3,383.1,366,347.9,526.1,439.8,409.6,394.7,381,367.4,342.7,541.70000000000005,447,412.5,386.7,369.2,355,328.7,604.5,485.3,431.9,405.1,378.5,351.4,303.39999999999998,719.7,574.70000000000005,486,434.9,409.2,385,336.2,831,663.6,561.1,497,458.8,427.4,381.4,1.1102000000000001,1.4399,1.6304000000000001,0.85340000000000005,1.1655,1.3515999999999999,0,0,0,0,1.1659999999999999,0,0,514.6,"AUS00001079",12.308999999999999,10820,41,72.099999999999994,54,197.3,215,608,468.8,414,791,579.20000000000005,499.4,553.1,1.0848,567.6,1.0570999999999999,0,0]
[null,"AUS286300",2863,"USA 61333","Triple Lindy","COOKSON 50","COOKSON","FARR",2004,"NY 10007",null,"INTL","R",1133,"24 11 2017 17:09:32",15.23,14.502000000000001,3.8279999999999998,4.3099999999999996,7643,147.19999999999999,0,461.2,1.3260000000000001,509,0,0,767.5,611.5,537.4,499,473.2,447.3,404.4,727.4,584.9,518.6,482.4,456,433.8,407.3,637.70000000000005,514.5,448,408,381,360.3,327.9,697.7,558.4,481.8,435,403.7,380.9,348.9,789.2,607.20000000000005,504.6,440.5,396.2,362.3,309.7,44,42.4,39.299999999999997,38.1,36.799999999999997,36.1,36,141.19999999999999,140.80000000000001,147.19999999999999,152.30000000000001,149.4,146.19999999999999,142.5,781.4,632.4,573.29999999999995,546.70000000000005,530.5,517.70000000000005,510.8,505.4,420.8,397.9,386.7,378.9,370.3,358.5,471,404.9,383.1,369.5,360,352.4,337,442.6,392.6,362.1,342.1,330.6,322.8,305.8,443.5,394,360.1,328.3,308,296.39999999999998,280.89999999999998,464,394.3,365.7,341.1,320.2,297.89999999999998,248.9,482.5,400.6,359.3,334.8,315.5,293.10000000000002,251.8,543,428.6,385.7,347.8,310.10000000000002,278.89999999999998,244.4,652.6,511.5,434.3,388.5,360.2,326.3,258,753.5,590.6,501.5,451.4,415.9,376.8,297.89999999999998,1.2764,1.6448,1.9157,0.97899999999999998,1.3112999999999999,1.5423,0,0,0,0,1.3367,0,0,448.9,"AUS00001086",14.712,9224,42.9,89.8,63.8,0,263,528.79999999999995,410.4,352.4,689.5,514.79999999999995,437.7,486.9,1.2323999999999999,496.7,1.208,0,0]
[null,"AUS421400",4214,8810,"OCEAN GEM","Beneteau M445","Beneteau Yachts","B Farr",1990,"QLD 4209",null,"INTL","C",870,"28 11 2017 09:38:46",13.49,11.468999999999999,1.8280000000000001,4.29,10589,117.3,0.34,632.6,0.97109999999999996,695.1,0,0,1085.9000000000001,874.1,754.3,674.8,624.1,590.5,558.4,1041.5,842.3,732.1,664.2,621.4,594,564.1,889.2,711,613,554.29999999999995,517.1,492.5,462.8,939.7,747.6,641,576.4,535.1,507.7,474.7,1100.4000000000001,841.1,692.4,599.79999999999995,538.70000000000005,496,437.9,46.7,45.3,45.1,45.9,44.7,43.5,43,145.6,149.6,149,152.9,160.69999999999999,180,180,1158,952.3,843.4,772.3,725.9,700.6,680.4,731.2,609.29999999999995,539.4,496.3,475.5,465.9,458.4,675.4,567.4,503.7,473.5,457.6,448.8,441.5,630,531,479.6,457.2,442.8,431.3,415.4,625.5,526.70000000000005,475.5,452.2,438.5,426,402.3,651.70000000000005,531.70000000000005,470.2,444,424.7,407.5,388.8,667.3,543.6,476.2,447.4,427.8,408.7,374.9,735.6,591.20000000000005,504.9,463,440.8,422.5,386.3,877.9,689.3,576.20000000000005,502.7,464.1,443,408.9,1013.7,795.9,665.3,577.29999999999995,522.4,480.4,436.4,0.9052,1.2137,1.4029,0.68879999999999997,0.95709999999999995,1.1501999999999999,0,0,0,0,0.97570000000000001,0,0,614.9,"AUS00001091",9.4730000000000008,11731,38.4,44,56.5,133.4,0,745.7,556.20000000000005,481.1,980,705.3,586.9,643.29999999999995,0.93269999999999997,662,0.90629999999999999,0,0]
[null,"AUS263700",2637,5656,"MONDO","SYDNEY 38","SYDNEY YACHTS","MURRAY BURNS DOVEL",2000,"4000 QLD",null,"INTL","R",745,"28 11 2017 12:15:56",11.795,10.693,2.601,3.71,5344,117.3,0,569,1.0871,620.9,0,0,927.7,752.8,650.6,601.20000000000005,571.6,549.29999999999995,518.70000000000005,887.3,720.7,633.79999999999995,590.4,564.29999999999995,543.6,514.29999999999995,780.9,631.70000000000005,552.29999999999995,506.3,477.4,457.4,429.2,844.3,676.6,585.5,531.79999999999995,497.9,474.9,443.6,956.3,740.4,619.1,545.1,496.5,461.7,410.9,43.1,42,40.9,38.9,38.6,38.1,38,142.80000000000001,146.6,150,156.69999999999999,172.6,180,180,966.3,795.5,700.8,668,652.79999999999995,640.9,631.79999999999995,630.5,525.4,481.1,468.6,462.7,459.4,450.4,592.5,501.4,467.5,454.5,447.8,443.8,432.4,561.6,485.8,456.2,435.4,422.7,415.6,408,562.9,482.6,455.4,431.9,408.7,391.5,377.7,570.70000000000005,478.4,443.2,424.4,407.9,392.3,364.5,587,486.5,448.6,416.1,394.6,379,349.7,650.4,525.20000000000005,469.2,438.9,408,377.2,321.3,770.1,615,520,470.3,442,413.8,358.3,889.2,710.1,600.5,534.4,490.4,457.7,405.6,1.0403,1.3358000000000001,1.504,0.80330000000000001,1.0835999999999999,1.2422,0,0,0,0,1.0831999999999999,0,0,553.9,"AUS00001093",10.343999999999999,6356,29.8,52,37.5,133.4,0,648.9,505.3,448.8,840.3,622.9,543.4,588.70000000000005,1.0193000000000001,604.20000000000005,0.99299999999999999,0,0]
[null,"AUS274300",2743,8675,"ASTRAL","DUFOUR 36e","DUFOUR","Umberto Felci",2012,"2135 Sydney Australia",null,"INTL","R",830,"30 11 2017 15:52:04",10.97,10.193,2.181,3.62,6092,121.4,0.09,616.79999999999995,1.0127999999999999,666.5,0,0,1027.9000000000001,830.2,716.9,642.5,601.70000000000005,576.9,548.70000000000005,986.4,799.2,695.8,633.79999999999995,598.70000000000005,577.1,548.70000000000005,858.9,689.6,597.9,544,510.4,488.1,459.8,928.3,738.9,634.5,572.1,533,507.4,476.1,1050.5,808.1,670.5,586,530.9,492.6,440.2,43.5,42.1,41.8,40.6,39.200000000000003,39,38.4,145,149.1,150.80000000000001,156.30000000000001,172.3,180,180,1088.4000000000001,893.8,786.7,714.9,684.9,671.3,659.3,707.6,589.5,524.5,493.3,480.2,475.1,471.8,664.9,557.20000000000005,504.9,480.4,467,460.9,456.3,630.9,533.1,491.5,470.5,453.4,439.5,427.7,632.70000000000005,522.1,478.3,465.4,451.6,434.2,404,625.20000000000005,515,472.9,446.9,428.1,416.1,395.2,642.20000000000005,526.70000000000005,478.8,452.5,426.2,401.9,377.9,708.6,573.20000000000005,501.6,469.8,445.8,421.1,372.7,837.8,663.9,560.70000000000005,500,470.6,448.4,403.5,967.4,766.6,647.1,570.1,518.5,482.4,438.1,0.9415,1.2408999999999999,1.4121999999999999,0.72650000000000003,1.0034000000000001,1.179,0,0,0,0,1.0049999999999999,0,0,597,"AUS00001131",9.4589999999999996,7027,28.9,41.3,31.4,108.2,0,716.9,544,478,929.1,672.7,572.5,633.29999999999995,0.94740000000000002,655.5,0.9153,0,0]
[null,"AUS267000",2670,"AUS 5299","OSKANA","COOKSON 50","COOKSON BOATS","FARR",2004,"TAS 7000",null,"INTL","R",1080,"30 11 2017 17:11:22",15.22,14.327999999999999,3.548,4.25,7527,119.7,0,464.3,1.3109999999999999,514.9,0,0,784.7,622.79999999999995,544.1,503.1,476.9,451.3,403.9,744.8,596.9,525.79999999999995,486.9,459.8,436.4,402.6,647.4,520.1,450.7,408.4,379.6,357.5,322.10000000000002,714.9,569.9,489.6,440.3,407.1,382.9,347.5,801.8,614.29999999999995,507.8,440.7,394,357.9,301.60000000000002,43.8,42.8,41.4,39.4,38.4,37.5,37.1,141,139.5,146.30000000000001,151.9,149.19999999999999,145.19999999999999,140,807.5,653.20000000000005,585.5,554.4,538.29999999999995,526.70000000000005,514.70000000000005,521.29999999999995,430.3,399,385.4,376.1,369.4,353.7,485.4,411.9,384,366.2,355.1,347.8,330.3,454.6,398.6,366.6,338.1,323.39999999999998,314,299.10000000000002,455.7,399.9,367.2,333.7,302.60000000000002,286.2,269.2,464.7,396.2,355.7,332.6,309.39999999999998,289.7,241.6,482.6,401,358.4,322.2,301.2,282.60000000000002,239.3,548.20000000000005,430.8,385.4,346.7,309,271.60000000000002,223.4,659.7,513.1,435.4,389.6,359.9,325.5,253.8,761.8,592.5,502.7,451.8,415.5,375.9,293,1.2531000000000001,1.64,1.9337,0.95920000000000005,1.2976000000000001,1.5344,0,0,0,0,1.3307,0,0,450.9,"AUS00001133",14.42,9081,42.6,86.4,59.4,0,274.10000000000002,538.70000000000005,411.6,349.1,703.7,520.20000000000005,439.9,494.4,1.2135,505.1,1.1879,0,0]
[null,"AUS4220",4220,"RQ3600","Mister Lucky","Sun Fast 3600 2,15","Jeanneau Yachts","Daniel Andrieu",2013,"Queensland  4011",null,"INTL","R",691,"01 12 2017 10:52:38",10.8,10.324999999999999,2.1779999999999999,3.55,5702,130.6,0.04,615.4,1.0065999999999999,670.6,0,0,1034.5,833.9,717.5,646.70000000000005,611,581.29999999999995,551.6,991.5,800.3,694.9,632.4,595.4,570.6,541.9,858.8,688.9,596.6,542,507.6,484.2,453.3,936.1,743.2,636.1,571.20000000000005,529.70000000000005,502.1,467.8,1054.5,809.6,670.4,584.4,527.70000000000005,487.5,430.9,43.7,42.2,41.5,40.5,39.299999999999997,38.299999999999997,37.9,144.1,147.5,147,149.4,151.69999999999999,175.7,177.6,1092.9000000000001,894.2,784.3,710.1,670.4,653.5,643,709.9,590.4,524.29999999999995,491,474.3,466.6,461.1,666.9,558.9,504.6,478.8,462.3,451.4,443.4,633,534.79999999999995,491.3,469.2,450.4,432,410.8,622,515.29999999999995,473.5,455.4,444.4,430.1,393.8,614.6,509,469.1,441.4,414.6,399.8,376,633.5,520.6,475.7,448.3,419.8,391.7,354.6,713.9,572.1,498.6,467.3,441.8,415.2,362.2,845.3,670,563.6,505.1,479.7,459.7,417.3,976.1,773.7,650.79999999999995,583.20000000000005,551.5,509,460.2,0.94079999999999997,1.2442,1.4245000000000001,0.72250000000000003,0.99709999999999999,1.1687000000000001,0,0,0,0,1.0059,0,0,596.5,"AUS00001135",9.5839999999999996,6632,29.6,39,31.5,0,118.6,717.5,542.5,473.9,934.3,677,577.6,634.5,0.9456,657.2,0.91300000000000003,0,0]
[null,"AUS275900",2759,6377,"TRITON","LYONS 60 Custom","Sydney Yachts","David Lyons",2004,null,null,"INTL","R",1275,"05 12 2017 12:12:28",18.29,16.968,3.9950000000000001,4.3600000000000003,11694,150.4,0,436.5,1.3946000000000001,484,0,0,736.4,583.20000000000005,513,475.2,447.4,423.1,386.4,697.3,559.4,495.7,459.6,433.3,414.5,387.4,605.1,487.2,423.8,385.9,360.6,342,314.3,652.70000000000005,523.1,452.1,408.9,380.3,359.7,331.2,754.2,578.5,479.6,418,375.7,343.7,295.5,45,42.8,41,40,38.799999999999997,38.1,37.9,140.30000000000001,138.80000000000001,145,151.69999999999999,149.30000000000001,142.80000000000001,143.6,751,612,557.9,529.5,507.9,496.8,489.2,479.2,399.8,376.4,365.7,356.7,349,341.4,442.4,378.4,361.5,351.1,342.2,331.2,321.3,409.9,360.9,340.1,326.2,316.7,308.5,291.89999999999998,408,359.2,327.2,307.7,295.7,287.2,272,439.5,368,343.7,320.2,290.7,265.89999999999998,242.6,456,372.5,340,319.10000000000002,295.10000000000002,273.2,235.4,517.79999999999995,400.7,356.6,320.7,288.5,269,233.6,625.1,480.2,405.4,360.6,335.1,302.60000000000002,245.7,721.8,554.4,468.1,420.9,386.9,349.5,283.7,1.3472,1.7403999999999999,2.0194999999999999,1.0229999999999999,1.3779999999999999,1.6248,0,0,0,0,1.4079999999999999,0,0,426.1,"AUS00001165",16.436,13753,56.5,133.9,89.2,0,361,501,387.8,334.2,659.8,489.8,415.4,458.9,1.3076000000000001,466,1.2876000000000001,0,0]
[null,"AUS801700",8017,"ITA70","MASERATI","Volvo 70","Ericson Ships","Juan Kouyoumdjian",2007,"2089 NSW",null,"INTL","R",2126,"05 12 2017 15:53:34",21.501000000000001,21.478000000000002,5.14,5.69,13288,115,0,361.1,1.6318999999999999,413.6,0,0,662.2,526.70000000000005,450.1,406.2,368.8,341.3,298.60000000000002,629.5,499.6,429.1,384.7,352.6,329.3,291.3,520.79999999999995,412.1,350,310.10000000000002,281.89999999999998,260.5,228.8,593.20000000000005,464.5,390.8,343.9,311.39999999999998,287.10000000000002,250.6,659.3,495.8,399.5,336.7,292.3,258.60000000000002,209.2,45.6,44.6,42.4,38,36.4,36.799999999999997,40.4,132.69999999999999,135,144.69999999999999,147.9,128.1,131.30000000000001,142,701.8,552.70000000000005,472.1,429.9,411.6,399.5,371.9,444.7,356.3,315.2,290.89999999999998,277.89999999999998,267,241.9,407,334.7,295.39999999999998,271.5,257.60000000000002,246.4,220.6,357.3,301.5,269.39999999999998,239.9,223.8,212.1,191.5,339.6,282.89999999999998,252.1,222.5,206,193.8,178.3,344.9,288.60000000000002,242.1,217.9,206.9,184.3,166.7,361.8,307,257.8,216.5,198.5,185.7,159,440.3,354.1,316.2,275.10000000000002,230.5,200.2,160.5,539.29999999999995,433.6,370.7,331.3,282.2,245.2,195.1,622.70000000000005,500.7,428.1,382.5,325.89999999999998,283.10000000000002,225.3,1.5359,2.1278000000000001,2.6728000000000001,1.1355,1.6012999999999999,2.0323000000000002,0,0,0,0,1.6988000000000001,0,0,353.2,"AUS00001169",22.800999999999998,17735,78.3,171.1,120,0,485.1,439.5,317.2,252.5,594.5,421.5,332.1,396.3,1.5138,404.2,1.4843999999999999,0,0]
[null,"AUS2865",2865,7041,"L'ESPIRIT","SUN ODYSSEY 469","JEANEAU","P BRRAND",2011,"NSW 2106",null,"INTL",null,959,"05 12 2017 16:02:50",13.667999999999999,12.688000000000001,2.2229999999999999,4.49,11262,106.3,0.16,583.9,1.0605,636.5,0,0,1005.7,807.9,688.1,612,569.70000000000005,542.1,512.9,960.6,771.9,665.4,601.20000000000005,563.9,540.5,512.79999999999995,823.1,656.7,565.4,511,477,454.5,426.2,886.1,702.1,599.79999999999995,537.79999999999995,498.5,472.5,440.9,1015.6,774.8,637,551.79999999999995,496.3,458.2,407.3,45.3,43.9,43.3,42.9,41.4,40.4,40.5,138,148.1,145.69999999999999,152.80000000000001,159,176,180,1064.7,866,757.3,685.6,648.70000000000005,630.5,616.70000000000005,679.8,561.4,494.2,456.8,441.3,434.8,429.5,631.6,526.5,468.6,440.9,427.4,421.3,415.9,591.9,497.5,450.8,429,414.2,402.6,391.6,591.29999999999995,497.1,447.8,427.7,412.6,398.2,373.1,603.9,490.2,438,413.6,396.9,386,366.4,616.4,500.2,443.1,417,394.7,373.8,350.9,680.5,544.70000000000005,467.9,431.9,410.1,388.7,346.3,819.9,649.20000000000005,536,468.5,434.4,413.7,374.7,946.7,749.7,618.9,538.5,490.7,453.7,409,0.97629999999999995,1.3188,1.5194000000000001,0.74439999999999995,1.0496000000000001,1.2545999999999999,0,0,0,0,1.0603,0,0,565.9,"AUS00001170",11.087999999999999,12583,45,50.3,66.2,186.9,0,691.4,511.8,444.3,906.8,643.1,538,600.9,0.99860000000000004,620,0.9677,0,0]
[null,"AUS422100",4221,525100,"BLACK JACK 100","Super maxi 100'","McConaghy Boats","Reichel / Pugh",2004,"BRISBANE QLD 4000",null,"INTL","R",1620,"06 12 2017 16:19:02",30.47,29.896000000000001,5.048,5.2,26762,123.1,0,326.7,1.8393999999999999,367,0,0,541.4,441.6,398,365,337.9,315.89999999999998,288.7,522.6,429.2,382.2,352,329,312.3,292.3,446.6,363.3,318,290,270.5,255.9,234.8,475.1,384.3,334.7,304.10000000000002,282.7,266.10000000000002,240.2,559.9,433.9,361.4,314.60000000000002,281.3,256.10000000000002,219.1,47.2,44.7,43,41.1,40.1,38.799999999999997,38,137.19999999999999,141.69999999999999,142.80000000000001,138.30000000000001,142.6,144.5,151.30000000000001,603.5,499.1,446.3,417.1,394,382.1,370.6,378.5,319.39999999999998,294,285.3,271.60000000000002,264.3,254.7,342.8,297.3,279.89999999999998,270.10000000000002,258.7,249.1,238.7,302.5,275.5,259.89999999999998,247.7,238.8,225.7,213.3,290.7,264.5,246.4,233.2,223.4,216.2,195.7,296.39999999999998,263.39999999999998,237.6,221.5,209.2,199.2,185.3,301.89999999999998,266.10000000000002,244.5,221.2,205.4,193.4,177.4,338.3,280.60000000000002,251.4,227.8,210.1,195.3,175.4,415.1,332.7,302.89999999999998,271,244,216.2,178.9,479.3,384.2,349.7,312.89999999999998,281.7,249.7,206.9,1.8230999999999999,2.3029000000000002,2.7035,1.3733,1.7970999999999999,2.1690999999999998,0,0,0,0,1.8669,0,0,321.39999999999998,"AUS00001172",27.762,33690,112,372.1,232.1,0,857.1,370.2,293.10000000000002,249.7,491.5,375.6,311.2,340.6,1.7617,344.2,1.7432000000000001,0,0]
[null,"AUS2857",2857,6686,"ST JUDE","SYDNEY 47 CR","SYDNEY YACHTS","Murray/Burnes/Dove",1998,"NSW 2515",null,"INTL","C",1008,"07 12 2017 11:57:04",14.27,12.603,2.952,4.08,8458,129,0,526.1,1.1745000000000001,574.70000000000005,0,0,871.5,703.3,605.79999999999995,555.6,526.79999999999995,504.7,474.2,831.7,672,587.9,544.20000000000005,517.79999999999995,497.4,467.3,726.8,585.9,510.4,466.3,438.4,418.9,391.5,790.6,631.4,544.4,492.4,459.3,436.5,405.9,893.5,688.7,573.29999999999995,502.7,456.3,423.1,375.2,43.4,42.3,41,39.5,38.299999999999997,37.5,37.1,143.4,142.69999999999999,147.9,154.6,162.6,180,180,907.1,742.1,650.70000000000005,613.79999999999995,595,582.5,569.5,589.5,487.6,443.1,429.5,422.7,418.5,408.9,552.1,462.8,429.9,416.3,408.8,403.9,393.5,520.5,446.6,418.8,399.4,385.7,378.2,370.5,520.79999999999995,443.2,417.7,396.1,374.9,358.2,342.4,526.79999999999995,439.5,407,388.9,374,359.6,333.5,544,447.2,411.8,383,362.4,347.7,320,607.1,487.5,432.5,404.2,376,348,295,723.9,575.4,485.7,435.2,408.5,382.9,332.2,835.9,664.4,560.79999999999995,497.5,458.6,426.9,378.9,1.1163000000000001,1.4483999999999999,1.6437999999999999,0.85719999999999996,1.1689000000000001,1.3532999999999999,0,0,0,0,1.1725000000000001,0,0,511.7,"AUS00001175",12.221,9723,39,71.7,51.6,192.2,190,604.70000000000005,466,410.6,787.4,577.5,498.8,548.1,1.0947,561.9,1.0678000000000001,0,0]
[null,"AUS326000",3260,"AUS 6952","CELESTIAL","TP 52 J/V","HAKES MARINE","Judel/Vrolijk",2006,"NSW 2021",null,"INTL","R",1105,"11 12 2017 10:28:44",15.85,15.417,3.2469999999999999,4.46,8086,137.9,0,459.8,1.3288,508,0,0,780.5,618.29999999999995,537.1,496.2,469.6,442.7,401.2,740.8,591.29999999999995,519.1,480.1,452.6,429.5,402.5,642,515,446.1,404.6,376.8,355.8,323.7,704.5,560.70000000000005,481.2,432.6,400.2,376.8,343.7,795.2,608.70000000000005,503.1,437.3,392,357.7,305.5,44.1,43.3,40.700000000000003,39.299999999999997,38,37.1,36.6,141.1,141.19999999999999,146.6,152.30000000000001,149.4,146,141.6,804.2,645.79999999999995,576.70000000000005,546.20000000000005,528.29999999999995,513.5,502.9,517.1,421.8,393.1,381,373,364.4,351,479.9,401.9,378,364.3,354.1,346,329.2,446.6,387.9,357.9,336.7,324.3,316,298.5,446.1,388.5,355.5,323.10000000000002,302.39999999999998,290.60000000000002,275.3,467.7,389.6,360.7,335.7,314.7,292.2,245.2,486.5,396.4,355.2,329.6,310.2,288.10000000000002,248.6,545.29999999999995,427.7,380.6,343.3,305.7,274.89999999999998,241.1,655.4,511.6,430.8,383.5,355.9,322,259.3,756.8,590.79999999999995,497.4,446.1,411,371.8,299.39999999999998,1.2646999999999999,1.6580999999999999,1.9415,0.96509999999999996,1.3149,1.5558000000000001,0,0,0,0,1.3426,0,0,446.9,"AUS00001185",15.182,9822,45.1,90.1,62.9,0,251.9,533.70000000000005,407.1,347.7,699.4,513.29999999999995,433.9,486.3,1.2337,496.6,1.2081999999999999,0,0]
[null,"AUS2866",2866,"AUS7742","KIALOA 2","S & S 73 Classic","YACHT DYNAMICS","Sparkman Stephens",1964,"NSW 2104",null,"INTL","C",1540,"11 12 2017 12:10:38",22.38,17.39,3.3330000000000002,4.59,44962,195,0.6,537.9,1.1420999999999999,591,0,0,952.9,760.4,647.6,574,522.20000000000005,489.5,449.2,912.2,727.4,623.70000000000005,557,512.70000000000005,484.2,448.1,769,609.70000000000005,520.6,466.1,430.7,406.7,375.6,816.3,644.79999999999995,548.20000000000005,488.3,448.8,421.6,386.5,954,722.7,588.9,504.9,449.5,411.1,360.5,46.7,44.8,43.9,44.7,43.8,42.1,40,141.9,145.69999999999999,145.6,148.69999999999999,152.69999999999999,157.9,179.4,1016.3,817,711.3,638.9,586.20000000000005,554.20000000000005,519.1,640.5,525.20000000000005,458.7,412.8,389.4,376.8,363.1,589.1,490.3,427.2,393.3,376.9,366.5,352,547.5,458.9,404.4,380.6,367.5,356.7,338.6,543.1,455.1,397.9,374.3,361.5,351.6,333.3,562.70000000000005,456.9,395,369.6,354.9,342.3,327.7,574.6,467.5,402.2,373.7,358.3,345.4,320,645.5,511,436.1,390.9,370,356.6,332.3,770.3,609.6,505.6,440.9,398.5,375.7,351,889.5,703.9,583.79999999999995,509.1,458.1,424.9,379.3,1.0397000000000001,1.4359999999999999,1.7051000000000001,0.78790000000000004,1.1229,1.3988,0,0,0,0,1.1496999999999999,0,0,521.9,"AUS00001189",14.157999999999999,47173,97,109.6,144.6,369.3,0,649.20000000000005,470.1,395.9,856.7,601.1,482.6,551.5,1.0879000000000001,566.6,1.0589,0,0]
[null,"AUS225400",2254,"SM69","DARK & STORMY","Murray 37","PACESETTER","Ian MURRAY",1993,"VIC 3187",null,"INTL","R",780,"11 12 2017 13:47:00",11.64,10.244999999999999,2.73,3.45,4591,122.2,0,579.9,1.0697000000000001,631,0,0,958.4,772.3,666.3,611.29999999999995,577,552.70000000000005,522.4,905.3,732.5,642.79999999999995,597.4,569.79999999999995,548,517.6,799.8,645.5,562.70000000000005,514.20000000000005,483.5,462.2,433.1,844.3,677,586.29999999999995,532.70000000000005,498.8,475.5,444,986.6,759.9,632.20000000000005,553.9,502.3,465.4,413.2,42.4,41.4,39.200000000000003,37.799999999999997,36.799999999999997,36.1,36.1,141,147.30000000000001,149.80000000000001,156.69999999999999,173.9,180,180,951.2,781.9,693.4,661.9,645.9,632.9,624.6,624.5,521.9,484.8,473.2,466.9,463,453.1,588.6,502.2,472.1,459.2,451.7,446.8,434.6,559.70000000000005,489.4,460.7,438.8,425.5,417.7,409.5,563,489.2,460.1,435.1,410.6,392.7,378.1,594.79999999999995,495.1,457.5,424.8,403.3,386.5,361.3,618.6,508,466.1,434.6,401.8,372.5,343.2,697.6,560.1,491.5,459.5,430.2,400.2,338.6,836.3,660.5,553.6,492.2,461.4,434,378.9,965.7,762.7,639.29999999999995,560.6,508.1,472.5,420.2,1.0147999999999999,1.3126,1.4903,0.78,1.0639000000000001,1.2331000000000001,0,0,0,0,1.0640000000000001,0,0,563.9,"AUS00001190",10.211,5501,27.5,50.8,32.299999999999997,86.6,0,665.2,514.20000000000005,452.9,865.4,634.5,547.4,588.6,1.0194000000000001,604.9,0.9919,0,0]
[null,"AUS8018",8018,"HKG 2382","ARK 323","TP 52 B & C","COOKSON BOATS","BOTIN & CARKEEK",2006,"Jordan Kowloon Hong Kong",null,"INTL","R",1192,"11 12 2017 15:49:08",15.835000000000001,15.233000000000001,3.194,4.34,7335,142.69999999999999,0,448.3,1.359,496.7,0,0,761.4,601.6,527.29999999999995,488.4,459.3,431.2,387,721.7,576.29999999999995,508.5,470.4,441.8,418.7,390.3,625.5,502.3,435.2,394.3,366.3,344.9,312.5,678.9,541.9,466.1,419.7,388.4,365.6,333.3,777.3,594.9,491.4,426.3,381,346.3,294.2,44.8,43.4,40.1,38.5,37,36.1,36,140.69999999999999,140.9,147,152.30000000000001,148.6,140.80000000000001,143.5,780.3,625.1,564.5,535.70000000000005,516.20000000000005,502.5,494.8,498.9,411.1,388.1,375.8,366.8,354,341.8,461,393.6,372,356.9,346.2,334.7,319.60000000000002,428.9,378.5,346.5,328.1,316.2,307.8,285.7,427.4,378.5,339.4,309.5,292.8,281.3,265.8,456.2,383.8,351.5,325.10000000000002,300.8,266.7,233.8,475,391,346.8,321.2,300.3,271.10000000000002,237.3,534.4,419.5,374.9,334.4,295.2,265.7,229.2,643.1,500.6,424.4,378.3,348.5,311.7,241.7,742.5,578.1,490.1,441.1,402.4,359.9,279.10000000000002,1.2988999999999999,1.6966000000000001,2.0049999999999999,0.99039999999999995,1.3405,1.6009,0,0,0,0,1.3764000000000001,0,0,435.9,"AUS00001193",15.387,9005,44.1,93.8,67.900000000000006,0,250,519.70000000000005,397.9,336.7,681.5,503.5,421.6,471.2,1.2734000000000001,480.8,1.2479,0,0]
[null,"AUS324800",3248,7700,"ABOUT TIME","COOKSON 50","COOKSON BOATS","FARR/COOKSON",2004,"NSW 2000",null,"INTL","R",1275,"11 12 2017 16:01:42",15.22,14.576000000000001,3.5169999999999999,4.25,7790,143.69999999999999,0,466.5,1.3104,515.1,0,0,778.2,620.20000000000005,544.1,504.8,478,451.8,407.7,738.6,593.70000000000005,525.70000000000005,488.3,460.9,438.5,410.9,645.29999999999995,520.5,453.1,412.6,385.3,364.5,332,702.2,562.20000000000005,485.3,438.5,407.4,384.9,353,799.2,614.70000000000005,510.6,445.6,400.8,366.6,314.10000000000002,44.1,42.8,39.799999999999997,38.5,37.1,36.4,36.200000000000003,141.19999999999999,140.30000000000001,146.9,152.19999999999999,149.30000000000001,146.1,142.69999999999999,798.2,646.1,583.9,555.70000000000005,537.20000000000005,524.29999999999995,516.6,515.1,426.8,402.7,391.6,384,375.1,364,479.1,409.2,388,375.1,365.7,356.9,342.2,447.7,395.8,366.7,347.6,336,328.3,310.2,447,396.4,363.1,332.1,313.2,302,287.10000000000002,466.6,396.6,368.5,343.9,323.39999999999998,298.3,253.4,484.8,402.7,361.9,337.2,317.7,294.8,255.4,546.5,430.4,387.8,350,312.10000000000002,280.89999999999998,246.5,656.6,514.6,436.8,390.9,362.7,328.6,258.8,758.2,594.20000000000005,504.4,453.8,418.8,379.4,298.8,1.2613000000000001,1.6266,1.8937999999999999,0.96540000000000004,1.296,1.5277000000000001,0,0,0,0,1.3209,0,0,454.2,"AUS00001194",14.507999999999999,9386,43.6,95.1,63.5,0,261.39999999999998,535.20000000000005,415,356.4,699.2,520.79999999999995,441.8,490.3,1.2237,500.4,1.1990000000000001,0,0]
[null,"AUS2867",2867,7,"WINGS","DEHLER 46","DEHLER","JUDEL/VROLIJK",2014,"NSW 2063",null,"INTL","C",1004,"12 12 2017 13:31:46",13.95,13.109,2.5649999999999999,4.33,11141,118.5,0.12,545.4,1.1326000000000001,596,0,0,908.7,735.8,633.4,575.6,542.70000000000005,519.29999999999995,489.5,870.1,704.5,613.70000000000005,564.70000000000005,536.79999999999995,517,486.9,756.4,608.5,528.9,482.4,453.5,434,408.1,816.9,651.5,560.79999999999995,506.8,472.7,450,420.8,929.5,715.7,594.70000000000005,520.5,472.2,438.4,391.2,44,42.8,42.1,40.700000000000003,39.6,38.9,39.200000000000003,142.69999999999999,146.69999999999999,149.1,153.9,161.4,180,180,953.2,783.3,685.4,639.4,617.6,605.4,588.4,616,513,456.6,436.1,427.9,423.5,415.6,576,483.1,438.8,421.5,414.5,410.4,403.7,542.70000000000005,460.9,426.7,408.7,396.5,389.6,382.8,542.70000000000005,460.1,425.8,407.2,390.8,375,357.1,556.1,456.3,416.5,397.7,385.9,374,353.8,571.29999999999995,466.2,421.8,397.6,375.2,361.6,340.4,632.1,509.7,443.6,414.3,392.4,369.2,322.3,748.5,596.1,503.4,446.8,417.1,396.6,354.3,864.3,688.3,581.29999999999995,511.9,467.9,433.2,390.6,1.069,1.4016999999999999,1.5866,0.82089999999999996,1.125,1.3131999999999999,0,0,0,0,1.1311,0,0,530.5,"AUS00001208",12.009,12528,44,73.3,54.6,182,0,631.4,481.6,425.4,822.3,600,514,563.9,1.0639000000000001,579.1,1.0361,0,0]
[null,"AUS2864",2864,7001,"WILD OATS X","REICHEL/PUGH 66","McConaughy","REICHEL/PUGH",2004,"NSW 1570",null,"INTL","R",1190,"12 12 2017 14:38:20",20.059999999999999,19.222999999999999,4.4850000000000003,4.17,12396,124.5,0.01,354,1.6873,400,0,0,575.29999999999995,472,424.7,398.7,374.8,350.2,314.7,531.1,442,401.3,376.5,357,340.6,316.3,490.1,396.4,344.4,311.60000000000002,289,272.8,252.5,527,424.9,367.8,332,307.8,291,270.3,609.29999999999995,472.1,393.4,342.5,306.10000000000002,278,236.5,41,33.9,31.5,30.3,30.4,30.8,37.9,140.9,140.9,146.5,150.80000000000001,142.80000000000001,141.19999999999999,146.6,493.6,435.8,416.2,405.3,397.5,392.9,385.5,337.7,298.8,272.3,247.7,218,210.4,232.8,324.2,291.39999999999998,268.7,247.6,221,210.8,211.4,332.6,299,276.39999999999998,256.5,232.8,220.6,204.4,363.9,322.8,294,278.3,265.3,257,235.4,390.8,340.7,307.7,271.3,248,234.8,219.1,418.7,344.7,311.89999999999998,284.5,258.8,235.6,208,474.4,370.8,328.8,289.89999999999998,261.2,240.3,208.2,568.9,440.1,375.1,333.3,304.89999999999998,266.3,211.2,656.9,508.2,433.2,392.1,352,307.5,243.9,1.6545000000000001,2.1341000000000001,2.5438999999999998,1.2890999999999999,1.6565000000000001,1.9678,0,0,0,0,1.7134,0,0,350.2,"AUS00001211",23.187000000000001,14869,60,162.19999999999999,107.8,0,397.1,408,316.3,265.3,523.6,407.5,343,378.1,1.5869,378.4,1.5855999999999999,0,0]
[null,"AUS2775",2775,6893,"IMALIZARD","welbourn 12M","Geoff Cruze","Hugh Welborn",2006,"NSW 2088",null,"INTL","R",817,"13 12 2017 16:30:54",12.2,11.878,2.9990000000000001,3.8,4696,115.7,0,509.6,1.2111000000000001,557.29999999999995,0,0,841.8,676.3,589.9,543,515,488.8,436.4,802.4,648.29999999999995,570.9,525.79999999999995,495.7,471.6,431.8,705,569.29999999999995,495.3,449.9,418.5,394.3,355.4,773.7,618.4,532.29999999999995,479.3,443.8,417.9,380.3,866.3,667.7,554.70000000000005,483.4,433.8,395.8,337.1,42.9,42,38.799999999999997,36.1,34.4,33.4,32.6,142,143.4,149.69999999999999,152.6,148.80000000000001,145.80000000000001,142.30000000000001,874.4,711.3,631.1,587.29999999999995,567.20000000000005,556,541.20000000000005,570,475.8,447.1,426.3,413.2,404.3,391.5,533.70000000000005,459,434.2,411.2,393.4,383.1,371.3,504.1,446.9,416.8,391.8,367.2,349.5,332.8,505.3,445.1,415.2,381.9,354.8,334,297.2,502,436.8,402.8,368,347.4,328.9,288.60000000000002,519.70000000000005,442.7,400.9,371.5,334,313.3,277.8,585.29999999999995,470.3,428.5,389,348.7,311,254.5,700.7,555.4,475.3,430.6,400.8,365,287.2,809.1,641.29999999999995,548.79999999999995,498.7,462.8,421.5,331.6,1.1521999999999999,1.4873000000000001,1.7533000000000001,0.88929999999999998,1.1994,1.419,0,0,0,0,1.2145999999999999,0,0,494,"AUS00001213",12.403,6566,31.9,63.1,33.700000000000003,0,170.2,585.79999999999995,453.8,385,759,562.79999999999995,475.7,534.70000000000005,1.1221000000000001,548.79999999999995,1.0932999999999999,0,0]
[null,"AUS324000",3240,"Sm 381","MILLE SABORDS","SYDNEY 38","SYDNEY YACHTS","MURRAY BURNS DOVEL",2000,"NSW 2103",null,"INTL","R",850,"14 12 2017 15:07:56",11.78,10.781000000000001,2.6139999999999999,3.71,5629,116.2,0,575.29999999999995,1.0762,627.20000000000005,0,0,945.1,766.1,660.1,606.5,574.6,551.6,521,900.6,730.9,640.4,594.79999999999995,568.20000000000005,547.79999999999995,516.4,792.3,639.9,558.29999999999995,510.8,481,460.5,432.5,846,678,586.79999999999995,533,499.1,476.2,445.7,972.7,751.2,626.5,550.1,499.9,464.3,413.4,43,41.9,40.6,38.799999999999997,38.4,37.799999999999997,37.799999999999997,141.5,147.4,150.30000000000001,156.30000000000001,171.8,180,180,967.8,798.7,701.7,666.5,650.6,639.29999999999995,627.9,632,528.1,482.1,468.6,462.5,458.9,450,594.29999999999995,503.7,468.7,454.8,448.1,444,433.3,563.70000000000005,487.5,458,437.4,424,416.8,410,564.9,487,457.1,434.7,412.2,394.4,379.4,587.70000000000005,487.8,450.1,421.5,405.2,389.5,367.6,606,498.3,456.9,426.8,395.9,375,348.7,673.6,543,478.6,449.1,421,392.4,333.5,798.8,635.20000000000005,535.70000000000005,479.8,450.9,424.9,372.5,922.4,733.4,618.5,546.6,498.6,463.9,414.1,1.0235000000000001,1.3234999999999999,1.4945999999999999,0.78890000000000005,1.0719000000000001,1.2365999999999999,0,0,0,0,1.0718000000000001,0,0,559.79999999999995,"AUS00001214",10.41,6651,30.2,51.8,39,104.6,0,659.5,510,451.6,855.6,629.70000000000005,545.9,589.70000000000005,1.0174000000000001,605.5,0.9909,0,0]
[null,"AUS327700",3277,"RQ0052","ENVY SCOOTERS BEACHBALL","TP52 J/V","KING MARINE","JUDEL/VROLICK",2011,"QLD 4129",null,"INTL","R",1244,"18 12 2017 16:06:04",15.85,15.573,3.61,4.42,6936,141.6,0,442.4,1.3686,493.2,0,0,763.3,600.5,524.20000000000005,484.2,453.6,426.8,380,722.8,575.4,505.3,465.6,437.1,416.2,382,622.4,497.7,429.2,387.1,358.1,336,301.60000000000002,679,539.70000000000005,462.1,414,381.3,357.3,323.2,774.9,590.5,485.4,418.8,372.2,336.2,280.8,44.8,43.6,41.1,39.4,38.1,37.299999999999997,37.1,140.4,139.80000000000001,146,151.1,143.6,139,143.80000000000001,781.4,626.79999999999995,563.5,533.79999999999995,515.70000000000005,502.2,491.5,499.2,409.2,382.6,369.2,358.6,347,331.6,461.3,390,364.5,347.5,336,325.39999999999998,307.60000000000002,428.2,374.3,336.5,316.2,303.3,293.7,270.60000000000002,426.1,374.4,331.6,296.60000000000002,277.8,264.8,248,455.2,378.7,342.6,313.5,286.7,251.2,217.5,473,386.2,338,310.60000000000002,287.10000000000002,262,222.3,535.1,417.6,367.9,324.7,283.39999999999998,263.3,220.1,645.4,497.3,419.9,373.1,339,304.2,232.6,745.3,574.20000000000005,484.8,434.7,391.5,351.3,268.60000000000002,1.3012999999999999,1.726,2.0609000000000002,0.9899,1.3511,1.6228,0,0,0,0,1.3949,0,0,430.1,"AUS00001234",15.613,8686,45.7,97.6,65,0,271.60000000000002,518.70000000000005,391.1,327.5,681.9,499.6,415.9,467.7,1.2828999999999999,476.8,1.2584,0,0]
[null,"AUS2779",2779,"AUS 10001","WILD OATS XI","REICHEL/PUGH 30m","Mc Conaughy Boats","REICHEL/PUGH",2015,"NSW 1570",null,"INTL","R",2125,"18 12 2017 16:16:40",30.48,30.091000000000001,5.891,5.09,28076,123.8,0,318.8,1.8893,357.3,0,0,528.6,430.6,388.2,355.7,328.7,306.7,279.3,506.2,415.3,369.9,340.6,318.10000000000002,301.5,281.7,436.2,354.8,310.39999999999998,282.8,263.60000000000002,249,228,459.8,372.4,324.7,295.10000000000002,274.2,258,233,548,424.1,352.9,306.89999999999998,274.3,249.5,213.3,46.1,42.8,40.9,38.700000000000003,37.299999999999997,36.1,35.200000000000003,136.69999999999999,140.6,142,137.4,143.80000000000001,143.80000000000001,150.9,568.9,472.5,423.8,396.6,374.8,363.5,352.3,360.4,308.39999999999998,286.7,275.7,264.5,256.60000000000002,246.1,331.1,290.8,274.8,264.60000000000002,251.8,242.7,231.5,294.2,269.89999999999998,253.6,241.3,230.1,218.2,205,284.2,259.2,241.2,227.9,217.9,208.6,188.5,292.10000000000002,256.7,233.6,217.8,205.6,195.4,181.3,297.8,263.39999999999998,238.7,217.5,202.5,190.7,174.8,344.3,281,250.8,227.2,209,193.4,174.1,422.8,336.7,305.39999999999998,272.5,244.7,216.5,178.5,488.2,388.7,352.7,314.7,282.60000000000002,250,206.3,1.8668,2.3586999999999998,2.7789000000000001,1.4075,1.8441000000000001,2.2355,0,0,0,0,1.9131,0,0,313.60000000000002,"AUS00001235",29.22,36039,115,371.6,296.8,0,868.3,361.6,286.2,242.9,479.6,366,301.89999999999998,329.9,1.8189,333.8,1.7975000000000001,0,0]
[null,"AUSUS6222","US6222","USA90210","CHECKMATE of HOLLYWOOD","Peterson 50 IOR","EICHENLAUB","PETERSON, DOUG",1980,null,null,"INTL","R",762,"18 12 2017 18:44:18",15.24,12.484,2.7320000000000002,4.6500000000000004,11072,121,0,556.79999999999995,1.1136999999999999,606.1,0,0,924,753.1,647,585.20000000000005,550.4,524.79999999999995,495.4,882.3,716.9,625,573.6,543.5,522.1,494.6,771.2,621.1,540.1,492.5,462.7,442.8,417.1,821.5,657.5,567.6,513.9,479.8,456.7,426.9,948.2,730.7,607.29999999999995,531.4,482.1,447.9,401.4,44,42.8,42.6,40.5,39.1,38.299999999999997,37.299999999999997,141.80000000000001,147.80000000000001,146.6,154.1,161.69999999999999,180,180,951.1,786.8,692.8,644.1,618.79999999999995,603.20000000000005,587.70000000000005,616,515,463.6,444.6,435.7,430.3,424.2,577.9,486.4,448.2,431.8,422.9,416.9,409.9,546,466.8,436.8,419.7,405.9,395.9,386.2,545.79999999999995,465.6,434.9,416.7,400.6,386.2,366.6,580.79999999999995,475,432.8,410.9,398.1,386.6,367.7,594,484,437.6,412.5,389.9,374.8,355.3,657.4,528,458.2,427.9,405.3,383.1,341.6,776.7,623.1,520.70000000000005,459.5,430.1,409.1,368.5,896.9,719.5,601.20000000000005,526.29999999999995,482,446.5,403.1,1.0484,1.3714,1.5558000000000001,0.80489999999999995,1.1046,1.2976000000000001,0,0,0,0,1.1073999999999999,0,0,541.79999999999995,"AUS00001241",11.617000000000001,12376,42.9,63.9,76.2,197.8,0,643.79999999999995,492.2,433.9,838.6,611.1,520.20000000000005,571,1.0508,585.70000000000005,1.0244,0,0]
[null,"AUS208100",2081,"AUS70","RAGAMUFFIN","Farr 50","McConaghy Boats","FARR",1995,"2039 NSW",null,"INTL","R",1000,"19 12 2017 10:35:16",15.5,13.321,3.218,4.41,9384,141.1,0,512.4,1.198,563.5,0,0,861.1,691.5,597.20000000000005,546,515.79999999999995,492,462.1,815.5,656.3,574.29999999999995,531.79999999999995,505.5,484.4,454.7,711.7,572.1,497,452.7,424.5,404.7,376.5,756.9,604.70000000000005,521.5,471.8,439.9,417.9,388.6,881.3,676.4,560.5,489.2,442,408.2,359.4,43.5,42.7,41.1,40,39,38.1,37.9,141,142.1,146.1,153.1,160.30000000000001,180,180,867.1,706.1,627.9,594.9,577.6,563.4,552.4,562.29999999999995,462,424.9,413,406.4,401.6,391.3,525.1,438.7,410.6,398.8,391.3,386.1,373.1,492.4,423.4,397.2,378.1,366.5,359.3,350.6,493.5,424.3,397.1,373,352.5,338.2,324.60000000000002,531.29999999999995,434.1,397,373,357.1,342.3,309.2,551.70000000000005,444.7,404,374.1,347.5,332.4,303.7,619.20000000000005,492.5,426.8,397.6,370.3,343.7,286.89999999999998,740.5,586.1,490.6,432.8,402.7,377.5,326.89999999999998,855,676.8,566.5,497.1,454,420.6,371.9,1.1395,1.4899,1.7034,0.86950000000000005,1.1891,1.3868,0,0,0,0,1.2023999999999999,0,0,499,"AUS00001242",12.961,10765,43,86.9,60.6,170.3,0,592.4,453.1,396.3,776.3,567.70000000000005,486.7,526,1.1406000000000001,538.20000000000005,1.1148,0,0]
[null,"AUS286200",2862,"ITA3956","WEDDELL","Grand Mistral 80",null,"FARR",1996,null,null,"INTL",null,2295,"19 12 2017 11:44:52",24,22.105,4.0529999999999999,6.17,26571,130.1,0,412.5,1.4761,457.3,0,0,707,565.70000000000005,486.3,442.3,415.4,397,364.8,667.4,535.20000000000005,465.2,426.8,402.3,383.6,356.4,575.6,461.8,400,363.1,339.1,321.89999999999998,296.5,612.6,489.8,422.1,380.8,353.3,333.6,305.7,719.5,549.6,453.1,393.3,353.6,324.8,283.10000000000002,44.7,43.4,42,39.799999999999997,38.4,37.200000000000003,36,139.69999999999999,140.9,143.19999999999999,148.5,153,151.5,147.1,707.4,576.9,509.5,475,455.4,440.8,425.2,452.5,374.1,341.8,329.4,322.2,317.39999999999998,305.3,418.1,352.4,329,318.3,310.5,304.39999999999998,291.3,386.5,336,317.10000000000002,301.8,291,283.3,273.8,382.8,332.8,312.10000000000002,294,279.3,267.2,253.4,420.5,347,320.5,300,285.3,268.7,240.8,447.2,357.9,321.89999999999998,300.7,279.89999999999998,266.5,241.6,508.2,399,342.3,317,292.89999999999998,269.10000000000002,233.7,612,480.2,401.1,354.7,323.5,305,263.60000000000002,706.7,554.4,463.2,409.6,375.5,353.2,304.39999999999998,1.4064000000000001,1.8531,2.1450999999999998,1.0607,1.4656,1.7329000000000001,0,0,0,0,1.4898,0,0,402.7,"AUS00001243",20.933,33432,89.1,204.8,139.6,0,430.7,479.9,364.3,314.7,636.4,460.6,389.5,428.6,1.3996999999999999,435.3,1.3784000000000001,0,0]
[null,"AUS269400",2694,"GBR 5211L","FRANTIC","TP 52","ML BOAT WORKS","Donovan",2004,"NSW 2259",null,"INTL","R",1275,"19 12 2017 16:15:10",15.85,15.185,3.2269999999999999,4.2300000000000004,7985,140.19999999999999,0,467.6,1.3008,518.9,0,0,789.2,627.4,547.9,507.8,481.1,454.1,412.4,749.9,601.1,530.6,492.6,465.2,442.4,415.4,649.79999999999995,522.5,453.8,412.7,385.2,364.7,333.4,709,565.70000000000005,487,439,407.2,384.3,352.7,806.5,618.79999999999995,512.70000000000005,446.6,401.2,366.7,314.39999999999998,44.6,43.6,41.6,40,39.5,38.700000000000003,38.6,141.1,140.30000000000001,146.30000000000001,152.1,149.4,146.4,142.19999999999999,816.2,660.1,595.6,567.20000000000005,549,533.79999999999995,525.6,523.29999999999995,428.7,400.7,389.6,383.2,374.2,365.5,484.6,406.5,384.7,373.2,365,356,342.3,449.3,390.7,362.7,344.8,333.8,326.7,307.5,447,390.4,357.5,327.10000000000002,309.8,299.2,285.2,470.2,392.1,365.1,340.4,319.39999999999998,291.39999999999998,250.3,488.4,398.4,358.2,334.6,315.39999999999998,290.89999999999998,253.1,548.9,429.3,382.6,345.3,307.8,279,242.8,660.1,515,433.3,385.7,357.9,324.2,259.10000000000002,762.2,594.70000000000005,500.3,448.4,413.3,374.4,299.10000000000002,1.2518,1.6274,1.8928,0.95299999999999996,1.2869999999999999,1.5161,0,0,0,0,1.3166,0,0,455.7,"AUS00001247",14.523999999999999,9706,44.2,91.8,61.8,0,254.5,539.20000000000005,414.8,356.6,708.3,524.5,445.2,493.1,1.2166999999999999,502.4,1.1942999999999999,0,0]
[null,"AUS3305",3305,"R226","North Encounter","Northshore 33",null,"Kaufmann",1995,"VIC",null,"INTL","C",599,"19 12 2017 16:41:26",9.9,8.5050000000000008,1.647,3.07,4262,118.2,0.28000000000000003,697.6,0.8921,756.6,0,0,1160.5,939.3,815.4,730.2,681.5,656.4,625.6,1113.5999999999999,907.3,792.7,723.2,684.5,662.3,631,968.4,779,676.4,616.29999999999995,579,554.6,523.70000000000005,1017.9,813.4,701.6,635.4,594.5,568,535.5,1189,915.4,760.4,665.2,603.20000000000005,559.79999999999995,498.6,44.1,42.5,43,42.3,41,40.4,39.9,147.4,152.1,154.80000000000001,161.1,180,180,180,1218.2,1009.8,896.5,819.2,787.6,773.8,757.4,787.8,661.8,588.9,555.4,542.79999999999995,537.4,532.1,738.7,622.29999999999995,564.79999999999995,539.4,526.29999999999995,520.5,516.29999999999995,699,592.29999999999995,548.4,526.6,509.2,495.8,484.8,699.1,583.4,536.1,512.29999999999995,501.6,486.1,457.2,703.6,582.29999999999995,535.4,509.2,483.4,460,440.6,728.7,599.4,542.9,516.20000000000005,492.4,468,425.6,811.1,663.2,573.9,535.29999999999995,510.9,486.8,440.9,955,753.5,639.20000000000005,567,533.4,510.4,465,1102.7,868.7,734.3,641.20000000000005,575.29999999999995,539,493.8,0.83540000000000003,1.0961000000000001,1.2424999999999999,0.64290000000000003,0.88370000000000004,1.0367,0,0,0,0,0.88619999999999999,0,0,677.1,"AUS00001249",7.5750000000000002,5061,23.4,34.799999999999997,20,55.2,0,808,615.79999999999995,543.29999999999995,1049.9000000000001,763.8,651.1,701.6,0.85519999999999996,724.4,0.82830000000000004,0,0]
[null,"AUS273000",2730,"N11","CLIMATE ACTION NOW","HICK 50","HICK MARINE","ROBERT HICK",2003,"2096 NSW",null,"INTL","R",1157,"19 12 2017 17:15:32",15.19,14.425000000000001,3.3490000000000002,3.9,10762,154.5,0.18,523.6,1.1798999999999999,572.1,0,0,894.1,715.7,609.4,546.20000000000005,516.4,499.2,464.9,851.1,681.4,586.20000000000005,532.5,503,483.3,448.5,735.5,587.70000000000005,507.2,459.6,429.3,408.2,377.6,806.9,638.5,544.5,487.3,450.2,424.7,391.2,905.8,692,570.4,495.4,446.2,411.3,360.8,44.1,42,41.6,39.299999999999997,37.6,36.799999999999997,35.4,142.19999999999999,144.69999999999999,146,150.4,151.69999999999999,152.30000000000001,177.5,926.6,751.3,648.5,589.9,563.20000000000005,548.20000000000005,530.20000000000005,600.79999999999995,493.8,436.5,413.6,402.4,396,388.8,562.1,464.9,421.9,403,390,381.8,372.3,529.9,444,411.7,393,375,358.7,341.7,532,440.1,406,392.4,373.9,353.8,317.7,538.4,438.4,400.7,376,360.3,346.8,318,556.1,448.6,406.8,381.8,354.3,333.1,306.2,624.1,497.4,429.5,400.6,377.4,351.5,296.8,746.1,588.9,493.9,435,407.8,391.6,348,861.5,680,570.29999999999995,502.4,469.7,450.2,399.5,1.0966,1.4675,1.6904999999999999,0.83860000000000001,1.1760999999999999,1.3757999999999999,0,0,0,0,1.1833,0,0,507.1,"AUS00001250",13.62,12378,44.3,71.2,51.2,0,193.5,615.5,460,399.3,804.9,573.9,490.6,547.5,1.0958000000000001,562.9,1.0659000000000001,0,0]
[null,"AUS403000",4030,950,"CORROBOREE","ROBERTSON 950","ROBERTSON YACHTS","LYONS/LAUBREAUX",1991,"QLD 4551",null,"INTL","R",560,"21 12 2017 12:13:54",9.4139999999999997,8.2040000000000006,1.8879999999999999,3.23,2699,105.2,0,627.4,0.98260000000000003,687,0,0,1011.6,825.9,718.8,664.8,632.70000000000005,613.1,580.29999999999995,965.5,791,701.5,655.6,628.70000000000005,609.4,572.29999999999995,855.2,694.9,609.6,559.9,528.5,506.5,474.5,911.1,734.7,639.9,584.5,549.79999999999995,526.20000000000005,493.3,1049.4000000000001,815.3,683.6,602.70000000000005,548.70000000000005,509.1,450.2,43,41.9,40.5,39.1,38.5,38.4,38.700000000000003,139.9,149.1,151.9,161.4,180,180,180,1045,869.8,775.7,742.7,729.3,722.6,716,683.5,578.79999999999995,537.6,523.70000000000005,517,513.20000000000005,503.9,643.79999999999995,556,523,506,497.5,492.6,481.6,611.79999999999995,540.70000000000005,509.6,483.5,466.8,458.8,452.3,613,533,499.4,479.7,454.3,434.4,417.7,615.79999999999995,531.9,492.7,456.9,434.8,418.7,390.6,636.29999999999995,541.9,501.6,463.7,428.9,400.6,363.1,709.3,579,524.6,489.4,455.1,421.9,343.2,847.1,677.3,575,523.20000000000005,490.6,458.8,394.1,978.2,782.1,662,586.9,536.20000000000005,503.6,444.7,0.9506,1.2068000000000001,1.3586,0.73470000000000002,0.98080000000000001,1.1144000000000001,0,0,0,0,0.97989999999999999,0,0,612.29999999999995,"AUS00001253",8.1449999999999996,3358,19.100000000000001,34.299999999999997,25.2,80.400000000000006,76.099999999999994,710.1,559.29999999999995,496.8,918.7,688.2,605.70000000000005,642.20000000000005,0.93420000000000003,659.6,0.90959999999999996,0,0]
[null,"AUS327600",3276,"S6461","VOODOO","Cookson 12","Cookson","Farr",1995,null,null,"INTL","R",850,"22 12 2017 14:34:52",11.99,10.864000000000001,2.7879999999999998,3.83,4957,127,0,548.79999999999995,1.1206,602.4,0,0,897.1,724.2,626.6,583.1,560.4,537.4,493,855.1,691.7,609,567.70000000000005,542.20000000000005,520,486.1,752.7,609.29999999999995,532.9,488.4,459.9,439.1,406.9,820.8,657.5,568.4,515.29999999999995,481.3,457.8,425.9,924.4,714.9,597.5,525.6,477.8,442.5,388.9,42.7,41.8,39.200000000000003,37.6,36.5,35.700000000000003,35.5,142.6,144.6,148.9,151.80000000000001,149.19999999999999,146.6,141.19999999999999,928.2,759.5,670.3,637.20000000000005,620.6,608.1,598.5,606.79999999999995,505.2,468.9,456.5,449.6,445.6,433.8,569.9,485.5,456.3,441.8,433.1,427.6,414.4,539.29999999999995,472.5,444.1,420.4,405.8,397.7,389.6,541.20000000000005,467.4,443.4,416.4,391.4,373.1,357.5,538.9,461.5,427.4,408.3,390.4,373.2,341.2,556.20000000000005,468.4,431.1,396.7,376.8,359.6,327,628.70000000000005,502.7,454.8,421.5,387.2,352.2,296.3,750,596.6,504.8,458.6,433.1,404.3,335.6,866.1,688.9,582.9,528.9,500.1,466.8,387.6,1.0803,1.3829,1.5671999999999999,0.8327,1.1181000000000001,1.282,0,0,0,0,1.1235999999999999,0,0,534,"AUS00001256",10.923999999999999,5962,29.1,54.2,38.9,0,153.6,624.79999999999995,488.1,430.7,810.6,603.70000000000005,526.5,571.4,1.0501,586.4,1.0232000000000001,0,0]
[null,"AUS5086",5086,"YC45","CONCUBINE","Mills 45 Custom","Premier Composite","Mills Design",2015,"5061 SA",null,"INTL","R",1105,"03 01 2018 16:22:44",13.7,13.436,3.2839999999999998,4.55,5523,133.80000000000001,0,476.4,1.2827999999999999,526.20000000000005,0,0,809,639.4,557.29999999999995,516.4,487.4,456.4,409.4,768.3,612.5,538.29999999999995,498,468.9,444.2,415.7,666.6,534.4,462.3,418.3,388.4,365.6,330.2,736.6,585.5,501.7,450.5,416.2,391.4,356,824.2,630.6,520.70000000000005,451.5,403.4,366.5,310.10000000000002,43.9,43,40,38.6,37.5,36.700000000000003,36.700000000000003,141.1,140.19999999999999,147,152,147.5,142.30000000000001,143.1,837.7,670.7,598.6,569.6,554,540.29999999999995,531.5,540.20000000000005,442.1,411.5,398.9,390.1,380.8,366.8,503.3,423.8,394.4,378.3,368,360.1,342.7,472.5,411.9,372.6,347.2,334.7,326.2,307.3,474.8,413.9,375.9,334.2,309.2,296.5,280.60000000000002,478.1,404.9,368.3,342,318,296.8,245.3,495.9,411.7,362,333.1,311.7,289,247,561.70000000000005,440,394.2,350,306.3,273.39999999999998,238.6,675.8,526.70000000000005,447,398.1,364.5,322.60000000000002,248.7,780.4,608.20000000000005,516.1,463.2,420.9,372.6,287.2,1.2163999999999999,1.6005,1.8914,0.93200000000000005,1.2663,1.5116000000000001,0,0,0,0,1.2981,0,0,462.2,"AUS00001257",13.59,6910,39.9,75.5,50.6,0,232.8,554.9,421.7,356.9,724.2,533,446.5,505.5,1.1870000000000001,518,1.1583000000000001,0,0]
[null,"AUS3302",3302,"AUS 001","ICHIBAN","BOTIN IRC 52","LONGITUD CERO COMP","BOTIN",2017,"NSW 2027",null,"INTL","R",1275,"05 01 2018 16:01:02",15.85,15.555,3.661,4.42,7237,140.30000000000001,0,438.1,1.3863000000000001,486.9,0,0,746,590,518.1,480.1,450.4,421,378.2,706.2,564.9,498.8,461.2,432.6,409.5,381.6,612.9,491.8,425.4,384.4,356.1,334.4,301.7,668.4,533,457.9,411.3,379.8,356.5,323.10000000000002,761.9,582.6,480.5,415.6,370,334.8,281.89999999999998,44.4,43.1,39.9,38.4,36.9,36.200000000000003,36.1,140.4,140.80000000000001,146.9,151.80000000000001,144.69999999999999,140.30000000000001,143.4,759.9,611.4,552.9,525.29999999999995,507.1,494.6,486.3,487.1,403.8,380.5,367.1,356.4,344.4,330.4,451.3,387.2,363.1,346.3,334.8,323.89999999999998,307.3,422.1,372.4,336.4,316.2,303.3,294,271,421.4,373.3,331.5,297.60000000000002,279,266.3,249.1,448.1,377.3,342.4,314,289.10000000000002,255.2,219.2,466.4,385.1,338.2,310.7,288.5,260.2,224.3,526.20000000000005,413,368.3,326.2,285.5,256.10000000000002,220.4,634,492.5,418.5,373.1,340.9,300.8,234,732,568.70000000000005,483.3,435,393.7,347.4,270.2,1.3236000000000001,1.7361,2.0703,1.0105,1.365,1.6371,0,0,0,0,1.4087000000000001,0,0,425.9,"AUS00001258",15.859,9018,45.9,101.7,65.8,0,271.10000000000002,510,388.8,326,668,494.5,412.3,463,1.296,472.2,1.2706,0,0]
[null,"AUS286100",2861,"RUS768","BORDERLINE","Farr400","Premier Composite","Farr",2010,"NSW 2508",null,"CLUB","R",670,"15 01 2018 15:14:06",11.8,11.313000000000001,2.907,3.41,4112,140.4,0,508.3,1.2004999999999999,562.29999999999995,0,0,813.7,662.4,593.9,555.29999999999995,523.5,498.7,453.9,775.3,637.70000000000005,575,537.20000000000005,508.3,488.7,458,688.8,562.20000000000005,494.8,454.4,427.1,406.5,374.6,748.3,604.9,527,480,449,426.8,395.1,851.2,662.9,557,490.6,444.5,409.1,354.9,43.4,41.3,39.5,38.1,36.9,36.6,37.1,141.6,143.9,150,152,148.19999999999999,143.5,144,835.4,697.9,647.29999999999995,620.6,600,591.29999999999995,588.4,541.5,468.8,449.7,439.9,431.4,422.9,416.3,506,450.6,433.9,423,415.9,403.1,393.7,480.4,434.1,408.1,393,383.4,376.8,358.2,481.4,434.9,396.5,370.1,356.2,346.9,334.9,490,434.2,407.1,382.3,356.9,323.3,290.10000000000002,506.4,435.4,398.7,374.8,350.8,324,283.8,571.70000000000005,461.8,418.3,374.2,333.4,309.5,269.3,685.9,542.9,467.5,422.2,387.2,351.7,276.7,792,626.79999999999995,540.6,490.1,447.1,406.1,319.5,1.1858,1.4781,1.6963999999999999,0.91459999999999997,1.1859,1.3829,0,0,0,0,1.2051000000000001,0,0,497.9,"AUS00001259",11.446,5175,28.7,66.099999999999994,36.9,0,174,569.20000000000005,456.7,397.9,738,569.20000000000005,488.1,532.5,1.1267,542.4,1.1062000000000001,0,0]
[null,"AUS419100",4191,"SA388","REDJAM","YOUNG 8,8","LAWSON","YOUNG",1979,"QLD 4151",null,"INTL","C",494,"17 01 2018 15:48:48",9.01,8.3559999999999999,1.857,3.27,3350,111.4,0.22,677,0.92349999999999999,730.9,0,0,1116.3,906.8,782.2,702.2,660.3,638,611.6,1070.4000000000001,871.2,760.7,696.6,661.3,640,614,934.6,754,656.8,600.1,565.1,542.20000000000005,513.1,990.9,794.1,687.1,624,584.79999999999995,559.4,528.70000000000005,1146.5,884.7,736.9,646.6,588,547.20000000000005,490.4,43.1,41.6,41.9,39.700000000000003,38.4,37.799999999999997,37.700000000000003,146,151.4,150.4,161.4,180,180,180,1166.8,967.9,853.9,784.4,757.3,744.1,739.6,761.9,639.20000000000005,576.1,550.1,539.4,533.9,529.70000000000005,717,605,558.29999999999995,536.6,524.1,517.9,512.70000000000005,680,581.70000000000005,545.20000000000005,524.1,506.3,492.3,480.8,669.7,565.5,529.20000000000005,512.6,501.6,482.7,453.6,667.1,563,526.5,498.1,471.9,456.9,435.4,694.3,575.4,533.5,505.7,476.6,448.8,415,784.9,634.4,555.1,524.4,497.8,470.1,417.5,923,732.2,615.5,551.9,523.79999999999995,498.9,448.4,1065.8,845.7,710.4,619.9,563.4,532,483.5,0.86680000000000001,1.1266,1.2698,0.6673,0.91779999999999995,1.0651999999999999,0,0,0,0,0.91279999999999994,0,0,657.3,"AUS00001260",7.8019999999999996,4061,20.399999999999999,30.2,23.4,62.3,69.8,778.7,599.1,531.6,1011.5,735.5,633.70000000000005,686.2,0.87439999999999996,709,0.84630000000000005,0,0]
[null,"AUS284800",2848,51408,"Harlequin","Farr40","Carroll","Farr",1996,"2107 Avalon Beach Australia",null,"CLUB","R",820,"25 01 2018 11:58:30",12.411,11.122999999999999,2.5960000000000001,3.96,4945,128.69999999999999,0,528.20000000000005,1.1659999999999999,578.9,0,0,851.5,687.9,607.6,565.4,538.79999999999995,516.4,476.3,813.2,661.9,590.6,552.70000000000005,526.4,504,477.4,719.8,585,513.4,471.3,443.7,423.2,392.2,777.4,626,544,495.2,463.5,441.3,410.4,884.2,686.5,575.9,507.7,461.6,426.8,373.1,43,42.4,39.6,38.1,37,36.4,36.6,143.19999999999999,143.19999999999999,150.5,157.5,172.5,180,141.80000000000001,881.8,722.5,654.9,627.1,612.1,598.79999999999995,594.4,574.29999999999995,482.7,457.3,446.7,440.1,433.3,424,537.1,465.8,442.6,430.5,422.5,416.9,402.8,506.5,453.6,425.2,404.4,393.2,386,373.1,505.9,452.5,422.7,393.5,371.3,357.8,344.9,522.6,450,419.6,398.4,378.8,360.7,312.89999999999998,539.9,456.3,417,387.9,368.7,351.5,310.2,599,484.8,441.1,405.4,369.8,333.1,288.89999999999998,711.2,565.79999999999995,485.4,443.7,411.3,379.1,310.3,821.3,653.4,560.20000000000005,503.8,465.5,434,358.3,1.1335999999999999,1.4293,1.6271,0.87690000000000001,1.1577,1.3314999999999999,0,0,0,0,1.1654,0,0,514.9,"AUS00001263",11.231,5998,29.4,63.5,39.4,154.19999999999999,0,595.4,472.3,414.8,769.8,583.1,506.9,547.9,1.095,560.6,1.0703,0,0]
[null,"AUS229700",2297,"MH 111","CAMILLE","Ron Swanson","R SWANSON","W WARD",1964,"NSW 2257",null,"INTL","R",550,"29 01 2018 14:58:44",11.2,9.52,1.9019999999999999,2.88,7547,148.5,0.6,718.6,0.8669,778.7,0,0,1242.4000000000001,988.1,851.1,758.4,693.9,652.20000000000005,614.4,1192.3,955,824.7,742.3,689.3,656.7,621.79999999999995,1020.1,811.3,695.7,625.9,581.9,553.29999999999995,520.1,1074.2,849.8,724.4,648,599.20000000000005,567,528.6,1253.7,954.2,782.6,676.1,606.6,559,497.1,45,43.2,42.5,43.4,43.1,41.9,40.6,147.19999999999999,150.5,153.30000000000001,154.6,167.1,180,180,1311.6,1064,936.6,850.1,792.8,762.5,735.8,840.4,696.2,612.79999999999995,556.9,530.9,519.4,510,783.8,656.5,576.1,533.79999999999995,514.29999999999995,503.6,494.1,739.4,621.6,549.1,517.70000000000005,500.9,489.1,472.1,741.6,623.79999999999995,546,510.3,498.9,485.7,463.1,755.9,618.4,537.5,504.3,484.6,468.9,453.8,780,635.5,547.6,509.3,488.6,471,438.7,869.3,693.7,589.70000000000005,529.79999999999995,502.3,483.8,449,1016,790.1,664.8,581.79999999999995,528.9,503.4,469.8,1173.2,912.1,765.6,666.7,595,541.9,493.1,0.78649999999999998,1.0730999999999999,1.2506999999999999,0.60529999999999995,0.85189999999999999,1.0408999999999999,0,0,0,0,0.86480000000000001,0,0,693.8,"AUS00001265",7.8449999999999998,8391,31.1,27.5,38.6,78.3,0,858.2,629,539.70000000000005,1115.0999999999999,792.3,648.5,721.6,0.83150000000000002,748.9,0.80120000000000002,0,0]
[null,"AUS405900",4059,"PC100","RESTLESS","CAPE 35","B,A,C, YACHTS","A CAPE",1993,"QLD  4680",null,"INTL","R",540,"12 02 2018 16:10:42",10.68,9.3859999999999992,2.1230000000000002,3.45,3383,112.5,0,598.6,1.0299,655.4,0,0,1003.1,811.6,692.2,630.1,595.70000000000005,572.9,540.20000000000005,951.3,768.5,669.6,618,588,566.4,532.29999999999995,830.4,668.4,580.70000000000005,528.79999999999995,495.7,472.8,441.4,883.8,706.3,609.4,551.70000000000005,515,489.7,454.8,1025.7,788.2,653.4,570,514.9,475.4,419.2,44.1,42.5,41.1,39.1,38.1,37.5,37.5,138,147.9,147.9,156.4,174.8,180,180,1024.9000000000001,839.1,733.9,692.7,674.3,664,656,664.9,551.79999999999995,503.9,488,479.9,475,467.3,622.79999999999995,525.9,489.6,471.1,461.4,455.3,447.5,588.5,509,477,450.3,431.8,422.6,413.9,589.9,504,471.1,447.7,421,398.9,378.8,600.70000000000005,503.8,464.2,428.3,407.8,389.8,362.6,622.70000000000005,515.20000000000005,474,437.7,401.4,373.3,341.8,703.2,564.6,499.1,465.1,431.3,397.8,328.7,849.9,679,563.4,499.4,467.4,436.3,374.8,981.4,784.1,650.5,567.4,517,481.7,424.4,0.97399999999999998,1.2748999999999999,1.4584999999999999,0.74390000000000001,1.0268999999999999,1.1919,0,0,0,0,1.0299,0,0,582.6,"AUS00001272",9.3390000000000004,4197,23.3,39.200000000000003,29.8,84.7,86.9,693,529.5,462.8,907.4,657.3,566.29999999999995,611.29999999999995,0.98150000000000004,629,0.95389999999999997,0,0]
[null,"AUS20868",2868,"Aus223","Pacesetter","11 Metre OD","Pacesetter Yachts","Holland",1991,418616393,null,"CLUB","R",450,"13 02 2018 11:49:42",10.3,8.64,1.708,2.5299999999999998,1669,100.3,0.11,599.70000000000005,1.0214000000000001,660.9,0,0,990,794.6,693.5,645,614.79999999999995,583.5,530.20000000000005,952.2,768.8,678.7,632.1,600.70000000000005,572.1,543.70000000000005,826.7,667.7,582.4,531.6,498,472.9,434.1,909.6,725.2,624.4,564.1,525.1,497.8,460.2,1015.6,784.5,654.20000000000005,573,517.20000000000005,474.7,409.1,44.1,43.5,41.9,40.5,39.9,39.1,39.799999999999997,143.4,141.5,152.19999999999999,158.30000000000001,156.1,151.30000000000001,144.1,1068.5999999999999,867.4,771.4,737.6,722.1,702.4,701,688.4,564.5,521.29999999999995,507.9,500.4,492.3,481.8,640.1,536.79999999999995,501.6,486,476.5,470.4,453.6,599,518.1,480.5,452.3,438.9,430.7,413.6,588.5,516.79999999999995,478.4,441.4,412.1,395.3,380.4,578.79999999999995,497,463.5,439.5,415.4,392.8,336.3,595.20000000000005,503.9,453.4,424.5,401.8,377,330.8,664.2,534.79999999999995,482.8,436.1,390.8,349.5,305.8,789.3,625.1,534.20000000000005,484.1,442.1,399.7,311.2,911.4,721.8,615.6,552.5,507.5,464.5,359.4,0.98360000000000003,1.2657,1.4579,0.75649999999999995,1.0134000000000001,1.1815,0,0,0,0,1.0276000000000001,0,0,583.9,"AUS00001278",8.4179999999999993,2327,15.8,29.4,14,74.3,0,686.3,533.29999999999995,463,892.3,666.1,571.29999999999995,627.79999999999995,0.9556,644.6,0.93079999999999996,0,0]
[null,"AUS713100","7131 1A","B52","B 52","BASHFORD 41","BASHFORD BOATS","IAIN MURRAY &ASSOC",1995,"QLD 4034",null,"INTL","R",750,"15 02 2018 16:31:14",12.465,11.242000000000001,2.5609999999999999,3.72,6447,118.1,0,563.20000000000005,1.0986,614.4,0,0,928.2,750.9,650.20000000000005,595.20000000000005,562.1,538.9,508.7,881.1,714.7,627.9,582.1,554.5,534.5,503,775.1,626.20000000000005,546.5,500.2,471.1,451.2,424,822.9,660.4,572.20000000000005,520.1,487.2,465.1,436,956.1,737.6,614.6,539.4,490.3,455.6,407,43.5,42.5,40.700000000000003,39.1,37.9,37.299999999999997,36.9,141.9,146.69999999999999,149,154.9,166,180,180,937.1,771.4,686.3,649.6,629.6,619.29999999999995,606.1,609.29999999999995,508.9,469.8,457.2,450.6,446.2,439.4,572,486.5,456.3,444.2,437,432.3,425.6,541,471.7,445,426.7,414.7,407.4,399.9,541.9,470.8,443.5,422.4,402.3,386.5,372.5,577.5,478.2,441.3,416.5,401,385.7,363.5,595.9,489.2,448.5,420.9,393.2,372.8,346.8,668.3,537.9,471.3,441.1,415.1,388.2,332.9,796.1,632.6,531.79999999999995,473.7,443.7,419.7,370.6,919.2,730.4,614.1,540.70000000000005,494.6,458.5,411.4,1.0475000000000001,1.3511,1.5258,0.80400000000000005,1.0919000000000001,1.2655000000000001,0,0,0,0,1.0936999999999999,0,0,548.6,"AUS00001279",10.906000000000001,7512,32.1,48.7,54.5,0,129.6,644.4,499.6,442.4,839.6,618.20000000000005,533.4,576,1.0417000000000001,590.20000000000005,1.0165999999999999,0,0]
[null,"AUS3269",3269,"B10","CARTOUCHE","BENETEAU FIRST 50","BENETEAU","BRIAND",2006,"VICTORIA 3186",null,"INTL","C",1077,"07 03 2018 10:09:46",14.98,13.753,2.4060000000000001,4.3600000000000003,14926,128.30000000000001,0.25,566.29999999999995,1.0901000000000001,619.20000000000005,0,0,967.1,781.3,668.3,596.5,556.29999999999995,529.4,498.4,921.3,743.9,643.1,583.4,549.79999999999995,528.70000000000005,499.7,794.3,635.5,548.6,497,464.9,443.9,417.8,849,674.3,577.6,519.4,482.6,458.1,427.3,981.8,750.9,619,537.5,484.7,448.4,399.8,44.4,42.8,42.6,42.2,40.9,40.1,39.299999999999997,139.19999999999999,147.69999999999999,146.6,152.30000000000001,158.80000000000001,180,180,1004.7,822.4,720.6,658.6,629,613.5,594.79999999999995,646,537.4,472.5,441.7,430,424.1,418.1,602.20000000000005,504.1,449.5,426.5,416,410.9,405.9,565.9,475.8,433.9,414.7,402.4,393.4,384.4,565.5,474.9,431.5,413,399.3,386.8,365.2,586.1,477.2,426.5,404.1,389.1,379.7,362.2,603,490.7,433.4,408.6,390.1,371.3,349.3,670,539.70000000000005,462.4,424.5,404.3,386.8,349.6,804.9,641.1,533.4,464.3,427.5,407.6,374,929.4,740.2,615.9,534.29999999999995,483.6,445.3,401.9,1.0126999999999999,1.3571,1.5542,0.7722,1.0787,1.2868999999999999,0,0,0,0,1.0903,0,0,550.29999999999995,"AUS00001322",12.016999999999999,16423,49.8,76.599999999999994,55.6,172.1,0,666.5,497.4,434.3,874.1,625.79999999999995,524.5,579.5,1.0353000000000001,596.9,1.0052000000000001,0,0]
[null,"AUT023/18","AUT122","AUT  122","Boreas","DEHLER 33 COMP","DEHLER","JUDEL/VROLIJK",1995,"Austria",null,"CLUB","C",450,"27 04 2018 17:27:36",9.99,9.3480000000000008,2.004,2.98,3760,117.4,0.04,627.70000000000005,0.98839999999999995,683,0,0,1007.9,816.3,717.3,662.7,628.4,610.79999999999995,580.4,951.8,777.9,693.2,650.9,626.70000000000005,611.5,578.5,855,693.9,609.29999999999995,561.5,532.6,513.6,487.1,898.3,724.2,631.6,578.5,546.20000000000005,524.9,496.7,1009.6,769.1,648.9,581.29999999999995,544,515.20000000000005,466.6,41.7,40.299999999999997,39.299999999999997,38.4,37.9,38.1,38,144.6,149.4,151.19999999999999,158.19999999999999,180,180,180,990.6,823.7,754.5,729.5,718.4,718.7,707.4,659.1,558.70000000000005,525.70000000000005,516,511.4,509.2,503.4,628.4,540.4,512.20000000000005,502.6,497.8,495.2,489,607.29999999999995,529,501.2,486.1,478,473.1,469.1,616.70000000000005,532,500,480,463.3,450.5,439.2,641.4,533.79999999999995,494.5,468.9,450.1,437,416.2,664.4,547.6,501.2,472.8,445.5,421.4,395,741.9,601,526.79999999999995,493.5,466.8,438.5,383.1,887.8,700.6,589.6,524.9,493.8,468.7,416.6,1025.2,809,680.1,595.9,538.4,502.9,453.4,0.95389999999999997,1.2087000000000001,1.3369,0.74,0.98519999999999996,1.1178999999999999,0,0,0,0,0.98080000000000001,0,0,611.70000000000005,"AUT00002240",8.8640000000000008,4573,22.2,35.700000000000003,28.2,63.1,0,707.6,558.5,504.9,912.2,685.1,603.79999999999995,634.1,0.94620000000000004,651.4,0.92110000000000003,0,0]
[null,"BRA249001","BRA2490","BRA 2490","RUDÁ","FIRST 40'","BENETEAU","BRUCE FARR",2008,"+55(13) 9711 7178",null,"INTL","C",860,"26 03 2018 13:20:32",12.24,11.340999999999999,2.5110000000000001,3.9,8472,131.80000000000001,0.21,587.1,1.0678000000000001,632.1,0,0,967,783.2,673.7,608.6,574.1,551.1,523.79999999999995,924.8,749.4,652.20000000000005,598.1,568.9,550,523.1,814.2,654.9,569.20000000000005,519.4,488.8,468.7,442.8,883.7,703.9,605.4,547,510.8,487.2,458,963,735.4,607.6,534.29999999999995,497.6,469.2,425.5,42.5,40.799999999999997,40.200000000000003,38.799999999999997,37.799999999999997,37.4,37.200000000000003,141.80000000000001,148.19999999999999,149.4,155.19999999999999,167.6,180,180,1007.1,827.5,723.7,667.9,646.20000000000005,636.5,623.79999999999995,663.4,554.20000000000005,495.5,471.8,461.4,457,453.5,629.6,528.9,481.2,461.2,450.4,445.1,441,604.9,511.5,471.6,452.5,439.2,428.7,417.6,611.1,504.3,463.5,450.5,435.6,421.5,397.3,601.20000000000005,494.8,454.5,432.7,416.4,405.1,385.9,616,505,459.1,434.9,412.7,391.8,368.3,678.4,549.70000000000005,480.4,450.2,428.2,405.3,361,802.8,639.9,540.1,480.3,452,431.4,389.7,927,738.9,623.70000000000005,549.29999999999995,501.9,465.7,423.8,0.99329999999999996,1.3028999999999999,1.4685999999999999,0.77129999999999999,1.0609999999999999,1.2349000000000001,572.20000000000005,1.0485,0,0,1.0558000000000001,0,0,568.29999999999995,"BRA30000018",10.669,9575,35.5,51.6,41.5,136.4,0,679.6,518.1,459.6,875.1,636.20000000000005,546.6,604.70000000000005,0.99219999999999997,625.5,0.95920000000000005,589.5,1.0177]
[null,"BUL016/18","BUL7","BUL-7","Proxima","Conrad 24","Poland","Michel Dufour",1978,"BULGARIA",null,"CLUB","R",349,"22 05 2018 13:37:24",7.27,5.8019999999999996,1.429,2.65,1460,97.5,0.23,766.3,0.82010000000000005,823.1,0,0,1228,1008.6,876.1,791.7,747.1,726.5,706.3,1183.3,973.1,856.2,787.1,749.1,730,712.9,1052.4000000000001,851.7,743.8,681,642.6,618.20000000000005,589.79999999999995,1108.5999999999999,892.2,775,706.2,664,637.20000000000005,606.70000000000005,1222.4000000000001,948.7,794.4,701.6,652.79999999999995,617.4,559.70000000000005,41.9,41.4,40.9,39.200000000000003,38.5,38.4,39.9,148.69999999999999,151.80000000000001,153.6,172.5,180,180,180,1283.7,1080,959.3,886.7,856.7,850.2,866.6,852.5,721.5,659.4,629.5,612.29999999999995,605.29999999999995,605.5,811.7,692,642.29999999999995,615.20000000000005,595.6,584.20000000000005,580.70000000000005,781.2,672,629.29999999999995,602.20000000000005,577.4,558.79999999999995,543.5,788.8,666.7,613.20000000000005,581.70000000000005,564.20000000000005,551.6,519.6,780.1,654.5,605.79999999999995,568.70000000000005,538,515.20000000000005,491.3,804.6,665.2,612.29999999999995,575.20000000000005,542.79999999999995,515.1,472.1,878.7,716.6,635,596.6,562.70000000000005,533.9,483.4,1015.1,812.3,691.4,628.70000000000005,594.5,563.5,512.79999999999995,1172.2,937.2,792.8,696.6,637.5,602.79999999999995,546,0.7702,0.99299999999999999,1.1133999999999999,0.60360000000000003,0.8165,0.93220000000000003,0,0,0,0,0.80830000000000002,0,0,742.3,"BUL10014325",5.7370000000000001,1840,12.2,11.4,20,39.9,0,876.4,679.8,606.29999999999995,1118.3,826.7,724.1,771.5,0.77769999999999995,799.2,0.75080000000000002,0,0]
[null,"BUL034/18","BUL2","BUL-2","Phoenix","Conrad 25RT","Gdansk, Poland","Peterson",1976,"BULGARIA",null,"CLUB","C",340,"30 05 2018 09:19:48",7.65,6.19,1.52,2.76,1546,106.8,0.02,732.8,0.85570000000000002,788.8,0,0,1155.2,948.3,825.4,759,726.1,709.1,688,1103,908.9,806,754.3,728.3,713.1,695.5,993.9,809.2,711.8,656.4,623.1,601.79999999999995,575.9,1031,835.6,731.9,672.6,636.70000000000005,613.9,586.6,1154.5,894.7,752.5,676.1,635.9,603.20000000000005,547,41.3,40.700000000000003,38.700000000000003,37.9,37.700000000000003,37.9,39,149.1,153.30000000000001,155.19999999999999,175,180,180,180,1161.9000000000001,979.8,876.6,841.4,831.8,830.7,844.9,780.2,667.5,624.6,606.6,599.20000000000005,595.79999999999995,598.1,745.4,648.70000000000005,612.29999999999995,592.5,581,575.6,574.20000000000005,720.7,636.9,603,577.6,558.70000000000005,546,537.1,729,633.5,591,562.9,545.29999999999995,529.70000000000005,506.1,742.6,632.5,589.6,555,524.70000000000005,501.6,475.4,769.4,645.29999999999995,597.9,564,532.29999999999995,503.8,458.7,853,700.1,622.6,586.20000000000005,554.1,524.5,471.3,994.6,795.2,674.7,615.9,582.9,552.79999999999995,499.8,1148.5,916.8,774.2,676.5,620.4,587.4,531.20000000000005,0.81820000000000004,1.0334000000000001,1.1405000000000001,0.64180000000000004,0.85589999999999999,0.95679999999999998,0,0,0,0,0.84209999999999996,0,0,712.5,"BUL10014466",6.2450000000000001,1987,12.4,18.5,17.3,33.4,0,825,653.20000000000005,591.79999999999995,1051.7,788.6,705.5,730.8,0.82099999999999995,754.1,0.79569999999999996,0,0]
[null,"CANBC8031","Westerly-CAN18997","CAN 18997","Westerly","Santa Cruz 70","Lee / Santa Cruz","Bill Lee",1987,"Canada V8L 2P6",null,"INTL","R",1588,"15 05 2018 18:09:54",20.725999999999999,18.201000000000001,3.0840000000000001,4.5999999999999996,10166,121.1,0.01,446.1,1.3492,500.3,0,0,753.4,604.29999999999995,527.5,486.1,461.9,442.1,403.9,709.4,574.20000000000005,507.9,472.3,449.8,432.9,403.9,616.6,497,432.9,395.2,370.9,353.5,326.89999999999998,653.70000000000005,524.70000000000005,454.5,412.5,385.3,366.2,339.3,754.9,565,470.2,414.4,382.9,356.3,308.39999999999998,45.8,43.2,42.3,41.3,40.9,40.6,41,141,141.19999999999999,144.5,150.1,154.5,149.9,146.5,738.4,617.4,568.79999999999995,543.29999999999995,531.9,525.70000000000005,514.9,468.7,400.9,376.9,366.4,360.9,359.8,351.1,432.5,377,360.2,351.5,345.8,343,332.1,402.1,357.7,340.6,328.7,321,315.60000000000002,308.2,403.7,354.4,329.1,312.5,301.89999999999998,294.7,285.3,456.4,374.9,344.4,317.3,295.10000000000002,277.10000000000002,253.8,493.7,387,345.4,315.89999999999998,298.2,279.8,248.7,553.20000000000005,426.5,363.6,329.9,298.89999999999998,272.8,233.9,665.5,512.1,421.1,371.4,336.7,310.60000000000002,253.7,768.5,591.29999999999995,486.3,429,391.8,358.6,292.89999999999998,1.3182,1.7070000000000001,1.9497,0.99429999999999996,1.34,1.5598000000000001,450.4,1.3321000000000001,0,0,1.3713,0,0,437.5,"CAN00000621",16.654,12454,52.2,99.6,108,0,247.2,512.1,395.4,346.2,678.9,503.7,432.7,462.4,1.2977000000000001,468.6,1.2804,456.8,1.3133999999999999]
[null,"CRO016/18","CRO1960","CRO 1960","Sun Dreamer","Bavaria CR 45","Bavaria","Farr",2010,"GERMANY",null,"CLUB","C",945,"09 02 2018 15:33:38",13.6,12.669,2.109,4.3499999999999996,12599,115.8,0.4,643.5,0.95420000000000005,707.4,0,0,1147.4000000000001,902.6,769.3,683.6,627,595.1,557.1,1106.0999999999999,874.6,746.5,666.7,615.1,584.1,554.20000000000005,925.7,730.7,622,556.4,515,488.1,456.9,1025.7,801.1,673.6,594.4,542.9,508.6,468.9,1135.5,841.4,681.7,579.4,520.9,482.8,430.9,45.8,44.6,43.6,43.3,42.6,42.2,42.2,144.5,146.69999999999999,146.9,146.69999999999999,147.69999999999999,149.9,176.5,1267,1005.9,866,776.6,712.5,676.5,664.7,805.9,649.70000000000005,565.1,508.6,472.7,454.4,445,749,610.9,533.1,482.3,453.8,439.3,428.8,707.5,579.9,503.5,462.2,440.9,427.1,409.9,666.7,540.20000000000005,468.7,436.5,423,416.8,403,650.29999999999995,526.20000000000005,458.6,428.8,410.2,393.6,371.5,670.9,542.4,468.7,433.9,413.8,395.3,360.6,750.4,595.9,507.4,454.8,428.6,410.2,374.4,890.1,692.2,582.5,511.5,469,444.9,415,1027.9000000000001,799.3,672.6,590.70000000000005,541.5,513.70000000000005,449.5,0.86409999999999998,1.2055,1.42,0.65849999999999997,0.94230000000000003,1.1463000000000001,0,0,0,0,0.96660000000000001,0,0,620.79999999999995,"CRO00079802",10.031000000000001,13899,46.4,42.6,47.6,0,146.69999999999999,781.2,559.9,475.4,1025.0999999999999,716.3,588.9,668.3,0.89790000000000003,697.8,0.85980000000000001,0,0]
[null,"CRO056/18","CRO1655","CRO 1655","Adio Pameti","Elan 450","Elan doo","Humpfreys",2007,"CROATIA",null,"CLUB","C",956,"22 03 2018 11:05:50",13.6,12.757999999999999,2.6,4.3600000000000003,12108,118.9,0.12,565.6,1.0863,621.4,0,0,937,757.6,656.2,599.6,569.6,548.9,519,892.1,723.3,632.4,583.6,556.5,538.5,514.20000000000005,780.6,629.20000000000005,548.4,502,473.9,455.6,432.1,892.6,706.2,602.5,540,500.5,474.9,444.4,935.1,710.2,588.6,519,483.3,455.6,412.4,43.5,42,41.3,40.299999999999997,38.799999999999997,38.1,38,143.4,147.6,148.30000000000001,149.19999999999999,150.6,174.5,178,956,786.3,694.3,651.5,627.20000000000005,614.29999999999995,607.9,621,518.20000000000005,466.7,448.8,440.9,436.2,432.2,582.1,489.1,450,435.1,428.4,424.4,419.8,547.6,467.6,437.8,423.1,413.7,408.3,399.9,546.4,468.7,438,421.6,408.6,397,380.3,587.29999999999995,481.4,436.1,414.9,397.6,385.8,361.3,603.20000000000005,494.1,442.7,418.8,399.5,380.1,351.3,670.3,543.20000000000005,469.3,434.7,414.5,395.5,356.6,795,631.20000000000005,535.20000000000005,474.4,443.9,426.2,398.2,918,728.8,618,547.79999999999995,511.9,483.5,430.1,1.0379,1.3505,1.5087999999999999,0.79669999999999996,1.0814999999999999,1.2435,0,0,0,0,1.089,0,0,551,"CRO00080163",11.632999999999999,13423,43.5,58.2,43.1,0,151.1,650.4,499.8,447.4,847.2,624.1,542.79999999999995,600.6,0.99909999999999999,623.1,0.96289999999999998,0,0]
[null,"CRO085/18","CRO1897","CRO 1897","Whiskey","Salona 38","AD Brodovi","Jakopin",2011,"CROATIA",null,"CLUB","C",736,"04 04 2018 15:18:16",11.462,10.547000000000001,2.0739999999999998,3.58,6929,118,0.25,619.20000000000005,1.0042,672.2,0,0,1024,828.8,715.5,648.6,611.1,587.29999999999995,566.29999999999995,976.2,793.1,691.7,636.29999999999995,607.20000000000005,589.6,570.79999999999995,857.5,690.2,600.29999999999995,548.29999999999995,516.70000000000005,496.8,473.4,905.6,724,625.20000000000005,567.4,532,509.4,482.6,1021.6,778.1,643.20000000000005,565.1,525.9,496.2,449.6,43.2,41.7,41.3,40.4,39.6,39.4,39.700000000000003,144.9,149.6,151.6,155.5,171,180,180,1047.7,866.8,762.5,711.6,693.2,686,686.8,684.5,574,514.70000000000005,491.4,483,479.2,478,647.1,545.20000000000005,497.6,478.3,469.3,465.3,463,618.70000000000005,525.20000000000005,486,467.3,454.8,446.1,439,624.79999999999995,528.4,483.8,464.3,450,436.1,415.2,641,526.6,478.3,454.5,434.5,418.9,400.4,660.7,541.5,485.3,459.1,437.5,416.3,383.7,732,594.6,513.79999999999995,476.4,454.1,432.9,390.7,866.2,684.9,579.29999999999995,511.5,477.3,456,416,1000.2,790.8,668.4,585.6,528.9,488.6,445.7,0.94279999999999997,1.2354000000000001,1.3848,0.72860000000000003,0.99780000000000002,1.1531,0,0,0,0,0.99809999999999999,0,0,601.1,"CRO00080218",9.6769999999999996,7923,30.5,43.8,39.200000000000003,88.9,0,716,546.4,487.4,926.4,676.5,585.4,626.1,0.95830000000000004,645.70000000000005,0.92920000000000003,0,0]
[null,"CRO120/18","CRO1134","CRO 1134","Sultan","First 40,7","Bennetau","Farr",1997,"CROATIA",null,"CLUB","C",751,"01 05 2018 16:39:54",11.923999999999999,10.71,2.431,3.77,7443,115.2,0.03,599.1,1.0329999999999999,653.5,0,0,972.9,790.7,685.9,631.70000000000005,606.1,580.29999999999995,552,925,753.5,661.5,615,590.9,573,549.20000000000005,821.6,664.4,581.20000000000005,533.9,505.5,487.2,463.9,873.2,700.4,606.79999999999995,552.20000000000005,518.70000000000005,497.2,470.7,972.1,743.5,618.79999999999995,550.6,516.9,487.5,443.3,42.2,40.799999999999997,40,38.6,37.799999999999997,37.5,37.6,143.80000000000001,147.9,147.9,149.19999999999999,152.1,176,178.2,981.3,813.3,719.3,679.9,664.2,657.4,648.70000000000005,649.4,545.20000000000005,497.3,480.4,474.3,471.4,468.1,617.29999999999995,522.79999999999995,484.6,469.1,462.7,459.4,457.2,593.5,508.6,475.7,459,447.7,441.2,435.4,599.5,510.1,471.3,455.9,440.8,427.7,410.8,612.5,506.9,466.4,443.9,424.6,412.2,394,631.9,520.79999999999995,473.3,448.7,426.3,405.1,376.6,704.7,573.1,499.1,466.1,444.1,422,380,835.3,665.2,565,505.3,477.5,457.4,423.5,964.5,768.1,652.4,583.5,548,503.2,455.3,0.98760000000000003,1.2715000000000001,1.4091,0.76549999999999996,1.028,1.1716,0,0,0,0,1.0290999999999999,0,0,583,"CRO00080640",10.178000000000001,8458,31.7,48.5,46.2,0,109.3,683.5,530.9,479,881.8,656.6,576.1,608.9,0.98540000000000005,626.29999999999995,0.95799999999999996,0,0]
[null,"CYP13/18","ARIS#","CYP-777","ADVANCED HOSTING","FIRST 27,7","BENETEAU","GROUP FINOT",2002,"CYPRUS INTERNATIONAL SAILING CLUB",null,"CLUB","C",567,"30 05 2018 11:25:54",8.3000000000000007,8.3780000000000001,1.798,3.03,3148,102.7,0.24,689.4,0.90069999999999995,749.4,0,0,1133.5,916.1,791.3,723.7,685.6,659.7,631.1,1085.7,879.9,767.3,706.9,675.5,655.5,627,952.8,767.5,668.4,611.4,576.79999999999995,554.20000000000005,524.79999999999995,1015.3,810.2,698.7,633.4,593.6,568.1,536.4,1128.7,859.7,713.1,630.20000000000005,588.5,555.1,498.6,42.7,41.1,40.799999999999997,39,38.299999999999997,38.200000000000003,38.200000000000003,146.19999999999999,147.80000000000001,147.5,149.6,175.2,177.7,178.2,1181.3,971.5,849.8,785.5,767.1,761.2,752.5,776.8,649.29999999999995,580.29999999999995,554.1,545.29999999999995,541.79999999999995,536.70000000000005,736.5,618.29999999999995,563.79999999999995,541.20000000000005,530.70000000000005,526.5,525,706.4,597.20000000000005,552.6,529.70000000000005,513.4,502.4,495.1,696,579.29999999999995,535.5,513.1,501.9,487.4,461.7,695,577.4,533.5,504.3,475.9,453,428.7,720.1,593.4,541.29999999999995,511.9,482,453.1,405.5,800.1,649.1,567,531.4,503.9,475.3,421,940.1,745.5,634.6,573.20000000000005,541.70000000000005,520,474,1085.5999999999999,860.8,732.8,661.9,604.1,558.20000000000005,509.7,0.85009999999999997,1.1085,1.2407999999999999,0.65869999999999995,0.89670000000000005,1.0298,0,0,0,0,0.89710000000000001,0,0,668.8,"CYP00000656",7.8029999999999999,3901,20.2,30.3,20.3,0,51.4,794,608.9,544,1024.7,752.8,655.5,695.3,0.8629,721.8,0.83130000000000004,0,0]
[null,"DEN32259","32259 - Swan 45 DEN 9503 Tarok","DEN 9503","TAROK VII","SWAN 45 SD","NAUTOR","FRERS",2001,null,null,"INTL","C",990,"22 05 2018 15:25:50",13.829000000000001,12.788,2.3170000000000002,3.89,10700,140.30000000000001,0,543.5,1.1367,593.79999999999995,0,0,870,712.9,626.29999999999995,577.4,548.20000000000005,527.5,499.3,827.6,679.7,605.20000000000005,566.29999999999995,543.29999999999995,526.5,497.6,738.2,600.5,528,486.6,461.1,443.7,419.5,784.3,633.1,552.1,504.9,475.6,455.9,429.4,869,670.1,565.1,504.6,471.8,445.2,402.2,42.7,41.3,40.799999999999997,39.5,38.799999999999997,38.5,38.5,142,146.69999999999999,149.19999999999999,155.4,166.1,180,180,879.4,733.4,665.9,636.1,621.5,614.1,598,577.6,489.5,456.2,444.5,438.7,435.6,428,546.1,469.8,443.6,432.6,427,423.6,417,522.1,456.9,433.8,420.5,411,405,398.4,526.1,457.6,431.7,416,402.4,390,373.3,545.70000000000005,457.6,426.4,407.3,394.1,382.5,364.4,563,466.8,430.8,409.1,387.8,369.4,347.4,626.1,510.1,451.3,425.1,404.3,381.8,337.3,745.2,599.70000000000005,508.1,453.9,427.7,407.9,366,860.5,692.5,586.70000000000005,518.70000000000005,474.9,441,400.5,1.1040000000000001,1.3920999999999999,1.548,0.85289999999999999,1.1293,1.2928999999999999,537.1,1.1172,0,0,1.1296999999999999,0,0,531.1,"DEN00000311",11.904999999999999,12023,39.1,78.8,56.6,152.9,153.5,611.4,484.9,436,791.4,597.70000000000005,522.1,556.4,1.0784,569,1.0545,547.79999999999995,1.0952999999999999]
[null,"ESP847101","E8471","ESP-8471","DIESELREC","X-35","X YACHTS","N, JEPPESEN",2005,"R,C,R,CARTAGENA",null,"INTL","C",649,"05 01 2018 10:10:00",10.6,9.5359999999999996,2.1850000000000001,3.25,4700,117.1,0,607.6,1.0247999999999999,658.7,0,0,971.2,791.1,688.5,638.1,607.29999999999995,587.70000000000005,559.4,925.1,756.2,669.7,627.79999999999995,604.20000000000005,586.79999999999995,558.4,827.7,671.9,589.9,543.29999999999995,514.9,496,469.9,883.2,711.1,619,565.9,533.4,512.1,484,969.6,744.8,624.9,562,526.9,497.8,450.2,41.9,40.9,39.299999999999997,38,37.700000000000003,37.5,37.9,144.6,148.80000000000001,151.4,158.80000000000001,180,180,180,987.1,819.5,731.2,703,693,686.1,678.1,655.5,553.29999999999995,513.29999999999995,501,496.2,494.1,487,624,534.70000000000005,501.8,488.5,483.2,480.5,472.5,601.1,523.1,493.3,475.4,463.6,457.6,452.8,608.20000000000005,517.9,486.6,472.3,453.7,438.4,422.9,612.1,516.5,480.6,454.7,433.9,421.3,402,631.79999999999995,526.6,486.2,457.6,430.7,408.9,380.8,698.4,569,507.7,477.7,450.5,423.4,369.2,827.3,660.5,560.29999999999995,506.7,478.7,453.3,404.1,955.3,762.7,645.9,573.1,521.6,489.3,440.7,0.98350000000000004,1.2484,1.3848,0.7661,1.0227999999999999,1.1597,599.70000000000005,1.0004999999999999,0,0,1.0141,0,0,591.70000000000005,"ESP00026891",9.2789999999999999,5538,24.8,42.1,32.200000000000003,91.3,80.599999999999994,686.3,540.70000000000005,487.4,881.1,660,582,620.4,0.96719999999999995,638.5,0.93969999999999998,613.5,0.97799999999999998]
[null,"ESP826201","E8262","ESP-8262","MIRAVER","DUFOUR 32 CLASSIC","DUFOUR","J,J,DESIGNE",1998,"C,N,PORTONOVO",null,"INTL","C",470,"11 01 2018 17:59:14",9.6199999999999992,8.9489999999999998,1.7509999999999999,3.34,5052,108.1,0.42,718.5,0.86919999999999997,776.6,0,0,1201.8,971.5,845.6,757.3,694.4,659.5,634.79999999999995,1155.5999999999999,940.6,821.4,744.4,694.1,665.6,641.1,1005.7,806.2,696.5,630.79999999999995,589.5,562.9,532.70000000000005,1062.9000000000001,846.7,726.7,654.1,608.1,578.29999999999995,544.1,1195,911.6,756.1,654.29999999999995,596.70000000000005,560,507.1,44.2,42.5,42.2,42.6,41.5,40.9,40.799999999999997,147.4,151.19999999999999,153.69999999999999,156.30000000000001,173.7,180,180,1270.4000000000001,1051.5999999999999,936.1,853.6,796.3,772.4,767.7,822.8,694.7,617.4,569.1,545.70000000000005,534.20000000000005,529.1,775.9,659.1,586.29999999999995,549.5,530.9,519.9,512.29999999999995,741.6,630.6,565.20000000000005,535.5,518.20000000000005,505.6,487.8,747.5,627,551.9,521.6,504.9,496.7,474.3,742.5,612.29999999999995,544,514.70000000000005,493.8,474.2,445.2,763.1,627.9,551.9,519.4,497.8,477,438.7,837.2,682.3,585.79999999999995,537.1,512.20000000000005,492,451.3,981.4,772.5,656.2,577.29999999999995,536,513.1,475,1133.3,891.5,755.2,661,592.5,546.6,501.9,0.80069999999999997,1.0669,1.2273000000000001,0.62119999999999997,0.85570000000000002,1.0244,696.1,0.8619,0,0,0.86329999999999996,0,0,695,"ESP00026990",7.5350000000000001,5836,23.8,22,29.6,61.3,0,843,632.70000000000005,550,1086.5999999999999,788.8,658.9,723.9,0.82879999999999998,750.4,0.79959999999999998,718.9,0.8347]
[null,"ESP770201","E7702","ESP-7702","MIAJA","DUFOUR 40","DUFOUR","FELCI",2002,"C,N,MASNOU",null,"INTL","C",748,"11 01 2018 22:44:34",12.06,10.833,2.0640000000000001,3.89,7805,119.7,0.2,609.6,1.0209999999999999,661.1,0,0,1008.9,818.1,706.1,637.79999999999995,600.1,575.5,554.9,964.5,784,683,626.20000000000005,595.70000000000005,577.1,559.4,845.3,680,590.9,539.1,507.6,487.5,464.2,899.9,718.7,619.6,561.1,525.1,502,474.8,1005.4,767.4,634.20000000000005,555.6,516.70000000000005,487,441,43.9,41.9,41.5,40.6,39.6,39.299999999999997,40.200000000000003,144.9,149.4,151.19999999999999,155,168.8,180,180,1043.9000000000001,863.2,757.7,701.5,679.7,670.3,671.6,681.8,572,509.7,484.5,474.8,470.5,468.2,644.79999999999995,543.1,492.7,472.1,461.9,457.4,454.2,617.20000000000005,522.6,481.3,461.8,448.9,439.3,430.6,623.20000000000005,517.79999999999995,473.7,454.8,444.6,430.8,409.3,622.9,513,468.5,445.8,426.4,410.1,392,642.29999999999995,528.1,475.7,450.5,428.9,408.4,375.3,714.7,581.29999999999995,503,467.2,445.1,423.8,383.3,843.4,669.4,567,501.2,468.3,447.3,407.9,973.9,773,654.4,574.1,520.4,480.8,438.2,0.95599999999999996,1.2552000000000001,1.4116,0.7389,1.0133000000000001,1.1760999999999999,594.70000000000005,1.0087999999999999,0,0,1.0145,0,0,591.4,"ESP00027010",9.9469999999999992,8846,32.1,47.2,42.2,103.1,103.1,706.1,537.79999999999995,478.2,913.5,666.1,573.9,620,0.9677,639.9,0.93759999999999999,611.29999999999995,0.98150000000000004]
[null,"ESP102551","E10255_C","ESP-10255_C","CHUBASCO IV","MANZANITA","GROP","R, HOLLAND",1977,"C,N,LOS NIETOS",null,"CLUB","C",350,"12 01 2018 10:55:04",7.6059999999999999,6.3609999999999998,1.5029999999999999,2.9,1554,125.1,0.06,731.5,0.86080000000000001,784.1,0,0,1180.8,963.6,835.4,754.1,711,690.3,666.4,1128.2,925,813.2,748.4,712.3,692.6,670.2,1005.3,813.4,710.2,649.6,611.79999999999995,586.79999999999995,555,1050.4000000000001,845.9,735.3,670.1,629.5,602.70000000000005,569.79999999999995,1178.7,907,758.5,669.8,622.5,587.1,527.5,41.8,41.2,40.1,38.200000000000003,37.200000000000003,37.1,38.299999999999997,148.6,152.6,154.1,172.4,180,180,180,1202.5999999999999,1008.5,896.7,833.8,806.1,798.5,807.1,800.6,678.9,626.5,600.20000000000005,584,574.5,571,763.4,655,612.70000000000005,587.6,568.4,554.6,546.20000000000005,736.4,639.79999999999995,602.20000000000005,576.1,551.79999999999995,532.70000000000005,511.8,743.9,629.70000000000005,585,552.70000000000005,528.5,514.29999999999995,490.1,740.9,627.5,583.29999999999995,548.4,516.5,489.5,451.2,766.8,640.70000000000005,591.5,557.4,525.20000000000005,495.8,441.5,855.7,699.3,616.6,579.6,547.4,517.5,461.8,1003.8,796.6,675.3,610.29999999999995,576.79999999999995,546.79999999999995,492.7,1159.0999999999999,918.7,774,674.4,615.9,582.1,525.70000000000005,0.80669999999999997,1.0395000000000001,1.1738999999999999,0.62949999999999995,0.85670000000000002,0.98319999999999996,710.9,0.84399999999999997,0,0,0.84689999999999999,0,0,708.5,"ESP00027041",6.3879999999999999,2000,12.9,18.399999999999999,16.399999999999999,36.1,0,836.7,649.4,575,1072.3,787.9,686.5,731.6,0.82010000000000005,758,0.79159999999999997,732.7,0.81889999999999996]
[null,"ESP645701","E6457_C","ESP-6457_C","SUROT","OCEANIS 411","BENETEAU","FINOT",1998,"C,N,CAMPELLO",null,"CLUB","C",1045,"17 01 2018 18:54:36",12.32,11.055999999999999,1.7490000000000001,3.93,8365,129.1,0.28999999999999998,656.6,0.94040000000000001,717.8,0,0,1151.3,914.4,779.8,692,639.79999999999995,606.79999999999995,579.29999999999995,1088.3,872.5,750.7,675.3,632.5,609,588.20000000000005,929.4,739.9,635.4,573.29999999999995,534.70000000000005,510,481.8,929.4,739.9,635.4,573.29999999999995,534.70000000000005,510,481.8,1152.5999999999999,854.8,693.5,593.4,542,506.6,455.4,46.5,45,44.8,44,42.7,42.3,43,147,154,161.69999999999999,168.7,170.7,174.4,178.9,1139,935.3,821.7,747.5,715.5,702,700.4,721.5,601.20000000000005,530,493.9,480.1,474,470.9,669.9,562.4,502.7,476.4,464.3,458.6,454.8,630,531.6,485,463.7,449.9,439.7,428.9,630,530.6,482.1,460.1,444.7,430.5,406.8,699.3,569.6,496.9,466,447.7,430.7,396.3,730.4,598.29999999999995,518.9,477.5,455.7,438.4,403,850.6,673.1,573.6,508.3,473.7,453.7,419.8,1007.7,775.2,646.4,563.6,506.4,473.8,437.7,1163.5999999999999,893.5,737.9,636.6,564.20000000000005,511.6,458.2,0.86409999999999998,1.175,1.3547,0.65349999999999997,0.92879999999999996,1.1162000000000001,637,0.94189999999999996,0,0,0.94179999999999997,0,0,637.1,"ESP00027180",9.5190000000000001,9451,35.6,38.9,61,0,0,781.2,574.5,498.3,1032.9000000000001,726.7,604.70000000000005,637.1,0.94179999999999997,656.6,0.91379999999999995,654.6,0.91659999999999997]
[null,"ESP276201","E2762","ESP-2762","BONA VENTURA","SIROCCO MK 2","MISTRAL","A, PRIMROSE",1979,"C,N,S'a Rapita",null,"INTL","C",350,"19 01 2018 18:59:20",8.9489999999999998,6.8280000000000003,1.9350000000000001,2.89,3225,116.3,0.23,715,0.87639999999999996,770.2,0,0,1127.3,929.7,810.5,743.2,706.2,687.2,663.7,1080.2,892.5,790.9,737.3,709.2,692.4,673.1,971.8,790.1,694.3,639.79999999999995,607.29999999999995,586.70000000000005,562.29999999999995,1017.9,822.8,718.6,658.5,622.20000000000005,599.20000000000005,572.1,1125.0999999999999,875.8,736.4,659.3,619.1,587.6,537.6,40.9,40.6,40,39.1,38.9,38.799999999999997,39,148.4,152.6,153.69999999999999,171.2,180,180,180,1148.9000000000001,972.6,869.6,826.5,812.1,805.9,807.9,773.5,655.9,606.70000000000005,586.9,577.5,573.29999999999995,572,739.5,632.9,593.20000000000005,574.4,562.4,556.6,553,714.3,618.5,583.20000000000005,562.4,546.20000000000005,533.4,522.9,721.9,614.29999999999995,573.5,553.20000000000005,538.6,521.6,498.5,726.1,610.4,568.4,539.79999999999995,515.6,500.2,484.8,749.7,623.29999999999995,575.29999999999995,545.9,518.9,497.1,470.6,823.6,676.7,599.1,565,537.5,511.7,472.2,957.4,768.9,655.1,593.5,563.1,537.29999999999995,492.5,1105.5999999999999,886.9,751.4,659.8,600.4,568.6,519.5,0.83660000000000001,1.0605,1.1698999999999999,0.65629999999999999,0.87439999999999996,0.98799999999999999,700.2,0.8569,0,0,0.86270000000000002,0,0,695.5,"ESP00027287",6.6779999999999999,3748,17.7,25.9,25.1,53.7,0,806.8,636.5,577,1028.5,772,683.2,718,0.8357,740.7,0.81,718.1,0.83550000000000002]
[null,"ESP941101","E9411_C","ESP-9411_C","NUT 1","KELT 8 m,","KELT","GILLES OLLIER",1977,"C,N,VILANOVA",null,"CLUB","C",160,"19 01 2018 20:46:14",8,6.3609999999999998,1.619,2.89,2227,124.5,0.35,756.4,0.83040000000000003,812.9,0,0,1230.4000000000001,1005.9,871.7,783.7,732.4,708.2,684.8,1187.0999999999999,972,851.7,778.6,735.5,712.7,691.8,1045,842.9,733.7,669.8,630.6,605.6,576.6,1108.5999999999999,888.8,768.8,697.7,653.5,625.1,591.79999999999995,1222.9000000000001,943.9,786.6,690.9,640.20000000000005,604.5,549.5,42.7,41.8,41.9,40.299999999999997,39.299999999999997,38.9,39.9,148.4,151.69999999999999,152.19999999999999,169.2,180,180,180,1304.8,1090.0999999999999,965.9,885.2,843.8,829.6,835.1,857.8,724.1,650.5,616.9,598.79999999999995,589.1,586.29999999999995,813.6,688.8,629.79999999999995,602.20000000000005,584.20000000000005,571.6,564.6,780.4,664.3,615.29999999999995,589.6,569.4,552.20000000000005,531.70000000000005,784.8,649.4,596.4,569.4,557.5,545.1,514.20000000000005,761.9,636,587.9,555.9,528.4,508.6,491.5,786.4,647.29999999999995,593.9,560.79999999999995,531,506.3,472.9,862.4,701.9,616.29999999999995,579.79999999999995,549.6,522.20000000000005,478.2,1001.1,798.7,675.9,610.70000000000005,578.5,550.6,503.3,1155.9000000000001,921.7,777.5,682.3,621.1,586.9,534.5,0.77449999999999997,1.0088999999999999,1.1374,0.60370000000000001,0.82440000000000002,0.95679999999999998,732.6,0.81899999999999995,0,0,0.81899999999999995,0,0,732.6,"ESP00027294",6.0259999999999998,2696,16,14.8,22.5,51.6,0,871.5,669,593.5,1118.0999999999999,818.8,705.5,765.2,0.78420000000000001,793.2,0.75639999999999996,756.4,0.79320000000000002]
[null,"ESP652701","E6527","ESP-6527","AURORA","FIRST 36,7","BENETEAU","B,FARR",2001,"R,C,N,CALPE",null,"INTL","C",480,"25 01 2018 21:45:02",10.64,9.5909999999999993,2.2240000000000002,3.46,5635,111.5,0.03,625.79999999999995,0.99690000000000001,677.1,0,0,1005.5,819,712.7,655.7,621,600.20000000000005,576.1,956.3,782.1,690.3,643.79999999999995,618.6,602.20000000000005,579.1,855.4,693.1,607.20000000000005,558.5,529.29999999999995,510.8,487.6,901.4,725.6,631.29999999999995,577,544.1,522.9,496.4,1005.1,771.3,645.29999999999995,576.1,539.79999999999995,511.5,467.8,41.8,40.6,39.700000000000003,38.5,37.9,37.799999999999997,37.9,145.4,150,151.6,157.5,180,180,180,1009.6,841.7,751.1,717.8,704.8,699.5,694.7,671.8,567.5,522.6,507.9,502.5,500,497.3,640.6,546.70000000000005,510.1,495.7,490.2,487.4,485.4,618.1,533.70000000000005,501.4,484.5,473.6,468.1,463.7,624.9,535.9,500.2,480.9,465.3,452.1,437.3,646.29999999999995,536.1,493.5,469.9,450.8,439.7,421.7,665.5,549.1,499.5,473.6,450.6,429.1,404.3,734.3,599,524,490.7,467.4,444.1,400.8,867.2,689.6,584.70000000000005,521.6,491.1,469.2,426.5,1001.4,796.3,674.3,593.5,537.20000000000005,500.9,457.4,0.94969999999999999,1.2154,1.3445,0.7399,0.99319999999999997,1.1318999999999999,613.4,0.97819999999999996,0,0,0.98560000000000003,0,0,608.70000000000005,"ESP00027422",9.1229999999999993,6496,26.7,39.200000000000003,39.5,85.9,0,710.8,555.4,502,912.3,679.6,596.29999999999995,632.70000000000005,0.94840000000000002,651.29999999999995,0.92120000000000002,629,0.95399999999999996]
[null,"ESP438601","E4386_C","ESP-4386_C","BARBABLU","PHOENIX","COMAR","CHANCE",1988,"C,N,CULLERA",null,"CLUB","C",655,"30 01 2018 21:14:32",14.34,12.272,2.3959999999999999,4.3499999999999996,12325,125.6,0.17,567,1.087,621,0,0,924.4,754.1,654.20000000000005,598.1,573.29999999999995,552,520.9,883.9,721.1,632.6,585.29999999999995,560.79999999999995,543.79999999999995,517.20000000000005,779.1,629.5,549.9,504.5,477,459.2,435.6,849.2,678.6,585.4,530.20000000000005,495.9,473.4,445.5,920.8,707.2,588.20000000000005,520.20000000000005,487.2,459.6,416.6,42.8,41.3,40.799999999999997,39.9,39.1,38.700000000000003,38.700000000000003,143.19999999999999,147.19999999999999,147.80000000000001,149.9,151.6,175.4,178.1,960.2,795.4,703.4,656.4,637.79999999999995,629,614,630.70000000000005,530.20000000000005,476.8,455.6,447.1,442.8,438,597.9,504.7,461.8,443.9,434.8,430.3,426.5,573.5,487.4,451.4,434.1,422.2,413.1,404,572.1,476,441.6,429.7,417.7,404.9,384.9,566.9,470.2,434.3,414.1,398.5,388.4,372,582.6,480.4,439.4,417.2,396.9,378.6,357.4,648.29999999999995,527.79999999999995,461.7,432.9,412.6,392.2,355.2,769.6,617.29999999999995,523.79999999999995,467.6,442.5,425.3,395.1,888.6,712.8,604.9,539.9,508.8,474.9,427.8,1.0407,1.3449,1.4958,0.80430000000000001,1.0824,1.2370000000000001,553.79999999999995,1.0834999999999999,0,0,1.0872999999999999,0,0,551.79999999999995,"ESP00027494",11.311999999999999,13596,44.3,70.3,52.8,0,186,648.6,501.9,451.3,839.2,623.6,545.70000000000005,587,1.0221,604.4,0.99270000000000003,568.1,1.0562]
[null,"ESP144781","ITA14478","ITA-14478","ROPIT IV","GRAND SOLEIL 40 C","DEL PARDO","PAPERINI",2000,"C,V,P,Andraitx",null,"INTL","C",700,"02 02 2018 19:03:06",12.016,11.113,2.4449999999999998,3.79,7858,113,0.06,597.6,1.0442,646.4,0,0,975.5,791.5,685.5,625.1,590.6,567.1,541.5,926.4,754.3,661.6,612.6,585.6,567.6,542.9,822.3,664,579.6,531.20000000000005,501.8,482.8,459,868.9,697.1,604.20000000000005,550,516.79999999999995,495.1,467.9,974.8,744.2,618.6,547.4,511.4,483.4,440.6,42.4,40.799999999999997,40.200000000000003,39,38.1,37.6,37.299999999999997,140.5,149.19999999999999,149.80000000000001,155.19999999999999,168.9,180,180,983.1,814.8,723,682.7,665.1,656.5,647,649,545.70000000000005,497.4,480.5,474,470.8,467.5,616.5,522.29999999999995,484.2,468.9,462.6,459,456.4,592.29999999999995,507.4,474.6,458.6,448.1,442.1,436.1,597.79999999999995,509.5,473.2,454.8,440.8,428.6,412.2,618.6,510.4,467.5,445.9,427.9,416,398.7,637.9,524.20000000000005,473,448.4,427.5,407.4,381.5,704,571.9,497,463.8,442.2,420.5,377.9,838.3,665.3,561.20000000000005,495.9,465.1,444.7,404.2,968,768.2,648,567.4,516,477.8,436.1,0.98599999999999999,1.276,1.4238,0.76400000000000001,1.0377000000000001,1.1980999999999999,586.20000000000005,1.0235000000000001,0,0,1.0334000000000001,0,0,580.6,"ESP00027526",10.34,8956,33,48.6,49.8,112.3,104,684.6,529,474.1,883.5,650.5,563.4,605.79999999999995,0.99039999999999995,623.5,0.96230000000000004,601.5,0.99750000000000005]
[null,"ESP651201","E6512_C","ESP-6512_C","PATAPALO III","BAVARIA 36","BAVARIA","JAKOPIN & JAKOPIN",1999,"C,N,CAMPOMANES",null,"CLUB","C",420,"09 02 2018 19:39:46",11.04,9.9109999999999996,2.056,3.61,5692,116.9,0.33,650.79999999999995,0.95120000000000005,709.6,0,0,1079.5,871.6,754.8,686.8,650.79999999999995,619.9,595.1,1025.8,831.9,725.1,666.3,635.20000000000005,614.70000000000005,596.9,902.7,725.9,630.79999999999995,575.70000000000005,542.29999999999995,521.1,496.1,944.8,754.6,650.9,589.9,552.6,529,502.2,1079.0999999999999,818.9,677.6,594.29999999999995,553.20000000000005,520.29999999999995,471,42.8,41.2,40.799999999999997,39.9,39.1,38.799999999999997,39.200000000000003,145.9,147.4,147.1,147.6,169.7,171.8,175.2,1083.3,895.7,789.3,734.8,713.4,704.2,706.7,710.5,596.29999999999995,535.29999999999995,510.3,500.7,496.2,494.1,672.9,567.5,517.79999999999995,497.2,487.2,482.5,479.4,645.1,547.5,505.5,486.1,473,463.6,455.2,651.6,550.79999999999995,505,481,466.7,453.7,432.1,683.2,560.5,503,476.5,455.5,435.6,409.8,708.3,580.20000000000005,512.5,482.5,460.6,438.7,400.1,790.1,637.9,547.4,501.5,477,456.1,414.8,931.6,734,623.79999999999995,553.1,514.29999999999995,491,456.6,1075.7,847.5,720.3,638.70000000000005,588.29999999999995,535.70000000000005,483.4,0.89539999999999997,1.1761999999999999,1.3203,0.69189999999999996,0.94289999999999996,1.0916999999999999,634.1,0.94620000000000004,0,0,0.94940000000000002,0,0,632,"ESP00027658",9.0850000000000009,6605,26.9,31.3,40.9,0,68.2,753.9,573.9,511.2,975.6,715.9,618.29999999999995,651.29999999999995,0.92120000000000002,672.3,0.89249999999999996,652,0.92030000000000001]
[null,"ESP101301","E10130_C","ESP-10130_C","PORT BO I","SUN ODYSSEY 29,2","JEANNEAU SA","FAUROUX Jacques",1999,"R,C,N,PALMA",null,"CLUB","C",320,"09 02 2018 19:39:46",8.5,7.7,1.3620000000000001,2.95,2722,121.6,0.35,742,0.8417,802,0,0,1243.3,1001.5,865.8,773.2,716.7,692.3,676.9,1200.2,971.8,845.2,767,721.4,699.4,683.7,1037,831,718.9,653,612.9,588,560.6,1113.4000000000001,884.9,758.8,683.6,637.4,608.5,577.20000000000005,1233.0999999999999,937.2,775.6,673.9,620.20000000000005,585.29999999999995,529.1,43.9,42.4,42.2,41.8,40.700000000000003,40.5,41.8,147.6,151.4,153.19999999999999,160.69999999999999,180,180,180,1344.8,1102.5999999999999,971.6,881.3,834.6,823.4,841.2,873.4,728.8,642.79999999999995,596.70000000000005,576.4,568.1,569.20000000000005,823.4,690.8,614.20000000000005,578.5,560.9,551.1,548.4,786.7,660.7,594,565.1,546.6,532.4,515.4,755.8,622.1,566,541.79999999999995,529.9,521.70000000000005,493.8,741.7,612,559.70000000000005,531,504.9,482.1,459.2,764.3,627,566.5,537,509.8,483.2,439.3,844.1,686,594.6,555.29999999999995,528.70000000000005,501.9,451.6,988.8,780.2,660.6,587.9,553.79999999999995,529,479.8,1141.8,900.3,759.9,665.1,598.79999999999995,561.29999999999995,512.70000000000005,0.77810000000000001,1.0345,1.1728000000000001,0.60140000000000005,0.83440000000000003,0.97450000000000003,718.2,0.83540000000000003,0,0,0.83620000000000005,0,0,717.5,"ESP00027700",6.7210000000000001,3341,17.899999999999999,18.7,16.899999999999999,48,0,867.5,652.5,575.5,1122.4000000000001,809,692.7,753,0.79679999999999995,784.3,0.76500000000000001,741.9,0.80869999999999997]
[null,"ESP827101","E8271","ESP-8271","UXAMA","MALBEC 360 R","OCEANTECH","P, MASTRACCHIO",2006,"R,C,MEDITERRANEO",null,"INTL","C",640,"15 02 2018 17:55:36",10.73,10.11,2.0219999999999998,3.38,6036,113,0.06,618.20000000000005,1.0102,668.2,0,0,1008.6,818.1,706.8,645.6,609.79999999999995,586.9,560.6,961.5,782.4,685.4,634.70000000000005,606.6,587.79999999999995,561.9,850.9,687,599.6,549.5,519.1,499.4,474.8,901.8,723,626.20000000000005,569.9,535.29999999999995,512.9,484.7,1006.2,769,638.4,566.20000000000005,528.79999999999995,499.6,455.9,43,41.5,41.1,39.700000000000003,38.799999999999997,38.299999999999997,38.1,145.19999999999999,149.6,150.69999999999999,156.6,173.7,180,180,1033,855.4,753.7,710.8,692.3,682.9,673.9,678,569.4,515.79999999999995,497.8,491.3,488.1,484.8,642.79999999999995,544.1,502.2,485.7,479.2,475.9,473.5,616.9,528,492.9,475.1,463.6,457.6,452.3,623.29999999999995,530.70000000000005,492.3,472.9,457.2,443.5,427.8,638.4,526.79999999999995,483.6,460.2,442.9,431.4,412.2,654.4,538,488.6,462.7,439.2,417.8,393.9,719,584.20000000000005,511.5,479.1,455.8,431.8,385.8,852.4,676.3,571.70000000000005,509.2,479.6,457.9,414,984.2,780.9,659.8,580.29999999999995,527.20000000000005,490.8,447.3,0.95250000000000001,1.2337,1.3762000000000001,0.73899999999999999,1.0054000000000001,1.1583000000000001,607.29999999999995,0.98799999999999999,0,0,0.99960000000000004,0,0,600.29999999999995,"ESP00027826",9.468,6960,28.5,40.200000000000003,42.7,98.1,0,708.7,547.1,490.5,913.4,671.4,582.79999999999995,627.5,0.95620000000000005,646.4,0.92820000000000003,623.4,0.96240000000000003]
[null,"ESP727301","E7273","ESP-7273","FERRER Y GARCIA","X-37","X-YACHTS","JEPPESEN",2004,"R,C,N, ARRECIFE",null,"INTL","C",680,"23 02 2018 17:23:42",11.345000000000001,10.305,2.0449999999999999,3.47,7062,120.1,0.13,619.6,1.0026999999999999,673.2,0,0,1006.2,819.4,712.1,651.6,615.79999999999995,593.4,571.1,958.7,783.7,689.2,639.6,613,596.29999999999995,575.29999999999995,850.8,687.7,601,551.5,521.79999999999995,503,480.6,898,721,625.5,570.1,536.5,515,489,1004.8,770.1,641.79999999999995,569,531.6,502.9,458.4,42.7,41.3,41.3,40.299999999999997,39.6,39.4,39.4,145,149.80000000000001,151.4,155.9,172.4,180,180,1020,850.8,756.8,717,701.3,695,691.8,671.5,566.1,514.5,496.2,489.8,487,486.8,637.79999999999995,540.5,499.6,483.4,476.8,473.6,471.9,612.9,524,489.2,472.4,461.5,455.1,449.7,619.70000000000005,527,489.1,469.9,455.6,443.2,425.8,641.6,528.29999999999995,482.6,460.1,441.8,430,412.3,659.8,541.9,488.8,463.6,442.9,422.7,395.8,727.9,593.4,514.9,480,458.3,437.4,396.3,859.4,682.5,578.5,512.79999999999995,480.8,460.2,421,992.3,788.1,667.5,586.1,530.4,491.7,450.3,0.95320000000000005,1.23,1.3655999999999999,0.73950000000000005,0.99729999999999996,1.1428,608.1,0.98670000000000002,0,0,0.99539999999999995,0,0,602.79999999999995,"ESP00027963",9.49,8031,29.8,41,44.9,95.4,0,708.1,548.79999999999995,494.3,912.8,676.8,590.70000000000005,627.5,0.95620000000000005,645.5,0.92949999999999999,623.1,0.96299999999999997]
[null,"ESP762601","E7626_C","ESP-7626_C","ALVEDRO II","BAVARIA 46 CR","BAVARIA YACHTS","JAKOPIN",2005,"C,N,JAVEA",null,"CLUB","C",968,"02 03 2018 21:08:54",13.99,12.647,2.0710000000000002,4.4000000000000004,12325,119.6,0.32,594.6,1.034,652.79999999999995,0,0,1012.4,813.7,701.2,627.20000000000005,588.29999999999995,567.1,531,969,781.3,675.9,611.70000000000005,575.79999999999995,555.4,526.29999999999995,834.9,667.5,575.9,521.70000000000005,488.2,466.3,438.6,894.8,710,607.20000000000005,544.79999999999995,505.3,479.4,448.5,1007.4,761.9,625.20000000000005,538.9,495.7,465.8,416.9,45.3,43.6,43.1,42.4,41.3,40.5,40.9,144,147.6,147.5,148.19999999999999,149.4,174.1,177.6,1063.0999999999999,869.8,762.1,690,653.1,635.79999999999995,624.4,680.6,567.20000000000005,499.7,463,446.1,438.7,433,636.29999999999995,534.79999999999995,475.9,447.8,433.7,425.8,419.6,602.70000000000005,509.4,459.7,436.9,423.1,412.4,398.6,606.5,511.5,453.8,428.4,415.1,407.5,384.7,614.9,502.2,446,421.4,403,385.6,362.1,630.9,515.5,453.4,425.8,406.5,387.3,352.7,703.3,564.9,484.2,442.6,420.8,402.6,366.1,832.9,656.2,554.5,488.7,453.4,433.5,406.5,961.7,757.7,640.29999999999995,564.29999999999995,523.5,498.5,437.6,0.96350000000000002,1.2938000000000001,1.4794,0.73929999999999996,1.0263,1.2078,578,1.0381,0,0,1.0410999999999999,0,0,576.29999999999995,"ESP00027993",11.006,13658,44.4,50.9,66.099999999999994,0,151.69999999999999,700.6,521.70000000000005,456.3,913,657.7,558.9,608.70000000000005,0.98580000000000001,627.4,0.95630000000000004,595.5,1.0076000000000001]
[null,"ESP765802","E7658","ESP-7658","CABO NEGRO UNO","FIRST 36,7","BENETEAU","B,FARR",2001,"R,C,MEDITERRANEO",null,"INTL","C",490,"16 03 2018 19:32:32",10.64,9.5890000000000004,2.2240000000000002,3.46,5627,111.7,0.01,620.9,1.0014000000000001,674,0,0,991.6,811,707,652.6,620,600.70000000000005,576.4,945,775.2,686.6,642.4,618.4,602.70000000000005,579.29999999999995,845.4,686.4,602.70000000000005,555.5,527.29999999999995,509.2,486.1,899.4,724.5,630.9,577.1,544.5,523.6,497.2,990,763.2,640.1,573.70000000000005,538.29999999999995,510.1,465.7,41.9,40.700000000000003,40,38.799999999999997,38.299999999999997,38.200000000000003,38.4,144.80000000000001,148.19999999999999,151,157.80000000000001,180,180,180,1007.3,841.3,752.9,721.4,709.7,705.1,700.5,669.8,566.5,522.5,508.4,503.1,500.8,497.7,638.4,545.6,509.8,495.8,490.4,487.7,485.4,615.70000000000005,532.4,500.8,484.1,473.4,467.9,463.5,622.1,529.29999999999995,494.8,480.1,464.5,451.3,436.7,625.20000000000005,523.9,487.5,465,447.1,435.8,417.5,643.9,536,493.3,467.9,444.6,423.2,399,713.5,583.6,515.79999999999995,485.3,461.5,437.3,393.4,845.1,676.1,573.20000000000005,514.20000000000005,485.9,463.6,419.9,975.9,780.7,661.2,583.70000000000005,530.4,496.3,452.3,0.96220000000000006,1.2223999999999999,1.3479000000000001,0.74890000000000001,0.99880000000000002,1.1316999999999999,610.5,0.98270000000000002,0,0,0.99150000000000005,0,0,605.20000000000005,"ESP00028209",9.0779999999999994,6488,26.7,39.799999999999997,39.6,91.3,97.2,701.5,552.20000000000005,500.8,901.3,675.8,596.4,632.79999999999995,0.94820000000000004,650.79999999999995,0.92190000000000005,624.79999999999995,0.96040000000000003]
[null,"ESP104631","E10463","ESP-10463","JUAN DE LANGARA","SYDNEY 40","BASHFORD BOATS","URNS CHUCK / MURRA",1998,"M,SALINAS",null,"INTL","C",725,"21 03 2018 21:12:20",12.47,11,2.7160000000000002,3.73,5389,112.5,0.02,557.20000000000005,1.1151,605.29999999999995,0,0,909,732.6,638.5,589.4,560.20000000000005,532.6,505.1,859.5,695.5,615.29999999999995,575.70000000000005,550.1,526.1,502.3,766.3,619,540.70000000000005,495.4,466.9,447.2,420.6,822.7,658.7,570,517.70000000000005,484.5,462,433.2,909.5,689.7,577.20000000000005,514.29999999999995,478.9,447.9,403,41.9,40.5,38.5,37.799999999999997,37.299999999999997,36.299999999999997,36.700000000000003,141.6,146,148.30000000000001,155.30000000000001,167.7,180,180,903.7,737.9,667.6,643.20000000000005,631.20000000000005,611.6,608.79999999999995,598.5,498.5,467.4,458.2,453.5,447.3,441,568.79999999999995,482,455,445.4,440,436.8,425.5,547.9,472.4,444.4,427.1,417.9,412.2,400.6,558.1,475.9,445.7,422.3,402.5,389.6,378.4,572.70000000000005,473.6,436.2,409.8,394.3,379.8,354.8,592.6,484.2,442.6,410.7,382.3,364.1,337.2,663.1,531,466.4,435.1,404.9,375.9,316.10000000000002,791.7,629.9,527.79999999999995,468.7,438.4,410.6,356.5,914.2,727.4,609.4,535.70000000000005,489.2,453.5,401.4,1.0624,1.3641000000000001,1.5385,0.82240000000000002,1.1057999999999999,1.2756000000000001,551.29999999999995,1.0883,0,0,1.1080000000000001,0,0,541.5,"ESP00028318",10.89,6403,30.4,56.6,33.700000000000003,107.4,0,635.4,494.8,438.7,820.8,610.4,529.20000000000005,571.9,1.0491999999999999,588.20000000000005,1.0201,564.4,1.0629999999999999]
[null,"ESP104251","E10425_C","ESP-10425_C","DESIREE","AZUREE 46","SIRENA MARINE","HUMPHREYS YACHT DE",2014,"C,N,CALPE",null,"CLUB","C",1008,"30 03 2018 12:31:54",13.99,13.247,2.625,4.26,11435,140.6,0,531.29999999999995,1.1577,583,0,0,874.3,706,613.20000000000005,563.20000000000005,537.9,517.9,486.9,827,670.3,588.9,547.29999999999995,524.29999999999995,507.1,478.7,730.6,590.1,515.4,472.5,446.1,428.4,403.9,772.4,620.1,537.6,488.8,458.1,437.4,410.2,874.8,663.1,552,489,456.5,429.1,385.5,43.2,41.7,40.6,39,38.1,38,37.4,142.4,145.69999999999999,148.1,149.9,151.5,175.1,178.1,869.4,714.4,637.5,604.70000000000005,588.29999999999995,578.5,565,567.4,474.6,437.3,424.2,417.9,414.2,409.6,534.5,454.3,425.4,413,406.7,402.8,398.6,509.4,441.4,416.6,401.7,390.7,383.7,375.4,513.1,442.5,415.7,398.9,383.5,369.4,350.5,551.5,453.5,415.3,393.7,374.3,362.5,340.8,569.20000000000005,464.9,421.4,398.4,376.2,353.9,324.39999999999998,637.70000000000005,514.20000000000005,445.9,415.5,394.6,372.7,328,761.5,604.1,510.1,451.7,423.7,405.9,372.5,879.2,697.6,589,521.6,487.5,457.3,408.8,1.1116999999999999,1.4339,1.6046,0.85429999999999995,1.153,1.3203,523.5,1.1459999999999999,0,0,1.1593,0,0,517.5,"ESP00028417",12.722,12828,44.3,74.400000000000006,75.599999999999994,0,159.9,607.20000000000005,470.7,420.7,790.1,585.4,511.2,541.70000000000005,1.1076999999999999,554.5,1.0821000000000001,536,1.1194]
[null,"ESP781301","E7813_C","ESP 7813_C","BLUE JACQ","WPS 40","WAUQUIEZ","BERRET JEAN",2004,"C,N,LA OLIVA",null,"CLUB","C",500,"07 04 2018 11:49:52",12.48,11.776999999999999,2.1080000000000001,3.96,11830,137.1,0.47,630.70000000000005,0.98099999999999998,688,0,0,1051.3,849.9,742.3,669.9,626,593.20000000000005,555,1001.2,814.8,712.3,648.4,609.4,584.70000000000005,555.5,877.8,705.5,611.6,555.9,521,498.1,469.3,929.8,741.2,636.79999999999995,573.79999999999995,533.9,507.7,476.7,1049.2,798.6,663.6,576.20000000000005,530.1,497.3,450.1,43.6,41.2,40.4,40.799999999999997,40.299999999999997,39.1,38.299999999999997,144.4,147.80000000000001,147.80000000000001,147.1,149.19999999999999,175.6,178.6,1071.7,886.3,786.1,720.4,680.5,660.7,644.4,698.6,593.9,527.1,491.9,475.1,466.6,459.8,661.4,565.70000000000005,505,477.9,463.9,455.4,447.4,634.5,543.70000000000005,490.7,467.5,454.3,444.4,429.9,639.70000000000005,543.20000000000005,483.1,458.2,443.9,436.4,420.2,649.79999999999995,540.9,480.9,455.7,439.2,424.1,396.8,672.3,560.1,491.6,461.4,443.7,427.9,395.9,752,613.70000000000005,530.79999999999995,481.3,457.4,441.1,409.9,892.7,704.5,604.9,536.4,494.8,470.2,442.2,1030.8,813.5,698.4,619.4,571.4,525.70000000000005,465.7,0.91879999999999995,1.2132000000000001,1.3849,0.71009999999999995,0.96699999999999997,1.1497999999999999,614.5,0.97629999999999995,0,0,0.98029999999999995,0,0,612.1,"ESP00028472",10.185,13037,39.6,48.9,46.2,0,102.3,734.7,556.4,487.4,950.6,698,587.1,636,0.94330000000000003,657.5,0.91249999999999998,632.5,0.9486]
[null,"ESP165481","ITA16548_C","ITA-16548_C","STAMITZ","SOLARIS ONE 48","Solaris","Tripp",2007,null,null,"CLUB","C",420,"20 04 2018 17:18:50",14.9,14.324,2.5499999999999998,4.4000000000000004,13645,125.2,0.08,537.20000000000005,1.1372,593.6,0,0,897.3,723,629.1,573.29999999999995,542.4,524.29999999999995,487.2,847.9,686.7,602.1,555.5,529,511.7,478.5,741.9,598,521.1,476.4,448.8,429.9,403.3,816.5,649.5,557.4,502.3,467.3,443.9,413.8,897.9,677.6,562.70000000000005,494.4,458.5,431.1,386.1,44.3,42.4,41.3,39.9,38.799999999999997,38.200000000000003,37.299999999999997,142.1,145.6,148.19999999999999,148.9,150.4,174.2,178,890.4,731.6,654.6,615.29999999999995,593.6,581.9,563.9,575.29999999999995,481.4,439.9,424.9,417.2,412.5,406.7,538,455.2,423.4,411.7,405,400.8,395.4,505.1,435.8,410.8,397.5,389.5,383.6,375,502,434.5,409.7,394.6,381.1,368.7,353.6,560.1,461.3,415.9,394.4,375.6,361.7,330.6,581.5,475.3,423.1,399.2,379.1,358,325.60000000000002,654.20000000000005,526.79999999999995,453.3,416.6,395.9,376,333.8,783,618.70000000000005,522.70000000000005,460.2,425.7,406.7,376.4,904.1,714.4,603.6,531.29999999999995,491.2,466.7,410.5,1.0932999999999999,1.4204000000000001,1.6007,0.83320000000000005,1.1313,1.3109,525.70000000000005,1.1412,0,0,1.1442000000000001,0,0,524.4,"ESP00028608",13.051,15249,50.4,76.400000000000006,61.6,0,165.8,617.4,475.2,421.7,810.1,596.70000000000005,514.9,559.79999999999995,1.0717000000000001,575.9,1.0418000000000001,538.29999999999995,1.1146]
[null,"ESP754401","E7544","ESP-7544","JAMBO","FIRST 36,7","BENETEAU","FARR",1998,"R,C,N,DENIA",null,"INTL","C",450,"27 04 2018 19:40:58",10.64,9.5549999999999997,2.278,3.46,5524,117.3,0.05,625.9,0.98809999999999998,683.1,0,0,1003.8,819.2,713.1,661.6,635.79999999999995,610.5,585.29999999999995,958.6,784,691.6,645.9,622.20000000000005,604.70000000000005,583.1,853.8,692.3,607.29999999999995,559.5,531.1,513,490.1,913.7,733.7,636.79999999999995,580.6,546.5,524.79999999999995,498.5,1001.5,770.2,644.6,577.6,543,513,467.7,42.1,40.799999999999997,40.1,38.700000000000003,38.1,38.1,38.799999999999997,144.69999999999999,148.1,148.19999999999999,149.69999999999999,174.3,176.9,178.2,1027.5999999999999,855.2,758.9,719,705.5,700.7,696.3,681.3,574.20000000000005,524.9,507.3,501.4,498.7,496.1,648.20000000000005,551.1,511.7,495.4,488.8,485.5,483.9,623.5,536.4,502.5,484.6,472.4,465.4,459.8,629.70000000000005,530.5,494.2,481.5,465.2,450.7,432.8,629.1,525.79999999999995,488.1,464.4,445,433.5,414.9,648.4,538.4,494.4,468.6,444.2,422.1,396.3,720,587,517.29999999999995,486.2,462.2,438,393.8,848.8,678.2,577.9,523.20000000000005,496.3,477.8,439.9,980.1,783.1,667.3,604.20000000000005,566.20000000000005,520.29999999999995,474.4,0.95220000000000005,1.2142999999999999,1.3372999999999999,0.74050000000000005,0.98480000000000001,1.1113,613.29999999999995,0.97829999999999995,0,0,0.98429999999999995,0,0,609.6,"ESP00028705",9.09,6380,26.6,39.6,36.799999999999997,0,96.5,708.9,555.9,504.7,911.5,685.4,607.4,638,0.9405,657.1,0.91310000000000002,628.4,0.95479999999999998]
[null,"ESP28001","URU280_C","URU-280_C","BATUCADA","SUN ODYSSEY 57","Jeanneau","BRIAND",2011,"C,Y,PUNTA DEL ESTE",null,"CLUB","C",800,"08 05 2018 17:08:32",17.28,16.236000000000001,2.0960000000000001,5,19750,134.5,0.3,524.79999999999995,1.1748000000000001,574.6,0,0,910,728.8,618.29999999999995,553,513.9,489,458.1,863.9,690.6,592.5,535.9,503.7,483.4,456.1,742.4,591.20000000000005,508,458.4,427.2,406.4,379.2,788.4,624.4,533.29999999999995,478.3,443.2,419.7,390,908.2,682,551,474.5,434.7,405.7,360.8,45.4,43.7,42.7,42.1,40.700000000000003,39.799999999999997,40,140.30000000000001,145.9,145.9,150.19999999999999,154.5,161.80000000000001,180,928.5,751.2,651.29999999999995,597.1,569.79999999999995,554.70000000000005,541,592.20000000000005,487.4,428.8,402.2,391.5,385.7,379.9,551.1,459.1,410,389.5,379.7,374.3,368.4,519.6,436.9,397.4,379.8,368.1,359,347.9,522.5,438.9,396.7,377.6,364.3,352,329.6,571.1,460.3,400.4,375,357.7,341.6,320.8,584.9,470.3,406.7,378.1,359.4,340.4,307,647.9,514.20000000000005,437.5,394.9,373.1,355.3,317.7,772.1,611.79999999999995,506.9,440.7,400.6,377.6,344,891.5,706.4,585.4,508.9,458,423.4,375.2,1.0805,1.4696,1.7,0.82379999999999998,1.1645000000000001,1.3956,509.9,1.1766000000000001,0,0,1.1783999999999999,0,0,509.2,"ESP00028810",14.372999999999999,21704,64.5,78.599999999999994,106.6,223.2,0,624.70000000000005,459.3,397.1,819.4,579.6,483.7,536.1,1.1193,551.4,1.0881000000000001,525.29999999999995,1.1422000000000001]
[null,"ESP101852","E10185","ESP-10185","ELMER PRIMERO","FIRST 285 Q,B,","Beneteau","Finot",1986,"R,Y,C,",null,"INTL","C",500,"14 05 2018 19:55:48",8.43,7.5250000000000004,1.597,3.02,2955,102.3,0.38,767.2,0.8155,827.7,0,0,1305.7,1044.8,901.1,801.7,733.9,702.3,684.1,1263.5999999999999,1016.7,880.5,794.4,739.5,710.9,691.8,1081.5,862.9,742.9,671.4,627.29999999999995,599.6,569.70000000000005,1161.7,919.6,784.7,703.1,652.1,619.9,586.6,1293.5999999999999,976.8,805.1,695.3,633.6,595.29999999999995,539.29999999999995,44,42.5,42.1,42.3,41,40.5,41.3,148.19999999999999,152,153.80000000000001,160.19999999999999,180,180,180,1427.1,1160.3,1019.9,922,856.6,833.5,844.6,924.7,766,673.8,615.79999999999995,588,576.1,574.20000000000005,869.9,726.1,639.1,594.20000000000005,571.5,559.79999999999995,553.70000000000005,829.5,688.6,610.4,577.79999999999995,558.6,542.6,522.79999999999995,782.3,640.79999999999995,576,550.29999999999995,536,528.9,504.8,768.3,630.4,571,541.6,515.70000000000005,493.5,469.1,791.9,647.1,578.29999999999995,548,522.4,496.4,455.1,881.1,711.2,610.29999999999995,566.29999999999995,539.9,514.6,467,1025.7,806,680.4,600.9,564,539.6,492.8,1184.3,929.2,782.4,681.4,611.1,571.1,523.70000000000005,0.74439999999999995,1.0034000000000001,1.1525000000000001,0.57430000000000003,0.8054,0.95960000000000001,743.3,0.80720000000000003,0,0,0.81010000000000004,0,0,740.7,"ESP00028893",6.3860000000000001,3564,18.100000000000001,19.399999999999999,15.4,45.4,0,906.8,672.7,585.70000000000005,1175.3,838.1,703.4,777.3,0.77190000000000003,811.4,0.73950000000000005,768.4,0.78090000000000004]
[null,"ESP974302","E9743","ESP-9743","SWAHILI","DUFOUR 34","DUFOUR","Felci Yachts",2007,"R,C,N,BARCELONA",null,"INTL","C",682,"22 05 2018 10:46:36",10.3,9.5069999999999997,1.9610000000000001,3.48,5447,111.8,0.25,647.29999999999995,0.96689999999999998,698.1,0,0,1065.3,864.5,746.2,672,632,609,590.20000000000005,1018.1,828.9,722.8,662.2,630.20000000000005,612,595.1,895.7,721.4,627.5,573.1,540.20000000000005,519.29999999999995,495.5,946.6,757.4,654.29999999999995,593.79999999999995,556.9,533.5,506.4,1061.5999999999999,811.8,672.1,589.1,549,518.9,471.6,43.1,41.4,41.3,39.799999999999997,38.9,38.5,39.1,146,150.4,151.30000000000001,157.1,175.1,180,180,1101.8,913.6,803.3,740.2,717.7,709.1,713.9,721.6,607,543.1,517.20000000000005,506.8,502.8,501.1,683,577.1,526.20000000000005,505,494,489.3,486.5,653.70000000000005,556,514.79999999999995,494.5,480.6,470.3,461.3,659.8,558.4,508.9,488.3,476.9,461.7,438.4,665.8,549.6,502.7,478.2,456.9,439.3,420.5,684.4,563.1,509,482.8,459.5,437,402.7,752.9,613.5,533.70000000000005,498.8,476.1,453.6,410.1,890.9,706,597.4,530.20000000000005,498.9,477.5,435.8,1028.7,815.3,689.1,603.79999999999995,546.29999999999995,508.9,466.4,0.90249999999999997,1.1813,1.3246,0.6996,0.96050000000000002,1.1107,631.79999999999995,0.9496,0,0,0.95660000000000001,0,0,627.20000000000005,"ESP00029008",8.8230000000000004,6286,25.6,34.799999999999997,33.6,79.3,0,747.9,571.4,509.6,964.8,702.8,607.70000000000005,653.6,0.91800000000000004,675.6,0.8881,649.5,0.92369999999999997]
[null,"ESP10701","E107_C","ESP-107_C","QUIMERA","OCEANIS 60","BENETEAU","BERRET-RACOUPEAU",2015,"R,C,N,VIGO",null,"CLUB","C",600,"29 05 2018 17:06:32",17.75,15.914,2.6989999999999998,4.99,21742,134.9,0.33,538.9,1.1435,590.29999999999995,0,0,933.2,744.1,636.6,567.79999999999995,526.9,506.2,473,885.9,708.6,608.9,548.29999999999995,513.4,494.3,466.2,763.5,607.4,521.5,470.4,438.7,418,391.9,830.1,654.29999999999995,555.6,495.5,457,431.6,400.7,930.9,697.2,567.1,486.2,444.6,417.3,373.5,44.2,42.4,41.4,40.799999999999997,40,39.299999999999997,39.299999999999997,142.1,145.80000000000001,147.9,147.9,149.1,151,177.4,956.1,773.1,670.8,608.1,573.6,558.5,546.20000000000005,618,510.5,447.1,413,397.4,390.2,384.5,580.79999999999995,484.2,427.4,400.3,386.9,379.3,373,553.79999999999995,464.6,414.4,391.4,378.3,368.6,355,560.70000000000005,460,406.2,383.5,373.7,366.2,345.7,563.5,458.8,403.2,379.4,363.5,348.6,330,582.70000000000005,474,412.8,384.8,367.6,351.4,319.3,658.1,527,450.3,405.1,382.3,366.1,333.6,788.3,619.29999999999995,521.6,456.8,415.8,394,367.2,910.3,715.2,602.29999999999995,527.4,480.2,453.9,399.8,1.0509999999999999,1.4330000000000001,1.6529,0.80489999999999995,1.1341000000000001,1.3529,521.79999999999995,1.1498999999999999,0,0,1.1500999999999999,0,0,521.70000000000005,"ESP00029111",13.987,23656,63.1,86.3,66.099999999999994,0,185.1,642.20000000000005,471,408.4,838.6,595.20000000000005,498.9,557.20000000000005,1.0768,574.9,1.0437000000000001,538.9,1.1133999999999999]
[null,"ESP104421","E10442_C","ESP-10442_C","BIBLOCO","HANSE 331","HANSE","SODERGREN HAKAN",1992,"M,M,URRUTIA",null,"CLUB","C",360,"01 06 2018 17:05:08",10.039999999999999,8.3989999999999991,1.8,3.1,5098,123.3,0.42,707.7,0.87780000000000002,769,0,0,1157,939.5,819.6,743.8,698.7,676.1,652.1,1113.9000000000001,909.4,799.6,737.5,703.4,684.7,661.2,976.5,787.4,686.2,628.1,593.4,571.79999999999995,546.70000000000005,1047.5999999999999,836.7,721.6,654.1,613.1,587.6,559.1,1150,880.9,735.5,648.29999999999995,603.1,570.6,519.79999999999995,43,41.2,41.1,42,41.9,41.8,41.8,147,151.5,153,159,180,180,180,1227.8,1018,909.3,848,822.3,813.6,808.4,807.3,681.5,605.9,571.6,557.6,552.9,551,766.7,648.29999999999995,580.9,553.5,540.5,535,532.70000000000005,737.3,622.5,563.6,539.29999999999995,525,515.1,505.9,714.1,593,544.79999999999995,530.70000000000005,518.70000000000005,505,483.3,705.8,583.20000000000005,535.79999999999995,512.20000000000005,494,483.5,468.4,727.5,598.20000000000005,541.6,515.5,494.2,474.1,451.2,802.7,657,569.70000000000005,532.4,509,486.8,446.3,940.7,746.2,634.4,563.79999999999995,531.29999999999995,509.4,467.9,1086.3,860.9,730,639.6,575.1,538.5,495.7,0.82930000000000004,1.0798000000000001,1.2022999999999999,0.64390000000000003,0.872,1.0034000000000001,690.5,0.86890000000000001,0,0,0.87339999999999995,0,0,687,"ESP00029166",7.3010000000000002,5808,22.4,31.2,22.6,67.900000000000006,0,813.9,625.1,561.4,1048.3,774.1,672.7,720.1,0.83320000000000005,745.4,0.80489999999999995,710.3,0.84470000000000001]
[null,"ESP603801","E6038_C","ESP-6038_C","MALASPINA","GRAND SOLEIL 463SK","DEL PARDO","JAKOPIN",1998,"C,N,LICEO BOUZAS",null,"CLUB","C",700,"08 06 2018 19:21:08",13.98,12.005000000000001,2.2149999999999999,4.4000000000000004,11038,124.2,0.04,571.79999999999995,1.0882000000000001,620.29999999999995,0,0,942.1,767.6,662.2,599.6,564,538.70000000000005,513.4,895.9,730.1,637.6,585.79999999999995,556.70000000000005,537.20000000000005,514.9,790,637.1,554.70000000000005,506.4,476.5,456.7,432.3,830.5,666.6,577.20000000000005,524.20000000000005,491,469.2,442.4,941.3,720.7,595.9,523.20000000000005,485.9,457.3,413.3,43.5,42.2,41.4,40,38.700000000000003,38.6,38.299999999999997,141.30000000000001,148.80000000000001,149.19999999999999,153.80000000000001,161,180,180,950.5,790.7,697.1,650.1,627.5,615.20000000000005,606.79999999999995,620.4,523.20000000000005,473.6,453.5,444.7,439.8,435.4,586.4,498.8,460.1,443.3,433.8,428.5,423.2,560.9,482.8,451,434.5,422.2,412.2,401.4,564.29999999999995,483.8,449.6,431.8,417.6,404.5,383.3,599.79999999999995,493,446.9,424.8,406,389.3,371.5,614.29999999999995,504.9,452.9,428.5,408.2,388.7,357.1,682.6,552.4,478.3,443.8,423,403.3,365.6,808.6,644.79999999999995,543.29999999999995,479,445.7,425.9,389.4,933.7,744.6,627.4,549,500.5,462.1,420,1.0237000000000001,1.3343,1.5076000000000001,0.78959999999999997,1.079,1.2605,558.20000000000005,1.0749,0,0,1.079,0,0,556.1,"ESP00029220",11.278,12247,40.4,50.5,83.6,0,157.9,659.4,505.9,447.7,854.9,625.6,535.5,579.70000000000005,1.0350999999999999,595.4,1.0077,573.4,1.0464]
[null,"ESP8139R1","E8139_R","ESP-8139_R","PULPO NEGRO","DUFOUR 34","DUFOUR","FELCI",2003,"R,C,R,CARTAGENA",null,"INTL","C",160,"21 06 2018 09:46:30",10.3,9.452,2.13,3.48,5239,111.9,0.27,650.29999999999995,0.94820000000000004,711.9,0,0,1047.4000000000001,852.7,745.9,691.1,663,635.1,606.79999999999995,1000,817.5,722.6,674.9,649.79999999999995,631.1,607.29999999999995,888.9,719.8,630.79999999999995,580.79999999999995,551.20000000000005,532.4,509,949.2,761.1,659.7,601,565.4,542.9,515.79999999999995,1045.0999999999999,801.5,671.8,600.29999999999995,563.4,531.9,485.2,42.2,40.799999999999997,40.5,40,39.5,39.299999999999997,39.4,145.30000000000001,147.9,147.6,148.9,174.5,176.8,178.5,1070.7,891.2,798,758.1,742.6,736.4,727.9,708.4,598.20000000000005,543.70000000000005,524,517.20000000000005,514.1,510.4,673.8,571.5,526.9,509.4,502.6,499.2,497.4,648.29999999999995,553.1,514.70000000000005,496.8,485.7,479.4,474.3,656.2,551,509.1,493.6,478.7,466.2,449.1,656.5,544.6,501.9,479.2,463.3,453.5,435.8,677.8,559.4,508,482.6,460.4,439.3,417,752.7,612.20000000000005,533.70000000000005,498.9,475.8,453,410.5,886.9,705.2,600.79999999999995,540.5,509.6,490.4,454.3,1024.2,814.3,693.7,624.1,583.4,533.79999999999995,485.7,0.91439999999999999,1.1701999999999999,1.2884,0.71050000000000002,0.94299999999999995,1.0689,633.29999999999995,0.94750000000000001,0,0,0.94720000000000004,0,0,633.5,"ESP00029305",8.6059999999999999,6075,25.6,34.5,32.4,0,77.8,738.2,576.79999999999995,523.9,950,715.8,631.5,660.8,0.90800000000000003,681,0.88109999999999999,650.20000000000005,0.92279999999999995]
[null,"FIN12655","L12655","FIN-12655","Adela","Sinergia 40","Sinergia","Botin",2001,"HTPS",null,"INTL","C",720,"09 05 2018 15:18:04",12.09,10.836,2.4079999999999999,3.55,7029,129.1,0,576.5,1.0785,625.9,0,0,928.3,755,656.5,606.9,577.4,555.29999999999995,528.6,882.9,719.5,635.9,595.29999999999995,572.20000000000005,553.9,528.6,787.5,638.29999999999995,559.5,514.70000000000005,487.4,469.2,445.1,841.4,676.2,587.5,536.1,504.5,483.8,457,927.1,710.5,594.29999999999995,532.1,498.3,470.1,426.6,42.2,41,39.6,38.299999999999997,37.9,37.799999999999997,37.9,142,147.80000000000001,150.1,156.5,172.2,180,180,940.5,776.6,693.2,666.4,655.7,646,638.1,622.20000000000005,522.1,482.9,471.7,467,464.7,457.5,591.20000000000005,503.4,471.1,459.6,454.7,452.1,444.1,568.5,491.8,462.7,446.5,436.9,431.8,427,575.20000000000005,492.2,462.5,443.3,426.8,413.6,400.4,585.70000000000005,488.5,452.3,429.5,415.1,403,384,603,498.7,457.8,431.6,406.8,388.1,365.6,668.1,542.1,479.7,450.4,425.7,400.7,351.7,793.4,635.20000000000005,536.70000000000005,480.5,452.3,429.1,383.7,916.1,733.4,619.70000000000005,547.4,499.2,464.6,419.1,1.0329999999999999,1.3173999999999999,1.4635,0.80200000000000005,1.0742,1.2254,567,1.0582,0,0,1.0690999999999999,0,0,561.20000000000005,"FIN00000079",10.439,8041,31.9,57.8,40.4,118.8,0,653.4,512.4,461.2,841.6,628.4,550.79999999999995,589.6,1.0176000000000001,606.20000000000005,0.98980000000000001,580.6,1.0334000000000001]
[null,"FIN10332","L10332","FIN-10332","X2","X-332","X-Yachts","Jeppesen",1994,"EPS",null,"INTL","C",520,"22 05 2018 08:12:48",10.06,9.1780000000000008,1.8280000000000001,3.28,4642,115.6,0.1,643.9,0.96579999999999999,698.9,0,0,1039.5,845.9,735.5,676.2,639.9,619.70000000000005,595.70000000000005,988.8,808.7,713.3,665.1,639.20000000000005,622.79999999999995,599.29999999999995,880.8,713.5,624.9,574.4,544,524.5,499.8,922.9,743,646.70000000000005,591.29999999999995,557.79999999999995,536.20000000000005,508.7,1038.9000000000001,795.8,665.1,593.5,555.29999999999995,525.6,476.9,42.4,41.6,40.6,39.4,39,38.799999999999997,39.200000000000003,145.6,150.6,152.6,158.9,180,180,180,1044.9000000000001,872.2,777.7,743.4,730.7,726.1,723.4,690.3,582.6,536.5,521.1,515.5,513,510.5,656.2,559.70000000000005,523,508.1,501.9,498.8,497.4,631,545.29999999999995,513.1,495.7,483.6,476.9,471.3,638.1,547.79999999999995,511.2,492.7,475.7,460.8,442.8,661.4,549.5,506.9,481.7,458.8,442.5,423.2,683.6,564.1,513.9,487.2,462.3,438.8,404.8,758.2,618.29999999999995,540.20000000000005,505.8,481.6,456.9,410.1,895.5,709.8,602,536.9,505.5,482.6,437,1034,819.6,693.3,609.1,549.1,513.29999999999995,468,0.92220000000000002,1.1812,1.3098000000000001,0.71599999999999997,0.96279999999999999,1.0962000000000001,633.4,0.94730000000000003,0,0,0.95679999999999998,0,0,627.1,"FIN00000104",8.6240000000000006,5456,24.3,36.200000000000003,33.1,68.599999999999994,0,731.9,571.5,515.29999999999995,942.7,701.1,615.79999999999995,648.5,0.92530000000000001,667.2,0.89929999999999999,648.5,0.92520000000000002]
[null,"FRA18006a","F9406","FRA- 9406","GOUDURIX 6","FIRST 36,7 Le","BENETEAU SA","FARR Bruce",2001,"17000 - LA ROCHELLE",null,"CLUB","C",643,"01 03 2018 11:30:46",10.64,9.5679999999999996,2.222,3.46,5584,113.5,0.09,628.29999999999995,0.99439999999999995,678.8,0,0,1017.1,828,716.9,654.9,619.70000000000005,599.6,577,970.2,792.1,695.3,644.20000000000005,617.79999999999995,601.70000000000005,580.29999999999995,862.9,697.6,609.5,559.1,528.79999999999995,509.6,485.9,914.6,734.1,636.6,580,545.6,523.6,496.5,1015.3,779,648.5,575.9,538.79999999999995,510.1,464.8,42.1,40.799999999999997,40.200000000000003,38.700000000000003,38.1,38.5,39,145.69999999999999,150.19999999999999,152.1,157.80000000000001,180,180,180,1035.2,862.2,761.6,717.5,703.6,699.1,697.5,686.8,578.9,526.6,507,500.6,497.8,496.3,654,555.29999999999995,513.5,495.7,487.9,484.5,483,630,540.1,504.5,485.6,472.4,464.2,458.4,636.6,540.70000000000005,498.7,483,466.4,451.3,431.5,646,535.70000000000005,493.1,468.7,447.9,434.9,416.3,665.5,548.9,499.4,473.2,449,427.1,399.1,734.6,597.70000000000005,524.1,490.7,467.2,443.6,399.7,865.1,687.4,583.29999999999995,521.1,490.7,468.6,425.6,999,793.8,672.2,592.29999999999995,535.9,500.1,456.4,0.9395,1.2132000000000001,1.3486,0.73170000000000002,0.9909,1.1323000000000001,0,0,0,0,0.98319999999999996,0,0,610.20000000000005,"FRA00010627",9.1159999999999997,6445,26.6,39.5,35.5,81.7,0,718.5,556.4,500.5,922.5,681.2,596.1,636.9,0.94210000000000005,657,0.91320000000000001,0,0]
[null,"FRA18070a","F7122","FRA- 7122","LOLITA","CARTER 3/4 TON","N,Shore Yachts","CARTER",1973,"37000 - TOURS",null,"CLUB","C",532,"01 03 2018 14:40:24",9.98,8.1489999999999991,1.8009999999999999,3.41,4650,114.4,0.25,688.7,0.90739999999999998,743.9,0,0,1095.5999999999999,904.7,786.5,717.9,679,658.7,641.1,1054.4000000000001,870.2,767.3,710.8,680.8,663.7,649.1,941.1,763.1,668.4,614.29999999999995,582.20000000000005,562.29999999999995,540.1,996,802.2,697.8,637.1,600.5,577.6,551.5,1091,850.8,711.4,632.70000000000005,592.20000000000005,561.79999999999995,515.20000000000005,42.1,40.799999999999997,41.4,40.299999999999997,39.5,39.200000000000003,40,147.6,151.6,151.19999999999999,159.80000000000001,180,180,180,1141.0999999999999,965.2,856.5,803.5,784,776.7,785.7,759.8,646,583.9,560.9,551.9,547.9,547.20000000000005,725.5,616.6,567.79999999999995,548,537.70000000000005,533,530.6,700,597.70000000000005,556.79999999999995,536.4,522.4,512.29999999999995,503.4,706.2,598.4,549.9,531.9,516.1,501.5,480,703.6,583.70000000000005,538.9,513.9,493.4,480.3,464.4,720.9,594.29999999999995,543.70000000000005,516.20000000000005,492,471.4,446.8,783.3,642.1,564.6,531.9,507.4,483.5,442.9,909.4,731.2,621.70000000000005,560.20000000000005,531.29999999999995,508.7,465.9,1050.0999999999999,844.3,716.6,632.29999999999995,573.9,540.6,496.5,0.86129999999999995,1.1045,1.2213000000000001,0.67490000000000006,0.90410000000000001,1.0271999999999999,0,0,0,0,0.8962,0,0,669.5,"FRA00010818",7.5279999999999996,5355,22.6,23.6,38.5,81.7,0,783.7,611.1,552.70000000000005,1000.1,746.6,657.1,697.9,0.85970000000000002,719.7,0.8337,0,0]
[null,"FRA18114a","F24444C","FRA-24444","CAVEJE 3","AQUILA (DK)","JEANNEAU","HARLE Philippe",1973,"33470  -  GUJAN-MESTRAS",null,"CLUB","C",424,"12 04 2018 09:56:58",8.2479999999999993,7.0640000000000001,1.6779999999999999,2.98,3019,113.2,0.49,756.5,0.83079999999999998,812.4,0,0,1227.3,1004.9,874.4,783.1,732.1,708.4,688.2,1183.4000000000001,971.3,851.5,777.6,736.2,714.9,696,1046.0999999999999,843.2,733.6,669.7,631,606.79999999999995,579.4,1110.9000000000001,889.8,768.8,697.1,653,625.20000000000005,593.70000000000005,1220.8,944,787.5,688.8,639.70000000000005,606,552.70000000000005,42.2,40.799999999999997,41.1,40.700000000000003,39.700000000000003,39.299999999999997,39.9,148.30000000000001,152.4,151.69999999999999,161.6,180,180,180,1292.5999999999999,1084.3,966.4,882.5,845.4,833.4,839.2,857.4,729,648.5,612.1,595.4,587.6,585.70000000000005,818,695.2,626.4,596.79999999999995,581.1,571.4,566.5,789.4,668.7,611.1,584.79999999999995,566.9,553.4,536.1,793.8,652.9,592.70000000000005,568,556.29999999999995,546.79999999999995,518.6,771.3,637,584.4,555.79999999999995,531.79999999999995,512,492.7,795.5,650,590.29999999999995,560.5,534.20000000000005,509.8,476.3,868.7,709.1,613.9,576.79999999999995,550.9,525.79999999999995,481.9,1006.3,802.8,679.4,607.29999999999995,575.4,551.6,506.3,1162,925.5,782.5,683.8,618.70000000000005,583.5,537.29999999999995,0.77270000000000005,1.0103,1.1345000000000001,0.6048,0.82389999999999997,0.95509999999999995,0,0,0,0,0.81979999999999997,0,0,731.9,"FRA00010985",6.3949999999999996,3574,16.600000000000001,15,23.5,52.4,0,873.6,668.1,595,1116.0999999999999,819.3,706.7,764.3,0.78500000000000003,793.5,0.75609999999999999,0,0]
[null,"FRA18142a","F8694","FRA- 8694","BIGOUDEN ON ROAD","ELLIOTT 8,7","UNITECH NZ","ELLIOTT Gilles",1999,"98845  -  NOUMEA",null,"CLUB","R",480,"12 04 2018 09:56:58",8.5,8.3409999999999993,2.1110000000000002,2.9,2515,113.9,0.03,652.6,0.9597,703.4,0,0,1055.4000000000001,855.1,739.7,678.8,643.1,623.1,594.9,1001.1,815.4,717.1,666.9,638.9,620.1,590.79999999999995,896.2,725,633.5,580.29999999999995,547.20000000000005,524.79999999999995,494.6,946.9,760.9,660.7,602.29999999999995,566.1,542,510.4,1055.4000000000001,806.2,672.5,599.70000000000005,559.4,525.9,471.1,41.9,40.299999999999997,38.6,37,36.299999999999997,36.5,36.9,145.80000000000001,150,151.5,160.1,180,180,180,1055.5999999999999,875.8,775.3,737.7,724.3,718.6,718.8,703.5,595.70000000000005,551.70000000000005,534.20000000000005,527.5,524,523.4,671.9,577.20000000000005,540.9,522,512.79999999999995,507.8,504.8,650.20000000000005,565.9,532.9,509.3,490,479.2,470.4,658.7,567.9,526.79999999999995,505.8,481.9,460.2,435.1,674.3,563.6,521.1,487,457.2,438.2,409.8,695.1,575.79999999999995,528.4,494.2,460,428.4,384.3,768.7,625.29999999999995,552.4,517.70000000000005,485.2,452.7,386.3,914,722.6,611,549.20000000000005,517.5,487.5,428.3,1055.3,834.4,704.1,619.9,561.9,527.5,471,0.90580000000000005,1.1652,1.3115000000000001,0.70660000000000001,0.95760000000000001,1.0931,0,0,0,0,0.94810000000000005,0,0,632.9,"FRA00011112",8.2680000000000007,3207,18.399999999999999,25.9,26.2,57.9,0,745.2,579.29999999999995,514.70000000000005,955.3,704.9,617.5,659.9,0.90920000000000001,681.6,0.88029999999999997,0,0]
[null,"FRA18161a","F27639","FRA-27639","EUROPE","BAV-35 Match Q MK2","BAVARIA YACHTBAU","JAKOPIN J&J",2004,"29233  -   CLEDER",null,"CLUB","C",716,"12 04 2018 09:56:58",10.84,10.154999999999999,2.0230000000000001,3.28,6168,124.1,0.3,634.4,0.98670000000000002,684.1,0,0,1045.3,846.4,730.8,660,620.29999999999995,595.79999999999995,572.9,998,811,706.9,648.29999999999995,616.9,598.1,576.4,879.7,707.7,615,561.20000000000005,528.4,507.5,482.5,934.3,746.1,643.4,582.9,545.70000000000005,521.79999999999995,493.2,1042.4000000000001,795.5,658.2,577.4,537.4,507.5,460.5,42.7,40.9,40.799999999999997,39.700000000000003,38.9,38.5,38.4,145.5,150.1,151.80000000000001,155.9,172.3,180,180,1073.4000000000001,888.3,780.8,722.8,700.6,691.3,687.5,706.5,593.79999999999995,530.5,504.9,494,489.6,487.4,671,566,514,492.9,481.7,476.5,473.2,645,546.29999999999995,503.1,482.9,469.5,459.3,449.3,652.5,549.4,498.3,478,466,451.9,428.5,658.7,541.1,491.9,468.1,448.3,432.3,413.5,677.6,555.5,498.4,472.3,450.5,429.3,396.3,747.1,606.79999999999995,525.9,488.9,466.8,445.6,402.4,880.8,696.6,590.29999999999995,522.4,489.2,468.3,428.2,1017.1,804.4,680.8,597.20000000000005,540,500.3,458.2,0.91859999999999997,1.2061999999999999,1.3560000000000001,0.7137,0.97940000000000005,1.1376999999999999,0,0,0,0,0.97650000000000003,0,0,614.4,"FRA00011157",9.3460000000000001,7132,27.2,36.700000000000003,34,80.400000000000006,0,734.8,559.6,497.8,945.8,689.2,593.29999999999995,642.70000000000005,0.93359999999999999,664.5,0.90290000000000004,0,0]
[null,"FRA18204a","F35930","FRA-35930","DIEGO","BONGO 9,60","3C COMPOSITE","ROLLAND Pierre",2002,"29100  -  DOUARNENEZ",null,"CLUB","R",660,"12 04 2018 09:56:58",10,9.73,1.976,3.7,3824,107.4,0.18,619.79999999999995,1.0063,670.8,0,0,1026.2,829,713.1,644.9,608.70000000000005,587.20000000000005,556.9,978.3,792.7,691.1,634.6,603.5,583.6,552.1,860.4,692.2,601.1,547.4,513.29999999999995,489.9,457.6,921.2,735.5,634,573.70000000000005,535.79999999999995,510.3,476.8,1022.6,778.4,643.9,565.79999999999995,525.1,491.1,434.1,42.8,41.3,40.6,38.5,37.700000000000003,37.5,37.700000000000003,140.19999999999999,148.9,150.1,157.4,180,180,180,1062.2,872.9,764.6,708.2,688.6,680.8,673.4,696.4,582,525.9,503.4,492.4,487.4,484.6,658.8,555.79999999999995,511.9,491.1,477.4,470.1,464.6,630.29999999999995,538.1,501.8,478.9,458.5,442.1,426.9,635.5,530.70000000000005,491.2,468.9,452.5,430.1,395.7,631.5,524.9,484,451.9,423,402,373.6,649.20000000000005,535.9,490.6,458.2,425.3,395.2,351.1,717.8,582.1,513.29999999999995,480.7,450,419.1,356.7,857.5,680,573,512,481.8,453.6,397,990.2,785.2,661.6,581.6,528.70000000000005,493.7,440.4,0.94069999999999998,1.2322,1.4077,0.72770000000000001,1.0016,1.1614,0,0,0,0,0.99950000000000006,0,0,600.29999999999995,"FRA00011462",9.31,4709,24.3,38,25.8,79.8,0,717.6,547.79999999999995,479.5,927.6,673.9,581.20000000000005,633,0.94789999999999996,654.6,0.91659999999999997,0,0]
[null,"FRA18175a","F15710","FRA-15710","ILLICO",747,"EMBARCACIONES PCG","ECHENIQUE Inigo",1998,"69630 - CHAPONOST",null,"CLUB","S",371,"30 04 2018 08:47:32",7.47,6.8360000000000003,1.7589999999999999,2.44,1150,97.1,0,646.29999999999995,0.94420000000000004,714.9,0,0,986.1,809.2,740.1,709.9,681.5,653.29999999999995,590.6,942.8,784.8,720.1,688,661.9,635.5,597,860,708.3,629.70000000000005,584.20000000000005,553.70000000000005,529.79999999999995,489.4,924.7,753.2,662.8,610.6,577.29999999999995,553.70000000000005,519.70000000000005,984,766.3,672.7,614.20000000000005,574.1,534.6,465.1,41.3,38.9,37.299999999999997,36.9,37,36.799999999999997,38.1,144.19999999999999,148.4,151,149.69999999999999,177.5,144,140.4,1007.2,843.9,799.5,787.7,783.8,774.8,785.1,672,595.6,576.70000000000005,569.5,566,558.9,555.70000000000005,643.20000000000005,582.6,560,550.20000000000005,544.9,538.20000000000005,528.5,625.4,572.70000000000005,537.9,517.29999999999995,506.6,500.5,482.2,621.20000000000005,564,533.29999999999995,496.2,470.8,458.1,447.8,618.5,551.79999999999995,504.3,476.6,451.5,431.6,390.6,634.20000000000005,561.1,507.4,458.7,429,405.2,364,707.3,593,540.79999999999995,491.5,441.2,390.7,311.39999999999998,835.7,670.8,590,547.29999999999995,510,460.6,343.1,965,774.6,680.7,632,579.1,531.9,396.2,0.95369999999999999,1.1536,1.2968999999999999,0.75190000000000001,0.93610000000000004,1.0599000000000001,0,0,0,0,0.94889999999999997,0,0,632.29999999999995,"FRA00011555",7.0119999999999996,1633,12.3,25.2,15.2,0,58.6,707.8,585.1,520.5,897.7,721.1,636.9,664.5,0.90300000000000002,681.9,0.87990000000000002,0,0]
[null,"FRA18258d","F8734","FRA- 8734","CHAIRMAN","YOUNG 11M","LAND Roger","YOUNG Jim",1985,"98845  -  NOUMEA",null,"CLUB","C",560,"25 05 2018 12:09:20",10.94,10.483000000000001,2.008,3.76,4394,113.9,0.17,597.20000000000005,1.0399,649.1,0,0,984.6,797.9,683.9,624.6,592.29999999999995,571,537.5,936.3,757.7,662.6,613.79999999999995,585.9,565.79999999999995,531,825.8,665.3,579.29999999999995,529.20000000000005,497.6,475.7,444.6,888.9,709.7,612.4,555,518.79999999999995,494.2,460,981.8,748.9,617.9,547.20000000000005,508.9,477.4,425.4,42.7,41.4,40.4,38.9,38.200000000000003,37.799999999999997,37.5,138.9,148,147.4,156,172.5,180,180,1012.5,829,730,691.4,674.8,666.5,652.9,664.2,551.79999999999995,503.8,487.1,480.1,476.1,468.8,628.6,528.20000000000005,490.5,474.3,465.9,460.7,454.4,602.70000000000005,513.29999999999995,480.2,460.9,445,433.9,423.4,610.9,508.5,477.6,457.8,436.1,416.7,390.7,604.79999999999995,501.5,464.5,437.2,419.1,403.5,376.1,622.1,511,469.1,437.8,407.5,385.1,355.5,689.7,555.4,490.1,459,427.5,395.2,333.5,828.5,664,552.4,490.1,461,432.4,373.5,956.7,766.8,637.79999999999995,557.70000000000005,509.9,475.4,422,0.98170000000000002,1.2773000000000001,1.4473,0.75739999999999996,1.0373000000000001,1.1974,0,0,0,0,1.0342,0,0,580.20000000000005,"FRA00011885",9.9060000000000006,5395,26.7,45.2,27.1,95.9,0,687.6,528.5,466.4,891.2,650.70000000000005,563.70000000000005,613.29999999999995,0.97829999999999995,632.4,0.94879999999999998,0,0]
[null,"GBR40501","GBR479","GBR 479","JOIE DE VIVRE","J-80 OD","J-COMPOSITE","JOHNSTONE",1995,null,null,"CLUB","S",340,"23 03 2018 17:07:46",8.032,7.2370000000000001,1.5009999999999999,2.4900000000000002,1438,104.9,0.15,662,0.92920000000000003,726.5,0,0,1051.0999999999999,852.1,748.5,708.5,680.2,657.3,596,1011.2,824.5,733.1,689.5,662.4,638.9,594.1,897.7,731,643.5,592.9,560.29999999999995,535.9,495.8,985.4,791.1,686.7,625.79999999999995,587.70000000000005,561.70000000000005,525.5,1044.5,802.1,680.8,617.79999999999995,578.1,541.5,473,42.2,41.2,38.799999999999997,37.799999999999997,37.5,37.200000000000003,37.799999999999997,144.9,147.80000000000001,150,150.80000000000001,176.5,144.19999999999999,140.69999999999999,1117.8,918.7,816.7,786.6,776.3,767.8,762.7,737.4,619.20000000000005,577.6,563.4,557.20000000000005,554.29999999999995,544.79999999999995,699.2,599,564,546.70000000000005,538.29999999999995,533.70000000000005,521.29999999999995,671,585.9,551.9,526.1,507.4,497.6,489.7,645.79999999999995,569,547.4,521.4,492.3,470.4,447.8,634,555.29999999999995,514.9,489.2,468.7,450,417,650.29999999999995,561.4,514.9,474.3,446.1,424.5,386.8,724.7,593.4,540.5,496.1,452.6,408.7,334.2,852.6,680.2,589.29999999999995,546.70000000000005,514.6,473.5,371.7,984.5,785.4,680.4,630.4,584,546.70000000000005,429.2,0.90920000000000001,1.1398999999999999,1.2827999999999999,0.70930000000000004,0.92879999999999996,1.0547,656.6,0.91379999999999995,0,0,0.93049999999999999,0,0,644.79999999999995,"GBR30000010",7.2220000000000004,1976,13.6,21.5,14,0,65,742.4,592.20000000000005,526.20000000000005,951.6,726.7,640,686.2,0.87439999999999996,708.5,0.84689999999999999,671.4,0.89370000000000005]
[null,"GER141647","GER6703","GER 6703","UTSIRA","WINNER 1120","RUS YACHTEN","V D STADT",1993,"CKA",null,"CLUB","C",500,"27 03 2018 11:09:50",11.255000000000001,9.4169999999999998,1.9279999999999999,3.62,6604,124.1,0.4,668.9,0.93140000000000001,724.7,0,0,1123.4000000000001,908.1,786.6,702.8,647.9,618.79999999999995,595.4,1077.0999999999999,875.8,762.7,691.3,647.4,623.6,600.4,934.6,749.6,648.4,588.29999999999995,550.9,526.9,498.8,997.4,793.4,680.4,612.4,569.79999999999995,542.5,511.6,1117.5,850.1,703.3,609.20000000000005,558.29999999999995,525.4,475.8,43.7,42.1,41.9,41.9,40.5,40.200000000000003,40.799999999999997,146.4,151,153.30000000000001,156.5,180,180,180,1182.3,977.1,863.7,785,738.8,722.1,718.7,770.6,647.79999999999995,572.4,532.20000000000005,513.29999999999995,504.2,499.9,728.2,614.70000000000005,547.5,516.79999999999995,500.6,490.8,483.9,696.8,588,529.79999999999995,505,489.2,476.4,458.8,672.4,557.20000000000005,507.5,485,470.2,463.1,444,672.4,555.29999999999995,505.9,481.2,460.2,440.6,415.3,697.1,574.20000000000005,514.4,487.5,466.6,445.9,409.6,778.7,635.79999999999995,548.6,506.8,483.5,462.8,422.9,921.9,726.8,616.1,543.20000000000005,506.3,484.2,445.2,1064.5,839.1,709.5,620.70000000000005,557.1,515.4,472.1,0.86299999999999999,1.1458999999999999,1.3102,0.66449999999999998,0.9194,1.0934999999999999,648.5,0.92520000000000002,0,0,0.92520000000000002,0,0,648.5,"GER12000719",8.327,7442,28.9,39.4,26.3,0,73.7,782.2,589.1,515.20000000000005,1015.8,734.2,617.29999999999995,678.9,0.88380000000000003,702.9,0.85360000000000003,668.3,0.89780000000000004]
[null,"GER142214","GER7212","GER 7212","CEDO NULLI","PRIMA 38","SEAQUEST YACHTS","STEPHEN JONES",1998,"LYC",null,"CLUB","C",600,"27 03 2018 11:29:18",11.615,10.670999999999999,2.4430000000000001,3.82,6232,131.69999999999999,0.04,586.70000000000005,1.0653999999999999,633.6,0,0,952.9,771.8,669.7,613.1,579.9,558.29999999999995,527.6,904.4,735,647.1,601,574.6,556.20000000000005,524.6,806,651.6,569.4,521.9,492.4,472.3,444.6,860.8,690,597.70000000000005,543.6,509.9,487.3,457.2,952.2,726.5,606.29999999999995,539.1,502.9,473.8,427.6,42,40.700000000000003,39.4,38.1,37.200000000000003,37.1,36.4,141.30000000000001,147.9,150,156.30000000000001,172.5,180,180,959.3,790.9,705.1,667.4,651,643,627.1,635.79999999999995,533.5,492.8,476.2,468.9,464.9,459.5,604.70000000000005,514.1,481.2,465.7,456.5,451.7,447.5,582.5,502.1,472.6,455.4,441.4,430.3,420,590.79999999999995,505.3,470.7,453.3,436.2,419.9,395.4,602,499.7,462.9,438.9,420,407.8,386.6,620.1,510.5,467.9,442,416.6,393.6,368.1,688.3,556.5,490.2,460.2,435.7,409.8,359.6,819.6,651.79999999999995,549.20000000000005,490.3,461.7,438.8,391.4,946.4,752.7,634.20000000000005,558.79999999999995,508.8,473.5,428.1,1.0082,1.2966,1.4562999999999999,0.78280000000000005,1.0599000000000001,1.2224999999999999,575,1.0434000000000001,0,0,1.0532999999999999,0,0,569.6,"GER12000753",10.340999999999999,7211,30,48.9,38.799999999999997,105.3,0,669.5,520.6,463.5,862.3,636.9,552.1,598.5,1.0024999999999999,616.79999999999995,0.9728,590.5,1.016]
[null,"GER141655","GER6457","GER 6457","YAM","LUFFE 37","LUFFE YACHTS","JOERGENSEN",1980,"SVLF / CKA",null,"CLUB","C",300,"27 03 2018 11:41:12",11.16,9.2609999999999992,1.804,2.73,4227,125.1,0.28999999999999998,668.4,0.92649999999999999,728.6,0,0,1099.0999999999999,887.5,771,702.1,665.6,645.29999999999995,617.29999999999995,1050,852.9,749.5,694.8,666.8,650.29999999999995,621.6,921.1,742.7,648,594.1,562,541.6,515.4,1001.3,798,687.5,623.20000000000005,584.29999999999995,559.79999999999995,530.29999999999995,1094.2,831.8,692.6,612.6,572.70000000000005,542,491.2,42.4,40.9,40.799999999999997,41.2,41,41.1,41.1,144.6,149.80000000000001,150.30000000000001,157,180,180,180,1148.0999999999999,945.2,844.6,794.6,779.5,775.7,764.2,758.4,634.5,567.4,541.4,532.6,529.20000000000005,524.4,721.2,605.20000000000005,547.1,525,515.1,511.4,509.3,694.7,582.79999999999995,533,511.5,498.6,490,483.8,659.2,552.79999999999995,517.6,505.7,493.1,479.7,458.9,657.4,545.5,506.9,485.2,470.6,459.4,441.5,680.7,559.9,512.4,487.4,465,443.8,420.1,760.9,617.9,537.9,504.4,480.6,455.9,408.1,909.5,718.6,604.1,535.70000000000005,504.8,482.4,436,1050.0999999999999,829.8,697.4,609.6,551.70000000000005,514.9,470.3,0.88090000000000002,1.143,1.2683,0.67949999999999999,0.92290000000000005,1.0548999999999999,654.29999999999995,0.91700000000000004,0,0,0.9234,0,0,649.70000000000005,"GER12000769",8.1620000000000008,5052,22.5,27.7,20.5,65.7,70.3,766.3,590.6,532.20000000000005,993.4,731.4,639.9,687.3,0.873,710.6,0.84440000000000004,671.9,0.89300000000000002]
[null,"GER141745","GER6484","GER 6484","AKKA","FINNFLYER 36","FINN YACHTS","KAMU STRÅHLMANN",2008,null,null,"INTL","C",670,"27 03 2018 12:08:20",10.975,9.8119999999999994,2.2189999999999999,3.4,5011,130.19999999999999,0,595.5,1.0438000000000001,646.70000000000005,0,0,963.8,780.4,677.1,625.5,594.20000000000005,575.4,546.1,916.7,745.3,657.4,614.20000000000005,590.20000000000005,573.70000000000005,542.9,815.9,660.3,577.9,530.70000000000005,501.7,482.1,454.8,870.7,699.1,606.9,553.29999999999995,520.4,498.6,469.6,962.3,734.5,613.6,549.29999999999995,513.6,484.1,434.1,42.4,41.2,39.5,38.5,38.200000000000003,38.1,38.1,144.1,148,151,157.69999999999999,180,180,180,978,806.4,717,686.7,674.9,670.8,660.9,645.9,542.5,501.1,487.4,482.2,479.8,472.8,613.4,523.20000000000005,489.6,475,468.7,465.5,458.3,589.9,511.2,481.1,462.2,448.5,441.2,435.4,596.9,508.9,474.8,457.8,440.3,423.4,404.7,605.79999999999995,506.6,469.6,442.6,418.7,402.7,380.5,624,517.1,475.7,446.7,418.8,394.2,360.1,692.8,561.1,497.8,467.3,440,412.9,357.8,822.3,653.29999999999995,552.4,497.2,468.6,443.2,394,949.5,754.4,637.20000000000005,564.29999999999995,513.5,479.9,431.3,0.99650000000000005,1.2767999999999999,1.4260999999999999,0.77400000000000002,1.042,1.1860999999999999,585.5,1.0247999999999999,0,0,1.0358000000000001,0,0,579.29999999999995,"GER12000821",9.6349999999999998,5885,26.6,45.5,33.700000000000003,94.5,74.8,677.4,528.70000000000005,473.3,872.1,647.79999999999995,569.1,608.20000000000005,0.98650000000000004,626.20000000000005,0.95820000000000005,600,1]
[null,"GER141833","GER6871","GER 6871","FORTISSIMO","DEHLER 38 C","HANSE YACHTS","JUDEL/VROLIJK",2013,"LYC",null,"INTL","C",720,"27 03 2018 12:21:56",11.292999999999999,10.692,2.0139999999999998,3.76,7558,119,0.18,608.9,1.0221,660.4,0,0,1000.8,812.9,702.3,636.9,601,578.4,550.29999999999995,957.7,779.6,681.6,627.6,598.5,580.20000000000005,552.20000000000005,841,677.9,590.4,539.79999999999995,508.9,488.8,463.1,900.8,720.1,621.70000000000005,563.79999999999995,528.20000000000005,505.1,476.5,996.3,762.6,631.79999999999995,556.6,518.5,489.2,443.2,43.4,42,41.5,40.9,39.9,39.5,39.299999999999997,141,149.30000000000001,150.30000000000001,156.1,171.9,180,180,1045.9000000000001,865.1,761.4,708.4,687.7,679,664.4,681.7,572.5,512.29999999999995,487.9,479.2,475.3,470.5,644.20000000000005,543.70000000000005,495.3,475.2,466,461.9,459.3,616,523.5,483.8,464.9,452.1,443.4,436.4,621.6,520.29999999999995,477.3,462.9,447.9,434,412.9,618,510.8,469,446.5,428.2,417,398.6,633.70000000000005,521.9,474.1,449.5,427.4,406.3,381.2,697.1,567.79999999999995,496.5,465.1,443.2,420.9,378.3,827.6,658.8,557.1,495.3,466.2,445.6,404.6,955.7,760.7,643.1,565.4,514.20000000000005,477.9,436.2,0.96220000000000006,1.2545999999999999,1.4072,0.74429999999999996,1.016,1.177,595.5,1.0075000000000001,0,0,1.0147999999999999,0,0,591.20000000000005,"GER12000848",9.7899999999999991,8579,32,48.7,38.299999999999997,114,0,701.5,538,479.7,906.9,664.4,573.5,622.4,0.96399999999999997,642,0.93459999999999999,611.6,0.98099999999999998]
[null,"GER142120","GER7329","GER 7329","GER 29","MAK7 RACE","YACHT SERVICE","LESCEK GONCIARZ",2008,"YCL",null,"CLUB","S",350,"10 04 2018 09:30:48",7.41,7.2380000000000004,1.569,2.4700000000000002,1386,130.69999999999999,0.18,680.8,0.90890000000000004,742.7,0,0,1106.5,897.2,779,719.8,680.6,658.5,618.4,1065.8,866.5,760.7,701.1,664.9,641.29999999999995,603.9,936.3,757.4,661.2,604.29999999999995,567.29999999999995,540.4,499.7,1027.5999999999999,820.8,707.8,640.5,597.79999999999995,568.70000000000005,530.4,1098.8,842.5,705.9,628.1,581.1,541.6,472.3,42.1,40.799999999999997,39.9,37.5,36.5,36.299999999999997,37.4,145.6,147.9,149.1,151.80000000000001,176.3,177.6,139,1183.5999999999999,973,851.9,786.9,761.1,752.8,758.7,782.4,652.79999999999995,595.6,569.5,553.70000000000005,545.79999999999995,542.70000000000005,742.6,626.9,581.9,556.70000000000005,536.79999999999995,522.79999999999995,515.20000000000005,712.2,606.1,569.6,544.5,516.70000000000005,493.5,468.2,669.8,578.29999999999995,542,520.6,503.9,483.3,434.6,658.5,571.20000000000005,527.29999999999995,485.6,454.6,434.5,399.3,680.5,579.1,535.4,489.9,446.7,408.9,366,759.1,617.29999999999995,559.79999999999995,519.29999999999995,477.1,434.2,348.2,891.5,711.3,611.5,567.29999999999995,538.20000000000005,505.4,414,1029.4000000000001,821.4,706.1,652.6,600.20000000000005,564.20000000000005,478,0.86729999999999996,1.1152,1.2756000000000001,0.67379999999999995,0.90659999999999996,1.0401,665.5,0.90159999999999996,0,0,0.90900000000000003,0,0,660.1,"GER20020087",7.22,1935,13,18.8,12,0,54.9,778.3,605.29999999999995,529.20000000000005,1001.8,744.5,649,702.9,0.85360000000000003,730.7,0.82110000000000005,684.5,0.87660000000000005]
[null,"GER141396","GER6373","GER 6373","ARCONIA 4","LUFFE 45","LUFFE YACHTS","OLUF JOERGENSEN",2009,"NSV",null,"INTL","C",720,"16 04 2018 10:13:12",13.775,12.148999999999999,2.3029999999999999,3.9,9637,120.5,0.18,563.4,1.0902000000000001,619.1,0,0,942.7,759.6,655.20000000000005,597.70000000000005,565.6,543.29999999999995,512.70000000000005,902.1,728.4,635.6,587,560.29999999999995,542.1,511.6,775.8,626.29999999999995,546.5,500.4,472,453,427.1,854,680.2,585.29999999999995,529.29999999999995,494.5,471.4,441.3,938.2,709.9,587.4,518.29999999999995,482.5,455.4,408.6,44,42.2,41.5,40.700000000000003,39.9,39.6,39.5,143.5,146.80000000000001,149.5,154.19999999999999,162.4,180,180,988.1,807.3,709.2,665.4,646.79999999999995,638.4,620.5,641.4,532.6,476.7,455.7,448.2,444.4,437.3,588.4,495.7,460.1,442.2,435,431.2,425.9,526.20000000000005,457,438.1,428.5,419.4,412.6,406.1,508.5,447.8,425.4,411.3,402.7,395.7,381.9,547.5,470.9,434.9,413.3,392.7,375.8,356.1,593.20000000000005,484.5,438.8,414.9,393.3,378,345.1,656.4,529.1,460.7,430.1,407.5,384.3,340.3,777.1,616.5,520.6,463,432.7,411.5,369.3,897.3,711.9,601.20000000000005,530,484.4,448.2,404.9,1.0451999999999999,1.3531,1.5184,0.79310000000000003,1.0846,1.256,555.4,1.0803,0,0,1.0900000000000001,0,0,550.5,"GER12000906",11.111000000000001,10855,39.700000000000003,61.6,47.7,153.69999999999999,0,645.79999999999995,498.9,444.5,851.1,622.29999999999995,537.4,587.20000000000005,1.0218,604.79999999999995,0.99209999999999998,567.29999999999995,1.0577000000000001]
[null,"GER141272","7KR223","7KR 223","CIRRUS","8KR","STAACK WERFT","A, MIGLITSCH",1967,"TYC",null,"CLUB","C",450,"25 04 2018 11:21:14",13.154999999999999,10.138999999999999,1.9259999999999999,3.52,12480,150.1,0.71,712.8,0.87819999999999998,768.6,0,0,1231.9000000000001,977.5,837.1,747,685.6,644.20000000000005,604.6,1167.5,938.4,812.5,731.5,678.2,646.1,614.6,1009.8,804.4,690.3,621.1,577,548,513.9,1009.8,804.4,690.3,621.1,577,548,513.9,1234,918.8,751,644.9,584.5,543.9,492.2,44.4,42.4,41.6,42.2,42.3,41.6,41,153.69999999999999,160.30000000000001,169.4,173.4,174.3,175.5,179.4,1210.8,998.2,885.9,810.1,760.3,735.2,716.1,782.7,661.6,587.70000000000005,538.79999999999995,515.6,504.2,495.6,737.2,628.6,556.79999999999995,519,501,490.7,481.4,703.7,601.6,535,504.8,489.1,478.4,463.4,707.7,603.4,534.20000000000005,502.1,484.3,470.4,450.9,764.6,634.20000000000005,553.1,509.4,487.9,473.1,447.7,810.4,668,581.9,523.79999999999995,495.8,479.1,452.5,931.5,738.6,636.1,563.29999999999995,516.70000000000005,492.8,463.9,1086.0999999999999,835.8,701.6,617.79999999999995,553.9,513.5,476.3,1253,956.8,788.3,683.8,610.79999999999995,553.29999999999995,493.1,0.79479999999999995,1.0801000000000001,1.2635000000000001,0.61099999999999999,0.86439999999999995,1.0550999999999999,687.7,0.87250000000000005,0,0,0.87190000000000001,0,0,688.1,"GER30003342",8.4670000000000005,13416,38.9,43.7,48.5,0,0,849.3,624.9,534.20000000000005,1104.7,780.9,639.70000000000005,688.1,0.87190000000000001,712.8,0.84179999999999999,712,0.8427]
[null,"GER142038","GER7109","GER 7109","DONNA KLARA","DEHLER 38 C","HANSE YACHTS","JUDEL/VROLIJK",2012,"SCE",null,"CLUB","C",525,"25 04 2018 16:10:58",11.3,10.612,2.2120000000000002,3.76,7320,123.6,0.24,614.5,1.018,663.1,0,0,1016.7,823,709.6,638.79999999999995,600.70000000000005,576.5,549.5,972.9,789.4,687,628.29999999999995,596.79999999999995,577.5,551.4,853.7,686.1,595.6,542.9,510.6,489.7,463.9,919.8,732.9,630.29999999999995,569.4,531.70000000000005,507.4,478.1,1012.2,772.5,638.29999999999995,558.6,519.29999999999995,489.7,444.4,42.9,41.2,41.1,39.9,38.9,38.6,38.5,144.9,149.30000000000001,150.5,155.5,170.3,180,180,1061.5999999999999,874.2,766.6,704.5,680.7,670.7,658.8,696.4,583.6,518.5,490.1,478.5,474,470.5,660,555.79999999999995,501.4,478,466.4,461.2,457.9,633.29999999999995,535.5,489.8,468.7,454.8,444.5,435,638.5,527.4,480.2,464.7,452.3,438.4,415,628.9,517.70000000000005,472.5,449.4,431,419.9,401.8,645.4,530,478.1,452.8,431,409.9,384.6,710.7,577.79999999999995,502.4,468.7,446.6,424.7,382.7,841.6,668.4,565.20000000000005,501,469.9,449.1,408.8,971.8,771.8,652.5,573.1,520.79999999999995,482.3,440.1,0.94620000000000004,1.2462,1.4056999999999999,0.73380000000000001,1.0101,1.1792,596.70000000000005,1.0055000000000001,0,0,1.0086999999999999,0,0,594.79999999999995,"GER30003350",9.798,8334,31.4,43.6,35.4,107.9,0,713.4,541.6,480.2,919.9,668.3,572.4,629,0.95379999999999998,651.20000000000005,0.9214,615.4,0.97499999999999998]
[null,"GER141747","DEN46","DEN 46","XAOS","LUFFE 45","LUFFE YACHTS","JOERGENSEN",2009,"NRV",null,"CLUB","C",750,"04 05 2018 09:14:54",13.775,11.933999999999999,2.5750000000000002,3.9,8888,131.19999999999999,0.04,544.6,1.1347,594.9,0,0,889.2,717.7,619.9,572.79999999999995,551.29999999999995,532.29999999999995,500.9,847.6,684.8,601,559.70000000000005,537,519.79999999999995,488.3,748.4,604.29999999999995,528.20000000000005,485,458.6,440.9,415.2,819.5,654.79999999999995,565,512,478.9,456.7,427.7,886.3,674.1,560.6,499.9,469.1,443.1,399,42.8,41.4,40.1,38.799999999999997,38,37.6,36.9,143,145.6,147.80000000000001,151,151.69999999999999,175.4,177.2,918.2,750,661.9,627.29999999999995,611.29999999999995,602.9,586.4,602.20000000000005,500.7,457.2,442.7,436.6,433.3,425.3,570,480.1,445.4,431.3,424.8,421,413.9,546.70000000000005,467.3,437.1,420.1,408,401,394.1,553.79999999999995,462.8,438.2,419.1,402.2,387.5,369.6,544.70000000000005,455.1,422.7,404.8,391.4,379.3,357.8,558.9,461.9,425.9,400.3,378.5,364.5,339.9,626.4,501.2,445,417.4,391.5,366.4,315.8,744.9,593.6,500.4,449.1,426.8,407.5,365.1,860.1,685.4,577.79999999999995,518.4,491.3,461.7,415.3,1.0862000000000001,1.3993,1.5578000000000001,0.84009999999999996,1.1341000000000001,1.2850999999999999,534.6,1.1224000000000001,0,0,1.1335999999999999,0,0,529.29999999999995,"GER30003792",11.634,10059,38.799999999999997,65.8,50.6,0,190,621.4,482.4,433.3,803.5,595.20000000000005,525.29999999999995,567.5,1.0572999999999999,583.4,1.0285,548.9,1.0931]
[null,"GER142329","GER7699","GER 7699","SHARIFA","L-30 OD","SVP-YACHT SLO","JUSTIN ADRIJE",2014,"YCS",null,"CLUB","C",350,"08 05 2018 16:52:18",9.25,9.2279999999999998,1.887,2.5299999999999998,2127,120.9,0.02,598.5,1.0097,668.5,0,0,950.6,785,697.2,656.4,631.29999999999995,599.1,557.6,903.7,750.5,678.3,640.4,613.20000000000005,586.4,568.9,803.3,658.5,582.6,538.5,509.9,489.2,459.9,924.6,737.6,636.79999999999995,578.1,541.79999999999995,517.6,487.3,950.9,736.5,627.4,566.9,528.70000000000005,489.9,433.3,44.3,42,40.4,39.700000000000003,39.6,39.299999999999997,41.1,143.5,146.30000000000001,148.30000000000001,150.69999999999999,147.1,144.4,141.80000000000001,947.7,818.9,764.9,743.2,734.2,719.3,732.3,609.70000000000005,544.9,523.9,514.9,511.2,504.2,502.5,567.6,521.29999999999995,506.2,498.3,493.8,488.3,482.4,535.9,499.4,484.6,473.7,464.7,459.8,443.8,532.20000000000005,488.5,466.2,451,437.1,425.1,413.9,585,504.6,469.2,426.7,403.7,388.6,365,612.4,509.8,464.6,430.9,396.8,372.5,340.8,695.8,547.1,489.4,445,399.4,356.9,311.39999999999998,825.7,650.5,545.20000000000005,493.2,457.6,414.7,331.7,953.5,751.1,629.5,569.6,528.29999999999995,478.9,383,1.0168999999999999,1.2524,1.4051,0.77780000000000005,1.0007999999999999,1.141,600.9,0.99860000000000004,0,0,1.0168999999999999,0,0,590,"GER30003822",8.6519999999999992,2913,19.5,27.8,22.1,0,93.1,663.8,539,480.4,867.8,674.5,591.6,638.20000000000005,0.94020000000000004,657.9,0.91200000000000003,606.9,0.98870000000000002]
[null,"GER141548","GER6534","GER 6534","X4FUN","X-34","X-YACHTS","JEPPESEN",2007,"YCW",null,"INTL","C",615,"23 05 2018 09:17:14",10.36,9.4410000000000007,1.9139999999999999,3.38,5492,121.4,0.21,637,0.97719999999999996,690.7,0,0,1036.3,844.8,731.4,665.1,629.4,609.9,584.5,993,811,711.3,657.1,629.29999999999995,613,587.79999999999995,876.1,707.7,617.9,566.29999999999995,535.29999999999995,515.4,490,938.4,751.6,650.4,591.29999999999995,555.20000000000005,532,503.2,1031.8,792.8,659.5,583.6,545.6,516.20000000000005,468.1,42.7,41.4,41.2,40.1,39.5,40,40,145.30000000000001,150,151.1,158,180,180,180,1080.7,898.7,793.4,740.6,724.3,719.5,712,711,598.4,538,514.79999999999995,506.3,502.9,499.9,674.4,569.5,521.9,502.1,492.3,488.4,486.6,646.9,550,510.7,491.2,477.6,467.7,460,647.1,539.5,500.4,486,473,458,434.8,640.9,532.9,493.5,469.9,449.6,437.2,418.2,659.7,545.1,499.3,473.8,449.9,427.6,399.9,728.2,593.6,521.6,490.5,467.2,443.5,399.1,859,684.9,580.29999999999995,519.6,490.9,469,425.7,991.9,790.9,669.4,589.70000000000005,534.5,500.4,457,0.92510000000000003,1.1975,1.3337000000000001,0.7177,0.97360000000000002,1.1152,624.5,0.96079999999999999,0,0,0.96930000000000005,0,0,619,"GER12004480",8.7859999999999996,6337,25.8,38.700000000000003,28.8,87.6,0,729.7,563.70000000000005,506.1,940.5,693.3,605.29999999999995,650.20000000000005,0.92279999999999995,671.4,0.89370000000000005,640.5,0.93669999999999998]
[null,"GER155489","GER6074","GER 6074","BELLA","GRAND SOLEIL 40 C","DEL PARDO","PAPERINI",2000,null,null,"CLUB","C",480,"30 05 2018 10:44:38",12.016,11.086,2.1850000000000001,3.79,7872,113.7,0.19,613.1,1.0148999999999999,665.1,0,0,1016.5,820.8,708.8,642.6,605.20000000000005,579.6,555.29999999999995,964.5,782.4,683.6,629.79999999999995,600.20000000000005,581.1,558.79999999999995,849.1,683.3,594.29999999999995,542.9,511.8,492.1,468.6,893.4,715,618.1,561.29999999999995,526.4,503.9,476.7,1015.2,770.6,636.9,559.79999999999995,520.79999999999995,491.4,447.8,43.9,41.5,41.2,40.4,39.4,39,38.700000000000003,138.9,149.5,149.19999999999999,154.4,166.2,180,180,1029,849.9,753.1,706.6,685.3,675,668.9,672.9,565,508.7,487.5,479.6,475.6,473.5,636.5,537.29999999999995,492.1,474.3,466.9,462.9,459.9,609.29999999999995,518.20000000000005,480.5,463.3,452.5,446,439.9,614.29999999999995,520.6,479.1,459.5,445.8,434.2,417,639.9,524.4,473.9,451.2,434.2,423.5,405.6,656.5,537.4,479.5,453.7,433.7,414.2,388.9,725.8,587,506.2,469.1,447.5,427.1,386.1,869.4,685.5,575.4,505.7,470.4,449.8,411.3,1003.9,791.6,664.4,578.5,525.1,484.3,441.8,0.9526,1.2478,1.3977999999999999,0.73480000000000001,1.0073000000000001,1.17,598.4,1.0025999999999999,0,0,1.0077,0,0,595.4,"GER30004266",10.009,8968,32.5,43.1,49.7,105.5,0,708.6,541,482.9,918.6,670.1,576.9,619.70000000000005,0.96830000000000005,638.1,0.94030000000000002,615.20000000000005,0.97529999999999994]
[null,"GER168092","GER7714","GER 7714","WILLI","HANSE 375","HANSE YACHTS","JUDEL/VROLIIJK",2009,"SCP",null,"CLUB","C",750,"05 06 2018 15:12:06",11.27,10.401999999999999,2.02,3.76,7200,122.1,0.12,613.1,1.0075000000000001,670,0,0,1020,825,714,649.29999999999995,608.9,582.9,560.9,969.8,788,689.5,635.4,604,584.1,564.29999999999995,846.6,682.7,594.70000000000005,543.5,512,491.5,466.7,922.9,735.1,632,570.70000000000005,532.79999999999995,508.3,479.5,1018.9,772.8,640.1,563.6,522.1,491.1,443.9,44.8,43.5,42.8,40.5,39.6,39.799999999999997,40.299999999999997,145.19999999999999,149.5,150.80000000000001,154.9,168.8,180,180,1031.4000000000001,854.3,757.4,712.1,687.2,676.4,676.6,663,554.1,503.7,487,479.2,474.6,472.1,618,522,485.1,472,465.1,460.7,457.5,577.9,499.8,471.8,456.6,447.5,441.3,432.8,575.6,500.4,472,454,438.4,424.7,409.1,644.70000000000005,530.70000000000005,479.3,454.1,432.8,413.2,381,666.8,545.29999999999995,486.1,458.7,436.1,414,376.3,736.9,596.1,514.1,475.6,452.6,430.8,388.8,873.5,689.1,581,513.20000000000005,476.5,454.7,414.5,1008.6,795.7,670.7,586.4,530.6,489.3,445.2,0.95679999999999998,1.2443,1.4005000000000001,0.73170000000000002,0.99939999999999996,1.1615,600.29999999999995,0.99939999999999996,0,0,1.0037,0,0,597.79999999999995,"GER20027976",9.5980000000000008,8190,32.1,42.5,42.6,99.5,90.5,705.5,542.5,482,922.5,675.4,581.1,631.5,0.95009999999999994,652.9,0.91900000000000004,614.79999999999995,0.97589999999999999]
[null,"GER152115","X79445","X79  445","NAE-TO-DAN","X-79 OD","X-YACHTS","JEPPESEN",1979,"YCW",null,"CLUB","R",352,"07 06 2018 16:36:58",7.89,6.5670000000000002,1.3580000000000001,2.84,1552,96.1,0,688,0.90110000000000001,749.1,0,0,1099,894.1,779.4,723,692.7,675.2,649.79999999999995,1045.8,857,761.3,715.2,690.8,674.8,644,934.6,760.3,668.3,615.70000000000005,583.5,561.79999999999995,532,986.3,797.4,696.9,639.1,603.9,580.70000000000005,550.70000000000005,1096.9000000000001,842.3,708.7,638,597,562.4,503.7,43.6,41.7,39.5,38.700000000000003,38.6,39,40.200000000000003,147.1,150.80000000000001,152.9,168.8,180,180,180,1119.5999999999999,931.9,835.7,810,803,803.7,814,736.8,629.1,589.6,576,570.70000000000005,568.5,566.6,700.2,610.4,576.1,558.5,551,547.4,544.6,674.5,598.70000000000005,564.9,537.79999999999995,520.79999999999995,513.29999999999995,508.6,682.1,592.1,554.79999999999995,533.9,507.6,488.5,471.8,681.6,587.1,542.4,505.4,480.4,464.5,434.3,703.7,596.70000000000005,551.20000000000005,510.9,475.7,443.9,399,781,642.9,576.1,536.5,500.8,467.1,378.8,933.9,741.3,629.6,572.20000000000005,535.6,502.8,434.6,1078.3,856.3,723.1,636,582.4,546.79999999999995,485.6,0.87060000000000004,1.1006,1.2226999999999999,0.67730000000000001,0.90180000000000005,1.0074000000000001,680.7,0.88149999999999995,0,0,0.89529999999999998,0,0,670.2,"GER30002032",6.6829999999999998,2019,13.7,21.3,18.8,48.8,0,775.3,613.29999999999995,552.1,996.6,748.5,670,698,0.85960000000000003,718.2,0.83540000000000003,696.2,0.86180000000000001]
[null,"GER47441","GER25","GER   25","ESPADA","IOR","YACHTHAFENWERFT","JUDEL/VROLIJK",1980,null,null,"INTL","R",550,"19 06 2018 13:00:30",11.69,9.7219999999999995,2.3450000000000002,4.01,6383,115.3,0.11,609.20000000000005,1.0327999999999999,653.6,0,0,994.8,810,693.7,628.20000000000005,593.70000000000005,570.79999999999995,546.4,947.4,770.1,671.3,617.5,588.1,569.1,547.70000000000005,841.7,678.4,590.70000000000005,539.9,509,488.9,464.5,905.9,724.8,625.9,567.5,531.1,507.4,478.3,993.3,762,628.20000000000005,554.4,517.6,489,447,41.7,40.6,40,38.299999999999997,37.299999999999997,36.700000000000003,36.799999999999997,145.69999999999999,149.5,147.69999999999999,155.9,171.3,180,180,1010.5,840.5,738.3,686.9,665.9,655.29999999999995,651.20000000000005,672.9,565.29999999999995,513.1,492.6,482.9,478.1,474.1,642.20000000000005,543.20000000000005,501.2,482.9,471.7,465.4,460.1,621.29999999999995,529.70000000000005,493.1,474.1,459.8,448.4,436.4,630.6,534,490.6,472.9,456.2,441.4,419.2,630.9,519.1,478.2,454.9,438.5,427.3,409.5,645.5,527.79999999999995,481.4,455.2,431.9,413.5,392.8,717.3,573.4,500.9,470.3,445.5,421.9,381,848,675.1,562.20000000000005,499.6,471.7,449,407.1,979.2,779.5,649.20000000000005,569.5,521.6,486.2,441.5,0.96099999999999997,1.254,1.4069,0.748,1.028,1.1897,592.70000000000005,1.0123,0,0,1.0169999999999999,0,0,590,"GER20028428",9.5860000000000003,7263,29.8,33.9,50.1,133.69999999999999,0,702.4,538.29999999999995,479.8,902.4,656.6,567.4,625.4,0.95940000000000003,646.1,0.92859999999999998,610.79999999999995,0.98229999999999995]
[null,"GRE1133","GR1745","GRE-1745","NAFPARIS","OCEANIS 38 Cruiser","BENETEAU","FINOT-CONQ",2015,"IOP",null,"CLUB","C",480,"14 03 2018 23:40:26",11.13,11.095000000000001,2.056,3.99,6850,109.3,0.37,673.6,0.91849999999999998,734.9,0,0,1199.5999999999999,940,798.2,707.2,651.6,620,580.9,1150,905.9,770.3,686.8,636,606.70000000000005,576,970.4,765,650.79999999999995,582.20000000000005,539.20000000000005,511.5,478.5,1058.4000000000001,826.4,695.1,614.29999999999995,562.5,528.6,490.8,1190.7,878.5,709.7,603,545.6,507.8,452.7,44.4,43,42.1,41.3,40.799999999999997,40.299999999999997,40.200000000000003,145.19999999999999,146.19999999999999,146.4,146.19999999999999,147.69999999999999,174.2,177.4,1288.9000000000001,1020.3,875,781.3,722.3,694.1,687.8,830.4,669,580.20000000000005,522.6,492.6,478.7,473.3,777.6,632.9,551.1,501.6,477.5,464.9,457.3,739.6,605.79999999999995,527.20000000000005,486.8,465.9,451.9,433.9,708.3,571.70000000000005,496.5,464.2,449.3,442.3,421.4,697.3,562.79999999999995,490.4,458.3,436.4,415.2,388.4,724.6,582.29999999999995,502.1,464.6,441.3,418.4,375.4,813.2,641.4,544.5,487.2,458.5,436.8,392.8,961.5,744.5,624.79999999999995,548.29999999999995,503,476,440.4,1110.3,859.7,721.4,633.20000000000005,580.9,545.9,474.1,0.82389999999999997,1.1536,1.3543000000000001,0.63100000000000001,0.90839999999999999,1.1007,648.4,0.9254,0,0,0.92579999999999996,0,0,648.1,"GRE01009188",9.1999999999999993,7937,34,31.7,32.9,0,84.3,819.3,585.1,498.4,1069.7,743.1,613.20000000000005,687.8,0.87229999999999996,720.4,0.83289999999999997,673.4,0.89100000000000001]
[null,"GRE1189","GR1789","GRE-1789","HERMES 3","POGO 12,50","POGO STRUCTURES","FINOT-CONQ",2011,"NAO LAVREOTIKIS",null,"CLUB","R",560,"16 03 2018 14:57:08",12.19,12.255000000000001,3.0129999999999999,4.5,5508,105.5,0.09,531.70000000000005,1.1487000000000001,587.6,0,0,896.2,714.8,613.5,566.5,543.29999999999995,520.9,475.5,849,679.3,592.1,550.20000000000005,525.1,502.5,465.8,736.5,593.1,515.9,470.4,440.9,419.5,387,811.1,645.4,554.4,499.9,464.6,440,405.6,895.4,670.5,552.6,489.5,454.7,421.8,367.6,42.5,41.1,39,37.200000000000003,36.4,36.200000000000003,36,142.69999999999999,145.19999999999999,147.9,151,150.6,147.4,144.6,904.7,730,640.4,611.4,597.5,585.5,574.9,593.79999999999995,488,448.7,437.2,431,426.5,416.5,561.5,469.9,437.2,423.6,416.1,411,397.2,507.4,444.1,423.2,403.3,389.7,381.8,369.5,488,431.8,402.7,385.2,371.4,356.2,341.6,517.9,449,416.4,379.4,348.2,327.60000000000002,305.2,569.1,467.3,424.2,386.5,350.8,320.60000000000002,289.2,645,513.70000000000005,448.3,414.6,380.1,341.6,277.3,768.8,605.79999999999995,508,452,423.9,395.2,325.7,887.8,699.5,586.6,521.6,489,456.3,376.1,1.1007,1.4335,1.6428,0.83799999999999997,1.1466000000000001,1.3249,0,0,0,0,1.1587000000000001,0,0,517.79999999999995,"GRE01009217",12.092000000000001,6812,37.1,63.8,41.9,0,136.30000000000001,613.20000000000005,470.9,410.9,805.5,588.70000000000005,509.5,556.4,1.0783,572.6,1.0479000000000001,0,0]
[null,"GRE77","GR029","GRE-029","SOFIA","OHLSON 29","ARTEKNO","OHLSON EINAR",1979,"IO PATRON",null,"INTL","C",360,"26 03 2018 22:00:36",8.8000000000000007,6.9640000000000004,1.5589999999999999,2.7,3123,124.4,0.46,778.5,0.80149999999999999,842.2,0,0,1306.5,1053.3,910.8,813.4,752.2,724.4,703.2,1268.3,1025.8,892,809,759,733.6,713.2,1091,872.9,754,684.1,641.5,615.1,586.6,1188.5999999999999,941.7,804.2,721.5,670.1,638.1,604.6,1293,984.8,814.2,706.4,648.70000000000005,610.79999999999995,555.4,43.9,42.4,42.3,42.8,42.3,42.1,43,147.9,151.5,151.5,159.6,180,180,180,1440.6,1179.3,1041.0999999999999,944.7,890.4,872.8,879.1,936.3,780.1,684.5,627.5,602.5,592.4,590.4,883.6,739.6,649,604.79999999999995,584.5,573.6,568.70000000000005,845.9,704.2,624.5,589,568.9,554.6,537.5,799.9,652.20000000000005,589.4,568.9,559.9,547.20000000000005,518.70000000000005,776.2,634.6,577.4,548.6,525.9,512.5,494.6,798.1,648.6,583.29999999999995,551.79999999999995,525.1,502.3,476.8,875.3,707.4,609.29999999999995,569.29999999999995,541.79999999999995,515.70000000000005,472.9,1015.3,803.6,677.1,602.1,567.79999999999995,542.5,496.3,1172.3,927.3,780.4,682.1,614,576.1,527.29999999999995,0.73880000000000001,0.98750000000000004,1.1213,0.57210000000000005,0.79359999999999997,0.93310000000000004,0,0,0,0,0.79779999999999995,0,0,752.1,"GRE01009309",5.9809999999999999,3645,17.600000000000001,17.399999999999999,19.100000000000001,58.4,0,913.6,683.5,602,1179.9000000000001,850.6,723.4,797.7,0.75219999999999998,831.6,0.72150000000000003,0,0]
[null,"GRE53","GR3000","GRE-3000","ANEMOESSA","BAVARIA 36 CRUISER","BAVARIA","J  & J",2004,"SEANATK",null,"CLUB","C",400,"26 03 2018 22:00:36",10.96,9.9280000000000008,1.5469999999999999,3.61,5500,110.7,0.41,671.7,0.92800000000000005,727.4,0,0,1142.9000000000001,917.1,788.3,702.3,650.5,620.5,598,1093.5999999999999,882.4,763.6,690.6,647.5,623.70000000000005,602.29999999999995,945.3,755,650.5,588.5,550.1,525.6,498,1010,801.3,685.5,615.79999999999995,572.1,544,512.1,1136.3,859.1,704.4,607.70000000000005,556.70000000000005,522.9,473.3,44.4,42.8,42.2,41.7,40.799999999999997,40.4,40.799999999999997,146.30000000000001,149.9,150,154.5,168,180,180,1208.4000000000001,988.5,867.9,787.7,743.1,727.2,727.5,780.2,650.20000000000005,573.5,530.9,511.3,502.5,499.6,733.3,615.70000000000005,546.5,513.29999999999995,497.2,488,482.9,698.7,589.1,528.4,500.7,484.7,473.1,458.1,705.5,579.9,514,486.5,470,461.2,443.2,689.7,564.5,504.7,478.1,457.7,439.5,409.3,707.9,578.6,511.6,482,460,438.4,402.5,780.5,632.79999999999995,541.6,498.9,475.2,453.9,411.1,933.1,732.5,613.79999999999995,539.4,499.6,477.3,437.4,1077.4000000000001,845.8,708.8,616.9,557.9,513.79999999999995,468.5,0.85060000000000002,1.1456999999999999,1.3134999999999999,0.65529999999999999,0.91720000000000002,1.0894999999999999,0,0,0,0,0.92400000000000004,0,0,649.29999999999995,"GRE01009311",8.5570000000000004,6407,25.9,24.4,34.1,79.8,64.8,793.6,589.20000000000005,513.9,1030.0999999999999,735.9,619.6,683.2,0.87819999999999998,708.6,0.84670000000000001,0,0]
[null,"GRE472","GR708","GRE-708","DENIS K","SUN LIGHT 31","JEANNEAU","D, ANDRIEU",1986,"NAO LAVREOTIKIS",null,"CLUB","C",440,"12 04 2018 02:22:56",9.2010000000000005,7.5439999999999996,1.371,3.17,3100,114.9,0.18,722.7,0.8599,784.9,0,0,1198.7,967.3,833.8,753.3,711.7,690.8,679.9,1151.9000000000001,933.5,813.1,746.8,714,697.3,691.1,1003.9,806.3,700.1,639.1,603.1,581.6,560,1060.5999999999999,846.4,730.1,662.5,622.20000000000005,598,573.79999999999995,1192.2,906.9,749.1,657.3,612.5,578.70000000000005,525.6,44.4,43.7,43.2,42,42.1,42.3,44.3,147.5,150.5,151.69999999999999,158.5,180,180,180,1264.0999999999999,1043.7,918.9,850.9,832.1,828.5,855.5,818,683.1,607.6,576.79999999999995,566.5,563.1,566.79999999999995,770.4,645.70000000000005,584.9,560.20000000000005,548.79999999999995,544.70000000000005,545.20000000000005,735.7,619.1,569.79999999999995,546,530.20000000000005,518.70000000000005,511.1,743,622.1,563.29999999999995,538.6,523.9,506.4,481.9,744.9,608.5,553,523.4,498.4,478.6,459.9,765,621.70000000000005,558.79999999999995,527.6,499.8,475.2,439.2,839.3,676.8,584.4,545.20000000000005,517.79999999999995,491.2,444.6,981.5,771.6,649.70000000000005,577.6,543.9,518.70000000000005,471.3,1133.3,890.9,748.8,655.6,591.20000000000005,553.1,504.3,0.80479999999999996,1.0613999999999999,1.1820999999999999,0.62329999999999997,0.85709999999999997,0.97550000000000003,0,0,0,0,0.85709999999999997,0,0,700.1,"GRE01009382",6.851,3688,18.600000000000001,18.3,31.6,61.3,0,838.7,636,571,1082.9000000000001,787.5,692,729.2,0.82279999999999998,754.4,0.79530000000000001,0,0]
[null,"GRE1172","ESP9297","ESP-9297","ANDARIN","J-105","J BOATS EUROPE","ROD JOHNSTONE",1991,"NOPF",null,"CLUB","R",420,"13 04 2018 15:38:28",10.57,9.548,2.004,3.35,3859,106.8,0.18,624.29999999999995,0.99209999999999998,680.4,0,0,1029.0999999999999,826.3,711,654.70000000000005,631.20000000000005,605.6,573,985.2,793,692,641.1,614.20000000000005,593.5,560.6,862.3,694.4,605.20000000000005,554.20000000000005,523,501.8,471.7,950.3,755,648.1,585.1,545.9,520.20000000000005,487,1023.5,775,642.20000000000005,571.4,535.6,503.6,451.9,42.5,41.1,40.1,38.700000000000003,38,37.700000000000003,37.799999999999997,143.9,147.4,148.1,150.30000000000001,152,176.6,177.2,1084.4000000000001,881.7,771.6,721.9,704.3,696.7,682,713.4,590.5,530.29999999999995,508.9,500.8,496.6,490,676,563.9,515.4,496.3,486.4,481.5,478.1,649.29999999999995,546.5,504.8,484,468.7,456.8,446.9,625.20000000000005,524,495.1,481.6,462.4,443.9,417.7,617.70000000000005,515.20000000000005,479,453.1,436.7,422.4,397.6,635.5,524.5,482.9,451.9,423,403.2,374.3,712.1,570.9,504.3,472.3,440.7,409.5,348.4,843.3,667.5,563.29999999999995,509,485.2,462,406.6,973.8,770.8,650.5,587.6,558,514.4,464,0.94120000000000004,1.2234,1.3694999999999999,0.72760000000000002,0.9899,1.1254999999999999,610.6,0.98270000000000002,0,0,0.99109999999999998,0,0,605.4,"GRE01009436",9.0530000000000008,4709,24.3,34,24.5,0,98.3,717.2,551.70000000000005,492.9,927.7,681.9,599.70000000000005,647.1,0.92720000000000002,670,0.89549999999999996,628.29999999999995,0.95499999999999996]
[null,"GRE1128","GR144","GRE-144","RUSH","ONE-OFF","COOKSON BOATS","BRUCE FARR",1991,"IO MARINAS GOUVION",null,"INTL","R",863,"18 04 2018 21:21:34",11.981999999999999,10.374000000000001,2.35,3.79,4917,115.6,0,566.9,1.0928,617.70000000000005,0,0,913.6,742.1,650,599.4,568.9,549.79999999999995,519.5,862.1,703.2,625.4,585.6,561.5,544.79999999999995,512.9,773.9,628,550.6,505.7,477.4,457.7,429.9,812.6,655.8,571.79999999999995,522.70000000000005,491.8,470.8,441.6,915.8,699.6,588.79999999999995,524.9,489.1,459.5,409,42.1,40.700000000000003,38.799999999999997,37.5,36.9,36.799999999999997,36.6,141,147.30000000000001,148.9,156.4,172.1,180,180,891.3,737.1,672.8,647.79999999999995,635.70000000000005,632.20000000000005,622.9,589.29999999999995,502.4,475.4,465.9,460.7,457.4,451.3,559.79999999999995,488.1,464.2,453,446.4,442.4,436.5,539.4,479.6,453.8,435,423.5,416.6,410,547.5,482.3,454.7,430.7,410.5,395.8,381.4,590.1,491.1,452.9,423.1,398.5,376.8,352.5,609.29999999999995,502,460.3,429,399.1,372.2,328.7,680,548.29999999999995,483.1,451.7,422.5,394,335.7,810.5,647,543.1,483.7,454,426.9,374.8,935.8,747.1,627.1,550.9,502.2,467.3,416.2,1.0524,1.3363,1.5029999999999999,0.81540000000000001,1.0878000000000001,1.2425999999999999,0,0,0,0,1.0865,0,0,552.20000000000005,"GRE01009467",10.5,5848,27.2,49.1,45.2,96.9,80,641.4,505.1,449.1,827.8,620.5,543.20000000000005,574.5,1.0443,589.20000000000005,1.0183,0,0]
[null,"GREF00366","GR49227","GRE-49227","GLAROS II","FIRST 38","BENETEAU","J,BERRET",1982,"NOE",null,"CLUB","C",640,"18 04 2018 21:21:34",11.72,9.9459999999999997,2.1920000000000002,3.89,8439,116.9,0.56000000000000005,684.6,0.91369999999999996,738.7,0,0,1161.5999999999999,929.8,803.1,717.7,660.3,626.20000000000005,599.6,1112.8,897,777.4,702.7,656.3,630.1,605.70000000000005,966.4,770.6,662.8,598.5,558.5,532.9,504.3,1035.8,820,699.7,626.70000000000005,580.4,550.5,516.20000000000005,1156,873,718,619.1,564.9,530.20000000000005,480.1,43.6,41.8,41.2,41.5,41.3,40.799999999999997,40.5,146.69999999999999,150.19999999999999,152.6,153.69999999999999,165.7,180,180,1217.5999999999999,995.8,877.9,799.7,750.8,731,724.4,794,663.5,585.29999999999995,537,515.20000000000005,504.9,499.7,751.6,632.4,556.9,519,501.3,491,483.7,722,608.5,537.79999999999995,506.2,489.2,477.5,461.8,731.4,599.1,523.1,493,479.5,472.7,450.1,716.1,585.79999999999995,514.6,485.1,465.8,448.9,428.1,737.7,602.29999999999995,523.20000000000005,489.8,468.8,450.2,417.1,813.9,656.4,560.29999999999995,508.5,483.2,464,427,957.5,748.2,631.9,554.6,508.2,484.6,449.1,1105.5999999999999,863.9,728.4,635.79999999999995,569.9,521.4,474.9,0.83130000000000004,1.1252,1.2966,0.64549999999999996,0.90059999999999996,1.0804,0,0,0,0,0.90859999999999996,0,0,660.3,"GRE01009505",8.4600000000000009,9361,31.8,32.700000000000003,39.200000000000003,92.7,0,812,599.9,520.6,1045.7,749.5,624.79999999999995,695.4,0.86280000000000001,723.3,0.82950000000000002,0,0]
[null,"GREF00620","GR302","GRE-302","KRAKEN","MOUNT GAY 30","YACHT SERVICES","S, ROGERS",1993,"OFTh",null,"CLUB","R",575,"26 04 2018 12:32:28",9.5289999999999999,8.6720000000000006,1.98,3.29,2915,107.2,0,614.4,1.0052000000000001,671.5,0,0,968.4,793.3,696.9,652,624.20000000000005,606.9,577.1,926.7,762.4,681.5,642,618.6,601.29999999999995,569.9,831.7,678.1,597.20000000000005,550.70000000000005,521.5,501.2,471.6,893.9,722,630.1,576.70000000000005,543.4,520.70000000000005,489.8,965.2,747.6,634.1,572.70000000000005,534.70000000000005,503.2,448.9,42.4,41.2,39.299999999999997,38.799999999999997,38.700000000000003,38.9,39.5,142.1,148.5,152.69999999999999,161.30000000000001,180,180,180,1000.3,834.2,752.1,729.2,721.4,719.4,720.8,661,564.29999999999995,529.20000000000005,517.5,512.29999999999995,509.8,505.8,628.5,547.20000000000005,516.9,502.1,495.1,491.2,486.5,605.29999999999995,536.4,506.4,482.8,466.5,458.2,451.2,611.9,530.4,505.1,478.3,452.4,432.7,413.8,608.70000000000005,523.6,484.9,455,436.8,419.5,390.7,624.1,531.20000000000005,490.4,452,420,399.6,365.4,686.7,563.79999999999995,513.20000000000005,476.8,440.6,404.2,329.9,811,651.5,558.29999999999995,512,478.6,445.6,377.7,936.4,752.3,641.70000000000005,574.79999999999995,526.9,494.4,433.4,0.98040000000000005,1.2283999999999999,1.3713,0.76629999999999998,1.0047999999999999,1.1249,0,0,0,0,1.0015000000000001,0,0,599.1,"GRE01009577",8.5289999999999999,3632,20.7,37.9,27.8,88.9,0,688.5,549.5,492.2,880.9,671.8,600.1,632.5,0.9486,649.4,0.92390000000000005,0,0]
[null,"GRE11","GR1243","GRE-1243","HAKUNA MATATA","COMET 41S","COMAR","A,VALLICELLI & C,",2005,"IOVATh",null,"INTL","C",720,"04 05 2018 11:31:48",12.48,11.173,2.3519999999999999,3.92,7396,119.1,0.04,581.29999999999995,1.069,631.4,0,0,950.3,769.7,666.1,610.20000000000005,578.5,557,527.70000000000005,904.8,734.4,644.6,598.6,573.4,556,526.70000000000005,800.6,646.1,563.79999999999995,516.4,487.4,468,442,855.9,685.2,592.79999999999995,538.79999999999995,505.4,483.5,455,948.2,723.4,600.9,533.5,497.9,469.5,422.8,42.7,41.3,40.200000000000003,39.1,38.4,38.200000000000003,38.6,141.6,148,149.69999999999999,155.4,168.2,180,180,970.6,798.8,707.8,671.3,656.3,649.79999999999995,635.5,638.20000000000005,533.6,486.2,469.2,462.9,459.8,452.9,605,510.8,472.6,457,450.3,446.8,441.2,580.6,496.1,462.9,445.8,433.8,426.6,420.1,587.20000000000005,496.9,458.8,443.1,427.1,412.7,393.6,597.70000000000005,492.8,452.8,429.9,409.1,395.7,376.2,613.70000000000005,503.3,457.6,432.1,408.2,387.6,359.2,678.1,548.20000000000005,480.1,449.2,425.7,401.4,355,805.3,641.4,540.70000000000005,480.3,450.9,428.9,384.7,929.9,740.6,624.29999999999995,549,500.7,464.2,419.9,1.0130999999999999,1.3119000000000001,1.4692000000000001,0.78490000000000004,1.0644,1.2242,0,0,0,0,1.0620000000000001,0,0,564.9,"GRE01009660",10.534000000000001,8464,32.700000000000003,53.9,42.5,118.5,95.4,666.3,514.5,459.4,860,634.20000000000005,551.4,594.4,1.0094000000000001,612,0.98040000000000005,0,0]
[null,"GRE1030","GR1685","GRE-1685","RAINBOW","SUNSHINE 36","JEANNEAU","TONY CASTRO",1982,"NO RAFINAS ALKYON",null,"CLUB","C",450,"04 05 2018 11:31:48",10.662000000000001,8.923,1.891,3.81,5385,115.2,0.35,685.6,0.91210000000000002,740,0,0,1152.3,926.1,798.2,714,665.2,636.9,613.5,1102.7,891.4,772.8,702,662.6,640.5,619.29999999999995,960.1,768.4,664,602.79999999999995,565.20000000000005,541.4,514.1,1018.4,809.7,694.7,626.29999999999995,583.9,556.9,525.70000000000005,1147.5999999999999,868.8,715.3,620.6,573.1,540.4,489.5,43.7,42.1,41.9,41.3,40.200000000000003,39.700000000000003,40.6,147.1,150.4,152.19999999999999,155.30000000000001,172.7,180,180,1199.0999999999999,985.6,865.9,789.9,756.4,743.7,742.6,780.7,652.4,575.5,540.9,525.5,519.29999999999995,516.4,737.8,619.1,553.4,526.29999999999995,512.1,504.4,499.9,707,594,538.9,514.5,499.3,487.3,473.3,715.8,590.29999999999995,528.4,503.3,489.7,480.8,456.2,709.5,580,522.5,495.5,473.7,454.2,431.8,733.7,598.4,530.5,500.6,477.7,456.4,420.7,813.4,658.7,564.1,519.6,494.7,472.4,430.4,957.4,750.5,633.6,557,518.79999999999995,495.7,454.6,1105.5,866.5,730.4,638.1,574,530.1,484.4,0.83930000000000005,1.1209,1.2732000000000001,0.64959999999999996,0.90300000000000002,1.0627,0,0,0,0,0.90549999999999997,0,0,662.6,"GRE01009670",8.0350000000000001,6159,25.7,25.2,40.299999999999997,0,74.3,804.2,602.20000000000005,530.20000000000005,1039.0999999999999,747.5,635.20000000000005,692.6,0.86629999999999996,718,0.8357,0,0]
[null,"GRE633","GR1416","GRE-1416","HARRISON","BAVARIA 31 CRUISER","BAVARIA YACHTS",null,2007,"NO AIGIOU-POSEIDON",null,"CLUB","C",500,"10 05 2018 13:52:04",9.76,8.6649999999999991,1.77,3.02,4700,124.8,0.4,708.2,0.88500000000000001,762.7,0,0,1189.7,956.6,826.1,737.5,682.2,653.1,631.29999999999995,1137.5,920.9,799.1,723.8,680.9,658.6,637.9,991.9,794.2,686.1,622.20000000000005,583.1,558.4,530.20000000000005,1032.9000000000001,823.1,707.6,638.9,596.5,569.6,539.20000000000005,1186.5,898.5,740.8,641.29999999999995,590.29999999999995,557.4,506.2,43.6,41.8,41.7,41.1,39.9,39.4,39.700000000000003,147.80000000000001,151.9,155.69999999999999,159,180,180,180,1222.0999999999999,1008.7,889.7,809.6,771.6,759.1,760.4,796.7,669.7,591.9,555,538.70000000000005,532.5,530.20000000000005,753.2,635.4,568.5,539.9,525.4,517.70000000000005,513.9,721.1,608.9,553,528.20000000000005,512.70000000000005,501,488.3,728,613.4,547.20000000000005,519.29999999999995,502.6,494,468.7,743.8,611.20000000000005,544.5,515.70000000000005,494.3,473.9,443.8,769.9,630.9,554,521.9,500.6,479.6,440.1,857.7,692.7,593.4,541.70000000000005,515.9,495.4,454.2,1002.3,784.4,663.7,582.79999999999995,539.4,515.70000000000005,476.7,1157.3,904.5,762.6,665.4,592.9,547.1,502.2,0.81169999999999998,1.085,1.2355,0.629,0.87490000000000001,1.0349999999999999,0,0,0,0,0.87639999999999996,0,0,684.6,"GRE01009724",7.7350000000000003,5443,23.3,26.2,27.4,49.1,0,831.6,622.1,546.29999999999995,1073.0999999999999,771.5,652.20000000000005,704.7,0.85140000000000005,731,0.82079999999999997,0,0]
[null,"GRE881","GR1580","GRE-1580","TEAM 24","DUFOUR 2800","DUFOUR","DUFOUR",1981,"NOKI",null,"CLUB","C",250,"14 05 2018 22:02:54",8.32,7.0670000000000002,1.456,2.82,2750,114.9,0.44,793.9,0.78639999999999999,858.4,0,0,1327.4,1070.9000000000001,930.7,833,766.5,735.5,718.4,1287.0999999999999,1043.8,910.4,826,772.8,745.3,728.3,1111.5999999999999,890.2,769.2,697.6,653.79999999999995,626.6,598.1,1185.7,942.8,808.3,727.6,677.4,646,613,1315.5,1002.8,832.2,722.1,660.9,622.20000000000005,565.1,44.3,42.9,42.7,43.1,42.2,41.7,42.6,148.4,152,154.6,160,180,180,180,1446.3,1188.9000000000001,1054,959.2,899.2,878.2,892.1,934.8,782.2,691.9,635.79999999999995,610.4,599.6,599.9,879.3,740.4,655.1,612.9,592.5,581.29999999999995,577.9,838.8,707.4,630.79999999999995,596.9,577.20000000000005,562.79999999999995,546.5,828.4,678.1,603.9,574.9,561.6,554.6,527.29999999999995,804.3,660.2,594.79999999999995,564,539,517.29999999999995,497.6,825.1,675.6,601.6,569.29999999999995,544.1,518.79999999999995,480.6,906.7,735.1,633.70000000000005,587.79999999999995,560.5,535,488.4,1046.5,826.9,703.4,623.20000000000005,585.29999999999995,560.29999999999995,513.6,1208.4000000000001,953,807.5,706.8,633.9,592.9,544.70000000000005,0.72519999999999996,0.96719999999999995,1.1014999999999999,0.56289999999999996,0.77690000000000003,0.91610000000000003,0,0,0,0,0.78200000000000003,0,0,767.3,"GRE01009759",5.9569999999999999,3306,16.5,13.2,19.899999999999999,41.3,0,930.8,697.9,612.79999999999995,1199.0999999999999,868.8,736.8,802.8,0.74739999999999995,835.2,0.71840000000000004,0,0]
[null,"GRE503","GR49453","GRE-49453","AGIAZI","LANCER 29",null,null,1986,"NO LIMNIS EVIAS",null,"CLUB","C",450,"21 05 2018 21:14:58",8.85,6.9989999999999997,1.615,2.97,3512,119.1,0.63,771.1,0.81310000000000004,830.2,0,0,1268.5,1033.5,899.4,803.5,744.2,715.5,691.3,1226.2,1001.9,876.3,796.5,748.5,722.8,699.4,1073.9000000000001,862.7,747.5,679.5,637.6,611.1,580.79999999999995,1138.3,909,782.5,706.8,659.4,629,594.29999999999995,1260.3,969.8,806.8,701.4,646,609.4,553.4,43.2,41.9,42,42.2,41.1,40.799999999999997,41.2,148.4,152.19999999999999,152.5,159.9,180,180,180,1350.5,1126.2,1003.6,912.6,863.3,844.6,843.1,885.7,749.9,664.2,618.5,597.5,586.9,582.6,841.2,713,635.9,600.79999999999995,582.4,570.70000000000005,563.1,809,683.7,616.6,587.29999999999995,568.29999999999995,553.79999999999995,533.5,815.3,668.6,597.29999999999995,569.20000000000005,554.5,546.70000000000005,518.79999999999995,790.6,649.29999999999995,588.20000000000005,558.29999999999995,533.4,512.6,492.2,810.7,663.1,594.20000000000005,562.79999999999995,537.29999999999995,512.9,478.6,891.6,722.6,621.6,580,553.6,528.70000000000005,486.2,1027.5,816.1,690.8,613.1,578.20000000000005,554,509.4,1186.5,940.8,795.1,694.4,625.1,586.4,539.6,0.75119999999999998,0.99339999999999995,1.1286,0.58650000000000002,0.80379999999999996,0.94589999999999996,0,0,0,0,0.80479999999999996,0,0,745.5,"GRE01009820",6.1769999999999996,4055,18.399999999999999,15.5,26.6,55.3,0,898.6,679.5,598.1,1150.9000000000001,839.8,713.6,777.9,0.77129999999999999,807.9,0.74270000000000003,0,0]
[null,"GRE496","GR1441","GRE-1441","ARPYIA","OCEANIS 331","BENETEAU","GROUPE FINOT",2000,"NO AMFITHEAS",null,"CLUB","C",582,"22 05 2018 21:22:14",10,8.875,1.6040000000000001,3.36,4500,114.1,0.41,786.8,0.80110000000000003,842.6,0,0,1419.2,1102.2,927.2,814.6,735.7,689.3,656,1354.8,1063.9000000000001,902.7,799.2,730.4,692.9,667.9,1145.5,898.8,759.8,674.8,621,586.6,550.1,1145.5,898.8,759.8,674.8,621,586.6,550.1,1418.4,1034.8,830.4,700.9,625.29999999999995,577.70000000000005,519.1,45.6,44.3,43.6,43.7,42.7,42.1,42.5,169.2,169.8,170.8,171.8,172.3,173.1,176.8,1427.9,1142.0999999999999,991.2,890.6,818.7,790.4,792.9,910.1,739.4,644.9,581.20000000000005,547.70000000000005,533.4,530.1,847.1,695.5,606.70000000000005,554.4,529.1,516.4,510.2,801.1,661.7,578,536.5,515,500.5,482.9,811.7,667.1,580.1,535.29999999999995,511.3,492.4,463.4,879.2,705.5,605.6,545.9,516.6,497.2,461.4,945.3,746.9,636,563.70000000000005,526.1,504.6,469.1,1079.8,833.9,700.3,613.1,554.9,523.4,486.6,1253.7,951.4,782.7,677.7,603,552,503.7,1410.6,1062.2,863.3,738.6,652.6,588.1,519.1,0.69569999999999999,0.98939999999999995,1.1848000000000001,0.53539999999999999,0.78820000000000001,0.98050000000000004,0,0,0,0,0.79620000000000002,0,0,753.6,"GRE01009835",7.2489999999999997,5275,23.1,21.4,26.5,0,0,970.2,682.2,569.70000000000005,1260.7,856.4,688.4,753.6,0.79620000000000002,786.8,0.76259999999999994,0,0]
[null,"GRE252","GR49335","GRE-49335","ERODIOS","DROMOR 26","DROMOR","R, CARTER",1980,"NOTK",null,"INTL","C",320,"06 06 2018 13:27:56",8.58,7.093,1.617,2.98,3616,114.2,0.63,770.9,0.81140000000000001,831.9,0,0,1265.9000000000001,1033.2,901.2,807.4,747.1,716.2,692.9,1223.5,1001.8,877.8,799.5,751.6,725.2,702.4,1072.0999999999999,862,747.5,679.9,638.20000000000005,611.9,582.29999999999995,1139.2,910.3,783.9,708.1,660.6,630.29999999999995,596.4,1257.5999999999999,969.6,807.7,702.5,646.79999999999995,609.4,553.29999999999995,43.1,41.6,41.4,41.9,41.4,41.2,41.6,148.4,152.5,153,159.19999999999999,180,180,180,1348.4,1126.4000000000001,1006.3,920.3,870.4,849.3,846.6,886.2,752.9,668.4,619.29999999999995,596.79999999999995,585.70000000000005,581,842.2,717,637.79999999999995,599.20000000000005,580.9,570.1,562.6,810.3,688.1,616.4,584.6,566.70000000000005,554.1,536.6,807.2,665,593.5,566.6,554.6,541.79999999999995,512.79999999999995,785.5,647.79999999999995,584.20000000000005,556.1,534.9,516.1,497,808.1,663,590.9,560.20000000000005,537.1,515.4,481.4,887.1,722.5,619.79999999999995,576.29999999999995,551.70000000000005,529.70000000000005,488.9,1024.8,815.7,691.6,611.20000000000005,574.79999999999995,552.1,511.5,1183.4000000000001,940,796.1,694.5,623.9,583,539.20000000000005,0.75229999999999997,0.9929,1.1269,0.58720000000000006,0.80130000000000001,0.94379999999999997,747.5,0.80269999999999997,0,0,0.80430000000000001,0,0,746,"GRE01009932",6.18,4167,17.3,15.3,21.7,49.7,0,897.2,679.8,599,1149.5,842.4,715.2,779.1,0.77010000000000001,809.2,0.74150000000000005,771.4,0.77780000000000005]
[null,"GRE608","GR112MX","GRE-1211","THALASSA","MAXI 108 MODIFIED","SJOFARTVERKET","PELLE PETTERSSON",1979,"NASPOR",null,"CLUB","C",400,"07 06 2018 23:48:38",11.398,9.4830000000000005,2.1859999999999999,3.36,7826,134.69999999999999,0.57999999999999996,676.3,0.92479999999999996,729.9,0,0,1124.4000000000001,907.5,786.1,706.3,658,630.1,607.6,1078,874.3,761.7,695.1,656.7,635.1,614.70000000000005,943.6,756.7,655.20000000000005,595.9,559.9,537.29999999999995,512.29999999999995,1010.5,804.2,690.5,622.70000000000005,580.79999999999995,554.1,524,1119,852.2,704.8,614.1,567.5,535.4,488,42.8,41.2,40.5,41.4,40.799999999999997,40.1,40.200000000000003,146.5,150.6,151.6,154.80000000000001,171.8,180,180,1178.7,970.4,858.1,790,754.8,741.2,739.2,774.1,651.1,574.5,537.70000000000005,521.79999999999995,515.5,512.29999999999995,735.1,620.70000000000005,550.70000000000005,522.20000000000005,507.9,500.7,496.4,706.9,596.70000000000005,534.9,509.8,495.2,484.9,473.7,708.7,584,522.29999999999995,498,489.1,477.7,456.8,697.2,571,513.70000000000005,488.9,471.2,456.1,439.8,716.7,586.70000000000005,519.79999999999995,491.6,471.3,452.7,424.5,787.4,640.20000000000005,548.20000000000005,507.5,484.5,464.6,427,926.7,731.4,618.9,545.4,507.6,486.1,448.8,1070.0999999999999,844.6,714.2,622.6,561.20000000000005,519,476.1,0.85429999999999995,1.1348,1.2821,0.66439999999999999,0.91510000000000002,1.0737000000000001,0,0,0,0,0.91759999999999997,0,0,653.9,"GRE01009950",8.3149999999999995,8661,31.8,34.799999999999997,37.4,95,81.3,790.1,594.79999999999995,526.5,1016,737.6,628.70000000000005,687.9,0.87229999999999996,713.5,0.84089999999999998,0,0]
[null,"GRE700","GR1434","GRE-1434","PRINCESS OF LIMNOS","OCEAN STAR 51,2","OCEAN YACHTS","OCEAN YACHTS",1999,"OThAK",null,"CLUB","C",890,"20 06 2018 14:22:08",14.9,13.814,1.946,4.54,15700,113.2,0.42,632.79999999999995,0.97740000000000005,690.6,0,0,1130.5,887.4,752.1,667.8,611.79999999999995,576.1,537.1,1080.3,853.3,727.9,650.9,603,574,541.79999999999995,911.2,719,611.6,546.6,505.5,478.7,446.7,970.2,761.2,643.4,571.20000000000005,524.9,494.3,458.1,1123.3,829.5,668.9,567.5,511.5,474,423.2,46.7,45.2,44,43.5,43.6,43.1,42.3,145.19999999999999,148.1,149.30000000000001,152.1,154.69999999999999,166.7,180,1203.0999999999999,958.9,828.9,748.2,697.9,671.2,650.9,759.7,616,539.4,488,459.5,447.1,438.4,702.5,578.20000000000005,508.3,463.1,441.2,430.6,423,660.2,549.70000000000005,483.6,446.2,427.8,417,404.8,666.5,552.1,482.7,440.7,423.1,412.2,393.9,671.4,541.20000000000005,466,428.9,410.3,396.3,376.2,690.3,553.79999999999995,475.4,433.3,412.4,396.5,366.1,768.1,603.4,513.5,455.7,425.8,408.1,376.2,916.2,706.6,584.79999999999995,509.6,460,429.2,397.2,1057.9000000000001,815.9,675.3,587.5,525.70000000000005,481,423.2,0.877,1.2262999999999999,1.4482999999999999,0.66900000000000004,0.96399999999999997,1.1834,0,0,0,0,0.98419999999999996,0,0,609.6,"GRE01010003",10.89,17199,51,46.1,72.599999999999994,149.4,0,769.7,550.4,466.1,1009,700.2,570.4,642,0.9345,666.2,0.90059999999999996,0,0]
[null,"ISR110118","ISR217","ISR 217","Mythos","First 21,7","Beneteau","Finot",1998,"ISRAEL",null,"CLUB","S",349,"12 01 2018 00:09:18",6.4,6.0119999999999996,2.1059999999999999,2.4300000000000002,1197,87.1,0.24,793.1,0.78659999999999997,858.2,0,0,1305.5,1057.9000000000001,920.4,838.4,766.8,738.1,714.2,1264.2,1025.7,897,815.2,759.1,731.5,701.7,1101,886,769.4,700.2,656.7,628.1,593.5,1201.2,954.3,817.6,735.4,683.9,650.6,612.20000000000005,1293.8,991.6,828.9,728.7,665,625.1,563.1,41.9,40.200000000000003,39.9,38.700000000000003,36.200000000000003,35.9,36.9,146.30000000000001,146.6,147.1,150.5,176.2,177.9,177.5,1422.7,1163.2,1019.5,919,853.3,838.8,848.1,945.8,786.2,695.2,651.70000000000005,626.6,615.79999999999995,613.70000000000005,899.9,750.8,672.8,637.70000000000005,613.4,597.70000000000005,592,848.5,696.6,637.29999999999995,617,600.29999999999995,576.20000000000005,553.5,788.8,660.9,612.5,581.29999999999995,566.20000000000005,554.70000000000005,528.29999999999995,773.3,655.29999999999995,609.6,569.70000000000005,533.6,507.3,480.8,801.5,669.1,618.6,579.70000000000005,542.29999999999995,507.8,451.8,884.6,720,643.6,604.79999999999995,568.1,534.29999999999995,471,1029.0999999999999,825,711.2,657.1,623.79999999999995,595.6,536.6,1188.3,952.7,821.3,757.8,680.4,637.29999999999995,580.29999999999995,0.73550000000000004,0.96250000000000002,1.0992,0.57120000000000004,0.77929999999999999,0.91669999999999996,770,0.7792,0,0,0.78069999999999995,0,0,768.5,"ISR00080414",5.6459999999999999,1651,12.3,13.7,10.4,0,35.700000000000003,917.7,701.3,614.1,1181.7,866.2,736.3,806.5,0.74390000000000001,844.9,0.71009999999999995,794.5,0.75519999999999998]
[null,"ISR260118","ISR396","ISR 396","Odelia 1","Bavaria Cruiser 39","Bavaria","Jakopin",2006,null,null,"CLUB","C",779,"26 01 2018 16:44:28",12.14,10.831,1.871,3.97,8300,123.5,0.39,674,0.91269999999999996,739.6,0,0,1175.5999999999999,934.3,804,717.1,662,626.29999999999995,591.79999999999995,1128.3,901.8,776.5,697.4,647.79999999999995,619.4,592.79999999999995,959,761.5,652.20000000000005,586.6,545.4,518.79999999999995,488.2,1019,803.2,682.1,608.1,561.1,530.70000000000005,496.8,1167.7,873.2,713.4,609.70000000000005,552.6,513.9,461.3,45.8,44.2,43.4,43.6,42.7,42.1,42.2,145.6,146.9,146.9,146.6,148.5,172.8,176.6,1254.8,1013.2,884.1,797.3,739.1,715.1,710.1,799.1,656.6,575.6,522.1,495.4,483.1,477.8,743.6,617.9,542,499.4,479.1,468.1,460.8,702.6,587.4,517.9,484.4,466.4,454.1,437.3,698.7,571.1,498.6,467.4,450,438.1,424.6,691.9,564.70000000000005,494.8,464.4,444.2,425.1,392.1,718.6,584.70000000000005,506.5,470.6,449.5,430,392.7,804.6,642.4,548.1,492.3,464.9,445.5,408.4,949.5,740.8,626.9,551.5,506.5,479,446.4,1096.4000000000001,855.4,723.8,636.79999999999995,584.9,537.4,473.5,0.83660000000000001,1.1458999999999999,1.3338000000000001,0.63980000000000004,0.89959999999999996,1.0847,649.5,0.92369999999999997,0,0,0.92079999999999995,0,0,651.6,"ISR00080491",8.923,9357,33,39.6,38.9,0,81.900000000000006,806.8,589.1,506.1,1055,750.3,622.29999999999995,678.8,0.88390000000000002,705.7,0.85019999999999996,671.2,0.89400000000000002]
[null,"ITA173661","I17366","ITA-17366","PEPERITA","GRAND SOLEIL 39","GRAND SOLEIL","MALETTO",2010,"CIRCOLO NAUTICO FOCE CECINA",null,"CLUB","C",650,"20 01 2018 12:10:12",11.82,11.039,2.5529999999999999,3.69,8206,131.69999999999999,0.28999999999999998,615.6,1.0094000000000001,668.7,0,0,1027.4000000000001,827.2,713.3,643.9,610.5,583.9,554.29999999999995,980.9,792.4,687.5,627.79999999999995,596.20000000000005,576.5,552.20000000000005,857.3,687.8,596.29999999999995,543.4,511.3,490.8,465.7,928.2,736.8,631.29999999999995,568.29999999999995,529.29999999999995,504.1,474.4,1023.5,776,640.1,558.79999999999995,520.29999999999995,490.4,444,42.4,40.9,40.1,39.299999999999997,38.4,37.9,37.6,144,147.80000000000001,147.69999999999999,148.6,150.9,175.5,178.3,1065.5,871.9,762.7,698.1,670.1,659.4,652,701.9,586.29999999999995,518,487.3,474.2,469.4,466.7,666.3,559.29999999999995,500.3,475.4,463.1,457.2,453.6,640.5,539.29999999999995,488.5,466.2,452.7,442.8,432.4,626.9,517.6,472.2,453.9,445.9,436.8,414.7,625.9,514.4,467.9,445.8,427.2,411.9,393.8,646.6,530.70000000000005,475.6,450.6,430.4,410.1,376.1,722.5,585.4,505,467.5,446,426.3,386.1,856.7,677.7,575.1,510.7,478.4,458.4,427.9,989.3,782.5,664,589.70000000000005,551,508.3,456.7,0.94169999999999998,1.2464999999999999,1.4021999999999999,0.72789999999999999,1.0015000000000001,1.1649,597.9,1.0035000000000001,0,0,1.0066999999999999,0,0,596,"ITA00024053",10.095000000000001,9273,33.4,45.4,34.1,0,103.6,716.8,541.5,481.4,927.3,674,579.4,628.4,0.95479999999999998,652.6,0.9194,616.5,0.97330000000000005]
[null,"ITA160191","I16328","ITA-16328","ANDROMEDA","SUN KISS 47","JEANNEAU","ANDRIEU",1989,"S,V,MARINA MILITARE",null,"CLUB","C",700,"20 01 2018 12:10:12",13.935,11.596,2.101,4.3499999999999996,12563,124.3,0.52,675,0.91979999999999995,733.9,0,0,1206.5999999999999,946.8,801.9,709.5,649.70000000000005,609.70000000000005,569.6,1138.8,903.4,772.6,690.6,638.79999999999995,607.9,578.20000000000005,969.8,766.3,652.70000000000005,583.70000000000005,540,511.6,478.8,969.8,766.3,652.70000000000005,583.70000000000005,540,511.6,478.8,1209.4000000000001,887.4,714.4,605.9,546.9,506.6,454.6,45.6,43.8,43.1,43.3,43.3,42.4,42.6,152.69999999999999,157.5,165.5,170.6,172.3,173,179,1178.2,955.7,836.3,760.2,716.1,694.1,680.5,752.1,622.29999999999995,546.5,498.7,477.3,468,461.2,702.1,587,515,478.2,461.4,452.4,445.5,665.1,558.79999999999995,492.9,463.7,448.6,438.2,424.7,670.6,561.4,492.7,461.3,444.4,432.1,411.6,739.1,598.79999999999995,515.6,470.4,448.6,433.5,406.8,785.5,634.20000000000005,546.1,486.9,457.7,440.2,412.1,913.7,712.6,603.70000000000005,530.29999999999995,481.1,455.4,425,1070.4000000000001,816.2,675.5,587.70000000000005,523.5,479.6,439,1235,938,767.4,658.7,583.29999999999995,525.4,458.7,0.82420000000000004,1.1480999999999999,1.3551,0.62690000000000001,0.90590000000000004,1.1163000000000001,651,0.92159999999999997,0,0,0.92100000000000004,0,0,651.5,"CLU00024073",9.6560000000000006,13725,42.1,48.5,57.6,0,0,819,587.9,498.1,1076.7,745.1,604.70000000000005,651.5,0.92100000000000004,675,0.88890000000000002,673.6,0.89080000000000004]
[null,"ITAF90701","F9070","FRA-9070","COYOTE","FIRST 1T EVOLUTION","BENETEAU","BERRET JEAN",1980,"CIRCOLO VELICO CAPOVERDE",null,"CLUB","R",621,"02 02 2018 19:55:00",11.99,9.3729999999999993,2.145,4.0199999999999996,5421,110.8,0,595.6,1.0382,650.20000000000005,0,0,946.2,776.3,683.3,632.1,600.1,580.79999999999995,552.4,896.7,738.5,660.4,620.29999999999995,596.4,580.29999999999995,553.4,807.3,657.6,578.79999999999995,533.70000000000005,506.1,487.7,463,844.1,684.1,598.79999999999995,549.4,518.79999999999995,498.4,471.8,947.4,731.5,618.6,553.9,517.9,489.1,443,41.6,41.3,40,39,38.6,38.6,38.6,141.1,149.5,150.4,158.30000000000001,180,180,180,934.2,783.4,718.3,693.3,681.8,677,669.1,620,530,500.7,490.1,484.3,480.8,475.2,588.29999999999995,513.5,488.3,475.9,469.1,465,461.6,565.79999999999995,503,477.2,459.5,447.4,440.7,434.1,574.5,506.5,477.8,456.1,438.5,425.7,411.9,609.4,511.7,474.1,446.8,426.1,413.7,395.2,629.6,523,481.1,451.5,426.5,406.2,377.5,698.5,568.9,504.2,472.5,445.1,421.1,376.1,829.8,666.3,561.6,503.6,473.7,447.9,404.2,958.2,769.3,648.20000000000005,570.79999999999995,518.4,484.6,435.6,1.0097,1.2692000000000001,1.4087000000000001,0.78369999999999995,1.0334000000000001,1.1739999999999999,589.6,1.0176000000000001,0,0,1.0307999999999999,0,0,582.1,"CLU00024531",9.3249999999999993,6255,27.4,53.5,45.5,99.2,0,668.5,531.79999999999995,479.2,861.3,653.20000000000005,575,602.4,0.996,616.70000000000005,0.97289999999999999,600.9,0.99850000000000005]
[null,"ITA171211","I17121","ITA-17121","SQUILLA MANTIS","ALPA SUPERMAICA","ALPA","ILLINGWORT",1968,"C,D,V,ERIX",null,"CLUB","C",500,"02 02 2018 19:55:00",11.269,8.0630000000000006,1.762,2.77,5500,120.7,0.37,706.1,0.85460000000000003,789.8,0,0,1088,907.1,820,772,744,726.4,705.3,1048.3,879.4,803.8,769.6,752.5,740.5,725.3,943.1,772.6,685.9,639.5,613.79999999999995,598.5,579.79999999999995,989.5,805.4,709.9,657.3,627,608.6,586.70000000000005,1084.2,850.8,733.9,665.7,628.4,597.79999999999995,542.6,42.5,41.5,42.4,43.2,44.2,44.5,46.7,147.4,151.4,151.4,158.19999999999999,180,180,180,1126,971.6,926.8,916.2,920.5,921.3,922.3,744.8,641.29999999999995,607.70000000000005,597.70000000000005,594.70000000000005,594.9,585.9,707.7,605.79999999999995,575.70000000000005,566.1,562.29999999999995,561.70000000000005,551.20000000000005,678.2,579.6,548.70000000000005,538.20000000000005,533,530.29999999999995,525.70000000000005,683.1,577.79999999999995,539.20000000000005,522.4,512.6,506.9,501.4,701,577.1,534,518.1,507.7,499.3,484,719.7,589.1,534.9,510.2,494.2,484.7,469.7,784.9,640.4,557.70000000000005,522.9,499.2,477.5,446.4,909.3,729.9,618.70000000000005,553.20000000000005,522.4,500.2,460.4,1050,842.6,713.3,627.70000000000005,567.4,531.6,488.2,0.86909999999999998,1.0667,1.1414,0.67659999999999998,0.85199999999999998,0.93379999999999996,720.4,0.83289999999999997,0,0,0.86329999999999996,0,0,695,"CLU00024645",6.6879999999999997,6112,23.8,29,42.8,80,0,776.7,632.79999999999995,591.4,997.6,792.3,722.9,718.1,0.83560000000000001,731.3,0.82050000000000001,725.8,0.8266]
[null,"ITA170521","I17052","ITA-17052","VELVET","X-40","X YACHTS","JEPPESEN",2004,"CIRCOLO DELLA VELA TALAMONE",null,"CLUB","C",640,"09 02 2018 20:06:36",12.225,11.038,1.859,3.76,7904,129.6,0.24,609.4,1.0106999999999999,667.9,0,0,1006.1,815.4,705.8,644.6,615.6,589.1,558.1,959.6,780,681.6,629.1,602.1,583.4,556.79999999999995,841.8,678.3,590.79999999999995,540.5,509.9,489.9,464.1,895.2,715.4,617.29999999999995,559.6,523.9,500.9,472.4,1003.4,764.9,633.29999999999995,557.9,521.5,490.4,440.6,43.5,42.1,41.7,40.9,40.4,39.9,40,144.19999999999999,148.1,148.1,149.1,151.69999999999999,176.2,178.5,1032.5999999999999,854.1,752.3,702.9,683.5,675.2,662.4,672.5,564.1,505.9,482.5,473.7,469.6,465.4,635.20000000000005,535.6,488.6,469.4,460.1,455.9,453.1,607.20000000000005,515.70000000000005,476.9,458.5,446.2,437.1,428.6,612.79999999999995,514.9,470.7,450.7,441.2,427.7,405.9,621.5,512.1,467.1,444.2,423.9,405.2,384.7,641.79999999999995,527.70000000000005,474.7,449.5,428,406.6,368.4,716.1,581.29999999999995,502.9,466.6,444.8,423.9,382.5,848.3,672.7,570.9,507.7,476.9,456.3,424.2,979.6,776.7,659.2,586.20000000000005,547.79999999999995,502.9,453.7,0.96130000000000004,1.2541,1.4031,0.74109999999999998,1.0044999999999999,1.1556,595,1.0083,0,0,1.0122,0,0,592.79999999999995,"CLU00024776",10.032,8982,31.8,49.2,38.200000000000003,0,87.5,702.2,538.20000000000005,481.1,910.8,672,584.1,618.6,0.96989999999999998,637.5,0.94120000000000004,610.5,0.9829]
[null,"ITA123721","I12372","ITA-12372","ME GUSTA","TRIPP 40","CARROLL MARINE","TRIPP",1992,"LNI BIELLA",null,"CLUB","C",560,"09 02 2018 20:06:36",12.15,10.026999999999999,2.4300000000000002,3.69,5512,121.7,0.09,597.79999999999995,1.0447,646.1,0,0,975.1,788.4,681.3,624.20000000000005,591.5,569.6,536.29999999999995,928.5,752.7,659.8,612,585.29999999999995,567.1,534.29999999999995,825.1,665.1,579.70000000000005,530.5,500.2,480,452.7,888.3,709.9,613,556,520.6,497.1,466.5,973.4,742,616.4,547.20000000000005,510.3,481.1,434.8,41.8,40.799999999999997,39.6,38.6,38,37.799999999999997,37.200000000000003,144.69999999999999,148.19999999999999,150,155.69999999999999,170.5,180,180,992,816.8,722.7,684.1,668.4,661.4,643.6,659,549.6,502.1,484.1,477.2,473.6,466.2,627.70000000000005,528.29999999999995,489.3,472.4,463.6,459,453.2,605.6,514.9,479.7,460.6,446.2,436.3,428.3,615.20000000000005,518.6,479.2,458.1,439.8,424.1,404,619.6,509,467.8,442.5,426,415,395.8,636.1,519.79999999999995,472.3,443.7,418.4,399.2,376.8,702.2,565.70000000000005,494.8,462.1,434.8,409.2,362,829.8,658.3,554.1,494.2,463.7,438.5,392.3,958.1,760.1,639.79999999999995,564.20000000000005,514.6,477.8,429,0.98299999999999998,1.2766,1.4330000000000001,0.76549999999999996,1.0405,1.1998,584.20000000000005,1.0269999999999999,0,0,1.0356000000000001,0,0,579.4,"CLU00024867",9.7780000000000005,6400,27.9,41.1,37.4,106.1,0,686.7,528.70000000000005,471,881.8,648.70000000000005,562.6,613.20000000000005,0.97840000000000005,632.9,0.94799999999999995,601,0.99829999999999997]
[null,"ITA154291","I15429","ITA-15429","NIHAL","CANARD 42","STAR MARINA","PAPERINI",2006,"C,V,TERMOLI",null,"CLUB","C",630,"16 02 2018 23:33:22",12.5,10.882999999999999,2.3290000000000002,3.64,6167,119.9,0.03,569.4,1.0846,622.4,0,0,930.5,750.9,652.29999999999995,604.1,574.79999999999995,551.29999999999995,522.79999999999995,886,717.5,632.29999999999995,591.20000000000005,566.9,547.29999999999995,519.9,783.5,632.5,552.29999999999995,506.4,478,458.9,433.1,844.7,676,584.79999999999995,531.4,498.2,476,447.4,928.4,705.5,588.5,525.6,489.6,459.1,412.1,42.8,41.5,40.1,39,39.299999999999997,38.9,39.299999999999997,143.4,146.6,148.6,155.19999999999999,166.7,180,180,951.8,779.3,694.1,667.3,655.29999999999995,644.6,637.4,624.70000000000005,520.4,476.5,464.5,459.5,457.1,449.1,591.9,499.1,463.3,450.9,445.4,442.5,433,568.5,485.8,453.9,435.2,424.3,418.5,412,575.6,481.5,450.8,432,412.2,397.6,384.7,577.1,478.2,440,413.5,397.5,384.4,365,595,488.8,446.7,416.6,389.1,368.6,342.4,663.4,535.29999999999995,469.9,438.4,410,383.3,328.2,787.5,625.70000000000005,528.70000000000005,473.1,442.8,416.8,367.8,909.3,722.5,610.5,541,494.2,458,408.2,1.0376000000000001,1.3374999999999999,1.4983,0.80289999999999995,1.0798000000000001,1.2351000000000001,559.4,1.0726,0,0,1.0831,0,0,554,"CLU00025177",10.45,7167,31.9,53.8,40.200000000000003,112,118.5,650.5,504.7,450.5,840.7,625.1,546.5,587.1,1.0219,603.70000000000005,0.99390000000000001,573.6,1.046]
[null,"ITA138161","I13816","ITA-13816","BERENICE","SUN FAST 40","JEANNEAU","ANDRIEU",1998,"LNI SANTA TERESA GALLURA",null,"INTL","C",500,"04 03 2018 12:23:20",11.71,10.555999999999999,2.4279999999999999,3.94,7600,115.9,0.23,618,1.0047999999999999,671.8,0,0,1021.8,827.6,711.4,645.29999999999995,616.20000000000005,590.70000000000005,562.29999999999995,978.8,792.2,689.3,632.1,602,582.4,558.29999999999995,855.8,688.5,598.9,547.4,516.29999999999995,496.4,471.8,941.8,748.5,641.9,578.29999999999995,538.70000000000005,513.29999999999995,483.4,1016.8,775.8,639.9,562.5,525.9,495.9,451.3,42.2,40.700000000000003,40.5,39.200000000000003,38.200000000000003,37.799999999999997,37.6,144.19999999999999,147.69999999999999,146.69999999999999,149.4,151.5,175.6,177.9,1072.5,881.9,773.6,709.2,682.1,672.1,663.5,708.7,593.9,527.20000000000005,496.7,483.8,479,476.2,673.8,567.4,509.8,485,472.5,466.3,462.5,648.79999999999995,547.4,498.2,475.8,461.5,450.8,439.3,621.70000000000005,517.4,478.5,466.4,457.7,444.4,420.6,613.20000000000005,508.5,469.8,448,431.9,421,403.2,630.5,519.6,474.8,450.6,428.1,408.1,386,711.4,570.29999999999995,497,466.6,444.2,421.3,380,841.1,669.7,562.20000000000005,503.5,478.6,460.3,425.7,971.2,773.3,649.20000000000005,581.4,550.4,509.3,461.2,0.94479999999999997,1.2387999999999999,1.3847,0.73,0.99960000000000004,1.151,600.70000000000005,0.99880000000000002,0,0,1.0014000000000001,0,0,599.20000000000005,"ITA00025278",9.7110000000000003,8593,33.200000000000003,43.8,33.6,0,135.69999999999999,714.4,544.9,487.5,924.7,675.3,586.4,639.20000000000005,0.93869999999999998,663.4,0.90439999999999998,618.9,0.96950000000000003]
[null,"ITA166211","I16621","ITA-16621","LANCILLOTTO","FIRST 40'","BENETEAU","FARR",2008,"NAUTICLUB CASTELFUSANO",null,"INTL","C",800,"16 02 2018 23:40:50",12.24,11.217000000000001,2.4820000000000002,3.9,7792,130.19999999999999,0.16,583.6,1.0689,631.5,0,0,957.7,774.4,668.1,609,576.79999999999995,555.20000000000005,525.4,914.9,741.3,647.6,598.20000000000005,571.70000000000005,554,523.79999999999995,806.6,649.79999999999995,565.9,517.5,487.8,468,441.4,871.7,695.7,599.79999999999995,543.4,508.4,485.4,455.9,954.4,727.5,602.9,533.4,497.5,469.1,423.7,42.7,41.2,40.4,39.1,38.4,38.200000000000003,38.1,143.1,147.80000000000001,150.1,155.4,168.4,180,180,990.4,814,715.5,670,653.29999999999995,646.20000000000005,630.20000000000005,651.1,543.29999999999995,489.9,469.5,462,458.3,452.8,617.1,518.79999999999995,476,458.2,449.5,445.4,441.4,592.20000000000005,502.6,466.3,448.2,435.2,425.7,417.5,599.79999999999995,501.1,462.2,446.7,430.7,415.7,392.8,598,492.6,452.9,430.5,414.6,403,382.4,613.70000000000005,503,457.7,432.6,409,388.2,364.8,678.1,548.1,479.3,448.9,425.6,401.4,354.6,801.1,636.29999999999995,537.6,479.4,450.7,429,385,925,734.7,620.70000000000005,548,500.3,464.1,420.5,1.0044,1.3089,1.4697,0.77939999999999998,1.0639000000000001,1.2285999999999999,571.20000000000005,1.0504,0,0,1.0604,0,0,565.79999999999995,"ITA00025318",10.576000000000001,8868,34.5,51.6,42.8,129.80000000000001,0,672,515.70000000000005,459.3,866.1,634.5,549.4,600.4,0.99929999999999997,619.5,0.96850000000000003,587.1,1.022]
[null,"ITABAVA46","VENPU","ITA-VENPU","VENTO DI PUGLIA","BAVARIA 46","BAVARIA YACHTS","J &J DESIGN",2004,"LNI MATERA CASTELLANETA",null,"CLUB","C",440,"04 03 2018 11:56:22",13.99,12.744999999999999,1.847,4.34,10902,119,0.34,642.5,0.96260000000000001,701.2,0,0,1166.5,912.2,765.9,674.1,618.1,581.5,543.1,1089.9000000000001,860.8,731.9,652.70000000000005,605.20000000000005,577.4,549.4,925,729.9,621,555.20000000000005,513.5,486.3,453.9,925,729.9,621,555.20000000000005,513.5,486.3,453.9,1171.7,853.4,681,575.70000000000005,520.79999999999995,483,430.8,46.1,44.4,43.6,42.9,42.3,41.6,41.2,142.4,168.4,169.3,170.3,171,171.6,175.3,1115.0999999999999,899.9,781.2,707.7,671.3,654,643.29999999999995,708,581.5,509.6,469.6,451.6,444.4,439.1,657.3,546.1,482.6,451.8,436.9,430,424.5,619.20000000000005,519,464.2,439,424.6,414,402.2,623.4,521.1,463.7,436.9,420.9,407.8,384.6,704.7,568.5,489.4,448.3,427.4,411.3,379.6,746.4,600.70000000000005,517.20000000000005,464.5,436.8,419.2,386.8,877.7,683.7,577.1,508,462.8,437.5,405.9,1054.8,805.8,663.9,574.6,512.4,468.4,424.5,1218,924.5,750.6,640.5,564.79999999999995,509,442.9,0.86370000000000002,1.2078,1.4253,0.64939999999999998,0.95,1.1714,622,0.9647,0,0,0.9647,0,0,622,"CLU00025548",10.824,12244,41.5,47.4,64.099999999999994,0,0,781.5,558.9,473.6,1039.4000000000001,710.5,576.20000000000005,622,0.9647,642.5,0.93389999999999995,642.20000000000005,0.93430000000000002]
[null,"ITAI10413","I10413","ITA-10413","TERRA","PERVERSION 37","TEKNOCANTIERI","SQUARCI",1973,"VELA MARE",null,"CLUB","C",560,"06 03 2018 21:15:30",10.8,8.3729999999999993,1.821,3.61,6002,120.4,0.27,663.3,0.93879999999999997,719,0,0,1050.2,867.5,757.5,696.5,658.7,638.6,619.29999999999995,1009.9,834.9,740.2,689.3,660.5,643.1,626.9,900.9,733,644.20000000000005,593.6,563.20000000000005,544.1,521.9,946.9,765.7,668.8,612.79999999999995,578.79999999999995,557.29999999999995,531.70000000000005,1046.3,815.6,686,613.6,574.20000000000005,544.29999999999995,497.9,43,42.4,42.2,41.1,40.200000000000003,39.9,40.6,147.4,151.1,151.9,160.69999999999999,180,180,180,1088.9000000000001,922.4,823.1,779.4,759.1,750.5,755.7,716,609.79999999999995,560.9,541.9,533.5,529.70000000000005,528.4,679.7,583.6,546.70000000000005,529.5,519.79999999999995,515.29999999999995,512.4,652.1,567.9,536.4,518.1,504.3,494.2,486.4,656.1,567.6,531.5,510.8,497.6,483,462.6,674,565.1,525.1,500.1,478.4,461.6,446.8,692.7,575.9,529.79999999999995,502.9,478.6,458.5,432.1,753.9,618.4,549.6,518.5,494.2,470.8,433.3,876,703.7,601.20000000000005,545.5,517.70000000000005,495.2,453.9,1011.5,812.6,692,613.70000000000005,558.4,526.79999999999995,482.9,0.9022,1.1424000000000001,1.2621,0.70399999999999996,0.93530000000000002,1.0606,649,0.92449999999999999,0,0,0.92769999999999997,0,0,646.79999999999995,"CLU00025596",7.8570000000000002,6712,25.5,31.4,52.7,99,92,748.2,590.9,534.79999999999995,958.8,721.7,636.4,671.1,0.89400000000000002,689.2,0.87060000000000004,664.7,0.90259999999999996]
[null,"ITACOM33","MARSE","ITA-MARSE","MARSERA","COMET 33","COMAR YACHTS","LUPOLI SERGIO",2003,"LNI CASTELLAMMARE DI STABIA",null,"CLUB","C",400,"06 03 2018 21:15:30",9.9649999999999999,9.2889999999999997,2.0489999999999999,3.29,4380,111.2,0.28000000000000003,655.6,0.95430000000000004,707.3,0,0,1071.0999999999999,867.1,751.1,682.7,643.9,621.29999999999995,598.1,1018.3,829.1,726.5,671.2,641.79999999999995,623.9,601.5,903.5,729,635.79999999999995,582.29999999999995,550.1,529.6,504.7,952.4,763.4,661.3,601.9,565.9,542.79999999999995,514.79999999999995,1069.8,815.6,678.2,599.5,560.1,530.1,482.8,42.1,40.5,40,38.799999999999997,38.1,37.9,38,146,150.5,151.80000000000001,157.30000000000001,180,180,180,1083.5999999999999,898.2,796.3,747.6,730.4,723.5,721.6,717.4,603.6,548.20000000000005,527.70000000000005,520.20000000000005,516.79999999999995,516.20000000000005,682.3,577.29999999999995,533.20000000000005,515.4,507,503.1,501,656.4,560.29999999999995,522.29999999999995,504.1,491.6,483.1,476.4,664.3,564,518.70000000000005,500.9,485.1,470.9,450,676.6,558.70000000000005,512.1,487.8,466.5,452.3,433.2,697.5,573.4,518.6,491.9,468.6,445.8,414.6,771.4,629,546.29999999999995,509.8,486.1,462.1,415,916.7,723.9,612.20000000000005,542.5,509.7,487.4,442.5,1058.5999999999999,836,705.9,617.79999999999995,557.4,519.1,474.7,0.89680000000000004,1.1644000000000001,1.2981,0.69650000000000001,0.94910000000000005,1.0918000000000001,641,0.93600000000000005,0,0,0.94310000000000005,0,0,636.20000000000005,"CLU00025657",8.6340000000000003,5211,22.6,29.3,31,66.5,0,752.7,579.70000000000005,520,969.1,711.2,618.20000000000005,661,0.90769999999999995,682.7,0.87890000000000001,659.2,0.91020000000000001]
[null,"ITASB20","I3190SB","ITA-3190SB","ALMALOCA","SB20 ONE DESIGN","LASER","TONY CASTRO",2001,"Y,C,MONTECATINI",null,"CLUB","S",270,"09 03 2018 18:29:00",6.0730000000000004,5.9130000000000003,1.504,2.06,695,97,0.04,711.4,0.86019999999999996,784.7,0,0,1101.9000000000001,906.1,813.4,769.5,741.6,715.4,631.79999999999995,1065.7,884,794.9,749.3,721,696.7,636.4,955.8,783.7,692.9,639.1,602.5,573.1,521.29999999999995,1045.4000000000001,845.5,738.6,676.1,636.4,608.4,566.5,1094,854.9,739.5,669.8,624.29999999999995,580.4,492.6,41.7,40.799999999999997,38.200000000000003,37.4,37.6,38.1,38.9,146.1,149.19999999999999,150.9,175.5,177.6,142.80000000000001,140.9,1181.3,987.8,888.9,859.6,855.5,858,856.8,786.4,677.1,636.29999999999995,618.4,612.20000000000005,609.70000000000005,598.9,748.7,658.7,621.6,596.70000000000005,586.29999999999995,581.1,566.79999999999995,721,645.20000000000005,608.20000000000005,570,545,533.6,523.1,681.7,615.1,587.6,563.4,525.20000000000005,494.4,467.9,674.5,602.6,547.79999999999995,514.70000000000005,489.3,464.8,421.4,690,612.20000000000005,552.1,497.8,461,433.7,383.1,757.5,643.70000000000005,586.1,531.20000000000005,475.6,420.4,317.39999999999998,885.5,714,639.79999999999995,596.4,553.70000000000005,496,352.3,1022.5,824.5,738,679.4,627.70000000000005,572.79999999999995,406.8,0.85409999999999997,1.0528999999999999,1.2007000000000001,0.67230000000000001,0.85599999999999998,0.97740000000000005,711.3,0.84360000000000002,0,0,0.8649,0,0,693.7,"CLU00025712",5.9740000000000002,1099,9.6999999999999993,17.3,8.9,0,44.5,790.3,641.1,562.20000000000005,1004,788.6,690.6,736.5,0.81469999999999998,760.8,0.78859999999999997,725.4,0.82720000000000005]
[null,"ITA144901","I14490","ITA-14490","VITAMINA","DEHLER 39 SQ","DEHLER","JUDEL-VROLIJK",1999,"LNI SAVONA",null,"INTL","C",685,"17 03 2018 16:48:46",11.785,10.904,2.3759999999999999,3.79,7298,111.8,7.0000000000000007E-2,599.70000000000005,1.0382,650.20000000000005,0,0,971.1,788.6,685.8,629.79999999999995,596.79999999999995,574.70000000000005,549.79999999999995,924.8,753.8,663.7,617.70000000000005,592.5,575.4,551.6,822.8,665.3,581.70000000000005,534.1,505.4,486.9,463.8,873.7,701.2,608.29999999999995,554.20000000000005,521.20000000000005,499.8,472.8,970,741.9,619.29999999999995,551,515.20000000000005,487,444.3,42.3,40.9,40.200000000000003,39.200000000000003,38.5,38.299999999999997,38.200000000000003,144.6,148.9,150.9,155.5,170.2,180,180,982.3,815,726.6,691.5,677.1,670.7,663.6,649.6,546.6,500,484.2,478.2,475.5,472.5,617.9,524.20000000000005,486.6,471.6,465.8,462.7,460.7,595,510.1,477,460.5,449.8,444.2,439.1,601.5,512.4,475.9,456.8,441.9,429.1,413.4,621.70000000000005,512,468.9,446.7,430.9,420.9,402.2,638.6,524.20000000000005,474.2,449.2,426.9,406.7,384.6,705,571.79999999999995,497.9,465.1,442.6,419.7,376,831.4,660.1,558.9,496.8,466.3,445.2,403,960,762.2,645,568,516.4,478.7,435.9,0.98660000000000003,1.2702,1.4107000000000001,0.7671,1.0329999999999999,1.1823999999999999,589.70000000000005,1.0175000000000001,0,0,1.0296000000000001,0,0,582.70000000000005,"ITA00025906",10.115,8353,32.200000000000003,45.8,48.9,110.7,0,684.2,531.4,478.5,879.9,653.4,570.9,610.20000000000005,0.98340000000000005,627.70000000000005,0.95589999999999997,604.5,0.99260000000000004]
[null,"ITAFRS337","BLISS","ITA-BLISS","BLISS","FIRST 33,7 (DK)","BENETEAU","BERRET",1996,"LNI POZZUOLI",null,"CLUB","C",560,"17 03 2018 16:36:38",9.798,9.1969999999999992,2.09,3.33,4496,112.5,0.27,672.2,0.93400000000000005,722.7,0,0,1127.3,903.3,774.7,694.4,651.1,626.1,605.6,1075.7,866.4,749.6,683.2,648.4,628.4,609.9,939.7,752.4,651,591.9,556.1,533.6,508,996.6,792.6,680.8,614.9,574.6,549.1,519.6,1123.3,848.2,696.9,607.70000000000005,564.4,532.5,483.3,43,41.3,41.1,39.6,38.6,38.299999999999997,38.9,146.30000000000001,150.1,151.30000000000001,156.30000000000001,174.2,180,180,1166.5999999999999,953.6,832.6,763.3,738.5,729.3,734.3,763.6,635.6,563.1,533.5,522.20000000000005,518,516.5,722.5,604.70000000000005,544.5,520.5,508.7,503.8,501,692.2,581.79999999999995,532.1,509.4,494.5,483.6,474.6,700,581.70000000000005,524.6,503,489.4,473.2,448.6,698.7,571.5,517.5,490.8,468.1,450.8,430.7,720.1,587.1,524.5,495.5,470,445.8,411.3,795.7,642.5,552.6,512.9,488,463.1,415.2,942.1,738.7,621.29999999999995,547.70000000000005,512.70000000000005,489.4,443.7,1087.9000000000001,853,716.8,625.6,563.79999999999995,523,476.9,0.85819999999999996,1.1432,1.2905,0.66490000000000005,0.92749999999999999,1.0806,654.70000000000005,0.91639999999999999,0,0,0.92449999999999999,0,0,649,"CLU00025945",8.4260000000000002,5311,23.8,30.6,31.9,73.3,0,786.5,590.4,523.1,1015.2,727.8,624.70000000000005,678.2,0.88460000000000005,703.7,0.85260000000000002,676,0.88749999999999996]
[null,"ITA174171","I17417","ITA-17417","MAYA","SUN ODYSSEY 32","JEANNEAU","BRIAND",2002,"LNI NAPOLI",null,"CLUB","C",450,"25 03 2018 19:02:14",9.4499999999999993,8.5090000000000003,1.478,3.28,4445,117.2,0.38,737.7,0.83740000000000003,806.1,0,0,1252.7,1007.7,875.5,786.1,726,685,657.9,1205.5,973.9,846.3,765.6,714.3,683.9,662.6,1036.4000000000001,828.6,714.7,646.79999999999995,604.4,577.29999999999995,547.4,1099.5,871.8,745.1,668.4,620.20000000000005,589.5,556.4,1244.2,942.5,779,672.5,613.1,572,517.9,44.8,43.2,42.7,43.1,41.9,41.3,41.6,145.69999999999999,146.69999999999999,146.19999999999999,146.9,175,176.5,178.5,1337.9,1093.7,964.3,873.5,814.7,790.8,792.2,860.8,717.4,632.20000000000005,579.20000000000005,554.6,542.79999999999995,538.6,807.3,678.2,598.5,558.29999999999995,538.79999999999995,527.6,520.29999999999995,768.5,647.20000000000005,575.70000000000005,543.70000000000005,525.9,512.6,494.3,748.7,616.4,549.6,521.79999999999995,503.9,491.4,479.4,744.3,612.79999999999995,548.29999999999995,519.9,497.9,476.5,440.5,773.5,634.9,558.70000000000005,526.29999999999995,504,482,441.3,861.7,696.3,596.9,545.9,520,499.1,458.5,1011,798.2,681.4,605.1,561.6,535.29999999999995,500.3,1167.5,921.7,786.8,698.7,637.29999999999995,579.20000000000005,523.70000000000005,0.7772,1.0411999999999999,1.1963999999999999,0.59730000000000005,0.82379999999999998,0.98519999999999996,714.8,0.83940000000000003,0,0,0.83930000000000005,0,0,714.9,"CLU00026015",7.1769999999999996,5161,21.8,23.4,24.1,0,51.2,868.5,648.29999999999995,564.20000000000005,1130.0999999999999,819.4,685.1,739.8,0.81110000000000004,770.1,0.77910000000000001,736.5,0.81459999999999999]
[null,"ITA151151","I15115","ITA-15115","JALA","COMET 41S","COMAR","A,VALLICELLI & C,",2005,"Y,C,S,STEFANO",null,"CLUB","C",700,"25 03 2018 19:02:14",12.48,11.356,2.3879999999999999,3.92,8229,117.6,0.04,586.20000000000005,1.0624,635.29999999999995,0,0,960.6,777.2,673.6,615,581.1,557.29999999999995,532.4,909.9,739.5,649,601.5,575,556.9,533.70000000000005,807.8,651.79999999999995,568.5,520.70000000000005,491.6,472.7,449.4,850.7,682.4,591.5,538.29999999999995,505.6,484.2,457.3,960.8,730.8,607.29999999999995,537.4,501.2,472.9,430.1,42.6,41.2,40.4,39.1,38.299999999999997,37.9,38.200000000000003,144.30000000000001,148.6,149.80000000000001,154.6,165.7,180,180,959.4,793.5,706.2,669,652,643.29999999999995,636,632,530.6,485.1,468.8,462.2,458.9,457.4,599.70000000000005,508.3,472.2,457.2,450.6,447,444.3,576.4,494.4,463,447,436,429.4,422.9,583.1,497.3,462.6,444.3,430.1,417.3,399.5,615.6,504.7,459.3,436.8,418.5,407.5,389,632,516.79999999999995,464.7,439.7,418.4,397.9,371.9,697.8,564.9,490.1,456,434.3,412.7,370.2,833,659,555.1,490.8,457.5,436.9,396.8,961.8,760.9,641,561,510.2,471.2,428.8,1.0039,1.3011999999999999,1.4543999999999999,0.77680000000000005,1.0553999999999999,1.2186999999999999,574.29999999999995,1.0448,0,0,1.0532999999999999,0,0,569.70000000000005,"CLU00026048",10.661,9325,34.1,48.9,56.3,116,0,672.4,518.79999999999995,464.1,868.9,639.6,553.9,593.6,1.0107999999999999,610.4,0.98299999999999998,589.29999999999995,1.0182]
[null,"ITA145531","I14553","ITA-14553","LA MARCOLINA","ELAN 333","ELAN MARINE","HUMPHREYS",1998,"Y,C,LIGNANO",null,"CLUB","C",800,"30 03 2018 18:34:28",10.025,9.1210000000000004,1.9279999999999999,3.43,5036,117.3,0.28999999999999998,668.4,0.93140000000000001,724.7,0,0,1107.7,898.3,778.3,701.8,659.4,626.79999999999995,601.20000000000005,1064.9000000000001,865.5,753.8,685.8,646,621.79999999999995,599.5,929.1,746.8,648,590,554.20000000000005,531,503,999.1,795.1,682.5,615.1,572.9,545.9,514.70000000000005,1101.0999999999999,841.9,698.2,609.4,563.4,529.70000000000005,479.3,43,41.3,41.7,40.299999999999997,38.5,38.200000000000003,38.6,145.9,148,147.5,149,174.1,176.7,178.3,1173.5,967.2,849.6,767.8,725.2,710.3,707,768.1,643.9,569.29999999999995,533.5,517,508.7,504.4,726.7,611.4,548.5,520.79999999999995,505.5,495.8,488.8,695.3,586.29999999999995,534.5,511.1,494.4,480.9,462.3,679.6,562.29999999999995,514.1,491.5,476.4,468.6,446.5,673.4,556.6,511.2,486,462.4,441.3,414.7,694.6,571.79999999999995,518.29999999999995,491.9,468.2,444.4,403.9,768.2,625.5,544.20000000000005,508.8,485.7,462.9,419.8,902.3,718.4,612.20000000000005,550.70000000000005,519.6,500.3,465.4,1041.9000000000001,829.5,706.9,635.79999999999995,593.5,543.29999999999995,495.5,0.86970000000000003,1.1448,1.2978000000000001,0.67300000000000004,0.92079999999999995,1.0793999999999999,649.79999999999995,0.9234,0,0,0.92649999999999999,0,0,647.6,"CLU00026165",8.343,5850,23.8,32.1,25.9,0,70.599999999999994,776.1,589.6,520.1,1003,733.1,625.29999999999995,679.1,0.88349999999999995,705.1,0.85089999999999999,668.8,0.89710000000000001]
[null,"ITA127621","I12762","ITA-12762","ASTERIA","ESTE 39","D'ESTE","VALLICELLI & C,",1994,"C,V,FAVIGNANA",null,"CLUB","C",700,"13 04 2018 19:06:54",11.948,10.612,2.5489999999999999,3.73,7245,116.2,0.01,592.1,1.0567,638.79999999999995,0,0,955.7,776,674.6,619.29999999999995,586.1,563,536.9,907,739.1,651.20000000000005,606,580.29999999999995,562,537.4,811.1,656.5,574.6,527.6,498.9,480.1,456,856.1,688.7,598.6,546.20000000000005,513.79999999999995,492.5,465.3,956.3,730.9,611,544.4,509.3,481.4,438,41.8,40.700000000000003,39.4,37.799999999999997,37,36.799999999999997,36.4,144.6,148.80000000000001,150.30000000000001,155.6,170.8,180,180,950.5,788.6,704.4,670.4,654.6,645.6,636.29999999999995,631,531.79999999999995,493,479.1,472.9,469.6,466.9,600.1,513,482,468.4,461.7,457.9,454.4,577.9,501.5,473.8,458.1,446.6,439.5,432.5,585.70000000000005,504.4,473.4,455.4,440.4,427.1,409.7,622.79999999999995,512.70000000000005,470.9,448.6,430.4,413.8,396,639.1,524.1,475.8,450.8,428.4,408.1,378.5,705.1,571,498.3,466.5,443.8,420.6,377.9,832.3,661.1,558.6,497.3,467.8,446.6,404.3,961.1,763.3,644.9,568.29999999999995,517.5,480.4,437.5,1.002,1.2841,1.4314,0.77959999999999996,1.0506,1.2075,580.70000000000005,1.0333000000000001,0,0,1.0429999999999999,0,0,575.29999999999995,"CLU00026228",10.266999999999999,8260,31.7,43.8,57.2,116.6,93.2,673.7,525.70000000000005,471.6,865.8,642.5,559,600.6,0.99909999999999999,617.5,0.97170000000000001,595.70000000000005,1.0072000000000001]
[null,"ITAUFO22","073UFO22","ITA-073UFO22","FREEDOM","UFO 22","UFO BOAT","FELCI",1997,"CV SARNICO",null,"CLUB","S",250,"30 03 2018 18:34:28",6.6230000000000002,6.2190000000000003,1.583,2.54,760,96.6,0,682.4,0.89300000000000002,755.9,0,0,1047.3,858.2,782.9,750.2,723.1,689.3,618.20000000000005,1008.4,837.4,763.7,728.7,702.5,674.5,636.6,911.3,749.2,664.8,615.6,582.6,556.6,512.79999999999995,994,806.3,706.9,649.6,613.4,587.9,551.4,1041.5999999999999,811.2,710.5,648.29999999999995,605.5,562.6,484.1,41.8,40.200000000000003,38.5,38.299999999999997,38.799999999999997,38.799999999999997,40.5,145,149,151,148,145,143.5,143,1104.5,920.4,857.6,846.4,848,840.2,853.4,735.2,637.70000000000005,609.20000000000005,600.9,598,593.1,588,700.2,622.29999999999995,591.5,578.20000000000005,572.20000000000005,569.5,556.1,676.9,611.4,571.20000000000005,541.79999999999995,528.29999999999995,521.20000000000005,506.2,651.5,596.70000000000005,568.5,528.20000000000005,495.7,476.8,461.8,646.1,575.70000000000005,529.20000000000005,501.5,476.1,453.5,411.3,660.6,584.5,524.79999999999995,478.6,450.9,426.9,383.7,729.1,617.6,558.79999999999995,503.4,447.8,395.5,321,857.5,689.3,613.70000000000005,566.29999999999995,518.1,466.2,331.7,990.2,795.9,708.1,653.9,598.20000000000005,538.29999999999995,383,0.8992,1.0942000000000001,1.2350000000000001,0.70850000000000002,0.88429999999999997,1.0058,681.1,0.88100000000000001,0,0,0.89880000000000004,0,0,667.6,"CLU00026129",6.2220000000000004,1193,10.6,19.5,10.4,0,50,750.7,616.9,546.6,952.7,763.3,671.1,707.3,0.84830000000000005,727.9,0.82430000000000003,692.9,0.86599999999999999]
[null,"ITA158641","I15864","ITA-15864","PALUCK III","CLASS 33","CLASS YACHT","LUPOLI",2003,"C,N,TORRES",null,"INTL","C",460,"13 04 2018 19:42:48",9.92,9.4749999999999996,2.1259999999999999,3.29,5398,112,0.28999999999999998,653.9,0.95699999999999996,705.3,0,0,1050.4000000000001,857.8,748.5,683.1,644.20000000000005,621.79999999999995,597.4,1001.6,821.8,724.8,671.9,643.29999999999995,625.6,601.4,895.2,725,634.6,582.9,551.9,532.29999999999995,507.9,946.8,761.1,661.1,603.1,567.9,545.29999999999995,517.70000000000005,1049.0999999999999,807.5,676.5,600.6,562.1,533.29999999999995,488,41.6,40.1,39.799999999999997,38.9,38.200000000000003,37.9,37.6,145.9,150.80000000000001,152.19999999999999,157.6,180,180,180,1063.9000000000001,890.5,795.7,749.8,732.1,724.3,716.6,709.6,601.1,548.70000000000005,529,521.5,517.9,515.6,677.2,575.9,533.9,516.79999999999995,508.6,504.7,502.1,653.29999999999995,559.70000000000005,523.20000000000005,506,494.5,486.5,479.9,660.9,563.4,520.20000000000005,502.8,488.5,476.1,456.6,672.4,557.5,512.9,490.7,472.6,461.3,443.7,692.1,571.70000000000005,518.9,494,473.5,453.2,426.9,762,625.6,545.29999999999995,510.4,488.5,467.2,424.5,898,714.5,608.70000000000005,541.79999999999995,510.4,489.8,449.3,1037,825,701.4,616.5,556.29999999999995,519.29999999999995,478.3,0.90659999999999996,1.1637999999999999,1.2907,0.70750000000000002,0.95099999999999996,1.0918000000000001,644.20000000000005,0.93140000000000001,0,0,0.94420000000000004,0,0,635.5,"ITA00026315",8.7029999999999994,6270,24.6,31.1,34.5,75.8,0,744.5,580,523,954.1,709.8,618.20000000000005,661.3,0.9073,682.1,0.87960000000000005,661,0.90769999999999995]
[null,"ITA141491","I14149","ITA-14149","X-PRESS","IMX 40","X YACHTS","JEPPESEN",2000,"C,V,ERIX",null,"CLUB","C",720,"13 04 2018 19:06:54",12.1,10.814,2.4329999999999998,3.78,7062,126.9,0,580.20000000000005,1.0775999999999999,626.4,0,0,936.4,761.6,660.6,606.6,574.4,552.5,525.70000000000005,890.3,725.8,638.9,594.20000000000005,568.6,550.5,524.6,794.5,643.29999999999995,563.1,517,488.8,470,445.6,846,679.9,590.29999999999995,537.9,505.4,483.9,456.1,935.7,717.1,598.70000000000005,533.6,498.8,470.8,428.5,42.1,40.799999999999997,39.5,37.799999999999997,37.299999999999997,36.700000000000003,36.299999999999997,142.4,148.6,150.5,156.1,171.2,180,180,943.1,781.1,693.7,658.6,642.6,634,624.70000000000005,625.29999999999995,526,485.9,471.3,465.2,461.9,460.2,594.79999999999995,507.4,475.2,460.9,454.1,450.2,447,573.1,496.2,467.4,450.9,438.6,431.1,423.8,580.5,498.9,466,448.5,432.3,418,399.2,595.5,495.3,458.8,436.2,419,407.4,387.6,612.6,506.5,464.5,439.4,415.4,394.1,370.2,680.4,553.1,486.5,456.8,433,408.6,362.5,805.1,642.70000000000005,543.70000000000005,486.4,458.2,435.9,391.7,929.7,742.1,627.6,554.70000000000005,506.3,471,426.8,1.0226,1.3101,1.4621999999999999,0.79510000000000003,1.0723,1.2319,568.29999999999995,1.0558000000000001,0,0,1.0642,0,0,563.79999999999995,"CLU00026381",10.548,8097,31.8,49,51.6,116.7,121.9,660.1,515.20000000000005,461.6,848.9,629.5,547.9,591.79999999999995,1.0139,608.9,0.98540000000000005,583,1.0290999999999999]
[null,"ITA129751","I12975","ITA-12975","ARIA DI BURRASCA","X-332","X-YACHTS","JEPPESEN",1994,"LNI SESTRI LEVANTE",null,"INTL","C",450,"13 04 2018 19:42:48",9.9779999999999998,9.282,1.851,3.28,5041,109.4,0.28000000000000003,655.8,0.94850000000000001,711.7,0,0,1062.4000000000001,864.3,752.4,689,650.4,628.6,604.9,1011.8,827.7,729.2,677.6,650,633,609.79999999999995,899.3,727.5,636.20000000000005,584.1,552.9,533.1,508.8,943.4,758.4,659,601.70000000000005,567,544.79999999999995,517.5,1061.3,812.8,678.8,603.20000000000005,563.79999999999995,533.79999999999995,485.7,42.4,41,40.9,40.1,39.4,39.200000000000003,39.4,146,150.9,153,158.19999999999999,180,180,180,1073,896.1,799.5,759.5,744.4,738.6,734.7,708.8,598.79999999999995,546.1,527.79999999999995,521.5,518.6,516.20000000000005,674,572.5,530.5,514,507.4,504.1,502.4,648.20000000000005,555.5,519.29999999999995,501.7,490.1,483.6,478.3,655.7,558.79999999999995,517,498.9,483.3,469.7,451.7,674.3,558.4,512.29999999999995,488.1,467.3,452.3,434.2,696.6,574.1,519.4,493.1,470.5,448.5,417,772.1,630.6,548,511,487.8,465,420.6,910.9,721.1,612.4,543.79999999999995,510.6,488.7,445.7,1051.8,832.6,705.2,618.5,556.29999999999995,518.6,475,0.9022,1.1615,1.2887,0.70069999999999999,0.94399999999999995,1.0798000000000001,643.79999999999995,0.93189999999999995,0,0,0.94010000000000005,0,0,638.20000000000005,"ITA00026453",8.5069999999999997,5869,25,34.6,32.299999999999997,67.400000000000006,0,748.2,581.1,523.79999999999995,963.3,715,625.1,660.3,0.90869999999999995,680,0.88239999999999996,660,0.90910000000000002]
[null,"ITAAUT49","AUT49","AUT-49","VAQUITA","AKILARIA RC1 CL'40","MC TEC","MARC LOMBARD",2007,"LNI LIVORNO",null,"CLUB","C",480,"20 04 2018 21:04:32",12.19,11.343999999999999,2.99,4.49,4794,123.1,0,510.5,1.2034,560.9,0,0,816.9,660.9,587.79999999999995,552,528,499.7,456.5,774.5,632,567.79999999999995,533.79999999999995,508.2,484,454.3,695.5,565.79999999999995,496.5,455.2,427.3,406,372.7,756.7,610.1,530.4,482.4,450.6,427.6,394.7,816.9,624.4,532.5,476.6,441.9,408.5,353.4,42.3,40,37.5,36.1,35.5,34.700000000000003,35,142.69999999999999,144.30000000000001,150,152.1,149,145.30000000000001,140,817,672.2,620.70000000000005,600,589.20000000000005,577.1,572.9,538.20000000000005,466,444.6,434.1,427,420.4,408.5,510.4,454.3,430.2,416.3,407.7,402.1,386.6,493.6,446.1,414.1,390.4,378.2,370.2,356.1,499,448,414.5,382,356.7,341.7,326,513.9,443.2,401.5,377.1,354.7,336.4,292.89999999999998,531.1,449.2,405,366,341.2,321.60000000000002,283.39999999999998,593.5,478.3,433.2,392.9,350.5,312.2,257.7,707.4,562.5,480.5,436.4,404.3,365.8,294.5,816.8,649.6,554.79999999999995,504.1,466.9,422.4,340.1,1.1722999999999999,1.4764999999999999,1.6976,0.91349999999999998,1.1904999999999999,1.3758999999999999,500.9,1.1977,0,0,1.2083999999999999,0,0,496.5,"CLU00026543",11.866,5869,32.799999999999997,69.900000000000006,47.1,0,174.5,575.79999999999995,457.2,397.6,738.9,567,490.6,533.20000000000005,1.1254,546.29999999999995,1.0983000000000001,513.5,1.1685000000000001]
[null,"ITA230981","I23098","ITA-23098","ROBIROBY","DUFOUR 310 GL","DUFOUR","FELCI",2004,"PORTOCIVITANOVA",null,"CLUB","C",400,"27 04 2018 22:15:44",9.35,9.2360000000000007,1.905,3.31,4947,124.6,0.26,661.7,0.94059999999999999,717.6,0,0,1085.5,885.8,769.1,697.8,651.6,620.20000000000005,594.1,1043.8,852.9,745.8,681.3,641.6,616.70000000000005,591.70000000000005,914.2,737.5,642.1,585.9,550.70000000000005,527.29999999999995,497.7,978.1,781.4,673.3,608.6,567.79999999999995,541,507.8,1079.3,830.3,691.3,606.79999999999995,560.5,526.9,474.9,43.1,43.4,41.2,40,38.5,37.799999999999997,38.200000000000003,145.6,148.19999999999999,147.80000000000001,149.6,175.1,177.6,178.6,1147.3,952.8,837.1,762.2,720.7,703.1,695.6,750.2,632.70000000000005,563.6,531.79999999999995,515.5,505.7,499.4,709.4,601.1,544.4,519.4,504.4,493.4,483.5,677.9,577,531.29999999999995,509.4,493.5,479.2,456.3,664.2,556.29999999999995,513.9,491.6,475.6,466.6,442.7,660,552,510.8,486.5,463,440.4,411.1,681.1,566.20000000000005,517.6,492.2,468.4,444.4,401.2,754.2,618,542.20000000000005,509,486.2,463.1,418.6,886.5,709.1,607.20000000000005,548.5,518.70000000000005,499.7,463.6,1023.7,818.8,701.1,633.4,582.6,537.20000000000005,492.6,0.88519999999999999,1.1520999999999999,1.3069999999999999,0.68479999999999996,0.93010000000000004,1.0918000000000001,645.5,0.92959999999999998,0,0,0.93359999999999999,0,0,642.70000000000005,"CLU00026624",8.4559999999999995,5757,24.1,36.9,22.6,0,71.8,762.5,585.9,516.4,985.7,725.7,618.20000000000005,670.8,0.89439999999999997,695,0.86329999999999996,664.1,0.90349999999999997]
[null,"ITA93141","I9314","ITA-9314","MOMENTS","PROTO HALF TONNER","PEZZINI","A,VALLICELLI & C,",1981,"PETTIROSSO SAIL",null,"CLUB","R",450,"20 04 2018 21:04:32",9.26,7.4279999999999999,1.903,3.09,2432,107.9,0,650.4,0.95699999999999996,705.3,0,0,1032.8,838.8,737.2,683.7,652.5,634.79999999999995,607.79999999999995,975.3,799.4,715.3,674.3,650.70000000000005,635.1,608.1,880.6,717.3,631.79999999999995,583.5,554.29999999999995,535,509.3,924.8,748.8,655.6,602.29999999999995,569.9,548.70000000000005,521.6,1034.2,791.6,670.5,603.70000000000005,566.6,536.4,487.3,41.4,40.200000000000003,38.299999999999997,37.6,37.5,37.6,38,146.19999999999999,150.1,151.4,161.69999999999999,180,180,180,1019.3,848.5,778.9,757,749,746.1,746.7,680.4,584.29999999999995,555.1,543.9,538.20000000000005,535.29999999999995,532.1,649.5,569.29999999999995,542.6,528.70000000000005,521.29999999999995,516.9,515.1,628.79999999999995,560,530.6,511,497.2,489.7,483.6,637.79999999999995,559,527.1,504.7,485,471.5,456.5,650.4,555.79999999999995,516.79999999999995,486.8,465.9,453.5,432.9,673.7,566.29999999999995,524.70000000000005,490.3,462.9,440.8,409.2,752.6,613.5,547.6,513.70000000000005,482.2,454.8,395.9,906.1,717,603.5,545,513.5,484,433.3,1046.3,829.1,695.5,610.29999999999995,556,523.5,469,0.92659999999999998,1.1625000000000001,1.2827999999999999,0.72130000000000005,0.95520000000000005,1.0729,646.70000000000005,0.92779999999999996,0,0,0.94650000000000001,0,0,633.9,"CLU00026617",7.6050000000000004,2978,16,28.5,23.6,58.4,0,728.5,580.6,526.20000000000005,935.8,706.7,629.1,656.9,0.9133,675.5,0.88819999999999999,659.7,0.90949999999999998]
[null,"ITASOL42J","SUI4211","SUI-4211","SWISS NAUTIC ONE","SOLARIS 42","SOLARIS YACHT","JAVIER SOTO ACEBAL",2013,"Y,C,PORTO ROTONDO",null,"CLUB","C",600,"04 05 2018 17:41:44",12.34,11.489000000000001,2.496,3.98,9430,131.5,0.15,576,1.079,625.6,0,0,944,766.9,660.2,601.20000000000005,576.1,552.6,525,903,732.7,639.4,588.70000000000005,562.20000000000005,543.6,519.6,794.2,640.5,558.6,511.6,483.1,464.6,440.7,867,691.6,595.5,538.5,503.1,480.1,452.1,940.1,719.4,595.29999999999995,526,493,464.8,422.3,42.7,41,40.4,38.9,38.299999999999997,37.6,37.1,143.69999999999999,147.80000000000001,147.6,150.30000000000001,152.19999999999999,175.7,178,983.6,810.3,710.6,655.4,633.70000000000005,623.29999999999995,613.1,647.1,541.6,486.2,463.4,453.2,448.9,445.7,614,517,472.7,453.5,442.8,437.4,433.1,589.4,500.5,463.5,445.5,432.2,421.7,410.5,584.6,487.1,452.7,442.1,430,416.2,392.3,576.29999999999995,479.6,444.8,423.8,408.7,397.7,379.4,590.6,488.5,449.3,426.5,404.5,384.5,361.9,661.8,532.70000000000005,469.1,441.8,420.3,398.1,356,783.3,626.5,528.1,473.9,451.8,434.4,400.7,904.5,723.4,609.79999999999995,547.1,518.5,481.9,437,1.0201,1.3254999999999999,1.4790000000000001,0.78910000000000002,1.0742,1.2314000000000001,560.5,1.0705,0,0,1.0731999999999999,0,0,559,"CLU00026777",10.936,10552,36.6,57.3,44.6,0,162.9,661.7,509.2,456.4,855.4,628.4,548.20000000000005,595.4,1.0078,615.1,0.97550000000000003,576.79999999999995,1.0403]
[null,"ITA147111","I14711","ITA-14711","EXCELLENT","BAVARIA 38 MATCH","BAVARIA","PETERSON-JAKOPIN",2003,"ONDABUENA TARANTO",null,"INTL","C",670,"27 04 2018 22:18:02",11.38,10.573,2.1890000000000001,3.7,6132,112.8,0.19,616.29999999999995,1.0091000000000001,668.9,0,0,1020.6,824,709.5,643.6,609.20000000000005,587.1,558.4,973.5,788.3,687.7,633.79999999999995,605.70000000000005,587.70000000000005,559.1,854.4,687.1,597.4,545.5,514,493.4,466.7,915.2,730.2,629.4,570.29999999999995,533.9,510.3,480.7,1016.8,773.2,638.4,562,523.6,493.6,445.8,43.1,41.7,40.9,40.200000000000003,39.6,39.5,39.200000000000003,139.6,149,149.69999999999999,155.6,170,180,180,1058.5,870.6,765.5,715.4,698,691.7,679.2,692.2,578.5,518.29999999999995,494.6,486.3,482.7,477.7,654.6,550.6,501.2,481.3,472.3,468.3,466.1,626.79999999999995,530.9,489.4,469.7,456.6,447.5,440.3,632.9,528.20000000000005,483.1,466.6,449.8,434.6,412.9,630.29999999999995,517.79999999999995,473.1,449.3,429.7,418.4,398.4,646.20000000000005,528.9,478.2,451.5,427.1,405.2,379.3,713.3,575.70000000000005,502.1,468.8,444.8,419.8,372.2,851,673.2,565.79999999999995,500.4,469.7,447.4,402,982.6,777.3,653.4,571.9,520.4,482.5,437.6,0.94669999999999999,1.2418,1.3944000000000001,0.7319,1.0044999999999999,1.1600999999999999,604,0.99339999999999995,0,0,1.0038,0,0,597.70000000000005,"ITA00026728",9.6430000000000007,7123,29.5,41.6,35.6,100.9,0,713,543.6,484.1,922.3,672,581.79999999999995,629.79999999999995,0.95279999999999998,650.20000000000005,0.92279999999999995,620.6,0.96679999999999999]
[null,"ITASOL50J","SUI5009","SUI-5009","SUPERGIRL","SOLARIS 50","SERIGI","JAVIER SOTO ACEBAL",2015,null,null,"CLUB","C",800,"04 05 2018 17:41:44",15.4,14.311,2.85,4.55,13504,125.7,0.05,513.9,1.1812,571.4,0,0,836.9,683.6,604,554.9,529.29999999999995,510.2,476.9,790.7,650,579.4,540.5,517.20000000000005,498.9,468.7,697.4,567.70000000000005,499.3,460,435.5,418.6,393.9,797.1,633.6,543.9,490.4,456.6,434,404.8,838.6,640.70000000000005,540.70000000000005,478.9,446.6,421.1,376.9,44.3,42,40.5,39.4,38.700000000000003,38.1,38.200000000000003,142.19999999999999,144.80000000000001,147.80000000000001,149.9,151.30000000000001,161.9,178.9,819.6,691.6,637.9,607.20000000000005,590.6,577.20000000000005,560,529.20000000000005,456.8,431.2,419.5,412.9,409.3,399.7,494.1,432.9,414.6,405.7,400.6,397,388.3,462,413.2,398.5,390.4,384.7,379.3,373.5,456.9,408.5,390.4,378.6,370.2,363.4,349.5,502.8,433.5,400.3,379.3,357.7,345.1,325.10000000000002,552.70000000000005,448.9,405,382.3,361.1,345.8,317,618.9,496.8,429,398.6,377.1,354.6,310,739.8,585.20000000000005,493.7,435.2,406.2,388.5,353.3,854.2,675.7,570.1,502.5,467.9,443.2,393.9,1.1687000000000001,1.4712000000000001,1.6415,0.88780000000000003,1.1727000000000001,1.3432999999999999,509.4,1.1778,0,0,1.1883999999999999,0,0,504.9,"CLU00026958",13.202999999999999,15077,51.1,86,57.1,0,200.7,577.6,458.8,411.2,760.3,575.6,502.5,546.9,1.0972,562,1.0676000000000001,517.70000000000005,1.159]
[null,"ITAH22OD","I107H22","ITA-107H22","QUELLI CHE IL LAGO","H22 ONE DESIGN","LION YACHTS SIA","HUMPHREYS",2002,"GEASNBC",null,"CLUB","S",280,"08 05 2018 00:40:58",6.74,6.49,1.516,2.4900000000000002,789,101.5,0,675.1,0.89980000000000004,750.1,0,0,1050.8,858.4,775.7,742.7,714.2,681.3,612.70000000000005,1011.3,835.9,757.5,720.7,694.2,667.4,626.6,906.9,743.3,657.4,607,573.20000000000005,546.79999999999995,502.4,990.3,801.2,700.6,642.20000000000005,605.20000000000005,579,540.5,1044.8,810.1,703,639.6,594.79999999999995,551.5,472.3,42.1,41,38.4,38.200000000000003,39.200000000000003,39.4,41,144.69999999999999,148.69999999999999,150.80000000000001,147.9,144.80000000000001,143.80000000000001,141.5,1111.2,922.8,849.1,837.8,839.2,834.5,846.2,735,632.70000000000005,601,592,588.70000000000005,588.70000000000005,578.9,697.5,616,583.29999999999995,568.79999999999995,562.1,559.4,545.4,671.5,604.20000000000005,563.20000000000005,531.1,516.20000000000005,508.3,493,646.1,585.4,557.70000000000005,518.9,482.8,461.9,445.6,641,568.29999999999995,515.79999999999995,486.2,460,437.4,394.6,656.4,578.70000000000005,516.9,465,434.7,410.1,366,727.9,612.29999999999995,553.6,496.7,439.6,387.8,306.5,857.7,687.6,608.5,560.79999999999995,510.3,457.4,328.3,990.4,794,702.3,647.6,589.20000000000005,528.1,379.1,0.90169999999999995,1.1095999999999999,1.2581,0.70709999999999995,0.89259999999999995,1.0168999999999999,675,0.88890000000000002,0,0,0.90890000000000004,0,0,660.2,"CLU00027157",6.4219999999999997,1251,11,20.399999999999999,11,0,51.8,748.6,608.29999999999995,536.5,954.6,756.2,663.8,701,0.85589999999999999,721.7,0.83140000000000003,686.9,0.87350000000000005]
[null,"ITA94301","I9430","ITA-9430","ATTO TERZO","CANADOS 33","CANADOS","VALLICELLI & C,",1979,"V,C,TERMINI IMERESE",null,"CLUB","C",517,"08 05 2018 00:41:34",10.050000000000001,8.2430000000000003,1.84,3.15,4757,131,0.18,671.7,0.92889999999999995,726.7,0,0,1061.0999999999999,875.9,764,703.4,666.7,646.79999999999995,628,1016.7,839.5,744,694.5,667.6,651.20000000000005,634.9,912.9,742.1,652.1,601.20000000000005,571.20000000000005,552.5,530.9,960.5,776,677.5,621,587.20000000000005,566.1,542,1058.9000000000001,824.4,692.5,620.20000000000005,582,552.6,507.6,41.6,41.2,40.799999999999997,39.6,38.9,39.1,39.5,147.30000000000001,151.30000000000001,151,159.30000000000001,180,180,180,1082.5,916.1,820,781.6,766,759.4,765.3,722.9,611.79999999999995,566,549.20000000000005,542.6,539.6,539.4,689.1,588.20000000000005,552.29999999999995,536.4,529,525.1,523.1,663.9,573.9,541.79999999999995,524.5,512,504.2,497.3,671.3,575.70000000000005,540.4,520.29999999999995,504.8,491.5,472.7,693.9,574.9,532,507.8,488,476.5,459.9,711.1,585.6,536.5,509.6,486.4,466.1,442.5,774,633.1,557.20000000000005,525.1,501,477.7,437.5,900.3,723.6,613.9,553.29999999999995,524.79999999999995,502.5,460.3,1039.5999999999999,835.7,707.9,625.1,567.5,534.29999999999995,490.8,0.89049999999999996,1.1294,1.242,0.69699999999999995,0.92620000000000002,1.0468999999999999,660.4,0.90849999999999997,0,0,0.91700000000000004,0,0,654.29999999999995,"CLU00027173",7.7709999999999999,5453,21.8,23.6,44.4,84.3,0,758,597.70000000000005,543.5,968.4,728.8,644.79999999999995,679.3,0.88319999999999999,698.5,0.85899999999999999,676.1,0.88749999999999996]
[null,"ITA20061","I2006","ITA-2006","OTTOVOLANTE","GRAND SOLEIL 40 C","DEL PARDO","PAPERINI",2000,"C,V,RIBELLINO",null,"INTL","C",800,"11 05 2018 14:34:32",12.016,11.068,2.4420000000000002,3.79,7734,116.3,0.13,600,1.0327,653.6,0,0,977.7,793.9,687.8,630.70000000000005,604.5,579.5,552.20000000000005,931.8,758.5,664.3,615.20000000000005,589.70000000000005,571.6,548.9,825.2,666.3,581.79999999999995,533.6,504.7,486.2,462.9,883.6,707.2,611.1,554.79999999999995,520.1,497.8,471.2,975.7,746.1,620.1,549.79999999999995,515.5,486.1,441.4,42.4,40.799999999999997,40.4,39.1,38.200000000000003,37.799999999999997,37.6,144.1,148.1,148.1,149.30000000000001,151.6,175.7,178.1,996.9,825.8,728.2,682.4,664.1,655.9,649.79999999999995,658,553,500,480,472.7,469.1,467.1,625.29999999999995,528.6,486.3,469,461,457,454,601.6,512.9,476.8,459.3,447.4,439.4,432.2,607.9,511.6,470.9,456.1,441.7,428.3,408.5,613.9,506.6,464.9,443,424.1,411.5,393.3,631.79999999999995,519.9,471.4,446.9,424.9,403.6,374.3,701.8,570.29999999999995,496.2,463.4,441.6,419.7,376.5,830,660,560.70000000000005,501.5,474,455,421.6,958.4,762,647.4,579.1,544.9,503.2,454.6,0.98229999999999995,1.2717000000000001,1.4127000000000001,0.76200000000000001,1.0277000000000001,1.1728000000000001,588.6,1.0193000000000001,0,0,1.0291999999999999,0,0,583,"ITA00027291",10.321999999999999,8827,32.799999999999997,46.5,47,0,113.2,687.2,530.79999999999995,477.8,885.8,656.8,575.5,612.70000000000005,0.97919999999999996,631,0.95089999999999997,603.79999999999995,0.99370000000000003]
[null,"ITA165121","I16512","ITA-16512","SQUALO BIANCO","FIRST 35","BENETEAU","FARR",2009,"NIC CATANIA",null,"INTL","C",640,"14 05 2018 21:55:52",10.66,9.7940000000000005,2.2149999999999999,3.64,5879,119.2,0.21,628.20000000000005,0.99580000000000002,677.8,0,0,1029.5,833.3,718.9,653,616.70000000000005,595.20000000000005,567.29999999999995,982.8,798.2,697.2,642.9,614.5,597,569.29999999999995,868,699.3,609,557.1,525.6,505.2,479.1,929.9,742.9,641.29999999999995,581.70000000000005,545.29999999999995,521.9,492.9,1026.2,782.9,648.70000000000005,573.1,535.20000000000005,506,459.4,42.3,40.700000000000003,40.1,38.9,38.200000000000003,38,38.5,145.30000000000001,149.69999999999999,151.19999999999999,157,175.1,180,180,1062.8,876.9,770.7,719.4,702.2,695.6,683.4,702.2,588.20000000000005,528.79999999999995,505.9,497.8,494.3,489.6,667.4,561.9,513.70000000000005,494,484.7,480.8,478.8,641.70000000000005,544.20000000000005,503.4,483.8,470.4,461.1,453.9,648,536.9,494.5,479.5,465.1,450.2,428.1,641.1,529.6,487,463.3,443.1,430.9,412.2,659.5,542.1,492.7,466.8,443.4,421.6,394.5,727.7,591.9,517.4,484.2,461,437.4,392.8,862.8,684,578.29999999999995,514.9,484.6,462.8,419.5,996.3,789.8,667.1,586.5,531.29999999999995,494.8,451.3,0.93289999999999995,1.2166999999999999,1.3611,0.72470000000000001,0.99129999999999996,1.1437999999999999,614.6,0.97619999999999996,0,0,0.98560000000000003,0,0,608.79999999999995,"ITA00027339",9.2050000000000001,6756,28.2,40.299999999999997,31.2,90.7,0,723.6,554.79999999999995,495.9,931.4,680.9,590.1,640.29999999999995,0.93700000000000006,662.3,0.90590000000000004,631.79999999999995,0.94969999999999999]
[null,"ITAESTE24","I24017","ITA-24017","EXTE","ESTE 24","D'ESTE","FRERS",1994,"DIPORTO NAUTICO SISTIANA ASD",null,"INTL","S",400,"17 05 2018 23:00:36",7.4950000000000001,7.0579999999999998,1.675,2.4300000000000002,1084,106.6,0.13,676.9,0.91469999999999996,737.9,0,0,1092.5,880.8,765.9,714.1,684.9,663.1,626.6,1037.5,843.9,748.9,704.6,678.6,656.5,620.70000000000005,926.3,750.8,657.4,602.9,568,543.29999999999995,507.2,980.3,789.2,686.8,627.1,589.4,563,524.4,1091.3,830.6,697.1,628,583.9,543.29999999999995,477.2,41.9,41,38,37.4,37.5,37.6,38.4,145.69999999999999,149.69999999999999,154,170.2,180,180,180,1104.4000000000001,910.1,814.7,793,788.6,782.6,784.4,731.7,620.29999999999995,582.5,570.1,565.29999999999995,563.5,553.9,694.8,602.79999999999995,568.29999999999995,550.79999999999995,543.29999999999995,539.9,525.6,667.7,591.20000000000005,555.6,523.5,505.6,497.2,485.2,676.5,584.29999999999995,543,517.20000000000005,483.8,459.8,441.9,680.3,582.9,534.6,486.2,450.1,429.4,397.3,704.4,593.6,546,497.1,449.3,408.1,363.6,785.2,638.1,577.1,534.70000000000005,490.2,445.3,356.5,935.8,737.5,626.20000000000005,572.70000000000005,533,492.4,411.8,1080.5999999999999,851.5,717,635.29999999999995,581.1,543.6,468.8,0.87839999999999996,1.1198999999999999,1.2673000000000001,0.68410000000000004,0.91469999999999996,1.0307999999999999,677.4,0.88570000000000004,0,0,0.91259999999999997,0,0,657.5,"ITA00027420",7.0750000000000002,1611,12.5,19.399999999999999,14.1,33.1,0,768.4,602.70000000000005,532.6,986.7,737.9,654.79999999999995,686.2,0.87429999999999997,708.2,0.84719999999999995,692.7,0.86619999999999997]
[null,"ITA131181","I13118","ITA-13118","ALEX","X-332","X YACHTS","JEPPESEN",1994,"C,V,ROMA",null,"INTL","C",540,"22 05 2018 18:51:14",10.06,9.1470000000000002,1.827,3.28,4614,114.6,0.17,648.1,0.96020000000000005,702.9,0,0,1052.5999999999999,855.3,741.4,679.2,641.9,621.29999999999995,598.1,1002.1,818,719,668,641.1,624.5,602,889.5,719.3,628.70000000000005,576.9,545.70000000000005,525.79999999999995,501.1,933.7,750.3,651.70000000000005,594.70000000000005,560.20000000000005,538.1,510.6,1051.5,804.2,669.7,595.6,556.70000000000005,526.70000000000005,477.5,42.5,41.4,40.799999999999997,39.5,39,38.9,39.200000000000003,145.80000000000001,150.6,152.69999999999999,158.69999999999999,180,180,180,1063.8,886.4,785.9,746.6,732.7,727.9,726.8,701.5,590.9,539.9,522.1,516,513.29999999999995,511.5,666.3,566,525.6,509.2,502.2,498.8,497.3,640.20000000000005,550.1,515.5,497.1,484.4,476.7,470.7,647.5,552.9,512.4,494,477.4,461.9,442.3,666.3,552.29999999999995,508.2,482.7,459.7,442.7,423.4,688.5,567.1,515.20000000000005,488.4,463.5,440,405.1,763.7,622.20000000000005,542.5,507,482.8,458.2,411.6,901.8,713.8,605,538.70000000000005,506.6,483.7,438.3,1041.3,824.2,696.8,611.79999999999995,551.20000000000005,514.6,469.3,0.91190000000000004,1.1757,1.3069,0.70760000000000001,0.95709999999999995,1.0927,636.79999999999995,0.94220000000000004,0,0,0.9516,0,0,630.5,"ITA00027524",8.5739999999999998,5425,24.2,35.4,31.6,67.099999999999994,0,740.2,574.1,516.5,953.9,705.3,617.70000000000005,652.9,0.91900000000000004,672.5,0.89219999999999999,652.5,0.91949999999999998]
[null,"ITABAVA36","CHOER","ITA-CHOER","CHOERADES","BAVARIA 36 CRUISER","BAVARIA","J & J",2002,"LNI MANFREDONIA",null,"CLUB","C",540,"28 05 2018 23:43:32",10.97,9.3620000000000001,1.5669999999999999,3.41,5104,121,0.28000000000000003,676.2,0.90610000000000002,745,0,0,1134.3,913.5,787.3,716.8,685.9,656.7,636.4,1088.8,879.2,764.4,703.1,672.5,652.9,640.6,940.4,754.5,654.79999999999995,597.9,564.20000000000005,543.6,521.4,1006.6,800.3,687.4,621.1,581,556.4,530.29999999999995,1127.4000000000001,854.2,703.1,616.70000000000005,575.4,540.5,488.1,45,43.4,43.3,42.9,42.3,42.2,43.2,145.5,147.1,146.5,148.1,151.1,175.7,178.1,1203.3,986.6,865.7,801.7,778.5,770.6,782.5,772.9,643.20000000000005,567.20000000000005,535.20000000000005,523.6,519,519,724.4,605.6,541.6,516.79999999999995,505.5,500.9,499.2,688.5,577.1,524.9,502.3,488.8,479.2,471.1,689,564.70000000000005,512.5,492.3,482.3,468.2,446.1,677.3,554,504.2,479.5,458.5,441.6,423,700.7,569.9,511.2,483.8,460.3,438,404,781.9,628.20000000000005,539.5,501.2,477.5,454.6,411.2,922.5,727.8,614,547.20000000000005,515.29999999999995,493.6,458.2,1065.3,840.4,708.9,631.9,593.29999999999995,542.79999999999995,490.2,0.85899999999999999,1.1353,1.2639,0.65920000000000001,0.9012,1.0284,661.9,0.90649999999999997,0,0,0.91320000000000001,0,0,657,"CLU00027666",8.15,5926,24.1,29.9,33.5,0,82.4,785.8,594.6,534.1,1024,749,656.4,687.6,0.87260000000000004,710.7,0.84419999999999995,679.4,0.8831]
[null,"ITA143131","I14313","ITA-14313","MIND THE GAP-TEMPUS F,","FAT 26","UGGE'","GIORGIO GRASSI",2003,"C,N,CHIOGGIA",null,"INTL","S",394,"30 05 2018 10:55:50",7.8070000000000004,7.01,1.7549999999999999,2.39,1358,126.1,0,663.5,0.93189999999999995,724.4,0,0,1045.5,848.7,751.8,706.8,680.8,655.6,628.70000000000005,996.3,817.4,736.2,698.7,674.7,650.70000000000005,625.20000000000005,897,731.7,645.1,595.4,563.9,541.6,509.5,952.9,771.3,675.1,619.79999999999995,585.29999999999995,561.70000000000005,529.5,1043.5,801.3,684.7,621.1,580.29999999999995,542.70000000000005,482.5,41.8,40.799999999999997,38.700000000000003,38.4,38.6,38.200000000000003,39.9,145.6,149.19999999999999,154.69999999999999,171,180,180,180,1065.2,882.5,812,797,795.2,781.9,797.7,706.9,605.4,574.9,566.5,563.29999999999995,558,555.29999999999995,671.9,589.6,560.29999999999995,548.4,543,540.70000000000005,529.5,647.4,579.20000000000005,545.6,520.29999999999995,507.9,501.3,487.1,654,572.5,542.5,510.2,482.3,463.9,450.1,654.20000000000005,568.20000000000005,522,484.4,463,442.6,407.6,674.8,577.5,530.9,485.8,444.9,419.2,379.3,748.3,612.9,559.6,517.29999999999995,476.2,434.2,338.7,888.4,705.8,605,556,516.79999999999995,479.2,395.5,1025.8,815,691.6,616.6,566.4,529.29999999999995,459.8,0.91120000000000001,1.1354,1.2687999999999999,0.7127,0.92830000000000001,1.0355000000000001,664.9,0.90239999999999998,0,0,0.92800000000000005,0,0,646.6,"ITA00027697",7.016,1868,13.1,24.3,14.3,43.7,0,740.8,594.5,532,947.1,727.1,651.9,676.2,0.88739999999999997,695.5,0.86270000000000002,677.3,0.88580000000000003]
[null,"ITA155201","I15520","ITA-15520","DREAMER TECH","VISMARA 52 FC","MARINE SERVICE","VISMARA",2007,"NIC CATANIA",null,"CLUB","C",570,"06 06 2018 22:30:44",16,15.587999999999999,3.2850000000000001,4.18,13153,141.9,0.18,510.2,1.2164999999999999,554.9,0,0,862.4,688.3,589.70000000000005,531.1,502.6,486.8,452,816.7,653.5,564.79999999999995,516,489.6,471.9,436.9,714.7,571.5,494.1,448.8,420.5,401,372.7,786.4,622.20000000000005,531.20000000000005,476.1,440.7,416.6,384.6,861.4,646.1,530.1,462.5,428.5,402.6,358.4,42.6,40.799999999999997,40.200000000000003,38.5,37.200000000000003,36.5,35,141.9,144.4,146.1,150.1,151.6,152.5,177.7,872.7,705.9,616,567.9,546.4,534.29999999999995,513.29999999999995,572.5,470.9,421.4,402,392.6,387.4,381.7,541.4,448.3,409.3,392.8,382.3,375.9,368.4,519,433.4,400.9,384.5,370.9,358.5,343.6,529.20000000000005,436.9,400,385.6,370.3,354.1,326.10000000000002,532.4,432.5,393.7,372,356.8,344.4,320.7,550.4,442.7,398.4,375.6,352.1,331.1,305.3,616.29999999999995,491.6,421.7,391.7,370.2,346.2,296.7,737.9,580.79999999999995,487.9,428,398.2,382.2,343.3,852,670.7,563.4,494.2,458.9,439.3,390.8,1.1305000000000001,1.5059,1.7185999999999999,0.87060000000000004,1.2126999999999999,1.413,494.4,1.2137,0,0,1.216,0,0,493.4,"CLU00027960",14.708,15033,49.9,82.9,54.8,0,186.7,597.1,448.2,392.8,775.3,556.6,477.7,533.5,1.1246,549.20000000000005,1.0925,510.6,1.1751]
[null,"ITA169011","I16901","ITA-16901","OBI-WAN","BAD 37","ACOM  s,r,l,","INZERILLO-ALBEGGIA",2011,"VELA CLUB PALERMO",null,"INTL","C",630,"07 06 2018 10:24:22",11.3,10.199999999999999,2.387,3.68,5812,115.6,0.15,605,1.0297000000000001,655.5,0,0,995,802.9,692.2,631.5,598.70000000000005,577.79999999999995,547.70000000000005,950.5,769.3,672,621.20000000000005,594.5,577.1,546.6,836.8,673.7,586.5,536.29999999999995,505.6,485.3,458.2,899.4,717.9,619.20000000000005,561.4,525.70000000000005,502.3,472.4,991.4,754.1,624.6,552.9,515.6,485.8,437.9,42.8,41.5,40.6,39.299999999999997,39.200000000000003,39.200000000000003,39.1,144.69999999999999,148.4,150.80000000000001,156.19999999999999,172.1,180,180,1030.5,846.4,743.4,697.3,682.6,677.1,663.5,676.4,564.29999999999995,508.1,486.9,480.1,477,470.8,640.5,538.70000000000005,493.6,474.7,466.6,462.8,457.8,614.1,521.4,483.4,463.6,449.4,440.5,433.9,621.4,518.6,477.9,462.1,444,427.3,405.3,619.20000000000005,510.6,468.9,443.9,425.8,414.5,393.1,636.1,521.70000000000005,474.3,446.7,420.5,397.7,373,703,567.4,497.2,465,439.4,413.6,363.2,830.8,657.6,555.4,496,466.1,442.2,395.8,959.4,759.4,640.9,565.70000000000005,514.9,478.5,431.8,0.96809999999999996,1.2633000000000001,1.4173,0.75090000000000001,1.0261,1.1806000000000001,591.70000000000005,1.014,0,0,1.0232000000000001,0,0,586.4,"ITA00027963",9.6859999999999999,6740,29.4,43.9,36.200000000000003,102.8,0,697.2,534.29999999999995,476.3,898.9,657.8,571.70000000000005,619.5,0.96850000000000003,639.6,0.93810000000000004,608.5,0.98609999999999998]
[null,"ITA117031","FIN11703","FIN-11703","ADELANTE","NEXT 37","C,ALTO ADRIATICO","COSSUTTI Y,D,",2014,"R,C,CTEVERE REMO",null,"INTL","R",595,"19 06 2018 14:44:12",11.315,10.523999999999999,2.3479999999999999,3.69,5054,117.7,0.01,578.29999999999995,1.0669,632.70000000000005,0,0,942,761.5,658.8,610.79999999999995,588.5,565.6,534.5,897.6,727.6,638.9,595.5,571.9,553.20000000000005,521.20000000000005,795.3,642.20000000000005,561,514.29999999999995,485.5,465.7,437.6,862.4,689.4,595.29999999999995,539.79999999999995,505,481.6,450.3,939.7,716,595.79999999999995,532.1,497.9,466.2,416,42.4,40.9,39.700000000000003,38.700000000000003,38.1,37.9,37.6,143.6,147.19999999999999,148.80000000000001,150.5,152,176.4,177.2,965.2,792.1,698.5,662.8,648.4,642.20000000000005,628.9,636.79999999999995,532.20000000000005,485.2,468.8,462.8,459.8,451.9,604.79999999999995,511.5,473.7,456.7,449.2,445.2,437.3,582,498.4,465.8,444.7,428.4,419.8,412.6,589.20000000000005,492.2,458,443.9,423.4,403.8,382.3,585.70000000000005,488.4,450.7,420.7,399.6,386.6,362,602.79999999999995,498.5,457.7,426.4,395.7,368.3,338.3,671.2,543.20000000000005,480.1,449,419.4,390.4,330.9,795.7,633,536.1,484.1,459.9,437.2,387.3,918.8,731,619,558.70000000000005,528.6,489.1,440,1.0209999999999999,1.3172999999999999,1.4761,0.79249999999999998,1.0650999999999999,1.2060999999999999,566.6,1.0589999999999999,0,0,1.0684,0,0,561.6,"ITA00028212",10.337999999999999,6026,27.9,44.1,36.6,0,103,661.1,512.4,457.3,851.7,633.70000000000005,559.70000000000005,596.4,1.0061,614.6,0.97619999999999996,581.9,1.0310999999999999]
[null,"JPN180280","JC180280","JPN 6813","BETTER THAN MOST","SWING 34","TSUBOI YACHT","I YOKOYAMA",1991,"TOKYOWAN",null,"CLUB","C",576,"01 04 2018 23:37:28",10.311,8.7750000000000004,1.859,3.42,3863,108.4,0.01,639.20000000000005,0.97470000000000001,692.5,0,0,1035.2,844.9,730.9,667.5,631.5,612.29999999999995,587.29999999999995,987.9,808.1,709.9,657.9,630.4,613.9,589.79999999999995,876.9,709.6,620.29999999999995,568.79999999999995,537.29999999999995,516.70000000000005,490.2,922.7,742,644.6,587.79999999999995,553,530.6,503.7,1032.8,794.1,661.3,587.1,548.5,518.1,466.4,42.3,41.3,40.4,39.1,38.700000000000003,38.700000000000003,39.1,145.80000000000001,150.6,152.1,159.9,180,180,180,1058.8,882.7,779.4,734.1,719.6,715,713.4,700,589,538.4,519.5,511.7,508.2,506.2,664.1,564.5,524.79999999999995,507.2,497.1,492.2,489.6,636.1,548.5,515.1,494.8,479.1,467.4,457.9,641.20000000000005,545.6,507.7,486.3,472,454.5,431,649.4,543,503.2,475.1,450.2,430.8,409.6,670.3,555.6,510.1,481.5,454.3,430.3,389.6,741.1,605.70000000000005,534.5,501.7,475.3,449.3,400.8,876.1,698.8,592.5,531.70000000000005,501.5,476.5,429.4,1011.6,807,682.5,600.9,543.4,509.7,461.3,0.92490000000000006,1.1906000000000001,1.3308,0.71809999999999996,0.97199999999999998,1.1106,0,0,0,0,0.96530000000000005,0,0,621.6,"JPN00018028",8.5250000000000004,4629,21.4,36.799999999999997,25.4,63.5,0,729.8,566.9,507.2,940,694.4,607.79999999999995,645.20000000000005,0.93,664.9,0.90239999999999998,0,0]
[null,"LTULT632","Lietuva LTU632 int","LTU 632","LIETUVA","Conrad 54","st,yachtova,Gdansk",null,1972,null,null,"CLUB","C",1163,"18 05 2018 08:17:14",16.5,14.242000000000001,2.915,4.7,21834,119.9,0.5,571.6,1.0924,617.9,0,0,974.9,782.5,668.4,595.9,553.1,525.4,493.1,927.3,744.8,642,580.20000000000005,544.4,522.4,494.9,805.7,642.9,553.4,500.2,467.4,446.2,420.6,865.2,685.7,585.70000000000005,525.20000000000005,486.8,461.6,431.4,972.6,734.8,598.20000000000005,515.1,473,444.6,405.5,44.1,41.5,40.700000000000003,40.799999999999997,40.1,39,37.9,140,148.1,146.6,151,156,169.5,180,998.5,814.3,712.7,649.4,615.9,597.5,579.70000000000005,649.1,542.6,476.9,443,428.7,422.3,416.6,612.5,516.29999999999995,456.7,430.5,418.3,412,406.5,586.6,496.5,443.7,421.3,409.4,401.2,392,593.6,501.8,445.5,420.4,406.7,396.9,381.1,610.29999999999995,497.1,434.8,410.5,397.3,389.7,376.4,622.29999999999995,507.2,440.2,411.9,395.8,382.1,363.8,692.9,551,470.3,426.7,405.9,390.4,360.1,823.9,650.20000000000005,540.6,470.3,429.9,409.3,380.5,951.4,750.8,624.20000000000005,542.4,490.3,453.4,406.4,0.99560000000000004,1.3486,1.5468999999999999,0.76819999999999999,1.0801000000000001,1.2976000000000001,0,0,0,0,1.0862000000000001,0,0,552.4,"lt00000535",12.409000000000001,23460,60.9,61.3,97.9,228.5,0,678,500.5,436.4,878.7,624.9,520.20000000000005,585.5,1.0246999999999999,605.4,0.99109999999999998,0,0]
[null,"LTULT1620","Extreme LTU1620 int","LTU 1620","EXTREME","X-35 OD","X Jachts","Jeppessen",2005,"Kauno raj,",null,"INTL","C",760,"18 05 2018 17:10:22",10.6,9.5329999999999995,2.1850000000000001,3.25,4687,118.5,0.05,612.1,1.0204,661.5,0,0,988.4,803.9,694.6,637.6,605.9,587.1,556.70000000000005,943.2,768.7,675.4,627.6,602.20000000000005,585.4,553.5,839.5,679.2,594,545,515.1,495.2,467.6,901.2,722.9,626.6,570.4,536,513.29999999999995,483.7,985.7,756.4,630,562.20000000000005,526,496.8,448.9,42.2,41,39.799999999999997,38.200000000000003,37.799999999999997,37.700000000000003,37.5,145,148.9,150.69999999999999,158,180,180,180,1014.9,841.3,741,701,687.9,683.4,670.9,672.5,565.29999999999995,517.20000000000005,499.7,493.9,491.3,485,639.9,543.9,505.6,488.5,481,477.5,472,616.20000000000005,530.4,497.4,477.7,463.1,454.7,448.3,623.79999999999995,527.70000000000005,491.6,476.4,457,439.6,418.6,623.1,520.20000000000005,482.2,456.1,437.3,424.4,402.2,639.1,529.9,487.7,458.7,431.1,407.9,381.4,703.6,571.70000000000005,508.1,477.7,450.3,423.2,368.6,833,663.8,561.79999999999995,506.8,478.8,453.6,404.6,961.8,766.5,648.1,574.20000000000005,523.79999999999995,490.8,442.6,0.96689999999999998,1.2435,1.3883000000000001,0.75319999999999998,1.0187999999999999,1.163,0,0,0,0,1.0094000000000001,0,0,594.4,"lt00000541",9.3049999999999997,5526,24.7,37.5,32.799999999999997,96.3,0,698.1,542.79999999999995,486.2,896.2,662.5,580.4,626.79999999999995,0.95720000000000005,646.70000000000005,0.92779999999999996,0,0]
[null,"MRI009/18","FRA34635","FRA-34635","Black Dog","A-35","Archamblaut","Nivelt",2005,"MAURITIUS",null,"CLUB","C",680,"20 05 2018 20:26:34",10.617000000000001,9.6180000000000003,2.1549999999999998,3.59,4484,118.1,0.18,608.6,1.0306,655,0,0,1001.4,807.2,693.5,629.9,595.6,574.79999999999995,544.9,958.9,774.7,674.5,620.1,590.5,571.6,540,843.3,678.6,590.1,538.70000000000005,506.6,484.9,455.5,917.9,731.1,629,568.6,530.79999999999995,505.8,473.1,996.5,758.2,627.6,555,516.5,485.6,436.5,42.4,41,40.200000000000003,38.299999999999997,37.4,37.299999999999997,37,144.69999999999999,148.19999999999999,150.9,157.19999999999999,175,180,180,1049.7,858.5,748.1,692.5,673.3,665.7,655.8,691.6,575,517.29999999999995,494.4,484.5,480.4,476.9,655.8,549.9,504.1,483.5,471.4,465.9,462.5,629.79999999999995,533.6,495.1,473.7,456.6,443,431.7,626.29999999999995,520.70000000000005,484.8,472.4,454,434.6,404.2,617.1,512.70000000000005,474.3,447.3,427.7,413.7,389.7,633.1,522.4,479.5,449.5,420.3,395.2,367,699.1,564.70000000000005,500.5,469.6,441.1,412.5,353.1,825.3,654.70000000000005,553.79999999999995,499.6,470.8,444.6,393.1,953,756,638.9,567.4,517.9,483.9,434,0.9607,1.2553000000000001,1.4198999999999999,0.74639999999999995,1.0268999999999999,1.1867000000000001,0,0,0,0,1.0196000000000001,0,0,588.4,"MRI10014289",9.4589999999999996,5310,24.7,35.799999999999997,29,95,0,702.6,537.70000000000005,475.4,904.3,657.3,568.79999999999995,627.29999999999995,0.95650000000000002,649.79999999999995,0.9234,0,0]
[null,"NED2850","NED_1869","NED 1869","DOBBE","Halcyon II 27'std","Offshor Y,","A, Buchanan",1972,160103,null,"CLUB","C",376,"03 04 2018 07:42:00",8.07,6.56,1.3340000000000001,2.34,3687,129.9,0.73,822.9,0.75219999999999998,897.3,0,0,1350,1096.5,954.8,868.3,815.5,788.3,769,1304.9000000000001,1064.0999999999999,933.9,862.7,823.8,802.3,785.1,1140.2,917.3,797.4,728.5,687.8,663.4,638.1,1196.5,958,828.1,752.2,706.4,678.3,648.4,1341.2,1029,855.1,752,698,658.9,600.1,43.8,42.2,42.1,43.5,43.6,43.6,44.7,148.80000000000001,153.4,154.4,169.4,180,180,180,1437.9,1195.7,1067.5999999999999,1004.9,976.3,964,970.7,937.6,794.4,704.1,659.4,643.9,637.29999999999995,634.9,888.2,754.7,669.5,632.4,618.29999999999995,612.1,608.4,851.9,721.9,645.6,613.5,596.29999999999995,586.6,579.29999999999995,858.4,709,630,604.4,589.6,574.20000000000005,554.1,838.2,689.4,617.79999999999995,587.20000000000005,565.5,552.6,535.70000000000005,862.4,705.5,624.9,591.5,567.4,545,517.70000000000005,949.7,769.7,656,608.29999999999995,582.1,559.29999999999995,517,1093,866.7,732.4,645.1,606,582.1,539.79999999999995,1262.0999999999999,997.3,842,731.6,654.6,612.70000000000005,567.20000000000005,0.7077,0.93140000000000001,1.0364,0.55179999999999996,0.74760000000000004,0.85680000000000001,806.3,0.74419999999999997,0,0,0.75190000000000001,0,0,798,"pub00011780",5.4880000000000004,4177,18.3,16.600000000000001,23.9,47.8,0,953.8,724.7,651.29999999999995,1223.3,902.9,787.8,825.5,0.7268,855.1,0.70169999999999999,829.1,0.72370000000000001]
[null,"NED3295","nedc2899","NED 2899","ANNEKE V","Victoire 34 x1,87","Victoria","D Koopmans",1983,4043119,null,"CLUB","C",537,"03 04 2018 07:42:00",10.33,8.4130000000000003,1.8779999999999999,3.24,5984,125.3,0.57999999999999996,697.8,0.89480000000000004,754.3,0,0,1127.3,926,807.9,731.5,685.4,657.9,634.6,1081.7,891.2,783.2,719.9,684.5,663.3,642.9,961.5,776.6,677,618.9,583.5,561.1,535.29999999999995,1002.5,805.8,698.9,635.9,597.20000000000005,572.4,543.6,1124.4000000000001,871,727.2,638.6,593.4,560.6,511,42.5,41,41.7,41.4,40.6,40.200000000000003,40.5,147.9,152,153.19999999999999,156.80000000000001,180,180,180,1156.4000000000001,977.2,869.9,809.5,783.2,769.9,766.5,765.9,653.29999999999995,584.1,555.6,543.4,537.70000000000005,534.4,730.5,621.79999999999995,564.70000000000005,541.5,529.4,523.20000000000005,518.79999999999995,704.4,598.9,551.4,529.9,515.79999999999995,505.4,494.4,710.1,602,550.4,525.5,510.7,497.3,476.1,736,606.4,544.20000000000005,516.6,496.1,478,458.9,754.1,621.29999999999995,550.79999999999995,520.79999999999995,498.7,478.8,446.1,819.7,674.2,580.4,537.20000000000005,513.20000000000005,492.6,454.4,951.1,758.7,648,572.5,536,513.9,476,1098.3,874.8,745.9,653.4,587.70000000000005,545.79999999999995,502.7,0.84050000000000002,1.0931999999999999,1.2266999999999999,0.65749999999999997,0.88619999999999999,1.0288999999999999,680.3,0.88190000000000002,0,0,0.88600000000000001,0,0,677.2,"pub00011797",7.61,6695,25.4,24.1,43.9,71.3,0,803.1,617.5,550.29999999999995,1026.5999999999999,761.7,656,698.7,0.85870000000000002,720.9,0.83230000000000004,699.5,0.85770000000000002]
[null,"NED10832","NEDI5375","NED 5375","J-Rover","J-39","J-Boats","R,Johnstone",1991,224726,null,"CLUB","R",525,"03 04 2018 07:42:04",12.009,10.151999999999999,2.1680000000000001,3.77,5663,117,0.1,596.20000000000005,1.0470999999999999,644.6,0,0,960,778.4,676.6,624.4,593.20000000000005,572.29999999999995,539.5,915,744.5,657,613.20000000000005,588.20000000000005,570.20000000000005,537.70000000000005,816.4,660.8,578.6,531.6,502.9,483.5,456.5,882.5,707.4,612.79999999999995,557.5,523.1,500.1,470.1,958.2,732.9,613.5,548.9,513.79999999999995,485.6,439.3,41.9,40.700000000000003,39.5,38.200000000000003,37.9,37.6,37.1,142.30000000000001,148,150.4,156.5,173.2,180,180,978.8,808.1,720.7,687.8,673.8,666.7,648.9,648.5,544.20000000000005,503,488.6,482.6,479.3,470.5,617.1,524.5,490.9,476.7,469.7,465.7,458.3,595.5,512.4,481.4,464.6,452,443.5,436,605.1,515.6,481.5,461.3,444.4,429.8,410.3,609.70000000000005,506,469.6,446.9,432.5,420.9,401.7,625.29999999999995,515.4,472.8,446.2,422,404.4,381.9,690.1,558.1,493.2,462.9,436.2,410.2,362.7,815.2,648.4,548,492.8,464.4,439.8,392.4,941.3,748.7,632.6,561,512.5,477.9,430.1,0.99639999999999995,1.2749999999999999,1.4211,0.77659999999999996,1.0436000000000001,1.1941999999999999,583.70000000000005,1.028,0,0,1.0361,0,0,579.1,"pub00011850",9.7889999999999997,6597,28.6,41.2,39.1,114.9,0,677.4,529.4,475,869.2,646.79999999999995,565.20000000000005,614.1,0.97709999999999997,632.4,0.94879999999999998,599.5,1.0008999999999999]
[null,"NED15233","NEDC6292","NED 6292","ZEEUWSE RAKKER","Dehler 35 CWS","Dehler","Stadt v/d",1999,102259,null,"CLUB","C",609,"03 04 2018 07:42:00",10.51,9.2789999999999999,1.931,3.34,5749,120,0.26,652.70000000000005,0.95930000000000004,703.6,0,0,1068,870.1,753,678.5,636.5,613.4,585.29999999999995,1020,834,729.5,669.1,636.20000000000005,616.70000000000005,588.29999999999995,901,726.8,633.1,578.6,545.1,523.4,495.6,956.1,765.8,662,600.79999999999995,562.9,538.29999999999995,508.5,1064.5999999999999,816.9,678.5,595.79999999999995,555.20000000000005,525,475.2,42.5,41,41,39.700000000000003,38.700000000000003,38.299999999999997,37.9,145.9,151,151.9,158.4,180,180,180,1101.9000000000001,918.4,810.3,748.1,723.4,712.8,698.5,726.5,613.70000000000005,550.5,524.79999999999995,513.4,508.6,504.6,689.9,584.4,534,512.79999999999995,501.2,495.3,490.8,662.2,563.9,522.70000000000005,502.6,488.4,477.3,465.4,666.3,555.29999999999995,512.29999999999995,492.3,483.5,469.2,444.2,662.9,550.9,508,484.1,462.6,444,425.3,683.2,564.9,514.5,489.2,466.7,444.5,409.3,753.6,618.5,539.70000000000005,506,483.6,461.4,419.1,895.5,711.5,603.5,536.5,505.8,484.7,443.2,1034.0999999999999,821.8,695.7,608.9,549.5,514,472,0.8982,1.1695,1.3150999999999999,0.6966,0.95230000000000004,1.1091,636.9,0.94210000000000005,0,0,0.94730000000000003,0,0,633.4,"pub00011882",8.6229999999999993,6562,26.2,39.9,25.7,76,0,751.5,577.20000000000005,513.29999999999995,969,708.8,608.6,660.8,0.90790000000000004,683.3,0.87809999999999999,654.70000000000005,0.91649999999999998]
[null,"NED23302","nedc7190","NED 7190","Wiper one","X-46","X-Yachts","N, Jeppesen",2003,130605,null,"CLUB","C",850,"03 04 2018 07:42:02",13.99,12.477,2.4169999999999998,4.09,10503,123.9,0.03,560.70000000000005,1.1073999999999999,609.5,0,0,917.1,743.2,645.6,590.79999999999995,558.5,535.4,508.7,869.9,707.4,621.6,576.79999999999995,551.6,534.29999999999995,509,771.8,623.1,543.9,498.3,470.5,452.3,429,816.8,655.4,568,516.70000000000005,485,464,437,917.1,698.7,581.6,515,480.1,452.8,411.3,42.7,41.4,40.6,39.299999999999997,38.6,38.200000000000003,38,142.80000000000001,147.69999999999999,150,153.9,161.9,180,180,917.1,758.3,676.3,641.6,625.6,617.5,606.20000000000005,602.70000000000005,506,463.4,448.2,442,438.8,435.3,571.29999999999995,484.5,450.6,436.6,430.6,427.1,424.5,548.6,471.1,441.4,426.4,416.2,410,403.8,554.79999999999995,473.8,440.9,423.7,410.2,398.3,381.2,588.9,482.6,438.6,417.3,401,391.1,372.5,604.70000000000005,494.1,443.9,419.9,399.6,380.5,356.9,668.9,540.70000000000005,469,435.9,415,394.5,354,794.2,630.5,532.6,471.2,438.2,418.1,379.8,917.1,728,615,539.9,491.3,453.4,411.3,1.0511999999999999,1.3594999999999999,1.52,0.81310000000000004,1.0999000000000001,1.2707999999999999,549.4,1.0921000000000001,0,0,1.1002000000000001,0,0,545.4,"pub00011932",11.656000000000001,11799,39,59.6,63.3,139.30000000000001,0,642.1,496.5,444.1,830.2,613.70000000000005,531.20000000000005,570.79999999999995,1.0511999999999999,586,1.0239,563.20000000000005,1.0652999999999999]
[null,"NED21070","NEDC7417","NED 7417","Stille Wilde","Spirit 36","van Heygen","J de Ridder",1982,138816,null,"CLUB","C",649,"03 04 2018 07:42:02",11.01,9.4610000000000003,2.0099999999999998,3.69,6787,112.1,0.38,661.5,0.94869999999999999,711.5,0,0,1084.3,883.4,766.7,687.3,641.9,616.29999999999995,594.20000000000005,1039.9000000000001,850.1,742.9,677.5,640.4,619.70000000000005,598.79999999999995,917.3,738.3,641.4,584.70000000000005,550,528,502.8,984.2,786,677,612,571.6,545.70000000000005,515.79999999999995,1079.3,830,689.4,601.4,558,527.1,480.7,42.7,40.9,41,40.5,39.4,38.799999999999997,38.799999999999997,146.4,150.6,150.80000000000001,156,173.5,180,180,1134.5999999999999,944.5,836.2,763.7,730.1,717.5,714.7,747.7,633.4,562.1,529.79999999999995,514.9,508.6,505.3,711.4,604.20000000000005,542.79999999999995,516.9,503.3,495.4,490.6,685.6,582,529.9,506.7,492.1,481,467.2,693,575.79999999999995,518.70000000000005,496.9,488.5,475.5,452.3,680.1,559.70000000000005,509,484.8,465.6,450.2,434.4,695.9,572.20000000000005,514.4,487.9,466.5,446.3,417.1,759.1,621.9,538.70000000000005,503.1,481,460.1,420.6,895.5,712.1,604.1,535.1,503.5,482.9,444.4,1034,822.4,697.1,610.9,553.79999999999995,515.1,473.7,0.88019999999999998,1.1563000000000001,1.3042,0.68610000000000004,0.93910000000000005,1.0986,642.4,0.93400000000000005,0,0,0.9375,0,0,640,"pub00011951",8.5530000000000008,7656,28.5,28.9,39.700000000000003,99.1,0,766.9,583.79999999999995,517.6,983.8,718.8,614.4,674.8,0.8891,699,0.85840000000000005,662.5,0.90569999999999995]
[null,"NED22583","NEDC7655","NED 7655","Biscaya","Sun Fast 36x1,95","Jeanneau","Ph, Briand",1993,4027648,null,"CLUB","C",688,"03 04 2018 07:42:02",11.121,10.002000000000001,1.948,3.49,6496,124.2,0.27,640.1,0.97889999999999999,689.5,0,0,1056.0999999999999,857.4,741.8,665.8,621.70000000000005,596.70000000000005,574.5,1014.4,825.7,719.8,656.1,620,599.5,578,889,714.8,620.5,565.4,531.5,509.7,484,956.2,762.3,655.7,592.20000000000005,552.79999999999995,527.70000000000005,498.8,1050.4000000000001,804.4,666.7,582.20000000000005,539.79999999999995,509.1,462.1,43.2,41.6,41.5,40.5,39.299999999999997,38.799999999999997,39,145.6,150.1,151.6,156.4,173.7,180,180,1113.3,921,810.4,739.2,706.7,694.6,691.9,728.7,613,543.70000000000005,512.4,498.2,492.1,488.8,690.5,582.79999999999995,524.70000000000005,499.8,486.7,478.9,474.1,662.7,560.5,512.20000000000005,490,475.4,464,449.6,663.1,547.5,499,480,472.1,457.9,432.7,652.20000000000005,537.5,491.4,468,448.1,433.1,414.9,669.6,550.29999999999995,497.2,471.7,449.4,428.5,398,735.8,599.29999999999995,522.1,487.7,465.6,443.7,401.6,865.1,687.5,583.6,519.1,488.1,467.3,426.7,998.9,793.8,673.1,592.29999999999995,536.6,498.9,457.1,0.90880000000000005,1.1955,1.3512,0.70550000000000002,0.9698,1.1351,621.5,0.96540000000000004,0,0,0.96860000000000002,0,0,619.5,"pub00011982",9.0809999999999995,7422,28.3,36.6,32.700000000000003,92.3,0,742.7,564.6,499.6,956.8,696,594.70000000000005,653.79999999999995,0.91759999999999997,677.2,0.88600000000000001,640.9,0.93620000000000003]
[null,"NED25892","nedc8037","NED 8037","Moshulu","X-34","X-Yachts","N, Jeppesen",2007,139345,null,"CLUB","C",550,"03 04 2018 07:42:02",10.36,9.49,1.927,3.38,5702,128.80000000000001,0.22,637.29999999999995,0.98080000000000001,688.2,0,0,1040,847.1,732.7,663.2,624.6,603.29999999999995,577.79999999999995,996.3,813.1,711.3,654.1,623.9,606.1,580.9,878.8,709.1,618.1,565.6,533.6,513,486.9,939.9,752.1,649.9,589.9,553,529.20000000000005,499.9,1035.8,795.2,660.8,582.4,543.6,514.1,466.1,42.5,41.2,40.9,39.6,38.700000000000003,39.1,38.799999999999997,145.30000000000001,150.19999999999999,151.6,157.9,180,180,180,1081.9000000000001,898.6,791.2,732.8,712.2,704.4,695.9,713.2,600.1,538.29999999999995,513.70000000000005,503.2,499.1,496.3,677.1,571.5,522.5,501.7,490.7,485.5,482.4,650,552,511.6,491.9,477.8,467,456.3,648.79999999999995,540.79999999999995,500.7,484.3,474.3,459.5,434.6,644.70000000000005,535.6,495.1,471.8,450.8,436.5,417.7,664.4,548.6,501.3,476.1,453.2,431,400,733.8,599.1,524.70000000000005,492.8,470.1,447.3,404.1,864.4,689.1,584.79999999999995,522.6,493.1,471.7,429.6,998.1,795.7,674.3,593.6,537,502.1,459.7,0.92149999999999999,1.1977,1.3408,0.71540000000000004,0.97540000000000004,1.1267,621.20000000000005,0.96589999999999998,0,0,0.97009999999999996,0,0,618.5,"pub00012039",8.8970000000000002,6558,26.1,39.700000000000003,28,83.8,0,732.5,563.6,503.4,943.5,692,599.1,648.79999999999995,0.92469999999999997,671,0.89419999999999999,638.70000000000005,0.93930000000000002]
[null,"NED25354","nedc8223","NED 8223","KICK","Bonita 767","Agoni","N, Jepessen",1997,4065828,null,"CLUB","C",402,"03 04 2018 07:42:02",7.68,6.9119999999999999,1.478,2.71,2294,111.5,0.35,753,0.8357,807.7,0,0,1220.8,998.5,867.4,776.8,728.3,706.7,686,1172.5999999999999,962.8,844,771.9,732.4,712.2,692.6,1038.2,838.3,730.6,667.8,629.4,605,575.9,1090.0999999999999,875.3,758.5,689.8,647.4,620.5,589.9,1216.2,938.1,783.3,686.9,638.70000000000005,605.4,549.70000000000005,42.2,41.1,41.3,39.6,38.6,38.299999999999997,39,148.69999999999999,153.4,154.30000000000001,170.2,180,180,180,1266.3,1064.2,945.8,866.8,833.9,824.5,832.7,839.8,713.2,642.4,610.9,595.70000000000005,589.29999999999995,587.9,800.7,680.6,623.79999999999995,597.70000000000005,582.1,572.5,568.6,772.3,658.4,610.9,587,567.79999999999995,552.20000000000005,534.9,771.9,642.79999999999995,592.5,566.79999999999995,548.70000000000005,540.1,512.4,763.4,637.4,589.79999999999995,560.4,531.70000000000005,507.6,479.6,787.5,652.20000000000005,596.9,567.70000000000005,539.29999999999995,511.7,468.2,874.5,715.7,622.9,585.9,558.79999999999995,531.20000000000005,481.9,1017.8,810.1,687.6,615.6,583.6,558.20000000000005,508.1,1175.2,932.8,789.1,686.8,622.6,588.9,539.4,0.77980000000000005,1.0127999999999999,1.1378999999999999,0.60829999999999995,0.82989999999999997,0.95830000000000004,733.1,0.81840000000000002,0,0,0.82269999999999999,0,0,729.3,"pub00012066",6.4240000000000004,2819,15,17.100000000000001,17.600000000000001,39.200000000000003,0,865.6,666.5,593.20000000000005,1109.5999999999999,813.4,704.4,754.5,0.79530000000000001,782.5,0.76680000000000004,755,0.79469999999999996]
[null,"NED","nedc8537","NED 8537","Let it Be","Winner 900","Winner Yachts","van de Stadt",2013,217572,null,"CLUB","C",480,"03 04 2018 07:42:02",9,8.452,1.6060000000000001,2.94,3726,119.7,0.25,687.2,0.8982,751.5,0,0,1123.8,916.6,796.8,726.7,687.4,661.9,642.1,1085.3,886.1,776.7,713.5,679.1,659.6,641.4,945.5,763.7,666.6,610.79999999999995,577.20000000000005,556.1,531.5,1021.4,815.9,703.5,637.5,597.29999999999995,572.20000000000005,544.4,1114.9000000000001,857.7,715.3,630.6,587.20000000000005,554.70000000000005,502.3,43.9,42.2,42.3,41,40.299999999999997,40,40.700000000000003,146,147.9,147.69999999999999,149.80000000000001,174.9,177.4,178.2,1212.2,1003.7,885.4,808.3,779.8,773,778.8,788.7,663.4,589.70000000000005,556.1,542.5,538.4,539,744.6,628.79999999999995,567.9,541.5,528.20000000000005,522.6,521.20000000000005,710.9,601,552.1,529.79999999999995,513.79999999999995,501.8,491.8,678.6,568.6,528.70000000000005,510.5,501.1,491.6,464.7,669.2,561.70000000000005,522.70000000000005,496.5,472.5,455.1,435.1,690.5,574,529,501.8,474.8,450.1,413.9,764.4,623.9,551.20000000000005,519.70000000000005,494.4,468.6,421.3,896.6,718.3,613.29999999999995,558.70000000000005,531.29999999999995,511.8,471.2,1035.3,829.4,708.2,645.1,595,550.79999999999995,505.3,0.85719999999999996,1.1097999999999999,1.236,0.66169999999999995,0.89280000000000004,1.0214000000000001,672.6,0.89200000000000002,0,0,0.89759999999999995,0,0,668.4,"pub00012127",7.6390000000000002,4426,21,28,20.3,0,70.5,787.4,608.20000000000005,546.1,1020.1,756,660.9,700.6,0.85640000000000005,726.7,0.82569999999999999,689.9,0.86970000000000003]
[null,"NED","NEDo8615","NED 8615","Bulletproof","Dehler 31","Dehler","vd Stadt & prtnrs",1985,9550821,null,"CLUB","C",480,"03 04 2018 07:42:04",9.43,7.8920000000000003,1.5109999999999999,3.12,3661,116.5,0.33,715.9,0.86980000000000002,776,0,0,1183.7,963,836.8,748.8,696.1,673.6,657.5,1143.0999999999999,934,817.1,743.8,701.3,681,665,993,799.2,694.2,632.70000000000005,595.1,571.6,545.4,1054.9000000000001,843,726.7,657.8,615.4,589.1,560.6,1174.7,901.1,749.9,653.5,602.79999999999995,569.79999999999995,515.9,44.3,42.9,43.1,42.5,41.1,41.4,42.9,147.5,151.80000000000001,153.69999999999999,161.6,180,180,180,1273.8,1057.9000000000001,938.1,852.7,810.3,800.1,813.9,824.7,694.7,615.5,576,558.20000000000005,551.20000000000005,550.9,776.4,656.3,588.79999999999995,559.1,543.29999999999995,534.20000000000005,531.1,739.7,625.70000000000005,571.4,546.29999999999995,528.79999999999995,515,498.9,721.4,598.70000000000005,549.70000000000005,526.4,512.79999999999995,505.6,478.4,712.3,591.6,545.1,517.9,493,471.5,448.9,734.1,605.6,551.70000000000005,524,498.9,474.4,435.3,808.8,662.6,578.1,542,516.9,492.1,447.2,947.1,752.5,640,572.1,540.29999999999995,516.79999999999995,471.5,1093.5999999999999,868.1,735.5,644.9,581.9,547.1,501,0.81420000000000003,1.0682,1.2054,0.62890000000000001,0.86229999999999996,1.0026999999999999,695,0.86329999999999996,0,0,0.86399999999999999,0,0,694.5,"pub00012143",7.0129999999999999,4294,20.100000000000001,26.4,19.600000000000001,54.3,0,829,631.9,560,1073.3,782.8,673.2,723.9,0.82889999999999997,750.4,0.79959999999999998,715.5,0.83850000000000002]
[null,"NED","nedo8911","NED 8911","Mac Fast","Varianta 37","Hanse/Dehler","Judel Vrolijk",2012,null,null,"CLUB","C",750,"03 04 2018 07:42:04",11.272,10.662000000000001,1.9730000000000001,3.73,7500,118.4,0.32,635.6,0.97519999999999996,692.2,0,0,1070.8,861.7,744.5,668.4,629.1,598.4,569.1,1023,826.8,716.9,650.79999999999995,614.20000000000005,592.20000000000005,568.5,888.9,712,615.79999999999995,559.20000000000005,524.4,501.9,474.5,948.6,753.2,645,580.29999999999995,539.9,514,484,1066.7,807.7,665.8,577,533.20000000000005,501,450.9,43.9,42,41.6,40.799999999999997,39.700000000000003,39.1,38.9,145.1,147.6,147.5,148.1,150.9,175.9,178.4,1111.9000000000001,911.8,799.4,725,689.9,677.7,672.2,722.7,604.20000000000005,533.29999999999995,498,482.3,476.5,473.5,681.8,573.6,512.29999999999995,484.5,470.5,463.3,459.2,651.4,550,498,474.3,459.3,447.8,435.4,650.5,537.29999999999995,484,460.9,447.8,441.1,415.6,649.6,534.5,481.9,457.1,436.7,416.8,391,673.1,553.1,490.9,463.2,442.2,420.7,381.2,753.1,609,524.20000000000005,481.5,458.5,438.4,398.1,891.8,702.7,597.20000000000005,529.70000000000005,493.5,470.6,438.6,1029.8,811.5,689.6,611.70000000000005,568.29999999999995,519.1,466,0.90700000000000003,1.2079,1.3734,0.6986,0.96419999999999995,1.1343000000000001,616.5,0.97330000000000005,0,0,0.97460000000000002,0,0,615.70000000000005,"pub00012211",9.5730000000000004,8514,32.9,44,31.9,0,85.6,744.2,558.79999999999995,491.5,966.2,700.1,595.1,642.6,0.93359999999999999,666.7,0.9,635.29999999999995,0.94440000000000002]
[null,"NED","nedc9042","NED 9042","Stella Maris","Contest 42 CS","Contest Yachts","Nilssen",2013,176362,null,"CLUB","C",900,"03 04 2018 07:42:02",13.16,12.089,2.21,4.1399999999999997,12959,123.9,0.36,602,1.0227999999999999,660,0,0,1006.4,814,703,635,602,578.4,551.6,967.8,783.3,681.6,623.20000000000005,591.4,572.20000000000005,551.4,837.1,672.2,583.29999999999995,531.79999999999995,500.9,481.6,459,918.3,729,624.29999999999995,561.6,522.6,497.8,470.2,999.2,761.5,628.20000000000005,548.20000000000005,509.1,479.5,435.6,44.3,42.3,41.7,41.8,41.5,40.9,41.1,143.80000000000001,148,147,149.1,150.9,174.8,178,1078.0999999999999,883.4,776.5,711.7,679.3,666,662.8,697.5,584.29999999999995,514.79999999999995,478.8,463.4,457.7,454.6,657.1,554.29999999999995,491.3,463.2,450.1,443.9,440.2,627.5,530.9,475.9,451.9,438.7,429.6,420.3,608.4,503.1,457.7,443.1,435.1,424.5,405.3,597.5,491.7,448.4,428.4,413.2,403.7,387.8,611.79999999999995,503.3,453.6,430.8,412.7,395.2,372.3,684,552.79999999999995,477.9,445.3,425.9,407.6,372,809.4,644.9,545.1,483.6,455.5,438.2,411.1,934.7,744.6,629.4,558.4,524.79999999999995,490.9,440.3,0.96419999999999995,1.2741,1.4286000000000001,0.74160000000000004,1.0161,1.1754,585.6,1.0246999999999999,0,0,1.0267999999999999,0,0,584.4,"pub00012232",10.446999999999999,14192,42.8,60.9,44.8,0,176.4,700.1,529.79999999999995,472.5,910.2,664.3,574.29999999999995,623,0.96299999999999997,645.29999999999995,0.92979999999999996,602.29999999999995,0.99619999999999997]
[null,"NED16122","nedc3995","NED 3995","Pebbles","8M one design","--","--",1995,148538,null,"CLUB","S",405,"06 04 2018 13:57:06",8.0129999999999999,7.7750000000000004,1.673,2.4900000000000002,1471,98.5,0.18,643.5,0.96179999999999999,701.8,0,0,1039.7,843,732,678.6,648.29999999999995,627.5,576.9,997.2,811,715.4,666.3,637.29999999999995,615.4,571.6,880.5,714.2,625.20000000000005,572.70000000000005,538.70000000000005,514,476.3,964,773.3,670.1,609.29999999999995,570.79999999999995,544.1,506.6,1034.2,792.9,665.1,595.4,553.5,517.70000000000005,452.1,41.9,40.700000000000003,38.5,36.9,37,37,37.299999999999997,144.6,148.4,152.1,162.1,180,180,139.9,1094.7,900.4,794.9,760.4,749.2,745.1,737.7,724.1,608.5,564.20000000000005,547.5,540.70000000000005,537.20000000000005,527.20000000000005,687.3,588.20000000000005,551.20000000000005,530.5,521,515.6,501.7,659.8,574.9,540.29999999999995,509.5,487.7,477.6,468.8,627.79999999999995,551.6,526.6,504.7,474.2,448,424.8,619.6,541.79999999999995,496.8,467.7,442.3,423.3,391.4,638.4,549.79999999999995,501.1,455.4,423.7,401.8,361.1,722.2,585.9,530.70000000000005,484.7,438.1,393.4,314.60000000000002,852.8,680.3,581.6,529.5,487.8,446.5,360.4,984.8,785.6,669.1,596.79999999999995,547.5,509.8,416.2,0.92310000000000003,1.1773,1.3406,0.71709999999999996,0.96079999999999999,1.0998000000000001,636,0.94340000000000002,0,0,0.95950000000000002,0,0,625.29999999999995,"pub00012473",7.7439999999999998,2131,15.1,24.1,14.8,43,69.8,731.2,573.29999999999995,503.5,941.3,702.5,613.70000000000005,669.2,0.89649999999999996,691.3,0.8679,652,0.92020000000000002]
[null,"NEDnone","nedc7472","NED 7472","Team Heiner 4","J-109","J-Composite","Johnstone",2001,4005084,null,"CLUB","C",590,"06 04 2018 13:57:06",10.757,9.6199999999999992,2.13,3.52,4997,119.6,0.01,616,1.0154000000000001,664.7,0,0,999.4,810.2,700.4,642.5,607.79999999999995,586.4,560.1,950.8,773.2,678.7,630.4,603.70000000000005,585.70000000000005,560.1,846.3,684,597.6,548.1,517.79999999999995,498,472.5,897.3,720,624.29999999999995,568.6,534.4,512,483.3,998.3,762.6,634.70000000000005,565.20000000000005,528.1,498.7,452.7,42.2,41.1,39.700000000000003,38.200000000000003,37.799999999999997,37.5,37.4,145,149.1,150.9,157.1,175,180,180,1009.9,835.7,738.6,700.8,685.2,678.1,672.3,668.2,561,515.4,499.1,492.8,489.6,488.6,635.4,540.20000000000005,503.6,487.9,480.5,476.4,473.7,611.9,527.29999999999995,494.9,476.9,463.5,454.7,447.1,619.9,530.29999999999995,494.7,474.5,456.6,441,420.4,638.5,528.20000000000005,486.6,461.4,440.1,427.5,406.5,656.5,539.9,492.3,464.6,438.7,416,387.6,724.7,587,515.1,482.7,457.2,431.4,382.7,856.3,679.5,574,513.29999999999995,483.5,459.7,413.1,988.8,784.6,662.3,584.1,530.4,494.6,448,0.95909999999999995,1.2363,1.3804000000000001,0.74609999999999999,1.0118,1.1599999999999999,603.20000000000005,0.99470000000000003,0,0,1.0035000000000001,0,0,597.9,"pub00012441",9.3510000000000009,5848,26.1,37.9,37.9,88.5,0,703.8,546,489,904.7,667.1,581.9,625.1,0.95989999999999998,644.29999999999995,0.93120000000000003,619.5,0.96850000000000003]
[null,"NED","GBR7712","GBR 7712 R","ZARAFA","HOD 35","SEAQUEST YACHTS","HUMPHREYS ROB",1996,null,null,"CLUB","C",655,"18 04 2018 13:53:58",10.670999999999999,9.6690000000000005,2.1819999999999999,3.45,5028,116.3,0.23,632.6,0.99250000000000005,680.1,0,0,1039.3,841.2,724.5,655.1,616.9,593.70000000000005,562.70000000000005,992.6,805.5,701.8,644.1,613.20000000000005,593.79999999999995,562.29999999999995,876.3,705.3,613.4,560,527.1,505.3,476.8,945.2,753.9,649.20000000000005,587.20000000000005,548.6,523.4,492.1,1036.2,790.4,654.29999999999995,575.79999999999995,537,507.2,457.5,41.9,40.299999999999997,39.799999999999997,38.299999999999997,37.4,37.1,36.6,145.5,149.69999999999999,151.19999999999999,156.69999999999999,174.2,180,180,1070.5,883.4,773.8,715.9,694.6,685.5,667.8,710.9,595.5,534.29999999999995,509.9,498.9,494.4,491.7,677.5,570.20000000000005,520.29999999999995,499.1,487.4,481.3,477.3,653.9,553.5,510.9,489.9,475.2,463.6,451.1,649.1,538.4,497.2,478.3,469.5,455.6,429.9,645.4,534.1,492.1,467.8,445.9,428.4,409.6,666.1,548.5,499.2,472.9,448.1,425.3,388.9,740.1,600,524.20000000000005,490.3,466.5,442.1,395.1,873.1,691.9,585.20000000000005,521.5,490.8,468.5,423.9,1008.2,799,675.1,594.29999999999995,539.20000000000005,501.9,457.6,0.92349999999999999,1.2082999999999999,1.3619000000000001,0.71789999999999998,0.98660000000000003,1.1482000000000001,617.70000000000005,0.97130000000000005,0,0,0.97989999999999999,0,0,612.29999999999995,"pub00012493",9.1839999999999993,5907,25.5,32.700000000000003,27.9,81.3,80.099999999999994,730.9,558.6,495.6,940.2,684.2,587.9,647.1,0.92730000000000001,670.5,0.89490000000000003,636,0.94350000000000001]
[null,"NED24220","nedc7244","NED 7244","JUNIQUE","J-122 (DK)","J-EUROPE","JOHNSTONE Rodney",2006,151866,null,"INTL","C",180,"16 04 2018 20:27:40",12.19,11.148,2.2650000000000001,3.64,7398,128.4,0.18,588.4,1.0504,642.6,0,0,955.9,774.5,671.9,620.1,596.6,574.20000000000005,542.1,913.9,741.7,652.4,607.29999999999995,583.1,564.9,534.5,806.6,652.20000000000005,570.70000000000005,524.6,496.9,478.5,453,884,706.1,609.29999999999995,552.29999999999995,516.9,493.5,463,952,727.1,606.6,540.6,507.9,480.4,435.3,42.6,41,40.4,39.5,38.799999999999997,38.4,38.4,143.6,147.30000000000001,147.9,150.19999999999999,151.80000000000001,175.8,177.8,994.7,817.9,726,684.8,666.8,658.2,641.20000000000005,654.1,547.6,496.2,476.6,469.2,465.4,459.5,620.29999999999995,523.5,481.5,464.4,456.5,452.4,448.5,595.79999999999995,507.2,471.1,453.6,441.8,433.6,426.5,592,496.8,470.9,451.3,436.5,423,402.2,583.79999999999995,487.6,453.3,437.4,425.5,414.6,393.9,598.70000000000005,496,456.6,433.1,412.8,399.4,377.1,670.2,540.1,476.2,447.6,424.1,399.8,352.9,794.2,633.20000000000005,535,481,457.9,439.6,400.2,917.1,731.1,617.79999999999995,555.29999999999995,526.29999999999995,490.1,443,1.0077,1.2945,1.4342999999999999,0.7802,1.0476000000000001,1.1889000000000001,572.29999999999995,1.0484,0,0,1.0486,0,0,572.20000000000005,"pub00012642",10.329000000000001,8476,33,48.2,39.700000000000003,0,141.5,669.8,521.4,470.6,865.2,644.29999999999995,567.79999999999995,610.6,0.98270000000000002,629.20000000000005,0.9536,588.5,1.0196000000000001]
[null,"NED","bel 3590","BEL 3950","Amares 2","Archambault A35","Archambault","Nivelt Bernard",2005,null,null,"INTL","R",625,"18 04 2018 13:00:26",10.617000000000001,9.6690000000000005,2.1659999999999999,3.59,4663,116.1,0.18,609.20000000000005,1.0305,655,0,0,1002.2,807.8,694,630.29999999999995,595.4,574.20000000000005,543.6,959.5,775,674.8,620.29999999999995,590.70000000000005,571.4,539.1,843.2,678.9,590.70000000000005,539.5,507.6,486.1,456.7,918.7,731.9,629.70000000000005,569.20000000000005,531.4,506.4,474.7,997.5,758.7,628.1,555.6,517.79999999999995,487.3,438.6,42.2,40.700000000000003,39.799999999999997,37.9,37,36.700000000000003,36.200000000000003,144.69999999999999,148.30000000000001,151,157.30000000000001,175.6,180,180,1049,857.3,746.8,691.5,671.9,663.5,651,692.3,575.79999999999995,518.1,495.4,485.9,481.7,477.4,656.9,551,505.1,484.8,473.3,468,464.4,631.20000000000005,535,496.3,475.3,459,446.3,435.7,616.29999999999995,516.9,482.8,470.2,455.8,437.7,408.8,614.1,512.9,475.7,449.5,428,414.6,391.9,633.4,524.1,481.2,452.4,424.3,399.1,369.5,701.1,567,502.1,471.5,443.9,415.9,358.4,827.3,656.7,555.79999999999995,501.1,472.5,447.1,396.6,955.3,758.3,641.1,569.1,519,485,436.1,0.96089999999999998,1.2536,1.4161999999999999,0.74590000000000001,1.0265,1.1882999999999999,595.4,1.0077,0,0,1.0182,0,0,589.29999999999995,"pub00012664",9.4969999999999999,5499,25,37.200000000000003,28.5,93.8,85.6,702.5,538.4,476.6,904.9,657.6,568,628,0.95550000000000002,650.5,0.9224,613.1,0.97870000000000001]
[null,"NED","NEDc8943","NED 8943","Klaver 4","vd Stadt25/Zeeton",null,"vd Stadt",1980,null,null,"CLUB","C",349,"03 05 2018 09:39:50",7.2,6.2089999999999996,1.359,2.83,1946,102.7,0.4,792.7,0.78920000000000001,855.3,0,0,1268.4000000000001,1047.8,920,829.2,772,747.6,731.6,1236.3,1023,906.5,830.2,781,756.3,742,1087.3,880.9,769.7,704.6,664.4,639.1,611.5,1170.4000000000001,939.6,813.2,737.9,691.3,662,630.6,1256.2,982.1,828.9,731,674,636.5,579.70000000000005,42.9,41.6,42.1,42,40.200000000000003,40.1,42.1,149.19999999999999,153,155.5,180,180,180,180,1390.6,1172.0999999999999,1052.2,963.2,905.3,887.6,907.9,916.5,781.7,699.3,656.4,633.4,621.70000000000005,620.6,871,743.1,671.8,638.70000000000005,618.29999999999995,604.79999999999995,597.79999999999995,836.1,708.8,648.70000000000005,622.5,604.6,585.9,560.79999999999995,793.5,665.4,617.20000000000005,591.20000000000005,575.4,567.6,543,775.9,656,611.70000000000005,580.20000000000005,550.79999999999995,528.20000000000005,506.3,796.3,667,617.6,586.29999999999995,556.4,529.5,491.6,864.9,713.7,639.4,604.9,575.5,546.9,500.7,992.7,801.5,687.5,632.4,602.1,574.70000000000005,524.79999999999995,1146.2,923.3,787.8,695.2,638.70000000000005,607.6,555.29999999999995,0.74590000000000001,0.95850000000000002,1.0774999999999999,0.58289999999999997,0.78180000000000005,0.90280000000000005,770.7,0.77849999999999997,0,0,0.77910000000000001,0,0,770.1,"pub00012892",5.508,2400,13.1,14.2,12.8,38.6,0,904.9,704.2,626.5,1158,863.4,747.7,808.6,0.74199999999999999,838.8,0.71530000000000005,792.5,0.7571]
[null,"NED25552","nedc7986","NED 7986","Miesje","J-109","J-Europe","Johnstone",2001,130400,null,"CLUB","C",642,"14 05 2018 15:11:52",10.757,9.6440000000000001,2.1349999999999998,3.52,5101,118.9,0,612.6,1.0221,660.4,0,0,987.7,802.9,695.2,638.6,604.5,583.5,558.70000000000005,941.3,767,674.3,626.9,600.5,582.79999999999995,558.6,839.4,679.4,594.4,545.70000000000005,516,496.6,471.7,890.6,715.6,621.29999999999995,566.4,532.70000000000005,510.7,482.6,986.4,756.1,630.70000000000005,562.79999999999995,526.20000000000005,497.2,452.2,42.1,41,39.6,38,37.5,37.299999999999997,37.299999999999997,145.1,149.1,151.1,157.30000000000001,175.5,180,180,1000.7,830.1,734.1,696.5,680.8,673.6,669.9,662.6,557.9,513.9,497.9,491.6,488.5,487.3,630.29999999999995,537.79999999999995,502.6,487.1,479.6,475.5,472.7,607.1,525.4,494.2,476.4,463,454.2,446.5,614.79999999999995,528.1,494.2,474.2,456.5,441,420.3,634,525.9,485.7,461,440.1,427.6,406.8,651,537,491.2,463.9,438.2,415.6,387.9,717.4,582.1,512.70000000000005,481.4,456.1,430.5,382,844.2,671.8,569,511,482.2,458.8,412.4,974.8,775.8,656.3,580.79999999999995,528.29999999999995,493.5,447.4,0.96740000000000004,1.2417,1.3839999999999999,0.75390000000000001,1.0185999999999999,1.1649,600.29999999999995,0.99950000000000006,0,0,1.0088999999999999,0,0,594.70000000000005,"pub00012959",9.4190000000000005,5954,26.3,37.299999999999997,40,92.1,0,697.7,543.6,487.7,895.3,662.7,579.4,622.20000000000005,0.96430000000000005,641,0.93600000000000005,616,0.97399999999999998]
[null,"NED29185","nedc8441","NED 8441","Feniks","Brise de Mer 34","Le Geun-Hemedy","Groupe Finot",1978,4059197,null,"CLUB","C",330,"06 06 2018 15:35:44",10.302,8.4359999999999999,1.3660000000000001,3.4,5500,110.2,0.51,735.1,0.83450000000000002,808.9,0,0,1221.4000000000001,992.9,868,784.8,731.7,705,689.7,1188.5999999999999,970.7,852.9,782.1,739.8,717.6,704.2,1020.3,820.6,712.5,649.5,611.4,588.20000000000005,564.20000000000005,1097.2,874.6,752,679.1,634.29999999999995,606.79999999999995,578.9,1207.5999999999999,926.7,772.4,674,619.79999999999995,582.4,525.5,46.4,45,44.9,45.7,46.3,46,46.9,147.4,151.30000000000001,153,157.69999999999999,180,180,180,1359.3,1125.8,1005.6,928.4,886.1,871.4,884.1,862.6,725.3,645.79999999999995,594.79999999999995,570.79999999999995,562.6,563.5,803.7,680.8,604.1,564.79999999999995,546.4,537.70000000000005,534.9,761.4,645.1,575.6,544.5,527.9,516.4,503.6,743.8,614.1,551.1,527,517.79999999999995,506.7,482.8,721.5,594.4,538.5,512.9,492.5,475.4,458.3,738.9,607.4,543.79999999999995,515.4,492.9,472.6,442.5,805.5,658.8,570.29999999999995,531.1,507.4,485.2,445.7,938.4,745.2,634.6,563.6,529.9,507.8,467.1,1083.5999999999999,860,730.5,641.29999999999995,577.4,538.70000000000005,495.3,0.79179999999999995,1.0415000000000001,1.171,0.60970000000000002,0.8266,0.95620000000000005,714.7,0.83950000000000002,0,0,0.84009999999999996,0,0,714.2,"pub00013064",6.8049999999999997,6213,23.3,28.6,25.4,70.900000000000006,0,852.5,648.1,576.4,1107.0999999999999,816.6,705.9,752.2,0.79769999999999996,776.8,0.77239999999999998,734.8,0.8165]
[null,"NED60151","nedc8899","NED 8899","Suzie Wong","C yachts 12,50","C Yachts","Frans Maas",2011,4009193,null,"CLUB","C",350,"20 06 2018 11:06:26",12.2,10.789,1.86,3.92,10514,125.1,0.52,645.4,0.94850000000000001,711.7,0,0,1061.5,863.4,756.2,690.7,656.9,627.29999999999995,601.79999999999995,1020.9,833.8,733.2,676.8,645.29999999999995,624.79999999999995,607.9,890.1,718,625.79999999999995,572.79999999999995,541.1,521.4,499.5,959.6,765.9,659.7,596.70000000000005,557.9,533.29999999999995,506.1,1054.8,808.7,675,593.20000000000005,551.6,518.29999999999995,470.6,44.5,42.5,42,42.9,43.3,42.9,43.5,145,148.1,147.5,148.1,150.69999999999999,175.6,178.4,1127.5999999999999,933.5,832.5,776,747.4,734.1,735.1,728.7,616.70000000000005,549.5,513.6,498.1,492.4,490.1,686.9,584.70000000000005,522.20000000000005,494.5,481.3,475.4,472.2,656.4,559.20000000000005,503.7,480.3,467.5,458.9,450.3,647.20000000000005,540.29999999999995,489.5,472.2,463.4,452.4,434.8,640.70000000000005,530.29999999999995,481.6,460.2,444.6,433.9,419,659.9,546.79999999999995,488.3,463.4,445.9,429.3,403.5,730.8,599.1,517.70000000000005,479.1,458.4,441.1,407.3,862,687,588.79999999999995,524.4,491.5,471.2,443.8,995.3,793.3,679.9,605.5,566.5,520.4,468.6,0.90910000000000002,1.1834,1.3181,0.70130000000000003,0.9395,1.0797000000000001,629.20000000000005,0.95369999999999999,0,0,0.95489999999999997,0,0,628.29999999999995,"pub00013185",9.0980000000000008,11540,35.9,45.1,40,0,110.9,742.5,570.4,512.1,962.5,718.5,625.20000000000005,659.3,0.91010000000000002,681.3,0.88070000000000004,645.79999999999995,0.92900000000000005]
[null,"NOR20758",20758,"NOR 519","Bluesette","NORDISK FOLKBÅT",null,"Sunden",1942,null,null,"CLUB","C",329,"02 04 2018 16:30:48",7.68,5.9870000000000001,1.1839999999999999,2.21,2075,128.9,0.6,882.6,0.71989999999999998,937.6,0,0,1482.3,1177.8,1013.4,903.9,836.1,804.4,783.5,1440.9,1159.3,1003.7,905.1,848.7,822.8,802.4,1247.5,993.9,854.2,771.2,720.2,688.5,654.9,1247.5,993.9,854.2,771.2,720.2,688.5,654.9,1476.7,1110.5999999999999,916.6,793.3,725.5,683,618,43.4,41.9,42.2,42.7,42.6,42.8,43.8,175.2,176.6,177.9,178.2,178.7,179.4,179.5,1538.3,1267.5,1125.3,1024.9000000000001,975.6,962.2,970.6,1004.4,842.1,742.4,681,655.8,645.6,643.4,949.5,799.6,704.4,656.8,634.79999999999995,623.4,617.5,909.4,761.2,674.2,636.6,614.79999999999995,599.6,583,898.7,747.5,661.6,625.1,601.5,580.1,546.70000000000005,946.3,783.8,682.8,637.1,611.70000000000005,590.1,547.5,1009.8,826,711.4,650.70000000000005,621,598.9,556.1,1140.4000000000001,905.7,773.9,684.6,639.6,613.9,570.79999999999995,1281.3,992.7,836.9,731.4,664,629.5,585.29999999999995,1426.3,1088.2,901.5,782.9,696.6,646.70000000000005,596.29999999999995,0.64380000000000004,0.87390000000000001,1.0032000000000001,0.50749999999999995,0.71330000000000005,0.83909999999999996,849.8,0.70599999999999996,0,0,0.71,0,0,845,"nor00006808",5.1159999999999997,2502,15.2,18.3,7,0,0,1048.5,772.4,672.8,1330,946.3,804.4,845,0.71,882.6,0.67979999999999996,885,0.67800000000000005]
[null,"NOR21316",21316,"NOR 14406","Granuaile","Elan 350 grunn kjø","Elan Marine","Rob Humpreys",2009,null,null,"CLUB","C",692,"02 04 2018 16:30:48",10.6,10.234999999999999,2.121,3.54,5217,119.5,0.19,610.6,1.0217000000000001,660.7,0,0,1006.3,813,700.4,635.70000000000005,601.29999999999995,580.4,551.20000000000005,963.2,780.4,681,626.70000000000005,597.70000000000005,579.20000000000005,548.9,844.7,680.3,592.1,541,509.3,488,459.5,916.3,730.7,629.4,569.70000000000005,532.79999999999995,508.6,478,1001.3,762.7,631.9,557.6,519.70000000000005,489.1,438.8,42.9,41.4,40.9,39.200000000000003,38.4,38.200000000000003,38.4,144.6,149,151.1,156.9,173.8,180,180,1056.2,866.6,758.8,703.5,684.8,677.8,666.8,692.3,578,518.1,494.5,485.2,481.5,477.5,655.4,551.1,503.2,482.8,472,467.5,465.2,628.1,532.79999999999995,493,472.5,457.3,445.6,436.6,618.6,516.29999999999995,480,464.9,452.8,435.5,408.4,612.20000000000005,509.9,472.2,446.5,423.2,409.1,386,629.20000000000005,521,478.2,450.4,422.6,397.2,363.5,697.7,566.4,500.6,470.1,443.9,416.5,361.9,828.2,657.5,556.6,499.5,470.8,446.6,396.8,956.3,759.3,642.1,568,517.70000000000005,483,435.7,0.95899999999999996,1.2506999999999999,1.4100999999999999,0.74209999999999998,1.0174000000000001,1.1746000000000001,599,1.0017,0,0,1.0139,0,0,591.79999999999995,"nor00006938",9.6240000000000006,6148,27.4,39.4,30,0,96.6,703.9,539.70000000000005,478.7,909.6,663.5,574.70000000000005,628.5,0.95469999999999999,650.20000000000005,0.92279999999999995,615.79999999999995,0.97430000000000005]
[null,"NOR3885",3885,"NOR 1019","Addicted","EXPRESS",null,"Peter Norlin",1978,null,null,"CLUB","S",401,"02 04 2018 16:30:50",7.798,6.9640000000000004,1.429,2.52,1782,111.1,0.19,725.7,0.8599,784.9,0,0,1175,958.8,828.7,751.1,716.1,699.4,673.5,1125.8,922.3,810,748.7,718.6,702,676.2,994.4,805.1,704.2,646.20000000000005,611,588.29999999999995,559,1054.2,847.5,736.3,672,633.1,608.4,578,1169.8,899.9,750.2,665,623.20000000000005,589.20000000000005,530.9,42.4,41.5,41.1,39.200000000000003,38.9,39.1,39.9,148,152.1,152.6,168.8,180,180,180,1227.2,1025.5999999999999,907.2,846.9,832.7,831.1,837.1,810.9,683.5,622.9,598.29999999999995,588.9,585.70000000000005,584.5,770.2,654,606.70000000000005,584.1,571.79999999999995,567.1,566.70000000000005,739.3,634.6,595,570.9,551.29999999999995,537.20000000000005,528.6,721.2,612.1,573.4,552.5,540.29999999999995,521.5,493.4,713.8,607.5,567.1,532.6,504,485.4,462,737.5,618.29999999999995,574.20000000000005,540,505.5,475.8,435,820.6,673.5,596.1,562.20000000000005,529.20000000000005,496.9,431.9,972.4,772.5,652.6,591.5,560.4,529.70000000000005,470.9,1122.9000000000001,892,750.1,655.29999999999995,599.4,567.70000000000005,510,0.81579999999999997,1.0487,1.1682999999999999,0.63270000000000004,0.85929999999999995,0.9728,714.9,0.83930000000000005,0,0,0.85140000000000005,0,0,704.8,"nor00006735",6.5910000000000002,2306,14,19.2,14.8,42.8,0,827.4,643.70000000000005,577.79999999999995,1066.9000000000001,785.5,693.9,733.7,0.81769999999999998,759.8,0.78969999999999996,732.4,0.81920000000000004]
[null,"NOR667100",667100,"NOR 15388","Finally","Hanse 342","Hanse Yachts","Judel/Vrolijk",2002,null,null,"CLUB","C",607,"02 04 2018 16:30:50",10.35,9.2449999999999992,1.7390000000000001,3.41,5110,123.8,0.24,665.3,0.92889999999999995,726.6,0,0,1092.5,889.3,773.2,703,665.3,637.5,615.20000000000005,1052.8,858.6,751.7,689,654.29999999999995,634,614.4,918.5,740.7,645.20000000000005,589.9,556.4,535.1,509.8,996.9,794.6,683.3,617.1,576.20000000000005,550.4,521.29999999999995,1084.9000000000001,832.8,693.7,609.29999999999995,566.29999999999995,533.79999999999995,482.3,43.6,42,42,40.9,40.1,39.9,40.200000000000003,145.6,148,147.6,149.19999999999999,174.2,176.8,178.2,1168.5999999999999,966.7,852.9,778.3,745.6,737.6,739.4,762.8,641.6,569.20000000000005,534.5,519.20000000000005,513.5,512.9,721.5,609.29999999999995,547.6,520.29999999999995,506.2,498.4,495.6,690.8,583.79999999999995,532.20000000000005,509.5,493.6,481.1,466.8,663.8,553.4,510.8,490.4,481.1,472.4,446.8,656.9,547.20000000000005,505.9,481.2,458.2,438.7,418.5,677.1,561.1,512.6,486.7,462,438.4,400.3,749,611.9,536.6,503.6,480.2,456.5,412.5,880.1,703.1,600.70000000000005,543.6,514.6,495.8,459.5,1016.3,811.9,693.6,627.70000000000005,584.9,537.29999999999995,491,0.88139999999999996,1.1477999999999999,1.2856000000000001,0.68120000000000003,0.92149999999999999,1.0611999999999999,649.1,0.9244,0,0,0.9284,0,0,646.29999999999995,"nor00006777",8.3040000000000003,5920,24.5,32.9,23.9,0,81.8,765.8,588.1,525,990.9,732.5,636.1,680.4,0.88180000000000003,705.8,0.85009999999999997,666.8,0.89990000000000003]
[null,"NOR8688",8688,"NOR 11044","Tussi","Bavaria 38 Match","Bavaria Yachtbau","Jakopin&Jakopin",2004,null,null,"CLUB","C",758,"02 04 2018 16:30:52",11.38,10.762,2.194,3.69,6859,115.6,0.25,618.5,1.0091000000000001,668.9,0,0,1027.0999999999999,829.4,714.1,644.4,606.9,582.29999999999995,561.6,975.9,791.7,689.3,632.4,602.1,583.4,565,858.7,690.3,599.4,546.70000000000005,514.6,494.1,470.2,909.4,726.3,626.29999999999995,567.5,531.29999999999995,508.1,480.6,1025.0999999999999,779,642.4,562.9,523.4,493.5,447.3,43,41.5,41,40.1,39.200000000000003,38.9,39.299999999999997,145.1,149.5,150.1,154.9,168.8,180,180,1047.2,865,760.5,706,685.2,676.2,677.8,685.7,575.6,515.29999999999995,491.1,481.5,477.2,474.9,649.29999999999995,548,498.9,479,468.8,464.1,460.9,622.70000000000005,528.70000000000005,487.9,468.6,455.7,446,436.8,630,532.6,486.2,465.9,451.5,437.5,414.9,644,527.79999999999995,478.2,454.3,434.2,418.3,400.2,660.8,540.70000000000005,484.2,457.9,435.8,414.1,381.6,727.7,590.70000000000005,511.1,474.6,452.3,430.3,386.1,872.1,687.5,578.29999999999995,510.4,475.5,454.5,413.3,1007,793.8,667.8,582.79999999999995,528.6,488.4,445.5,0.94079999999999997,1.238,1.393,0.72719999999999996,1.0019,1.1624000000000001,604.79999999999995,0.99209999999999998,0,0,1.0006999999999999,0,0,599.6,"nor00006895",9.8539999999999992,7885,30.9,39.299999999999997,43.9,99,0,717.5,545.20000000000005,484.6,928.2,673.7,580.70000000000005,626.6,0.95760000000000001,646.9,0.92749999999999999,621.9,0.96479999999999999]
[null,"NOR9107",9107,"NOR 11451","Snute","Dufour 34 Performa","Dufour Yachts","Felci",2002,null,null,"CLUB","C",613,"02 04 2018 16:30:52",10.34,9.4009999999999998,1.944,3.48,5174,108.3,0.12,643,0.96809999999999996,697.3,0,0,1045.5999999999999,850.1,736.2,673.2,636.6,615.6,595.4,997.1,813.7,714.3,662.6,635.4,619,600.20000000000005,883.4,713.9,623.70000000000005,572.20000000000005,541.29999999999995,521.79999999999995,499,928.9,746,647.4,590.4,556,534.20000000000005,508.2,1043.5999999999999,799,664.6,589.79999999999995,551.29999999999995,521.6,474.5,42.8,41.7,41,40.1,39.299999999999997,39.200000000000003,39.700000000000003,145.9,150.30000000000001,151.69999999999999,157.5,177.5,180,180,1065.7,887.6,785.5,743.1,727.8,722.7,725.7,700.6,590.6,536.29999999999995,516.70000000000005,510.2,507.4,507.8,664.7,564.1,521.20000000000005,503.8,496.7,493.3,491.8,637.9,546.79999999999995,510.6,492.3,479.9,472.6,466.8,644,549,509,489.7,473.2,458.7,439.9,663.8,548.5,502.5,477.8,456.6,440.9,422.3,682.8,561.70000000000005,508.7,482.2,458.5,436,404.3,752.1,612.1,533.6,498.9,475.6,452.3,408.1,888.1,703.7,595.79999999999995,530.20000000000005,498.9,477.1,434.1,1025.4000000000001,812.6,687,603.20000000000005,545.5,508.6,465.1,0.91759999999999997,1.1856,1.3165,0.71209999999999996,0.96450000000000002,1.1006,631.70000000000005,0.94989999999999997,0,0,0.95989999999999998,0,0,625.1,"nor00006924",8.7379999999999995,5993,25.2,35.4,35.9,77,0,735.6,569.29999999999995,512.70000000000005,947.9,699.8,613.29999999999995,648.70000000000005,0.92490000000000006,668.2,0.89790000000000003,647.29999999999995,0.92689999999999995]
[null,"NOR9704",9704,"NOR 12566","Ruffen","Hanse 400E","Hanse Yachts","Friedrich Judel/ H",2002,null,null,"CLUB","C",784,"02 04 2018 16:30:52",11.99,10.936999999999999,1.958,4.04,8023,116.6,0.12,602.6,1.0214000000000001,660.9,0,0,996.4,807.3,697.9,636.9,609,583.70000000000005,558.79999999999995,950.5,772.2,673.8,621.20000000000005,594.5,576.4,557.9,832.6,670.9,584.29999999999995,534.29999999999995,504.1,484.8,461.4,885.5,707.8,610.79999999999995,553.70000000000005,518.5,496,469.6,993.7,757.4,626.5,551.29999999999995,515.20000000000005,484.2,435.3,43.9,42.7,41.9,40.6,39.799999999999997,40.299999999999997,40.700000000000003,144.1,147.9,148,148.9,151.19999999999999,175.7,178.1,1023.7,846.3,742.9,691.4,673.2,665.8,666.7,663.9,557.20000000000005,499.5,475.8,467.7,464.1,463,625.79999999999995,529.20000000000005,483.2,463.5,454.4,450.5,448.2,597.5,510.1,472.5,453.2,439.4,429.9,422.7,602.5,512.4,467.2,446.7,435.4,419.9,397.5,615.29999999999995,508.2,463.3,439.1,417.1,398.3,378.5,634.79999999999995,523.1,470.8,444.9,421.7,399.3,360.2,708.4,574.70000000000005,498.7,462.6,439.8,417.6,375.8,839.3,665.4,565.29999999999995,504.3,473.5,453,419.3,969.2,768.3,652.79999999999995,582.29999999999995,544.9,501.6,451,0.97150000000000003,1.2683,1.4180999999999999,0.74839999999999995,1.0159,1.1624000000000001,588.20000000000005,1.0201,0,0,1.0238,0,0,586.1,"nor00006789",10.132999999999999,9086,35,50.3,49.5,0,110.9,694.8,532.20000000000005,476,901.9,664.4,580.70000000000005,612.79999999999995,0.97909999999999997,630.79999999999995,0.95120000000000005,603.29999999999995,0.99460000000000004]
[null,"NOR4741",4741,"NOR 5226","Drambuoy","COMFORTINA 32","Comfortbåtar","Albinsson/Ståhle",1982,null,null,"CLUB","C",478,"11 04 2018 22:39:52",9.5,7.7830000000000004,1.7529999999999999,3.3,4679,116.4,0.33,698,0.89490000000000003,754.2,0,0,1105.2,913.5,798.2,728.1,689.7,670.4,651.70000000000005,1059.0999999999999,877.8,777.5,722.6,693.7,677.1,661.2,949.2,771.7,677.8,624.29999999999995,592.29999999999995,572.29999999999995,548.9,993.4,803.1,701.2,642.29999999999995,606.79999999999995,584.5,559.29999999999995,1102.5,859.1,722.5,643.29999999999995,603.6,573.20000000000005,523.5,41.8,40.799999999999997,41.5,40.200000000000003,39.700000000000003,39.6,40.5,147.9,153,153.5,166.8,180,180,180,1132.7,962.7,861.4,813.2,796.3,789,795,756.2,645.20000000000005,590.70000000000005,570.29999999999995,560.4,556,554.20000000000005,722.4,617.70000000000005,575.79999999999995,557.4,546.29999999999995,540.20000000000005,536.5,697.3,601.29999999999995,565.6,545.9,531.6,520.20000000000005,507.8,703.3,594.29999999999995,554.29999999999995,533.20000000000005,522.5,510.2,486.9,702.9,591,550.6,525.20000000000005,502.7,483.9,466.5,725.3,604.4,557.20000000000005,531.1,507.1,485,453.7,796.8,660.5,580.6,547.9,524.1,500.9,460.9,933.4,749.7,640,575.70000000000005,546.4,524.1,481.8,1077.8,864.2,735,643,583.20000000000005,551.9,508.3,0.85570000000000002,1.0867,1.1995,0.66879999999999995,0.89129999999999998,1.0102,685.1,0.87570000000000003,0,0,0.88270000000000004,0,0,679.7,"nor00007078",7.2629999999999999,5309,20.7,30.9,28.3,62.7,0,788.8,621.1,562.70000000000005,1009.3,757.3,668.2,701.2,0.85570000000000002,722.7,0.83020000000000005,701.5,0.85529999999999995]
[null,"NOR7425",7425,"NOR 9840","Frisnes","GRAND SOLEIL 40 C","Cantiere del Pardo","PAPERINI MASSIMO",2001,null,null,"CLUB","C",809,"11 04 2018 22:39:52",11.99,11.106,2.1890000000000001,3.79,7977,113.6,0.24,614.1,1.0165999999999999,664,0,0,1022.7,825.7,710.7,640.6,601.6,575.20000000000005,552.70000000000005,970.8,787.4,684.8,627.1,595.70000000000005,576.1,556.20000000000005,853.8,685.9,595.20000000000005,542.4,510.1,489.5,465.6,898.6,717.8,619,560.79999999999995,524.79999999999995,501.7,474.2,1021.3,775.5,638.9,558.6,518.6,489,443.9,43.2,41.5,41.2,40.299999999999997,39.1,38.5,38.6,145.1,149.5,150.1,154.30000000000001,165.6,180,180,1036.3,856.6,752.6,698.1,675,664,661.6,678.2,569.79999999999995,509,484.9,475.7,471.3,468.4,642.1,542,492.9,473.1,463.6,459.1,455.6,615.6,522.6,482.1,463.3,451,442.5,434.6,621.20000000000005,525.4,481.4,460.7,445.9,433.2,412.8,646,528.79999999999995,475.5,451.5,433,417.3,399.6,663,542.5,481.9,455.2,434.8,414.6,381.9,730.4,592.70000000000005,510.4,471.5,449.7,429.7,388.7,873.8,688.3,579.29999999999995,509.5,472.6,451.9,414.1,1009,794.8,668.9,583.1,528.1,486.5,443.7,0.94550000000000001,1.2473000000000001,1.4065000000000001,0.73040000000000005,1.008,1.1773,599.5,1.0007999999999999,0,0,1.0077,0,0,595.4,"nor00007095",10.128,9076,32.700000000000003,42.1,49.4,102.2,0,713.9,541.20000000000005,479.9,924.2,669.6,573.29999999999995,619.6,0.96840000000000004,639.29999999999995,0.9385,616.6,0.97299999999999998]
[null,"NOR21181",21181,"NOR 14152","SAGITTA V","ELAN 310","Elan Marine","Humphreys Rob",2009,null,null,"CLUB","C",582,"17 04 2018 15:02:24",9.2520000000000007,9.0440000000000005,1.923,3.2,4187,111.6,0.23,653.4,0.95499999999999996,706.8,0,0,1066.8,868.5,750.3,679.2,642.4,622.9,596.1,1023.9,835.2,731.4,673.2,642.5,624.6,597.20000000000005,899.2,726.3,633.79999999999995,580.5,548,527,499.6,978.2,781.6,674.6,611.9,573.6,549.1,519.6,1060.3,814.2,676.8,597.6,558.5,527.9,477.8,42.7,41.1,41,39.799999999999997,39,38.9,38.799999999999997,145.19999999999999,148,150.5,159.1,180,180,180,1132,936.2,823.8,762,741.5,734.6,727.9,744.6,625.6,559.29999999999995,533.20000000000005,522.9,519.1,516.20000000000005,706.4,595.79999999999995,542.5,520.4,509.1,504.5,502.4,678.1,574.79999999999995,531.1,509.6,494.6,483.6,474.9,651.79999999999995,548,513,499.4,489.7,473.8,447.9,643.1,540.4,504.2,479.6,458.2,445.4,424.5,660.9,551,509.7,482.2,455.8,432.1,402.7,729,597,530.4,500.5,474.4,447.3,395.8,867.5,693.5,586.6,528.1,500.7,476.6,427.6,1001.7,800.8,676.9,596.4,543.29999999999995,511.2,464.3,0.90129999999999999,1.1672,1.3048999999999999,0.69750000000000001,0.95140000000000002,1.0927,645.4,0.92969999999999997,0,0,0.94589999999999996,0,0,634.29999999999995,"nor00007172",8.3620000000000001,4962,22.8,31.1,23.6,0,85,748.9,578.29999999999995,517.29999999999995,967.7,709.5,617.70000000000005,672.8,0.89180000000000004,696.8,0.86109999999999998,661.8,0.90659999999999996]
[null,"NOR8014",8014,"NOR 10615","Stella","Sun Fast 37","Jeanneau","Jacques Fauroux",2002,null,null,"CLUB","C",674,"19 04 2018 12:32:28",10.95,9.8849999999999998,2.11,3.71,6894,107.1,0.35,649.6,0.96430000000000005,700,0,0,1073.5,870.3,753.7,676.7,631.79999999999995,604.9,582.6,1024.9000000000001,835,727.9,663.7,628.20000000000005,607.79999999999995,587.70000000000005,902.3,725.6,629.79999999999995,573.6,539,517,491.5,949.6,758.9,654.4,592.5,554.1,529.6,500.9,1071,818,677.6,590.5,547.4,516.6,469.1,42.8,41.1,41.1,40.299999999999997,39.1,38.6,38.799999999999997,146.19999999999999,150.6,153,156.1,173.2,180,180,1098.3,912.8,805.9,738.7,710.6,699.1,697.3,721.6,609.70000000000005,543.29999999999995,514,501.2,496.3,493.4,684.9,580.6,525.29999999999995,501.6,489.3,483.3,479.3,657.9,559,513.1,491.5,477.5,466.8,456,663.7,562.20000000000005,507.8,484.1,472.3,459.3,436,677.6,558.29999999999995,503.3,477.8,457.6,439.1,418.1,698.4,574.5,510.9,482.9,462.1,441.4,406,771.2,628.5,542.4,500.5,477.6,457.4,417.6,908.2,717,608.9,537.4,500.4,478.7,440.6,1048.7,827.8,701.5,614.79999999999995,552.9,510.7,467.8,0.89449999999999996,1.1781999999999999,1.3325,0.69450000000000001,0.95440000000000003,1.1189,632.1,0.94930000000000003,0,0,0.95409999999999995,0,0,628.9,"nor00007219",9.0289999999999999,7798,29.9,38.6,38.200000000000003,81.099999999999994,0,754.6,572.9,506.6,971.9,707.3,603.29999999999995,653.1,0.91869999999999996,675.7,0.88800000000000001,651.29999999999995,0.92130000000000001]
[null,"NOR18454",18454,"NOR 10890","Istedenfor","Dufour 34","Dufour Yachts","Umberto Felici",2003,null,null,"CLUB","C",614,"24 04 2018 12:45:06",10.28,9.4049999999999994,1.9450000000000001,3.48,5181,108.3,0.28000000000000003,651.29999999999995,0.95960000000000001,703.4,0,0,1074.5,869.9,750.2,676.9,637.70000000000005,614.79999999999995,596.4,1026.5999999999999,834.1,727.1,667.1,635.79999999999995,617.70000000000005,601.9,902.4,726.1,631.29999999999995,576.5,543.4,522.6,498.9,955.9,764.2,659.7,598.5,561.29999999999995,537.79999999999995,510.9,1070.7,816.8,675.4,592.5,552.29999999999995,522.29999999999995,473.8,43.8,41.4,41.2,39.9,39.1,38.799999999999997,39.5,146.1,150.30000000000001,151.1,156.9,174.5,180,180,1112.2,919.6,808.3,747.6,726.7,718.8,725.6,728.4,611.79999999999995,547.20000000000005,520.79999999999995,510.9,506.9,505.8,689.9,582.29999999999995,529.79999999999995,508,497.3,493,490.7,661.3,561.4,518,497.1,483.3,473.3,465.5,668.3,557.70000000000005,509,487.2,476.3,464,441.4,669,552.5,504.5,479.6,457.6,437.9,417.3,689,565.9,510.7,483.8,460,437.5,399.9,758,616.29999999999995,535.5,500,476.8,453.7,409.6,897.9,710.3,599.9,531.9,500.1,478.3,435.8,1036.8,820.2,692.1,606.1,548.6,510.7,467.3,0.89580000000000004,1.175,1.3161,0.69430000000000003,0.95389999999999997,1.1000000000000001,635.9,0.94350000000000001,0,0,0.95089999999999997,0,0,631,"nor00007283",8.6920000000000002,6001,25.2,33,32.700000000000003,78.2,71.400000000000006,753.5,574.5,512.9,972.2,707.6,613.6,658.9,0.91059999999999997,681.3,0.88070000000000004,653.70000000000005,0.91779999999999995]
[null,"NOR5579",5579,"NOR 2890","Julia","ALBIN 78 CIRRUS","Albin Marin AB","Peter Norlin",1978,null,null,"CLUB","C",354,"24 04 2018 12:45:06",7.8,6.4260000000000002,1.48,2.76,2383,108.9,0.54,775.6,0.81020000000000003,833.1,0,0,1245.5,1023.2,891.7,802.3,754.7,732.6,711.8,1199.2,987.8,868.9,797.9,759.7,739.7,721.3,1065.9000000000001,862,752.6,689.2,650.9,626.79999999999995,598.79999999999995,1118.5999999999999,899.6,780.8,711.3,668.9,642,610.6,1240.7,961.8,805.3,709.1,660.9,626.9,571.79999999999995,42,40.799999999999997,41.4,40.1,39.4,39.200000000000003,40.1,148.9,153.4,155.19999999999999,171.2,180,180,180,1293.5,1092,973.5,898.1,868.9,859,866.1,861.3,732.6,660.4,629.79999999999995,615,607.70000000000005,605.9,821.9,698.4,641.4,615.1,600.1,590.1,585.29999999999995,793.3,675.7,628,603.5,584.79999999999995,570,551.79999999999995,800.6,664.1,610.79999999999995,584.70000000000005,566.4,557.9,533.20000000000005,789.8,657.7,607.70000000000005,578.1,550.79999999999995,528.5,503.4,814.2,672.9,615.20000000000005,585.29999999999995,558.1,532.1,494.5,898.6,735.6,642.20000000000005,603.6,576.5,550.1,504.9,1037.0999999999999,829.4,703.9,634.29999999999995,601.1,575.9,528.29999999999995,1197.5999999999999,954.4,809.9,706.5,640.6,606.1,557.4,0.76,0.98240000000000005,1.0973999999999999,0.59499999999999997,0.80489999999999995,0.92430000000000001,756.2,0.79339999999999999,0,0,0.79820000000000002,0,0,751.7,"nor00007255",5.9779999999999998,2843,14.2,14.5,19.8,38.799999999999997,0,888.2,687.1,615.1,1134.5,838.6,730.3,776.9,0.77229999999999999,805.4,0.745,778.2,0.77100000000000002]
[null,"NOR8738",8738,"NOR 11240","Jenny E,","First 36,7","Beneteau","Bruce Farr",2002,null,null,"CLUB","C",642,"24 04 2018 12:45:08",10.68,9.5950000000000006,2.2250000000000001,3.46,5652,115,0.01,620.20000000000005,1.0047999999999999,671.8,0,0,994.4,810.9,706.5,650.9,616.70000000000005,596.29999999999995,573,944.3,773.5,683.8,638.70000000000005,614.20000000000005,598.1,575.9,846,686.3,602,554,525.20000000000005,506.7,483.5,885,714,622.6,570.1,538.20000000000005,517.6,491.5,994.9,763.8,640,572.20000000000005,536.20000000000005,507.8,463,42.1,40.9,39.799999999999997,38.5,38,38.4,38.6,145.4,150.1,151.9,157.80000000000001,180,180,180,989.8,827.4,740.2,709.6,697.7,692.6,689.5,657.5,557.1,516.5,503.2,498,495.6,493.4,626.1,537.6,504.8,491.3,485.8,482.9,481.4,603.20000000000005,525.5,496.2,479.7,468.6,462.8,457.8,610.1,527.6,495.9,476.6,460.4,446.7,431.6,643.9,534.6,492.6,468.2,446.7,432.4,414,663.3,547.79999999999995,498.9,472.9,449.2,426.9,396.5,732.4,597.79999999999995,523.5,490.4,467.1,443.7,399.9,865.2,688,583.6,520.9,490.7,468.7,425.8,999,794.5,672.7,592.20000000000005,535.70000000000005,500,456.5,0.96089999999999998,1.2245999999999999,1.3553999999999999,0.74780000000000002,1.0012000000000001,1.139,610.70000000000005,0.98240000000000005,0,0,0.99339999999999995,0,0,604,"nor00007290",9.2249999999999996,6512,26.8,40.9,43.3,84.8,0,702.5,551.20000000000005,498,902.6,674.2,592.6,624.70000000000005,0.96040000000000003,642,0.93459999999999999,624.9,0.96009999999999995]
[null,"NOR5213",5213,"NOR 7449","Luzern","BANNER 1/2 TON","Banner Både","JUDEL FRIEDRICH /",1985,null,null,"CLUB","C",435,"26 04 2018 13:06:28",9.19,7.3840000000000003,1.7050000000000001,3.18,2765,105.4,0,669.4,0.92010000000000003,733.6,0,0,1028.5999999999999,848.8,757.6,720.1,684.6,666.8,641.79999999999995,984.1,816.5,739.1,702.5,679.1,663.7,638.6,892.7,733.1,651.1,605.70000000000005,578.6,560.70000000000005,536.6,942,766.5,674.4,622.4,591.20000000000005,570.9,544.4,1026.9000000000001,801.3,689.4,631,592.20000000000005,561.9,512,41.3,41,39,38.299999999999997,38.200000000000003,38.299999999999997,38.700000000000003,146.5,148.30000000000001,149.5,153.1,177.3,178.4,178.2,1045.3,881.2,810.7,787.3,778.3,776.4,775.1,697.3,603.29999999999995,574.20000000000005,563.29999999999995,558.20000000000005,555.70000000000005,551.70000000000005,664.2,587.5,562,548.9,542.5,538.9,537.6,641.20000000000005,577.70000000000005,550.79999999999995,532.5,518.9,511.2,505.2,646.70000000000005,571.20000000000005,541.29999999999995,525,505.7,490.5,474,652.4,568.70000000000005,533.70000000000005,504.5,481.2,467.6,448.2,674.5,578.70000000000005,541.20000000000005,509.6,481.2,457.8,428.2,748.8,616.5,562.5,531.29999999999995,501.4,474,425.9,876.3,707.1,610.1,570.70000000000005,542.79999999999995,519.79999999999995,473.7,1011.9,816.5,704.4,652.9,590.9,557.1,508.5,0.9173,1.1209,1.2219,0.71909999999999996,0.91910000000000003,1.0198,666.5,0.90029999999999999,0,0,0.91420000000000001,0,0,656.3,"nor00007352",7.29,3336,16.600000000000001,31.2,26.3,0,63.2,735.9,602.20000000000005,552.4,938.7,734.4,661.9,676.6,0.88670000000000004,694.5,0.8639,676.7,0.88670000000000004]
[null,"NOR21803",21803,"NOR 14987","Soles","Sun Fast 37","Jeanneau","Jacques Fauroux",2002,null,null,"CLUB","C",674,"30 04 2018 20:56:28",10.95,9.8849999999999998,2.11,3.71,6894,107.1,0.37,707.4,0.89510000000000001,754.1,0,0,1229.5999999999999,970.1,824.5,729.4,666.1,628,597.9,1164.0999999999999,930.1,799.3,714.5,660.5,631.1,607,1008.9,800.7,684.6,614.1,569.6,540.9,508.9,1008.9,800.7,684.6,614.1,569.6,540.9,508.9,1233.8,913.5,742.4,635.1,575.4,537.4,487.4,43.2,41.4,41.3,40.9,39.700000000000003,39,39.1,158.9,175,177.6,178.9,179.1,179.4,179.8,1187.5999999999999,975,859.8,778.6,727.9,708.4,705,777.7,652.20000000000005,576,530.9,509.6,499.7,495.4,736.4,621.4,550.70000000000005,515.29999999999995,497.5,487.4,480.6,706.2,597.1,533.29999999999995,504,487.1,474.5,457.8,713.3,601.1,533.70000000000005,502.3,483.2,467.2,439.2,777.4,638.9,556.20000000000005,512.4,489.8,473.4,441.6,831.4,676.3,585.4,527.6,498.6,480.6,448.9,958.1,753.1,642.29999999999995,567.20000000000005,520.29999999999995,495.2,462.6,1107.4000000000001,848.7,707.7,619,554.6,515,475.9,1271.5,965.2,789.2,680.2,604.4,547.70000000000005,490.8,0.79420000000000002,1.0918000000000001,1.2813000000000001,0.61370000000000002,0.88190000000000002,1.0778000000000001,680.2,0.88200000000000001,0,0,0.88200000000000001,0,0,680.3,"nor00007504",8.6199999999999992,7798,29.9,36.4,26.2,0,0,849.9,618.20000000000005,526.79999999999995,1099.9000000000001,765.4,626.29999999999995,680.3,0.88200000000000001,707.4,0.84819999999999995,705,0.85109999999999997]
[null,"NOR20775",20775,"NOR 13540","Magic","King 40","King Marine","Mark Mills",2008,null,null,"CLUB","C",761,"30 04 2018 20:56:28",12.13,11.103999999999999,2.5150000000000001,3.68,7086,143.5,0.01,560.6,1.0945,616.70000000000005,0,0,895.5,729.5,643.1,598.5,578.20000000000005,557,527,853.6,698.7,624.20000000000005,585.9,563.70000000000005,546,514.6,758.2,617.9,544.70000000000005,503.3,477.8,460.1,433.6,850.8,680.7,588.5,534.4,500.8,478.4,448.8,893.7,685.6,581.1,521.79999999999995,490.7,463.2,416.2,43.1,41.6,40.299999999999997,38.6,38.4,38.200000000000003,37.700000000000003,143.5,146.19999999999999,149,151.30000000000001,152.6,176.3,177.4,912.9,758.2,692.5,658.8,644.1,637.6,622.1,595.5,504.8,476,464.6,458.2,454.9,448.2,558.4,484,461.1,451.8,445.8,441.6,436.2,525.9,469,447.4,434.2,426.1,419.9,411.7,524.29999999999995,468.2,445.9,428.6,412.6,399.5,384.2,561.20000000000005,473.3,441.7,422.8,408,386.6,360.4,575.6,479.7,445,418.8,394.7,379.4,348.4,641.6,517,463.3,436,409.3,382.1,325.8,760.3,607,514.1,466.7,446.3,426.3,378.6,878,700.9,593.70000000000005,538.20000000000005,512.4,476.4,431.8,1.0773999999999999,1.3469,1.4911000000000001,0.83079999999999998,1.0901000000000001,1.2249000000000001,554.70000000000005,1.0817000000000001,0,0,1.0947,0,0,548.1,"nor00007481",10.69,8116,32.4,54,41,0,156.9,626.5,501.2,452.7,812.5,619.20000000000005,551.1,590.29999999999995,1.0163,607.5,0.98770000000000002,565.1,1.0618000000000001]
[null,"NOR21429",21429,"NOR 1458","Mira","MAXI 87","Mölnlycke Marin AB","Pelle Petterson",1974,null,null,"CLUB","C",483,"30 04 2018 20:56:28",8.6999999999999993,7.6429999999999998,1.56,2.99,3765,111.6,0.51,759.3,0.8256,817.6,0,0,1262.3,1021,887,792.1,731.7,701.4,679.5,1211.9000000000001,986.5,860.1,780.1,733,708.8,687.1,1060.3,850.4,735.8,668.1,626.5,600.4,571.29999999999995,1108.8,885.3,762.2,688.7,643,614.1,581.5,1257.8,959,795.2,689.3,634,598.4,545.6,43.3,41.7,41.4,41.5,40.5,39.9,40.200000000000003,148.69999999999999,152.6,156.69999999999999,169.9,180,180,180,1307.5,1087.0999999999999,966.6,879.8,835.1,819.8,821.4,857.1,726.1,643.79999999999995,600.4,581.20000000000005,573.29999999999995,570.9,813.9,691.5,617.5,583.70000000000005,567.1,557.79999999999995,553.4,783.3,664.9,600,571.70000000000005,554.20000000000005,541.5,526.6,792.5,654,583.4,554.70000000000005,536.9,526.20000000000005,509.6,783.4,647.79999999999995,581.20000000000005,551.9,529,507.5,474.9,810.9,668.6,590.79999999999995,559.1,537,514.6,473.5,909.9,736.9,631.20000000000005,578.79999999999995,552.20000000000005,530.6,487.5,1054,829.5,702.8,618.79999999999995,575.9,551.70000000000005,510.9,1217,955,807.4,704.3,628.29999999999995,583,537.5,0.7601,1.0104,1.149,0.59119999999999995,0.8155,0.96330000000000005,737.5,0.81359999999999999,0,0,0.81740000000000002,0,0,734,"nor00007486",6.702,4402,20.2,16.600000000000001,25.9,0,44.6,888,668.1,587.5,1141.7,827.7,700.7,757.7,0.79190000000000005,787,0.76239999999999997,760.7,0.78869999999999996]
[null,"NOR21615",21615,"NOR 15448","Set Sail","Sun OD 49i","Jeanneau","Briand",2002,null,null,"CLUB","C",915,"03 05 2018 13:01:04",14.75,12.486000000000001,2.1,4.49,11656,114.5,0.24,584.20000000000005,1.0610999999999999,636.1,0,0,998.2,798.6,683.8,613.20000000000005,573.29999999999995,546.20000000000005,518.20000000000005,950.3,763.2,658.9,598.79999999999995,565.5,544.5,520.4,821.7,656.1,565.70000000000005,512.20000000000005,479,457.4,431.3,874.1,693.5,593.70000000000005,533.9,496.4,471.9,442.3,995.1,748.1,611.29999999999995,529.4,487.4,456.4,409.5,45.1,43.6,42.9,41.8,40.799999999999997,40.799999999999997,40.700000000000003,144.19999999999999,147.80000000000001,150,152.6,158.5,180,180,1029,839.5,731.9,671.4,645,631.20000000000005,622,660.4,547.20000000000005,483.7,454.1,442.1,436.4,431.8,618.20000000000005,516.6,463.5,440.4,429.1,423.4,418.1,587,494.3,450.2,429.8,416.5,406,394.9,593.20000000000005,497.7,450.4,428.5,413.1,399.3,377,619.29999999999995,501.8,444.5,419.2,399.9,383.3,365.6,635.4,514.4,451.2,422.8,401.5,381.5,350.6,703.5,562.1,482.1,440.5,417.7,397.4,358.6,837.7,656.2,550.4,482.5,442.8,420.7,383.1,967.3,757.7,635.6,555,501.7,461.3,414.3,0.97960000000000003,1.3169999999999999,1.5086999999999999,0.75129999999999997,1.0510999999999999,1.2443,566.70000000000005,1.0587,0,0,1.0604,0,0,565.79999999999995,"nor00007612",11.19,12912,44.5,55.7,67.599999999999994,144.9,0,689.1,512.5,447.4,898.4,642.20000000000005,542.5,594.9,1.0085,613.70000000000005,0.97770000000000001,584.1,1.0271999999999999]
[null,"NOR5776",5776,"NOR 6440","Titrack II","MAXI 999","Maxi Yachts","Pelle Petterson",1986,null,null,"CLUB","C",527,"03 05 2018 13:01:04",9.81,8.3239999999999998,1.7410000000000001,3.24,4475,117.9,0.28000000000000003,686,0.90600000000000003,745.1,0,0,1125,913.7,790.3,717,677.1,656.7,639.5,1070.9000000000001,874.8,766.7,708.7,679.2,663.1,647.9,944.6,762.4,665.1,609.5,576.4,556,532.9,983.2,789.9,685.9,625.9,590,567.70000000000005,542,1123,857.6,711.4,627.70000000000005,586.70000000000005,555.6,504.6,43,41.9,41.9,41.1,40.5,40.9,41.2,147.4,151.80000000000001,151.5,159.4,180,180,180,1144.3,956.5,850,800,783.5,778.9,788.6,750,633.29999999999995,572.79999999999995,550.9,543,539.6,539.9,710.8,601.6,555,536.4,527.5,523.6,522,681.1,580.79999999999995,542.20000000000005,523.29999999999995,510.2,500.9,493.4,686.5,582.1,536.4,515.29999999999995,502,487.3,465.6,700.2,578.6,531.6,506,483.9,464.2,444,723.5,594.29999999999995,538.6,511.4,487.4,464.3,427.9,804.9,656.9,564.79999999999995,528.4,504.5,481.2,437.6,957.5,754.4,633.6,559.6,527.29999999999995,504.8,461.5,1105.5999999999999,870.9,730.6,633.9,570.70000000000005,534.6,490.4,0.85719999999999996,1.1133,1.2359,0.66220000000000001,0.90259999999999996,1.03,673.7,0.89059999999999995,0,0,0.89929999999999999,0,0,667.2,"nor00007575",7.6459999999999999,5173,23.2,31.7,30.3,62.8,0,787.4,606.29999999999995,546.20000000000005,1019.3,747.8,655.29999999999995,686.7,0.87370000000000003,707.9,0.84760000000000002,690.4,0.86909999999999998]
[null,"NOR9272",9272,"NOR 11963","Ariel","CB 365","CB","Carl Beyer",2000,null,null,"CLUB","C",730,"03 05 2018 13:01:06",11.1,10.462999999999999,2.0169999999999999,3.37,5478,122.8,0.19,617.79999999999995,1.0083,669.4,0,0,1017.3,822.2,709.5,645.20000000000005,609.70000000000005,588,557.9,971.3,787.7,688,634.79999999999995,606.5,588.1,556.79999999999995,854.5,688.1,599,547.4,515.70000000000005,494.4,465.9,915.5,731.1,630.6,571.6,534.9,510.8,480.2,1014,771.8,639.4,564.6,526.4,496,445.4,42.9,41.4,40.799999999999997,39.700000000000003,39,38.9,38.5,144.5,149,151.1,156.4,173.3,180,180,1050.8,865.7,761.1,711.7,694.5,687.9,673.3,689.3,576.6,518.70000000000005,497.2,489.3,485.7,480,653,549.5,503.4,484.9,475.7,471.5,468.8,626.1,531.20000000000005,492.9,473.5,459.8,449.6,441.1,629.5,522.79999999999995,483.8,466.8,454,437.2,412.9,629.9,520.9,478.9,454.5,431.5,414.6,392.9,650,533.5,484.9,458.2,432.1,408.2,373.8,719.5,582.9,509,476.3,451.9,425.6,373.8,852,674.5,570.1,507.5,477.1,454.3,406,983.9,778.8,657.8,578.79999999999995,524.9,488.1,442.5,0.94789999999999996,1.2366999999999999,1.3915,0.7339,1.0037,1.1595,607.29999999999995,0.98799999999999999,0,0,1.0012000000000001,0,0,599.29999999999995,"nor00007539",9.6340000000000003,6464,28,41.9,30.2,87.4,77.3,712.1,545.79999999999995,485.1,919.7,672.5,582.1,630.79999999999995,0.95109999999999995,651.29999999999995,0.92120000000000002,623.6,0.96220000000000006]
[null,"NOR21692",21692,"NOR 14927","Tamara","Sun OD 439","Jeanneau","BRIAND PHILIPPE",2011,null,null,"CLUB","C",865,"07 05 2018 15:25:16",12.99,11.69,2.2090000000000001,4.24,10100,125.5,0.08,575.5,1.0701000000000001,630.79999999999995,0,0,940.1,767.2,671.6,614.4,578,552.1,527.79999999999995,894.1,732.8,647.79999999999995,600.79999999999995,572.1,552.29999999999995,530.5,786.3,637.79999999999995,558.79999999999995,513.1,484.8,466,442.5,889.4,708.4,608.5,548.70000000000005,511.2,487,458.4,939.7,719.1,602.5,533.4,495.3,466,422.3,44.3,43.5,42.4,40.9,39.299999999999997,38.6,39.1,144.80000000000001,149.1,150.5,154.19999999999999,162.9,180,180,944.4,789.3,711.6,673.8,650.79999999999995,638,631.1,610.70000000000005,514.20000000000005,476.9,462.5,455.2,451.3,447.3,570.20000000000005,487.3,459.7,448.7,442.5,438.3,434.2,532.9,468.3,445.9,434,426.3,420.9,412.6,527.5,466.3,443.5,428.6,415.6,404.5,391,587.5,495.9,451.5,429.8,411.6,395.9,372.1,618.6,508.9,458,433.8,413.5,393.8,362.1,684.7,558.20000000000005,484.1,449.9,428.8,408.9,370.2,810.4,645.20000000000005,547.20000000000005,485,451.5,431.5,394.6,935.8,745,631.70000000000005,555.1,505.2,466.3,424.6,1.0336000000000001,1.3181,1.4758,0.79069999999999996,1.0595000000000001,1.2283999999999999,566.6,1.0589999999999999,0,0,1.0658000000000001,0,0,563,"nor00007669",10.757,11282,37.1,49.6,48.5,137.5,137.6,653.1,512.1,457.4,853.7,637.1,549.5,607.9,0.98699999999999999,628.5,0.95469999999999999,577.5,1.0388999999999999]
[null,"NOR5454",5454,"NOR 8171","Fryd","MANI 30 SPES",null,"Svein Ingebrigtsen",1986,null,null,"CLUB","C",443,"15 05 2018 09:15:30",9.4700000000000006,7.3630000000000004,1.5229999999999999,3.28,3360,102.4,0.14000000000000001,700.8,0.88649999999999995,761.4,0,0,1121.0999999999999,922.1,802.8,734.9,696.4,677,660,1072.5,885.1,782.4,727.8,699.1,682.6,669.9,955.2,775.6,680.4,626,593.5,573.4,550.5,997.7,805.9,703.2,644.1,608.4,586.1,560.4,1118.5999999999999,866.6,725.8,646.29999999999995,604.9,573.4,522.1,42.7,42,41.6,40.799999999999997,40.5,40.4,41.8,148.1,152.19999999999999,153,165.9,180,180,180,1145.8,969.8,865.4,820.6,805.3,800.1,814.5,757,643.6,590.9,570.6,562.6,559,559.29999999999995,719.7,616.79999999999995,575.4,556.79999999999995,546.4,541.5,539.29999999999995,692.3,600,564.70000000000005,543.6,527.79999999999995,516,507,698.4,595.70000000000005,553.6,529.9,516.20000000000005,503.3,481.4,704.4,592.70000000000005,550.79999999999995,522.1,496.7,477.3,457.3,729.6,607.5,558.4,529.6,502.6,479.1,445.2,808.3,665.4,583.9,548.9,522,496.3,454.1,949.4,757.9,644,578.5,547.20000000000005,522.1,476.8,1096.3,874.4,740.3,649.1,587.5,553.9,505.6,0.8498,1.0834999999999999,1.1977,0.66069999999999995,0.8841,0.99929999999999997,689.1,0.87070000000000003,0,0,0.87829999999999997,0,0,683.1,"nor00007757",6.9930000000000003,3941,18.7,24.5,30.3,56.1,57.6,794.3,623,563.6,1021.6,763.5,675.5,704.3,0.85189999999999999,725,0.8276,704.9,0.85119999999999996]
[null,"NORswe11","SWE11_farr30","NOR 11","Farrari","FARR 30","Ovington","FARR",1996,null,null,"INTL","R",550,"21 05 2018 13:11:18",9.4350000000000005,8.9039999999999999,2.1389999999999998,3.04,2293,113.3,0,589.1,1.0448,646,0,0,926.6,754.2,672.9,633.5,607.4,583.1,539.9,885.5,727.9,657.5,621.6,596,572.20000000000005,544.4,789.9,647.9,573.6,530.29999999999995,501.9,481,450,868.3,701.7,612.79999999999995,560.9,527.9,504.8,472.4,923.7,711.3,611.6,555.9,520.9,484.9,427.5,41.6,40.1,37.700000000000003,36.9,36.6,36.1,36.799999999999997,143.30000000000001,146.30000000000001,153.80000000000001,162.4,180,180,145.6,955.1,789,729.2,709.1,701,686.9,686.3,633.9,544.20000000000005,520.5,511.6,507,502.4,495.1,591.1,529.9,507.3,496.3,489.8,486,473.6,544.29999999999995,509.3,492.4,471.9,459.5,452.1,441.1,532.4,493.6,468.7,452.2,438.6,421.8,406.7,556.29999999999995,506.8,473.7,436,408.1,388.2,362,589.20000000000005,512.29999999999995,471.3,435.6,411.8,380.5,342.7,656,540.79999999999995,496.8,455.1,412.4,373,320.3,777.7,623,537.70000000000005,496.6,458.7,420.3,340.8,898,719.4,616.70000000000005,557.9,513.70000000000005,479.4,393.6,1.0358000000000001,1.2710999999999999,1.4295,0.80320000000000003,1.0382,1.1779999999999999,598.1,1.0032000000000001,0,0,1.0398000000000001,0,0,577,"nor00007880",8.8870000000000005,3040,17.8,36.1,20.5,83.1,82.6,651.70000000000005,531,472.2,840.4,650.20000000000005,573,614.29999999999995,0.9768,631.29999999999995,0.95040000000000002,606.29999999999995,0.98960000000000004]
[null,"NOR667053",667053,"NOR 14783","Morgensol","HR 34","Hallberg-Rassy Var","German Frers",1990,null,null,"CLUB","C",536,"22 05 2018 09:48:14",10.28,8.3689999999999998,1.8720000000000001,3.45,6164,126.3,0.71,779.9,0.81420000000000003,829,0,0,1335.2,1059.2,908.2,809.9,736.5,686.4,648,1275.4000000000001,1025.3,888.3,797.7,733,691.8,661.1,1109.2,882.4,755.5,677.5,626.79999999999995,593.29999999999995,555.4,1109.2,882.4,755.5,677.5,626.79999999999995,593.29999999999995,555.4,1336.7,998.6,819.8,704.8,634.6,588.1,531.70000000000005,43.2,41.6,41,41.8,41.3,40,40,162.4,167.5,178,178.8,178.9,179.2,179.7,1320.6,1091.7,972.5,887.9,820,780,762.3,864.5,730.2,649.6,593.1,562.9,546.70000000000005,533.9,819.1,696.5,617.29999999999995,571.6,548,533.79999999999995,518.29999999999995,786.5,669.6,593.6,556.6,536.6,522.1,500.3,795.5,675,595.4,553.20000000000005,529.6,512.70000000000005,484.4,851.3,706.5,616.20000000000005,563.20000000000005,537,519.4,488.6,911.9,744,645.9,579.29999999999995,545.79999999999995,526.1,494.8,1035.2,817.2,701.1,620.1,567.9,540.4,506.8,1181.4000000000001,909.3,763.2,671.2,602.1,559.9,519.20000000000005,1349.9,1026.7,843.9,732,653,592.70000000000005,533.79999999999995,0.72330000000000005,0.98640000000000005,1.1693,0.56379999999999997,0.79869999999999997,0.98609999999999998,745.7,0.80469999999999997,0,0,0.80100000000000005,0,0,749.1,"nor00007844",7.0129999999999999,6874,25,24.5,23.9,0,0,933.2,684.3,577.29999999999995,1197.2,845.1,684.5,749.1,0.80100000000000005,779.9,0.76929999999999998,774.6,0.77459999999999996]
[null,"NOR8417",8417,"NOR 8851","Eirill 2","Cenit 37",null,"Ängermark",1986,null,null,"CLUB","C",664,"23 05 2018 14:51:12",11.2,9.7309999999999999,1.798,3.6,7364,102.5,0.3,640.9,0.97030000000000005,695.7,0,0,1035.0999999999999,849,737.5,672.2,635.29999999999995,613,593.29999999999995,982.8,809.8,713.8,661.7,633.9,617,599.20000000000005,876.3,710.3,622,571.5,541.20000000000005,522.20000000000005,500.3,931.4,749.7,651.6,594.6,560,538.29999999999995,513.6,1034.2,797.9,665,589,551,522.20000000000005,477.4,42.8,41.3,41.4,40.799999999999997,40,39.5,39.6,146.4,151,149.69999999999999,156.69999999999999,174.9,180,180,1043.3,881.4,786.8,743,725.3,717.8,718.7,688.6,587.4,534.79999999999995,515.20000000000005,508.2,505,504.1,655.8,561.1,519.70000000000005,502.8,495,491.5,489.3,632.1,544.70000000000005,509.5,492.1,480.6,472.8,466.7,639.4,548.5,508,490.9,476.5,464.2,445.5,654.29999999999995,544.1,500.5,478.4,460.4,446.4,429.3,672.1,557.6,506.5,481.9,461.2,441.4,413.6,740.1,610.5,530.6,497,475.7,455.1,415.9,889.3,706.8,596.1,527.6,497.3,477.3,439.1,1026.8,816.7,688.3,601.4,545.29999999999995,508.1,467.9,0.92490000000000006,1.1868000000000001,1.3150999999999999,0.71650000000000003,0.96499999999999997,1.1044,630.6,0.95150000000000001,0,0,0.9607,0,0,624.5,"nor00007890",8.9049999999999994,8256,29.1,33.9,47.5,0,105.7,729.8,568.79999999999995,513.29999999999995,942.1,699.5,611.20000000000005,653.6,0.91800000000000004,672.1,0.89270000000000005,645.29999999999995,0.92979999999999996]
[null,"NOR9327",9327,"NOR 11880","HELTOK","Bavaria 35 Match","Bavaria Yachtbau","Petersen J&J",2005,null,null,"CLUB","C",710,"24 05 2018 12:20:32",10.79,10.119999999999999,2.0179999999999998,3.28,5894,121.9,0.19,619.9,1.0065,670.7,0,0,1005.9,819,709.7,647.6,612.29999999999995,591.1,563,960.6,784.1,688.4,637.4,610.20000000000005,592.9,564.1,852,688.4,601.29999999999995,551.29999999999995,520.9,500.9,474.6,910,729.2,631.20000000000005,573.9,538.5,515.5,486.8,1003.2,769.6,640.79999999999995,568.4,531.1,502.1,454.9,42.2,40.799999999999997,40.299999999999997,39.299999999999997,38.6,38.4,38.1,144.80000000000001,149.6,151.30000000000001,157.1,174.9,180,180,1033.4000000000001,858.7,759.6,713.8,697.3,690.5,676.7,683.4,575.1,521,500.6,492.9,489.3,483.9,649.70000000000005,549.6,506.5,488.7,479.8,475.8,472.1,624.4,532.70000000000005,496.3,478,465.2,456,448.1,631.6,528.6,489.9,475.9,460,445.2,422.8,630.6,523.1,483.1,460.3,440.7,428.7,409.4,649.1,535.4,488.9,463.9,441,419.1,392,717,584.6,512.29999999999995,480.8,458.4,435.1,389.5,847.4,674.8,572.1,510.8,481.6,460.4,417.1,978.5,779.2,659.9,581.4,527.29999999999995,491.7,449.3,0.95199999999999996,1.2293000000000001,1.3723000000000001,0.73980000000000001,1.0018,1.1520999999999999,608.6,0.9859,0,0,0.99639999999999995,0,0,602.1,"nor00007925",9.4369999999999994,6852,26.8,43,28.6,86.3,0,709,549.1,491.9,912.4,673.8,585.9,631.70000000000005,0.94979999999999998,651.5,0.92100000000000004,623.9,0.9617]
[null,"NOR666729",666729,"NOR 15183","Granville Express","FARR 30 Mod","Carrol Marine","Bruce Farr",1992,null,null,"CLUB","R",555,"31 05 2018 20:51:44",9.4350000000000005,8.859,2.1309999999999998,3.04,2196,118.1,0,588.6,1.0467,644.9,0,0,919.1,746.2,669.4,637,612.29999999999995,581.5,531.70000000000005,878.3,721.3,652.29999999999995,618,592.29999999999995,566.29999999999995,537.5,791.5,648,572.9,529.20000000000005,500.3,478.3,443.6,866.7,700,610.70000000000005,558.29999999999995,524.70000000000005,501.1,468.7,916,705.3,609.1,554.70000000000005,518.6,482.2,422.9,41.7,40.200000000000003,37.6,36.9,36.700000000000003,36,36.6,143.4,146,151.19999999999999,151.19999999999999,147.30000000000001,144.6,143.19999999999999,950,783.3,723.8,704.4,696.6,683.1,682.8,629.5,541.29999999999995,517.70000000000005,508.7,503.8,499.2,491.3,597.29999999999995,527.4,504.4,492.5,485.4,481.5,468.4,575.79999999999995,518.20000000000005,489.3,466.8,453.8,446.1,434.4,572.79999999999995,518.20000000000005,488.7,457,432.4,414.9,399,565,501.9,468,444.9,423.8,403.6,362.5,578.9,506.1,462.8,428.2,404.8,383.8,346.8,647.70000000000005,533.79999999999995,488.8,444.4,399.6,358.6,307.10000000000002,769.2,614.1,532.29999999999995,493.8,457.2,415.6,329.6,888.2,709.1,615,569.6,527.9,479.9,380.6,1.0346,1.2735000000000001,1.4377,0.81069999999999998,1.0373000000000001,1.1831,595,1.0083,0,0,1.0448999999999999,0,0,574.20000000000005,"nor00007985",8.9239999999999995,2934,17.600000000000001,36.4,20.2,0,94,652.4,530,469.5,832.6,650.70000000000005,570.5,612.6,0.97940000000000005,629.1,0.95369999999999999,604.70000000000005,0.99219999999999997]
[null,"NOR667257",667257,"SWE 15","Matador","Elliot 44 Cr","CHINA NEW YACHTS L","Greg Elliot",2009,null,null,"CLUB","C",922,"04 06 2018 10:16:10",13.65,12.563000000000001,2.746,3.98,6580,141.69999999999999,0,502.6,1.2076,559,0,0,812,661.8,584.5,546.5,524.79999999999995,499.8,458.6,771.3,632.79999999999995,567,532.70000000000005,508.9,485.9,460.3,682.6,556,488.8,449.3,423.3,403.8,374,758.3,608.5,527.20000000000005,478.7,447.3,425.3,395.6,811.3,621.20000000000005,526.1,470.9,439.9,407.8,353.6,43.9,41.6,40,39.6,39.1,38.299999999999997,38.6,142.30000000000001,143.5,148.30000000000001,152.6,149.6,147.19999999999999,142.4,818.7,688.4,632,609.1,597.6,582.6,578.6,528.79999999999995,457,433.9,424.6,419.7,414.5,406.7,492.6,436.8,419.9,409.9,403.6,399.5,385.9,462.4,419.7,399.7,385.9,375.2,368.4,357.1,459.2,416.4,389.1,367.1,354.1,342.2,328.4,506.3,428.6,397.5,372.6,341.3,320.60000000000002,290,522.9,432.9,395.4,364.8,345,321.2,281.5,583.9,462.9,416.8,381.5,346.4,311.3,266.7,697.4,550.1,465.1,417.9,391.5,361.1,293.3,805.3,635.20000000000005,537,484,452,417,338.7,1.1950000000000001,1.4993000000000001,1.7043999999999999,0.91600000000000004,1.1981999999999999,1.3758999999999999,503.2,1.1923999999999999,0,0,1.2177,0,0,492.7,"nor00008016",12.292999999999999,7845,36.1,71,53.2,0,197.1,564.9,450.2,396,736.9,563.29999999999995,490.6,531.9,1.1281000000000001,543.6,1.1037999999999999,511,1.1741999999999999]
[null,"NOR4546",4546,"NOR 4570","Caprice","BALTIC 39 CR","Baltic Yachts",null,1977,null,null,"CLUB","C",655,"06 06 2018 14:16:06",11.814,9.52,2.1309999999999998,3.85,8537,119.8,0.33,635.6,0.98160000000000003,687.6,0,0,1013.5,836.2,729.8,666.7,628.79999999999995,605.5,585.1,969.9,800.7,707.3,655.9,626.9,608.70000000000005,591.20000000000005,868.3,704.3,617.1,567,536.79999999999995,517.70000000000005,495.7,914.3,737.3,641.79999999999995,586.1,552,530.20000000000005,504.3,1011.8,786.6,659.1,585,546.5,517.6,474.4,42.2,41.1,41.6,40.700000000000003,39.700000000000003,39.200000000000003,39.6,146.6,150.9,150.4,156.5,174.8,180,180,1030.7,872.8,779.6,735.6,714.6,704.4,704.1,684.9,582.79999999999995,531,511.6,503.1,498.8,496,653.6,557.1,517.1,500,490.6,485.8,482,630.79999999999995,541.5,507.1,490,477.8,468.5,459.3,638.9,545.6,508.1,488.9,474.6,462.4,442.6,663.4,547.29999999999995,501.1,478.4,460.2,448.3,433.4,678.2,558.4,505.7,480.4,459.9,441.3,418,739,605.70000000000005,527.70000000000005,494.8,473.2,452.8,417.1,862.8,692.4,589,524.70000000000005,495.2,475,438,996.2,799.6,679.9,597.79999999999995,543,506.5,466.1,0.93420000000000003,1.1953,1.3269,0.72989999999999999,0.97489999999999999,1.1182000000000001,621.70000000000005,0.96509999999999996,0,0,0.97,0,0,618.5,"nor00008059",8.8810000000000002,9415,30.7,34.799999999999997,63.2,121.3,0,722.5,564.70000000000005,508.7,924.8,692.4,603.6,643.79999999999995,0.93200000000000005,661.7,0.90680000000000005,637.6,0.94110000000000005]
[null,"NOR7116",7116,"NOR 9340","LA STREGA BIANCA","BB 13,5","Boerresen","Boerresen Anders",2004,null,null,"CLUB","R",852,"20 06 2018 09:15:34",13.28,12.436,2.2829999999999999,3.46,2641,110.9,0,491,1.2188000000000001,553.79999999999995,0,0,790.6,653.20000000000005,588.20000000000005,549.70000000000005,522.1,487.6,453.1,744.2,622.79999999999995,565.20000000000005,531.4,506.6,483,468.9,663.2,542.29999999999995,477.9,439.7,414.4,396.1,372.1,705,572.9,501.7,459.1,431.2,411.3,383.1,793.2,611.70000000000005,523.70000000000005,467.1,431.4,393.8,346,43.5,41.4,40.4,39.799999999999997,40.5,40.1,40.799999999999997,138.9,140.1,144.5,150.9,141.1,140.5,145.5,764.7,678.3,641.6,625.9,625,611.9,618.6,495.5,452.5,436.4,429.1,427.9,420.2,419.4,463.6,432.1,418.2,409.7,406.2,399.8,394.2,439.1,407.3,389.1,377.6,370.6,367.7,354.3,439.9,390.1,366.2,351.8,341.9,335.3,328,481.4,408.8,370.5,333.1,312.8,299.3,286.3,504.9,415.7,365.2,338.4,311.5,288.2,265.2,581.20000000000005,452.6,397.7,347.3,303.3,274.8,242.3,707,544,463.1,405.9,363,314.60000000000002,249,816.4,628.20000000000005,534.70000000000005,473.4,419.2,363.2,287.60000000000002,1.2305999999999999,1.5285,1.7385999999999999,0.93500000000000005,1.1962999999999999,1.3967000000000001,527.4,1.1375999999999999,0,0,1.2374000000000001,0,0,484.9,"nor00006818",11.909000000000001,3804,27.1,59.5,42.3,0,113.8,548.5,441.6,388.2,721.9,564.20000000000005,483.3,510.9,1.1745000000000001,516,1.1628000000000001,529.4,1.1333]
[null,"POL28","konsal2","POL 3939","Konsal II","Slotta 1200",null,null,1999,null,null,"INTL","C",400,"05 06 2018 15:25:14",12.103999999999999,9.9139999999999997,1.7230000000000001,3.68,7298,123.9,0.17,634.70000000000005,0.97899999999999998,689.5,0,0,1027.7,838.6,730.1,666.9,630.9,608.79999999999995,588.9,986.5,806.8,710.6,658.6,630.29999999999995,612.9,595.5,870.8,704.2,615.70000000000005,565.20000000000005,535.1,516.29999999999995,494.6,929.4,745.7,646.4,588.6,553.6,531.4,505.7,1023.1,787.2,657.5,583,544.79999999999995,515.9,470.7,43.4,42,42,41.7,40.799999999999997,40.5,40.799999999999997,145.80000000000001,149.9,150.4,156.4,173.4,180,180,1073.4000000000001,894.2,797.1,749.4,729.5,721.5,722.9,700.8,591.1,534.29999999999995,512.20000000000005,504.3,500.6,499.6,662.9,561.1,516.4,498.4,490.4,486.5,484.3,634.4,541,503.9,486.8,475.4,467.9,461.3,639.29999999999995,543,501.5,482.8,468.9,456.9,438.5,648.4,534.5,491.5,470.4,453.7,440.7,424.6,662.9,544.4,494.6,470.6,450.2,432.9,406.9,725.7,589.79999999999995,515.29999999999995,483.8,461.9,440.2,401.8,850.4,678,574.29999999999995,512.79999999999995,484.3,463.9,423.9,982,782.9,663,584.4,532.20000000000005,496,454.9,0.93159999999999998,1.2002999999999999,1.3303,0.72340000000000004,0.97370000000000001,1.1124000000000001,619.5,0.96850000000000003,0,0,0.97199999999999998,0,0,617.29999999999995,"POL00000920",8.9269999999999996,8201,30.3,35.299999999999997,49.9,116.1,96.2,724.6,562.4,507.4,933.1,693.2,606.79999999999995,648.4,0.9254,667.2,0.89929999999999999,636.20000000000005,0.94310000000000005]
[null,"POL44","Res_Navalis","POL 3393","Res Navalis","cruiser 22","Teliga","Elvstrom P",1990,null,null,"CLUB","C",336,"14 06 2018 18:16:42",6.69,5.7389999999999999,1.4079999999999999,2.38,2168,124.8,0.71,865.7,0.72270000000000001,934.1,0,0,1428.3,1160.0999999999999,1013.3,906.3,835.7,804.4,788.5,1391.3,1135.3,996.4,906.8,848.1,817.7,802.8,1202.4000000000001,967.2,839.4,764.2,718.1,689.6,660.9,1302.5999999999999,1037.9000000000001,891.2,802.9,748,713.9,679.8,1412.6,1085.3,908.2,792.5,725.9,684,625.9,43,41.4,41.1,42.1,41.4,41.1,42,149.80000000000001,155,171.1,174.9,180,180,180,1585,1308.0999999999999,1166.5999999999999,1063.5999999999999,990.9,962.9,980.9,1038.9000000000001,875,776.1,710.5,679,665.4,664.5,983.9,833.4,736.6,686,660.7,647.20000000000005,640.9,920.4,763.2,684.5,657.4,645.29999999999995,629.1,607.70000000000005,855.1,708.9,652,626.20000000000005,611.4,604.4,589.79999999999995,846.2,704.5,650.4,619.9,591.70000000000005,568.4,544.9,873.7,722.2,658.1,626.4,598,571.1,532.70000000000005,954.2,782.7,684.7,644.4,616.9,590.70000000000005,545.6,1101.3,880.6,750.8,677,642.5,616.70000000000005,568,1271.7,1012.1,860,749,680.4,645.79999999999995,596.20000000000005,0.67259999999999998,0.88329999999999997,1,0.52159999999999995,0.71399999999999997,0.83720000000000006,841.2,0.71330000000000005,0,0,0.71550000000000002,0,0,838.6,"POL00000947",4.8410000000000002,2604,13.3,11.3,11,0,30.9,1003.6,764.2,675,1294.0999999999999,945.4,806.3,880.8,0.68120000000000003,920.4,0.65190000000000003,866.6,0.69240000000000002]
[null,"POR","POR1318","POR-1318","ALF","PROTOTYPE","FRANCISCO P, ROSA","ETCHE GARAY",1989,null,null,"CLUB","C",480,"15 02 2018 12:16:04",11.225,9.2889999999999997,2.2160000000000002,3.46,5413,125.4,0.32,667.2,0.94340000000000002,715.5,0,0,1116,898.6,773.9,690.7,641,613,588,1068.2,863.8,748.3,678,637.4,614.79999999999995,590.79999999999995,935.9,748.6,646.29999999999995,585.9,548.6,524.70000000000005,496.8,1005.6,798.2,683.3,614.29999999999995,571.1,543.5,511.7,1111.5,844.2,695.3,602.70000000000005,556,523.6,474.7,42.3,40.6,40.5,39.9,38.6,38.299999999999997,38.4,146.6,150.4,151.80000000000001,155.5,172,180,180,1161.2,953.9,835.9,759.4,721.4,708,703.8,768.2,642.5,565.20000000000005,528.9,512.29999999999995,505.1,501.5,731.4,613.5,545.6,516.20000000000005,500.8,491.8,486.4,705.9,592.20000000000005,532.70000000000005,506.4,489.8,476.9,461.4,707.2,578.29999999999995,517.9,493.8,485,471.7,444.9,695.6,567.79999999999995,510.9,484,461.9,444.7,428.2,716.3,583.70000000000005,518.1,488.6,464.7,442.7,409.8,788.6,639.1,548.70000000000005,506.7,482,458.8,416,927.4,730.4,617.1,543.20000000000005,506.5,483.4,441,1070.9000000000001,843.4,711.8,621.9,560.70000000000005,518,472.1,0.86040000000000005,1.1518999999999999,1.3148,0.67010000000000003,0.93320000000000003,1.1053999999999999,0,0,0,0,0.93269999999999997,0,0,643.29999999999995,"POR00000081",8.5109999999999992,6230,27.1,29.8,29.4,76.5,0,784.5,586,513.4,1007.3,723.3,610.6,678.9,0.88380000000000003,706.2,0.84960000000000002,0,0]
[null,"ROU017/18","ROU100","ROU-100","Santa Clara","Oceanis 38","Beneteau","Finot",2014,null,null,"CLUB","C",960,"15 05 2018 22:54:46",11.5,11.045,2.073,3.99,7003,110.2,0.36,668.2,0.93579999999999997,721.3,0,0,1201.2,940.8,793.1,698.4,634.1,590.70000000000005,557.9,1154.3,909.1,771.6,686.2,629.1,591.1,561.20000000000005,967.3,761.2,645.70000000000005,575.20000000000005,530.1,500.3,465.7,1069.4000000000001,834.2,700.5,617.5,563.5,527.4,485.1,1188.5999999999999,877.5,705,598.20000000000005,536.9,495.5,441.6,44.7,43.4,42.6,42,41.5,40.200000000000003,39.799999999999997,145.9,148.80000000000001,148.4,152.5,159.30000000000001,180,180,1327.8,1049.0999999999999,898.8,802,731.3,688.8,672.8,853.1,684.8,592.9,532,495.5,477.3,466.8,797.2,646.4,561.70000000000005,508.3,480,464.5,451.4,756,614.1,531.9,490.9,468.7,453.2,430.2,706.5,568.4,493.4,463,451.2,443.4,422.1,680.2,548,480.6,450.9,428.5,408.9,387.2,697.6,560.79999999999995,487.5,455,430.9,407.1,367.7,772.3,614.6,520.70000000000005,473.3,448,425,378.8,930.7,721,595.20000000000005,517.4,474.5,450.7,408.2,1074.7,832.5,687.3,594.9,536.79999999999995,492.6,443.1,0.82520000000000004,1.1620999999999999,1.3875,0.63019999999999998,0.91949999999999998,1.1455,0,0,0,0,0.93410000000000004,0,0,642.29999999999995,"ROU10014225",8.9890000000000008,8084,34,31.7,32.5,110.7,0,818,580.79999999999995,486.5,1071.0999999999999,734.1,589.29999999999995,693.6,0.86509999999999998,725.9,0.8266,0,0]
[null,"RSA029/17","RSA4339","SA 4339","Silky","RP 37 MK 2","Windsong Yachts","Reichel Pugh",2004,"SOUTH AFRICA",null,"CLUB","R",714,"03 02 2017 22:20:50",11.33,10.581,2.6709999999999998,3.43,4080,136.5,7.0000000000000007E-2,553.9,1.1091,608.6,0,0,914.4,735.9,635,589.6,564.6,539.29999999999995,488.2,872.2,703.4,617.5,573.70000000000005,545.9,521.9,485.7,763.6,616.6,537.79999999999995,491.2,460.7,438,402.5,837.7,668.6,575.79999999999995,520.1,484.1,459.1,424.7,938.7,724.2,603.5,528.9,478.6,441,383.2,42.9,41.9,39.700000000000003,38.1,37.1,36.299999999999997,36,142.4,144.1,148.80000000000001,151.9,148.5,145.9,140.30000000000001,952.6,777.5,683.4,647.70000000000005,630,618,606.5,620.9,514.20000000000005,474.2,460.4,452.7,447.6,435.5,581.6,492.1,460.7,444.2,434.4,428.1,413.6,548.70000000000005,477.5,447.7,421.2,403.8,394.6,385.3,548.9,473.4,448.9,419.8,391,368.7,349.4,541.70000000000005,464.6,430.4,409.7,390.1,369.6,332.1,559,471.4,431,396.2,375.4,356.6,322.2,635.4,505,456.9,420.2,382,342.5,290.10000000000002,758.7,601.4,508,460.6,432.3,399,320.3,876.1,694.4,586.6,531.5,499.1,460.7,369.9,1.0638000000000001,1.3716999999999999,1.5733999999999999,0.81799999999999995,1.1052999999999999,1.2821,0,0,0,0,1.1137999999999999,0,0,538.70000000000005,"RSA00074707",10.605,5043,27.4,49.2,29.3,0,140.5,634.5,492.1,429,825.2,610.70000000000005,526.5,579.29999999999995,1.0358000000000001,594.29999999999995,1.0096000000000001,0,0]
[null,"RSA081/17","RSA3184","SA 3184","Triton","DD 26","Radiant / OwnerKit","Dudley Dix",1993,"SOUTH AFRICA",null,"CLUB","S",449,"29 07 2017 10:11:48",8,7.7789999999999999,1.677,2.5,1331,101.4,0.19,641,0.95389999999999997,707.7,0,0,1060,853.8,737.7,687.9,656.5,625.79999999999995,564.5,1022.1,826.7,723,668.1,634.79999999999995,607.70000000000005,561.70000000000005,884.2,714.5,622.70000000000005,567.5,530.6,502.9,460,982,781.8,671.7,605.6,563.1,533.6,492.5,1085.0999999999999,837.8,697.7,610,549.6,503.4,432,43.4,42.2,40.6,38.299999999999997,37.5,37.4,38.1,143.4,146.30000000000001,150.30000000000001,150.30000000000001,146.1,143.5,138.80000000000001,1156.3,941.4,813.4,760.4,744.2,737.7,736.3,751.2,619.79999999999995,562.29999999999995,538.79999999999995,530.1,525.29999999999995,516.6,704.8,591.4,547.29999999999995,517.9,505.2,498.6,487.1,662,568.5,533.9,494.8,464.9,454,446.1,609.29999999999995,538.1,515.29999999999995,493.8,457.7,419.4,397.6,606.29999999999995,532.70000000000005,480.3,452.8,429.9,405.8,366.2,624.79999999999995,542.4,490.5,436.7,407.4,383.7,336.8,702.2,575.6,525.4,476.6,426.6,376.8,290,834.6,663.6,573.29999999999995,533.20000000000005,492.6,445.1,340.2,963.7,766.2,662,615.29999999999995,568.79999999999995,514,392.8,0.91700000000000004,1.1840999999999999,1.3720000000000001,0.70540000000000003,0.95009999999999994,1.1055999999999999,0,0,0,0,0.96350000000000002,0,0,622.70000000000005,"RSA00077234",7.7450000000000001,1920,15.4,23.2,12.8,0,65.400000000000006,736.1,570.1,492,956.9,710.5,610.5,670.5,0.89490000000000003,693.7,0.8649,0,0]
[null,"RSA101/17","RSA024","RSA 024","SixPak","L 34","John Robertson Yac","A Lavranos",1985,"CapeTown 7745",null,"CLUB","C",614,"04 10 2017 20:12:26",10.4,9.2650000000000006,1.944,3.33,4450,117.7,0.32,670.3,0.93179999999999996,724.4,0,0,1135.7,911.5,784.7,698.4,648.4,620.6,595.29999999999995,1080.5,873.8,757.2,686.3,646.1,623.20000000000005,598.5,938.1,751.4,649.6,589.20000000000005,551.4,526.6,496.5,978.7,780.2,671.2,606.20000000000005,565.6,539,506.8,1156.7,885.1,730.7,635.79999999999995,574.20000000000005,531.4,471.9,43.9,42.3,42.2,40.9,39.5,38.799999999999997,38.700000000000003,146.9,151.1,152.6,157.5,175.3,180,180,1162.5999999999999,956.3,842.7,766,731.5,717.3,712.7,752.2,627.70000000000005,559.1,526.70000000000005,512.4,506.7,503,704.9,591.6,537.20000000000005,512.29999999999995,498,490.9,486.1,666.8,564.5,521.79999999999995,500.3,482.7,468,454.7,669.3,565.9,518.29999999999995,492,477.2,462.7,432.5,694.8,570.5,517.1,490.2,464.8,439.5,413.3,720,588.9,525.5,496.8,473,447.8,399.6,805.2,653.70000000000005,558.79999999999995,516.1,491.4,467.7,420.2,960.3,750.8,630.4,553,515.4,492,447.1,1108.9000000000001,866.8,726.8,630.9,565.4,523.79999999999995,477.9,0.86,1.1442000000000001,1.3103,0.65939999999999999,0.92159999999999997,1.0921000000000001,0,0,0,0,0.92420000000000002,0,0,649.20000000000005,"RSA00077805",8.4329999999999998,5270,24.4,31.3,30,62.7,0,784.9,589.9,515.1,1023.7,732.4,618.1,670,0.89549999999999996,693.2,0.86560000000000004,0,0]
[null,"RSA073/17","RSA1340","RSA 1340","Mega Freight","Simonis 35","Fred Scholtz","Simoins",1990,"SOUTH AFRICA",null,"CLUB","C",725,"08 01 2018 13:00:08",10.77,10.409000000000001,2.0139999999999998,3.54,4200,108.5,0.25,616.9,1.008,669.7,0,0,1060.9000000000001,845.3,720.2,643.1,601.6,574.5,543.4,1001.1,802.4,691.4,628.79999999999995,594.4,571.6,540.29999999999995,868.4,693.4,597.6,540.5,504.1,479.3,446.5,913.6,725.6,622.1,560.20000000000005,520.9,494.5,460.1,1074.8,818.8,673.3,583.6,524.6,482.5,422.1,44.1,42.3,42,39.799999999999997,38.5,38.1,37.6,144.69999999999999,149.1,149.69999999999999,154.80000000000001,169.4,180,180,1065.3,867.8,755.7,694.8,670.8,658.6,647,691,570.4,508.6,484.7,475.2,469.8,465.2,647.70000000000005,538.6,492.3,471.2,459.4,452.7,446.2,613.70000000000005,517.1,480.4,457.7,437,422.6,411,618,518.9,477.5,452.3,433.8,411.1,379.5,644.9,524.70000000000005,477.3,447.9,416.1,391.1,362.5,670.5,542.9,485.8,456.5,426.2,395.5,343.4,755.4,605.20000000000005,517.29999999999995,478.1,451.3,422.4,364,915,712.6,592.9,517.5,479.2,454,400.7,1056.5,822.8,684.6,591.5,532.4,490.5,439.9,0.92830000000000001,1.2453000000000001,1.4409000000000001,0.70820000000000005,0.99960000000000004,1.1849000000000001,0,0,0,0,1.004,0,0,597.6,"RSA00079631",9.8239999999999998,5178,26.3,36.700000000000003,28.4,69.7,0,727.1,542,468.5,953.1,675.3,569.70000000000005,622.1,0.96450000000000002,642.9,0.93330000000000002,0,0]
[null,"RSA033/18","RSA4332","SA 4332","Silver Girl","Stadt 34","Henry Vink","van der Stadt",1986,"SOUTH AFRICA",null,"CLUB","C",531,"27 03 2018 12:28:34",10.49,8.4600000000000009,1.8049999999999999,3.25,5302,115.1,0.53,725.6,0.8589,785.9,0,0,1232.4000000000001,990.8,858.1,766.9,699.6,661.2,631.5,1190.3,962.4,836.4,755.9,700.9,667.8,638.1,1021.7,816.3,703.1,635,591.9,563.70000000000005,531.1,1093,867,740.8,663.9,614.70000000000005,582.29999999999995,544.4,1250.8,957.8,789.9,685.3,616.6,569.1,506.3,44.9,43.3,43,43.7,42.5,41.5,41.2,147.4,151,153,156,174.7,180,180,1335.4,1093,964.8,877.7,810.6,777.7,763,855.3,712,627.9,575.1,548,534.4,527.20000000000005,797.5,668.9,590.29999999999995,552.1,531.70000000000005,519,509.2,752.1,632.4,564.9,536,518.5,504.1,482.3,754.7,622.9,549.20000000000005,520.1,509.4,500.9,473.6,741.8,607.29999999999995,542.29999999999995,513.79999999999995,491.3,471.6,453.1,762.9,623.70000000000005,549.6,518.5,496,474.2,438.4,836.5,679.3,581.5,535.70000000000005,511.1,489.8,449.3,978.1,769.9,652.29999999999995,573.5,534.70000000000005,511.9,472.4,1129.4000000000001,888.6,751.4,656.1,588.5,544.6,500,0.78759999999999997,1.0586,1.2266999999999999,0.60719999999999996,0.84470000000000001,1.0233000000000001,0,0,0,0,0.85460000000000003,0,0,702,"RSA00080169",7.125,6006,24.8,23.6,29.6,75,0,857,637.6,550.29999999999995,1111.7,799.1,659.6,738,0.81299999999999994,765.4,0.78390000000000004,0,0]
[null,"RUS0177,3","RU0177_lastochka","RUS177","Lastochka","Konrad-25R","Сonrad Boatyard","D, Peterson",1978,"Russia",null,"CLUB","R",334,"02 06 2018 22:40:54",7.65,6.1550000000000002,1.4970000000000001,2.76,1425,104.9,0,725,0.85840000000000005,786.3,0,0,1129.5999999999999,929.3,815.4,758.3,731,716.1,694.6,1080.8,893.6,799.9,755.9,734.2,721.3,702.5,975.8,797.5,704.5,652.4,621.4,601.70000000000005,577,1014.1,824.8,725.2,668.9,635.29999999999995,613.9,587.20000000000005,1128.2,877.3,744.1,674.6,636.5,603.29999999999995,546,41,41.2,38.9,38.5,38.799999999999997,39.200000000000003,40.799999999999997,148.9,152.69999999999999,156.69999999999999,180,180,180,180,1143.5999999999999,965.7,875,852.1,848.9,852.3,867.1,765.3,659.6,622.29999999999995,607.79999999999995,602.70000000000005,601,600.79999999999995,729.5,641.9,608.6,591.20000000000005,582.70000000000005,578.6,579.20000000000005,703.9,630.20000000000005,597.4,572.4,555,545.1,538.70000000000005,709.4,624.20000000000005,584.70000000000005,558,541.29999999999995,523.1,503.5,722.4,623.9,582.29999999999995,546.4,517.20000000000005,495.6,472,749.2,635.70000000000005,591,555.79999999999995,523.79999999999995,494.8,450.4,829.9,682.5,616.1,579.6,546.20000000000005,516,458.8,966.1,774.2,661.6,609.5,575.9,544.6,489.8,1115.5,893,755.8,664.5,613.1,579.9,522.1,0.83530000000000004,1.0409999999999999,1.139,0.65569999999999995,0.86009999999999998,0.94830000000000003,718.6,0.83489999999999998,0,0,0.84809999999999997,0,0,707.4,"RUS00001707",6.149,1858,12,20.6,15.6,32.4,0,808.1,648.4,592.6,1029.4000000000001,784.8,711.8,726.3,0.82609999999999995,746.8,0.8034,733.3,0.81830000000000003]
[null,"SLOI01/18","SLO972","SLO972","Sky","Elan 450","Elan Yachts","Rob Humpreys",2008,"Slovenia",null,"INTL","C",950,"21 03 2018 15:25:52",13.58,12.922000000000001,2.2989999999999999,4.3600000000000003,12766,115.5,0.28000000000000003,582.1,1.0672999999999999,632.5,0,0,979.1,787.7,678,609.5,572.4,547.79999999999995,521.5,936.3,755.6,655.5,598.20000000000005,567.29999999999995,548.4,524,813.8,651.70000000000005,563.79999999999995,512.4,481,460.9,436.7,882,700.2,599.79999999999995,540,502.8,478.9,450.6,974.1,738.4,606.9,527.9,489,460.4,416.2,43.9,42.1,41.7,41.3,40.6,40.200000000000003,39.799999999999997,144,148.1,149.30000000000001,153.1,160.19999999999999,180,180,1029,841,736.6,677.3,652.29999999999995,641.29999999999995,630.6,666.8,556.4,490.6,460.1,448.1,443.3,440.4,628.29999999999995,527.9,470.4,446.1,434.8,430.1,426.7,599.9,506.1,457,435.6,423.1,414.6,406.8,605.4,499.5,447.8,427.1,418.5,407.7,388.2,598.20000000000005,488.9,439.6,418.1,403.4,388.5,370.7,612.6,500.5,444.9,420.5,402,384,357.2,675.6,546.20000000000005,470.6,435.1,415,396.3,357.9,804.7,636,536.4,471.7,437.5,418,382.8,929.1,734.4,619.4,541.70000000000005,492.5,454.3,412.4,0.99029999999999996,1.3198000000000001,1.4944999999999999,0.7641,1.0581,1.2405999999999999,567.70000000000005,1.0568,0,0,1.0645,0,0,563.6,"SLO00003573",11.321999999999999,14124,46.3,62,49.8,159,119.7,681.6,511.4,451.7,883.4,637.9,544.1,599.9,1.0002,620.1,0.96760000000000002,584.6,1.0264]
[null,"SUISU1270","SUI1270","SUI 127","BLUE BIRD","Dynamic 35","Moser","Kjaerulff",1985,"ZYC",null,"CLUB","C",450,"24 04 2018 16:59:02",10.68,9.7560000000000002,1.5189999999999999,2.48,2929,115.7,0,597.5,1.0264,657.7,0,0,960.6,783.4,690.7,639.29999999999995,610.70000000000005,588.9,556.70000000000005,907.7,744.9,668.5,628.6,602.9,581.6,553.5,809.7,659.5,580.6,535.4,507.1,487.3,458.6,851.4,689.4,603.29999999999995,553.20000000000005,521.9,500.4,471,961.4,736,622.9,557,521.20000000000005,489.9,437.4,43.8,42.4,40.6,39.5,39.200000000000003,38.700000000000003,39.700000000000003,138,146.69999999999999,147.9,156.30000000000001,180,180,149,953,798.9,743.3,717.6,708.8,699,696,618.29999999999995,531.9,511,502,497.1,495.1,488,580.79999999999995,512.20000000000005,495.8,487.7,482.5,479.9,470.5,554.70000000000005,499,478.1,466.7,458.8,453.1,443.5,560.29999999999995,498.3,471,448.8,434.4,424.7,415.1,601.29999999999995,503.7,468.9,446.6,427.2,410.9,376.5,620.1,511.2,471.3,436.3,410.9,392,356.8,694.7,553.70000000000005,493.1,458.5,421.1,383.8,321.89999999999998,838.6,665,552.5,493.7,461.8,427.9,361.5,968.3,767.9,638,560.9,512.5,478.7,417.4,1.0086999999999999,1.2635000000000001,1.41,0.77410000000000001,1.0207999999999999,1.1593,0,0,0,0,1.0257000000000001,0,0,585,"SUI00003521",9.2080000000000002,3800,20.9,36.4,34.5,80.599999999999994,0,669.2,534.20000000000005,478.7,872,661.2,582.20000000000005,608.6,0.9859,621.29999999999995,0.9657,0,0]
[null,"SUISUI17","SUI17","SUI 17","GILBERTE J","J-97 SD","JOHNSTONE","JOHNSTONE",2009,"YCK",null,"CLUB","C",525,"28 02 2018 11:17:00",9.61,8.5269999999999992,1.6220000000000001,3.35,3730,122.7,0.2,650.9,0.94750000000000001,712.4,0,0,1056.7,860.2,745,687.7,658.4,635,612.4,1019.8,830.7,729.3,675.4,646.9,628.5,606.5,891.5,721.5,631.5,580.29999999999995,549.4,529.5,504.2,977.2,780.6,673.6,611,572.79999999999995,548.6,520,1048.3,805.7,672,599.20000000000005,561.29999999999995,529.1,478.3,43.4,42.4,42,40.1,40.1,40,40.6,145.30000000000001,148,148.69999999999999,150.69999999999999,174.7,177.2,177.5,1140,941.8,826.3,765.7,746.2,740.1,741.3,743.5,621.79999999999995,557.79999999999995,532.5,522,518.1,518.1,702.3,590.70000000000005,540.79999999999995,519.29999999999995,507.4,501.9,499.7,671.3,569.9,529.1,507.4,491.3,478.5,466.9,641.79999999999995,542.70000000000005,510.8,497.6,486.5,468.8,441.7,629.20000000000005,533.5,498.5,472,452.3,439.4,418.4,645.9,541.9,503.4,473.3,446,422.9,395.1,717.7,581.9,522.9,492.9,464,437,382.9,843,674.4,574.9,528.79999999999995,505.4,485.3,438,973.4,778.7,663.8,609.79999999999995,570.70000000000005,530,483.6,0.91090000000000004,1.1693,1.2968,0.70430000000000004,0.94550000000000001,1.0673999999999999,0,0,0,0,0.94750000000000001,0,0,633.29999999999995,"SUI00003631",8.0670000000000002,4425,20.8,29.8,24.8,0,93,741,577.29999999999995,520.5,958.4,713.9,632.4,672.2,0.89249999999999996,695.8,0.86229999999999996,0,0]
[null,"SUISU241","SUI241","SUI 241","PhoeniX","X-35SD","X-YACHTS","X-YACHTS DESIGN GR",2006,null,null,"CLUB","C",600,"25 04 2018 16:55:10",10.6,9.3859999999999992,1.8520000000000001,3.25,4331,114.7,0,607.79999999999995,1.0157,664.6,0,0,964.5,786.3,693,647.1,618.70000000000005,597.6,574.6,920.4,754.7,675.7,638.4,616,597.29999999999995,576.6,822.8,670.1,590.4,545.4,518.29999999999995,500.3,476.6,875.5,707.2,617.9,566.79999999999995,535.70000000000005,515.5,490,962.2,740.1,627.6,566.70000000000005,531.20000000000005,500.8,453.4,42.8,41.6,40.200000000000003,39.5,40,39.700000000000003,40.9,142.4,148.30000000000001,151.6,159.1,180,180,180,987.1,819.9,748.1,726.9,720,709.6,715.1,648.29999999999995,549.29999999999995,515.20000000000005,506,502.2,498.8,494.5,614.29999999999995,529.70000000000005,501.2,491.6,487.3,485.2,477.3,589.29999999999995,517.4,489.7,473.3,464.7,459.8,452.4,594.70000000000005,518.4,488.4,466.8,448.2,434.8,424.2,605.9,512.29999999999995,476.9,451.4,435.8,422,402.5,622.9,521.4,482.1,451.6,424,405.1,379.2,688.7,560.9,503.2,472.7,443.3,415.1,356,815.7,651.79999999999995,553.6,502.5,473.9,446.7,394.6,941.9,752.7,638,567.29999999999995,517.29999999999995,485.5,434.2,0.99229999999999996,1.2436,1.3715999999999999,0.77110000000000001,1.0121,1.1358999999999999,0,0,0,0,1.0108999999999999,0,0,593.6,"SUI00003880",8.9130000000000003,5144,23.9,42.8,33.200000000000003,92.2,0,680.2,542.79999999999995,492.1,875.4,666.9,594.20000000000005,621.29999999999995,0.96579999999999999,637,0.94189999999999996,0,0]
[null,"SUISU2004","SUI2004_O","SUI 2-O","SOLSTITIA-O","Clarc 33","Clarc Yachts","D,Blank",2010,null,null,"CLUB","C",598,"07 05 2018 17:56:28",10.17,9.2089999999999996,1.9319999999999999,2.54,2826,131.6,0.14000000000000001,611,0.99460000000000004,678.7,0,0,969.8,803.2,714.8,662.9,632.29999999999995,607.70000000000005,580.6,912.3,760.5,686.6,647.79999999999995,623.29999999999995,602.29999999999995,576.20000000000005,817.1,671.1,594.79999999999995,550.9,523.1,503.7,475.8,904.5,725.9,630.1,574.6,540.1,517,487,974.4,754.7,643.4,575.79999999999995,538.29999999999995,503.7,450.9,43.5,41.3,39.200000000000003,38.299999999999997,38.200000000000003,37.9,38.9,142.19999999999999,144.30000000000001,147.19999999999999,156.4,174.3,178.4,177.6,923.8,799.8,746.7,724.4,716.8,706.2,705.9,600.29999999999995,539.4,521.20000000000005,511.7,507.8,505.2,499.3,563.70000000000005,519.5,505.4,497.1,492.3,490.3,481.7,536.5,500.4,485.7,476.4,466.6,460.9,453,532.9,494.2,471.4,456.3,445.2,431.4,418.2,581.6,517.4,480.9,445.6,419.5,404.3,375.8,643.70000000000005,530.20000000000005,492.1,459.7,425.7,393.6,360,732.5,590.5,520.9,488.5,457.4,425.2,358.1,879.7,698.5,591.29999999999995,527.6,495.2,466.9,407,1015.7,806.6,682.8,601.5,547.79999999999995,509.2,455.2,0.99909999999999999,1.2269000000000001,1.3633999999999999,0.76139999999999997,0.98650000000000004,1.1181000000000001,0,0,0,0,0.99580000000000002,0,0,602.5,"SUI00003911",8.8539999999999992,3624,19.8,31.7,22.5,0,0,675.6,550.20000000000005,495.1,886.5,684.2,603.70000000000005,632,0.94940000000000002,650.20000000000005,0.92279999999999995,0,0]
[null,"SUISU2090","SUI2090","SUI 209","MAXI-MILIAN  III","X-35SD","X-YACHTS","X-YACHTS DESIGN GR",2006,"SVB, YLB",null,"CLUB","C",480,"16 05 2018 16:15:20",10.6,9.3859999999999992,1.8520000000000001,3.25,4331,114.7,0,607.5,1.014,665.7,0,0,958.2,784.6,694.4,649,621.4,599.79999999999995,577.79999999999995,915.2,753.2,677.3,641.1,618.70000000000005,599.4,580.5,819.2,668.6,590.29999999999995,546.4,519.79999999999995,502.2,479.1,877.5,709.3,620.29999999999995,569.4,538.5,518.5,494,955.4,738,628.4,568.1,533.20000000000005,503.1,456.2,42.7,41.4,40.299999999999997,39.6,39.6,40,41.4,141.4,148.30000000000001,151.30000000000001,158.80000000000001,180,180,180,986.6,820.9,754.8,734.4,727.7,715.8,723.5,648.5,550.6,518,509.1,505.4,501.1,497.6,614.70000000000005,530.5,503,494.2,490.2,488.2,480.6,589.9,517.9,490.8,475.5,467.9,463.5,455.4,594.9,512.79999999999995,488.9,468.1,450.5,438.1,428.5,591.4,506.4,474.1,453.4,438.6,425.4,405.4,608.70000000000005,515.20000000000005,478.7,449.1,423.8,408.4,383.1,677.4,554,499.8,469.6,439.8,411.3,351.8,805.3,648.1,550,499.5,471.1,443.4,390.3,929.9,748.3,634,563.6,515.1,483.7,432.1,0.99809999999999999,1.2415,1.3655999999999999,0.77459999999999996,1.0097,1.1308,0,0,0,0,1.0095000000000001,0,0,594.29999999999995,"SUI00003966",8.827,5144,23.9,42.8,32.4,92.2,99.5,676.3,543.70000000000005,494.3,871.4,668.5,596.9,623.79999999999995,0.96179999999999999,639.4,0.93840000000000001,0,0]
[null,"SWE9M1180","SWE9Mat1180","SWE 9","DATACOM","MAT 1180","Gurrit","Mark Mills",2015,"128 30 Skarpnäck",null,"INTL","R",850,"23 05 2018 14:48:06",11.8,10.999000000000001,2.9,3.97,4365,129.5,0,522.20000000000005,1.1786000000000001,572.70000000000005,0,0,844.5,677.6,599.4,562.5,538.5,509.5,466.3,803.5,650.20000000000005,581.1,546.29999999999995,521.20000000000005,496.7,473.3,714.3,579.1,507.4,465.2,437.5,416.9,385.8,788.3,632.1,547.29999999999995,496.8,464.2,441.5,410.5,842.1,638.5,542,486.9,453.2,419.5,365.9,42.6,41.2,39.1,38.1,37.700000000000003,36.9,37.5,142.4,144,149.1,151.80000000000001,148.69999999999999,145.6,142.80000000000001,867.7,706.9,646.70000000000005,626.20000000000005,617.5,602.6,602,569.4,478.5,453,444,439.1,433.2,425.7,537.9,464,438.9,427.4,420.7,417,403.5,515.29999999999995,455,423.9,401.5,390.6,384.3,372.4,522,456.8,424.6,393.2,369.9,355.3,341.5,513.29999999999995,442.6,409.9,388.1,367.8,348.6,308.89999999999998,528,446.7,403.1,374.6,353.3,332.7,299.5,595.6,472.8,428,386.8,346.2,309.7,269,711.2,561.5,478.1,430.9,398,360.7,286.3,821.3,648.29999999999995,552,498.8,459.5,416.5,330.6,1.1427,1.4480999999999999,1.6517999999999999,0.88700000000000001,1.1671,1.3485,0,0,0,0,1.1812,0,0,508,"SWE00180251",11.186,5343,29.3,56.9,38.799999999999997,0,179.3,590.70000000000005,466.1,408.6,761,578.4,500.6,550.29999999999995,1.0902000000000001,564.4,1.0630999999999999,0,0]
[null,"SWE34Fa30","SWE34Farr30","SWE 34","Mrs Freckles","Farr 30","Ovington","FARR",1996,704441207,null,"INTL","R",475,"20 06 2018 16:38:20",9.4350000000000005,8.9090000000000007,2.14,3.04,2307,118,0,595.29999999999995,1.0342,652.70000000000005,0,0,926.7,755.2,676.7,643.5,620.1,590,542.5,885,728.5,659.5,625.4,600.1,574.20000000000005,546.6,798.8,654.6,579.4,536,507.6,486.2,452.8,871.1,704.3,615.29999999999995,563.20000000000005,530,506.9,474.6,924.2,713.5,615.5,561,526.29999999999995,490.5,432.5,41.6,40.1,37.9,37,36.799999999999997,36.200000000000003,36.799999999999997,143.4,145.80000000000001,150.80000000000001,151.80000000000001,176,144.80000000000001,143,952.3,790.5,731.9,711.7,703.2,687.6,687.3,632.1,544.79999999999995,521.4,512.5,507.7,502.6,495.5,600.4,530.29999999999995,508.1,497.2,490.7,487.9,474.1,578.9,520.1,493.7,473,460.6,453.2,441.9,578.20000000000005,522,491.8,463.3,440,423.2,407.9,570.6,506.2,474.5,452.4,432.2,413.1,373.6,585.6,510.3,469.9,436.1,413.5,393.4,357.8,657.3,539,494.2,452.2,409.6,369.9,318.39999999999998,780.5,623.4,538,499.2,467.6,426.5,344.3,901.2,719.9,621.4,575.29999999999995,536.9,492.5,397.6,1.0254000000000001,1.2585,1.4133,0.80259999999999998,1.0258,1.1644000000000001,0,0,0,0,1.0319,0,0,581.5,"SWE00180326",8.8569999999999993,3055,17.8,36.200000000000003,20.6,0,90.3,658.3,536.4,477.6,841,658,579.70000000000005,617.5,0.97160000000000002,633.79999999999995,0.94669999999999999,0,0]
[null,"UKR0558_3","UKR0558_Gonta","UKR 558","Gonta","Carter 33 modif,","Grischenko/Bondar","Dick Carter",1979,"Y,C, KKYC",null,"CLUB","C",538,"23 05 2018 16:58:20",9.94,8.1329999999999991,1.671,3.45,4554,123,0.11,683.1,0.90849999999999997,743,0,0,1085.5,897.3,780.9,717.1,680.7,662.3,647.1,1044.5,863.4,764,711.4,683.7,668,656.4,929.9,755.4,663.1,610.70000000000005,579.70000000000005,560.5,539.20000000000005,978.9,790.4,689.5,631.4,596.6,575,550.4,1080.7,842.8,705.9,630.4,590.70000000000005,560,511.3,42.9,42.3,42.4,41.3,40.700000000000003,40.700000000000003,42.5,147.5,151.4,151.5,160.80000000000001,180,180,180,1133.3,961.1,855.6,810.2,793.9,789,804.1,746.9,634.6,578.1,558,550.5,547.1,547.4,709.9,605,561.9,544.1,535.1,530.70000000000005,528.79999999999995,681.1,586.1,550.4,531.1,517.20000000000005,507,498,685,585.79999999999995,543.9,522.29999999999995,508.7,493.5,471.8,693.5,577,534.70000000000005,509.1,487.5,470,451.3,709.6,586.5,539.20000000000005,511.4,486.1,465.1,437.7,770.8,631.5,559,527.5,502,477.3,436.4,898.6,721.7,613.20000000000005,554.79999999999995,526.70000000000005,503.1,459.1,1037.5999999999999,833.5,706.3,624.1,567.4,535.6,490,0.87290000000000001,1.1114999999999999,1.2244999999999999,0.68089999999999995,0.90690000000000004,1.0208999999999999,0,0,0,0,0.90100000000000002,0,0,665.9,"UKR00007706",7.4640000000000004,5267,22,27.3,40.9,83.3,68.099999999999994,773.3,607.29999999999995,551.20000000000005,991.3,744.3,661.2,691.6,0.86760000000000004,710.9,0.84399999999999997,0,0]
[null,"UKR1222_2","UKR1222_Smila_2","UKR 1222","Smila-2","Solina 24","Solina Yachts","Andrzej Skrzat",2006,"YC Parus",null,"CLUB","C",396,"05 06 2018 14:32:00",7.34,6.9420000000000002,1.329,2.76,1949,94.1,0.04,729.4,0.84109999999999996,802.5,0,0,1166,961.7,836.2,773.8,737.8,721.5,707.5,1134.4000000000001,933.8,826.3,773.2,744.6,729,716.4,986.6,804.3,708.5,654.4,622.29999999999995,602.29999999999995,579.20000000000005,1092.2,876.5,759.2,690.6,649.4,624.20000000000005,597.6,1154.7,899.6,755.1,680.4,636.29999999999995,601.70000000000005,542.20000000000005,47.1,46.1,44.3,42.8,41.6,41.8,43.4,148.1,148.69999999999999,156,180,180,180,180,1279.2,1067.5,936.1,896.3,876,872.9,897,807.9,678.4,618.4,603.6,597.70000000000005,594.5,598.70000000000005,745.9,636.70000000000005,596.79999999999995,584.20000000000005,578.5,574.79999999999995,575.29999999999995,692.8,612,581.79999999999995,563.1,553.4,548,537.20000000000005,690.3,610.79999999999995,578.79999999999995,553.79999999999995,531.70000000000005,516.70000000000005,497.5,705.2,607,569.70000000000005,538.29999999999995,507.7,484,455.2,723.8,616.5,575.70000000000005,544.9,513.6,484.4,435.1,789.7,654.5,595,563.70000000000005,534,505,452,911.8,741.1,643.79999999999995,593.79999999999995,565.1,538.1,486,1052.8,855.8,736.3,651.4,599.6,570.20000000000005,518.1,0.82410000000000005,1.0374000000000001,1.1387,0.63449999999999995,0.84240000000000004,0.93710000000000004,0,0,0,0,0.83860000000000001,0,0,715.5,"UKR00007730",6.2469999999999999,2466,12.6,20.100000000000001,12.6,35,37.6,819.1,650.70000000000005,592.79999999999995,1063.8,801.3,720.3,758.2,0.79139999999999999,783.6,0.76570000000000005,0,0]
[null,"USAUS6006","US6006","USA 2608","Sprint 6","GP 26",null,"DONOVAN",2013,null,null,"CLUB","S",549,"11 04 2018 17:53:36",7.9,7.8959999999999999,1.909,2.5499999999999998,1230,114.9,0,610.5,1.0101,668.3,0,0,999.4,800.4,700.3,655.9,620.9,588.1,525.6,957.9,772.7,681.1,634.29999999999995,602.5,575.6,536.70000000000005,842.2,680.6,593.20000000000005,540.4,504.7,477.5,434.9,931,743.4,641.20000000000005,580.20000000000005,540.70000000000005,512.29999999999995,470,993.5,753.6,634.6,567.1,521.20000000000005,480.2,410.9,42.7,41.8,38.4,37.200000000000003,36.799999999999997,36.700000000000003,36.700000000000003,143.6,146.6,150.19999999999999,148.4,145.19999999999999,144.30000000000001,142.69999999999999,1058.8,857.7,758.9,733,724.3,718.6,711.5,694.4,578.9,539.79999999999995,525.79999999999995,519,515.29999999999995,502.6,655.7,561.5,524.4,504.2,494.5,489.1,473.4,626.6,550.1,509.3,471.9,454.2,444.6,428.7,608.20000000000005,537.20000000000005,508.4,466.8,426.2,404,385.8,595.4,517.6,470,440.6,413.1,386.9,338.1,608.6,524.20000000000005,463.1,419.5,391,364.1,323.5,686.7,557,496.8,438.6,382.4,334,283.39999999999998,814.1,643.5,555.6,501.1,448.2,396.4,294.2,940,743.1,641.79999999999995,578.70000000000005,517.5,457.7,339.7,0.9647,1.2417,1.4462999999999999,0.75009999999999999,1.0015000000000001,1.1782999999999999,0,0,0,0,1.0135000000000001,0,0,592,"USAX016EMLT",8.0980000000000008,1867,15.1,28.2,15.4,0,84.3,699.7,543.6,466.7,899.9,674,572.9,639.9,0.93759999999999999,661.8,0.90659999999999996,0,0]
[null,"USAUS6292","US6292","USA 51120","WINDBORN","J-120","TPI","JOHNSTONE",1994,null,null,"CLUB","C",771,"02 05 2018 13:37:12",12.244,11.292999999999999,2.1619999999999999,3.67,6872,121,0.02,578.4,1.0697000000000001,631,0,0,944.9,764.1,659.4,607.70000000000005,584.79999999999995,562.5,533.6,898,726.7,637.79999999999995,593.79999999999995,569.5,550.4,522.9,794.4,641.70000000000005,560.9,515,487.2,468.7,443.5,852.5,683.6,592,538.20000000000005,504.7,482.5,454.5,943.8,718.1,596,530.9,498.3,469.7,425,43,41.6,40.6,38.9,37.9,37.200000000000003,36.6,143.6,147.4,146.69999999999999,150.4,151.80000000000001,175.5,177.5,956.2,787.5,699.8,663.3,645.6,635.4,625.20000000000005,627.20000000000005,525.20000000000005,482.9,469.2,462.7,459.2,456.9,594.29999999999995,504.4,471.1,457.8,451.1,447.1,443.3,571,491.7,462.3,446.3,434.8,427.4,419.3,578.1,494.4,461.9,442.9,426.8,412.2,393.2,589.79999999999995,487.9,451.5,429.2,413.7,400.6,378.4,603.6,496,454.8,429,404.2,384.2,358.2,682.2,541.6,474.4,445.5,419.8,392.8,340.4,808.6,641.4,536.1,478.4,455.5,436.8,392.9,933.7,740.7,619.1,552.20000000000005,523.9,489.6,442,1.0224,1.3174999999999999,1.4652000000000001,0.78990000000000005,1.0676000000000001,1.2113,0,0,0,0,1.0669,0,0,562.4,"USAX0185JH3",10.715,7986,32.799999999999997,47,53,0,145.19999999999999,660.2,512.29999999999995,460.7,854.5,632.29999999999995,557.29999999999995,595.1,1.0083,610.9,0.98219999999999996,0,0]
[null,"ISR039/16","ISR452","ISR 452","Solara","Sun Oddyesey 45,1","JEANNEAU","Briand",1995,"ISRAEL","Itshak AbuAziz","CLUB","C",817,"8/3/2016",13.8,11.379,2.0790000000000002,4.49,10174,107.8,0.42,685.3,0.89070000000000005,757.8,0.505,-41.4,1244.3,977.4,830.7,735.1,668.2,627,571.6,1193.5,942.4,801.7,711.3,650.70000000000005,612,568.29999999999995,994.3,782.1,662.4,588.6,540.5,508,467.2,1054.0999999999999,823.8,692.7,610.79999999999995,556.9,520.29999999999995,475.6,1233.5999999999999,927.2,749.6,637.70000000000005,563.4,511.7,443.8,47.3,46.1,45.4,45.1,44.8,44.4,43.6,145,145.6,145.80000000000001,145.4,146,148.19999999999999,173.4,1334.7,1063.8,915.5,817.8,747.2,702.3,670.6,837.8,674.7,584.1,523.4,483.4,462.4,448.8,765.8,623.9,541.9,489.3,460.7,444.9,430.2,707.1,581.20000000000005,506,465.2,444.3,429.6,406.8,707.5,581.70000000000005,506.6,460.3,436.8,420.6,402.8,727.2,584.1,499.8,456.5,433.6,414.5,380,756.2,604.20000000000005,514.79999999999995,464.4,439,419.7,384.2,847.6,665,562.1,494.1,456.7,435,399.3,999.3,771.6,646.1,565,510.2,477.7,438.4,1153.8,890.9,746,652.4,589.20000000000005,551.6,472.6,0.8024,1.1325000000000001,1.3685,0.60770000000000002,0.87609999999999999,1.0948,0,0,0.58599999999999997,71.5,0.90620000000000001,0,0,662.1,"ISR00061744",9.0239999999999991,11286,39.799999999999997,34.9,52.3,0,97.8,7451]
[null,"CLU168881","I16888","ITA-16888","LUCETTA","SUN ODYSSEY 32,2","JEANNEAU","FAUROUX",1989,"LNI ACCIAROLI","COLELLA PAOLO","CLUB","C",360,"7/4/2016",9.3000000000000007,8.3279999999999994,1.4490000000000001,2.97,4100,118.6,0.41,724.5,0.86099999999999999,784,0.54300000000000004,9.6,1223.9000000000001,987.4,856.2,763.6,698.7,661.9,629.79999999999995,1177.0999999999999,955.6,831.4,751.1,698.9,667.5,634.79999999999995,1015.7,813.7,702.5,635.4,592.4,563.70000000000005,527.70000000000005,1061.0999999999999,845.7,726.4,654.20000000000005,607.9,576.9,538.29999999999995,1248.0999999999999,956.8,790.1,686.1,617.70000000000005,570.1,506.1,45.3,43.7,43.7,43.6,41.8,41.1,40.299999999999997,147.69999999999999,151.6,154.9,158,180,180,180,1290.5,1065.9000000000001,943.1,854.6,796.9,767.6,748.1,825.1,692.3,611.70000000000005,567.6,545.29999999999995,532.29999999999995,521.79999999999995,768.8,648.20000000000005,579.6,548.29999999999995,530.4,517.20000000000005,501.7,723.3,610.9,557.79999999999995,533.79999999999995,516.79999999999995,501.5,473.9,725.5,613.29999999999995,559.4,530.20000000000005,509.2,491.1,469.5,756.3,622.20000000000005,555.5,526.4,504,481.2,440.1,779.2,639.6,563.79999999999995,531.6,509.7,487.7,445.2,859.7,697.7,599.20000000000005,550.4,525,503.8,460.9,1002.2,788.1,669.4,589.4,548.4,525,484.8,1157.2,908.9,769.2,672.5,600.6,556.29999999999995,511.6,0.79349999999999998,1.0573999999999999,1.2270000000000001,0.61050000000000004,0.84699999999999998,1.0241,702.2,0.85440000000000005,0.63100000000000001,123,0.85460000000000003,0.54600000000000004,12.1,702.1,"CLU00019217",7.2169999999999996,4802,21,20,28.6,51.6,0,7474]
[null,"CLUSOD342","LUPALI","ITA-LUPALI","LUPO ALBERTO I","SUN ODYSSEY 34,2","JEANNEAU","FAROUX",1996,"C,N,ARCOBALENO","AUTIERI ORESTE - DEL TUFO ANIELLO","CLUB","C",480,"14/3/2016",9.99,8.4990000000000006,1.7,3.29,4414,121.9,0.2,698.8,0.87680000000000002,769.9,0.58099999999999996,28.2,1173.5999999999999,952.9,825.4,746.4,695.4,665.9,639.9,1113.2,908.3,794.4,728.6,691.5,670,647.20000000000005,966.1,778.8,677.8,618.9,582.79999999999995,559.6,531.70000000000005,987.7,792.9,687.4,625.79999999999995,588.20000000000005,564.4,536.6,1204.7,925.7,767.6,670.5,607.70000000000005,564.5,506.1,44.7,43.4,44,42.8,41.6,41.5,41.8,143.19999999999999,152.1,155.6,168.5,169.4,178.4,179.4,1171.5,979.6,871.8,813.8,787.5,775.7,771.4,754.7,636.29999999999995,570.1,544.70000000000005,535.29999999999995,531.1,529.79999999999995,706.1,596,546.6,526.6,518.1,513.79999999999995,511.4,654.79999999999995,558.1,524,506.6,497.2,488.4,481.8,643.20000000000005,555.20000000000005,523.9,503.8,485.2,471,457.5,709.6,594.1,536.79999999999995,512.29999999999995,491.7,470.5,437.4,750.3,620.9,551.4,521.20000000000005,499.7,478.8,438.9,856.8,693.7,594.4,543.29999999999995,518,498.4,459.4,1018.1,801.8,678.5,593.6,545.6,520.29999999999995,482.2,1175.5999999999999,926.2,778.9,679.1,603.29999999999995,556.1,508.4,0.83720000000000006,1.0928,1.2304999999999999,0.63480000000000003,0.86850000000000005,1.0173000000000001,689.3,0.87050000000000005,0.71699999999999997,183.2,0.87780000000000002,0.58699999999999997,35.4,683.5,"CLU00018840",7.617,5118,21.7,26.9,34.4,0,0,7489]
[null,"GRE000987","GR1632","GRE-1632","VICTORIA II","SUN ODYSSEY 37,1","JEANNEAU","FAUROUX",1994,"NAOKTh","CHOULIARAS VASILIS","CLUB","C",500,"23/5/2016",11.23,9.8420000000000005,1.849,3.83,6000,109.5,0.36,725.4,0.85580000000000001,788.8,0.49,-29.8,1316.8,1026,864.5,760.2,694.1,652,613.4,1244.5,981.5,834.8,742.5,685.6,652.9,622.4,1047.2,825.1,701,625.79999999999995,578.29999999999995,547.4,511.6,1047.2,825.1,701,625.79999999999995,578.29999999999995,547.4,511.6,1307.9000000000001,980.5,793.2,677.6,602.70000000000005,551.70000000000005,485.8,46.5,45.2,44.6,44.5,43.5,42.4,42.8,167.3,167.9,168.8,169.8,170.2,171.3,175.2,1305.4000000000001,1049.7,913.2,822,771,747.1,734,824,671.7,586.29999999999995,533.70000000000005,509.8,500.6,494.8,757.8,624.5,547.5,508.9,490.9,482.5,476.5,703.5,583.6,519.6,491.4,474.5,461.3,446.8,703.9,584.4,520,491.7,474.1,458.5,430.9,793.4,639.6,551,506.1,482.8,464.4,427.6,848.7,678.8,580.6,521.1,491.7,472.2,435.8,979.3,762.1,643.29999999999995,564.6,516.5,490.8,455.3,1159.2,883,728.5,631.70000000000005,562.6,517.79999999999995,474.5,1328.2,1002.3,815.8,698.4,617.1,556.9,492.7,0.7631,1.0706,1.2667999999999999,0.57620000000000005,0.84309999999999996,1.0416000000000001,0,0,0.55100000000000005,63.5,0.85670000000000002,0,0,700.3,"GRE01006051",8.2210000000000001,6913,29.5,31.2,40.700000000000003,0,0,7539]
[null,"ESP511301","E5113_C","ESP-5113_C","CIENTOTRECE","SUN ODYSSEY 40","JEANNEAU",null,1998,"R,C,N,VALENCIA","CHEMA ESCUDERO FERREIRO","CLUB","C",400,"16/6/2016",11.71,10.423999999999999,1.964,3.94,7177,122.5,0.23,665.5,0.9274,727.9,0.55800000000000005,-10,1179.8,932.3,788.8,701.4,647.20000000000005,612.1,578.70000000000005,1108.0999999999999,884.9,758.9,683.2,639.20000000000005,613.4,585.6,943.8,750.6,644.1,580.4,540.6,514.6,483.5,943.8,750.6,644.1,580.4,540.6,514.6,483.5,1185.2,895.5,730.6,629.4,564,519.4,460.3,46,44.6,44.6,43.5,42,41.7,41.1,143.19999999999999,166.6,167.7,168.6,169.1,170.9,174.5,1145.8,938.3,820,751.5,717.9,700.8,688,727.6,603.1,529.70000000000005,496.7,484.5,478.6,473.9,673.6,561.79999999999995,502.4,478.4,468.3,462.8,457.9,628.1,527.9,484.2,463.7,449.4,439.7,430.8,626.29999999999995,526.9,484.2,463.3,446.7,431,408.5,697.9,581.1,507.4,475.9,456.3,437.7,401.2,752.5,614,530.79999999999995,487.8,465.1,446.4,409.2,877.4,692.8,589.4,521.9,485.8,465,429.6,1051.2,808.8,672.5,585.20000000000005,524.29999999999995,488.5,450.1,1213.8,926.3,757.6,651.4,576.5,523.29999999999995,469.4,0.85040000000000004,1.1596,1.3432999999999999,0.63919999999999999,0.91679999999999995,1.1095999999999999,647.79999999999995,0.92620000000000002,0.64500000000000002,99.4,0.92730000000000001,0.56100000000000005,-7.7,647,"ESP00018427",9.1609999999999996,8156,32.9,42.6,50.8,0,0,7565]
[null,"CLU170951","I17095","ITA-17095","GEBEL","SUN ODYSSEY 43","JEANNEAU","ANDRIEU",1999,"C,N,MARINA GENOVA AEROPORTO","MONDOLFO SERGIO","CLUB","C",560,"9/3/2016",12.84,10.955,2.1240000000000001,4.2,9990,121.6,0.46,664.8,0.93140000000000001,724.7,0.55000000000000004,-19.899999999999999,1173.7,930,796.1,705.5,641.1,600,561.29999999999995,1125.2,897.8,770.5,688.1,633.9,600.79999999999995,565.70000000000005,951.2,753.7,643.29999999999995,575.9,532.6,503.7,469.1,1000.4,788.5,669.3,596,548.5,516.79999999999995,478,1175.9000000000001,890.4,725.9,623.1,555.5,508.9,447.6,46.3,44.9,44.2,44.5,43.5,42.6,41.7,146.30000000000001,149.6,152.30000000000001,153.80000000000001,159.30000000000001,180,180,1246.4000000000001,1005.8,876.3,787.5,725.5,694.2,669.3,788,645.5,564.4,509.5,481.5,468.5,459.2,726.2,601.6,526.20000000000005,484.9,464.8,453.2,442.6,675.7,563.29999999999995,497.6,468,451.3,438.3,418.5,675.5,563.5,497.8,466,447.6,438.1,412.8,704.3,572.1,495.4,461.8,441.7,423.1,396.6,727.8,589.20000000000005,506.4,467.5,446.1,427.7,393,808.5,645,549.1,489.9,461.2,442.2,406.8,953.5,739.8,620.9,542.70000000000005,490.1,463,428.1,1101.0999999999999,854.3,715.8,623.6,556.6,505.7,453.2,0.84189999999999998,1.1620999999999999,1.3767,0.64170000000000005,0.91420000000000001,1.133,642.20000000000005,0.93430000000000002,0.623,78.3,0.93359999999999999,0.55400000000000005,-17.2,642.70000000000005,"CLU00018717",9.0730000000000004,11023,37.200000000000003,41.9,49.4,98.2,0,7610]
[null,"CLU170651","I17065","ITA-17065","VOREAS VELAKI","SUN ODYSSEY 45,1","JEANNEAU","JEANNEAU",1995,"C,V,BARI","CILLO UBALDO","CLUB","C",583,"18/5/2016",13.8,11.173,1.696,4.49,9071,113.2,0.39,690.7,0.8841,763.5,0.498,-41.4,1264.4000000000001,990.9,837.4,738.9,673.3,629.20000000000005,585.9,1193.9000000000001,947.3,809.1,721.2,663.9,628.4,595.4,996.5,786.1,667.8,595.29999999999995,548.4,517.20000000000005,480,996.5,786.1,667.8,595.29999999999995,548.4,517.20000000000005,480,1255.2,940.5,759.2,645.79999999999995,571,519,450.7,48.2,47.2,47,46.9,46.6,46.5,46.3,145.19999999999999,168.2,169.1,170.1,170.6,171.1,174.8,1266.9000000000001,1028.4000000000001,898.4,813.2,759.5,729.6,712.2,790.1,646.9,566.20000000000005,513.29999999999995,481.7,468.2,459.6,718.3,594.4,521.1,478.2,456.3,444.7,435.8,659.6,549.29999999999995,485.5,455.2,437.3,423.4,404.3,654.79999999999995,545.6,482.9,453.5,435.8,420.7,394.3,738,597.79999999999995,514,468.5,444.9,427.1,394.3,785.4,633.20000000000005,543.5,485.4,454.7,435.2,401.3,913.5,714.4,604.20000000000005,530.79999999999995,482,454.5,419.9,1092.9000000000001,834.2,689.6,598.1,532.79999999999995,486.4,439.5,1262,953.3,776.4,664.6,587,528.70000000000005,459.5,0.80159999999999998,1.1220000000000001,1.3425,0.59860000000000002,0.86950000000000005,1.0818000000000001,669.5,0.89610000000000001,0.56999999999999995,62.8,0.89539999999999997,0.502,-38.6,670.1,"CLU00019918",8.9580000000000002,10139,37.1,38.4,52.1,0,0,7629]
[null,"GRE000148","GR1393","GRE-1393","PANAGIOTIS G","SUNWIND 31","NYKRA","TORD SUNDEN",1981,"NOTK","GLYPTIS NIKOLAOS","CLUB","C",473,"13/7/2016",9.41,7.4130000000000003,1.5669999999999999,2.9,3800,130,0.52,762,0.81659999999999999,826.6,0.53600000000000003,26.6,1277.8,1029.5999999999999,893.5,798.7,740.9,713.5,691.5,1230.5,997.9,870.2,792.3,747,723.1,701.7,1063.4000000000001,852.7,738.4,671.3,630.5,604.9,576.1,1112.2,887.6,764.5,691.7,646.79999999999995,618.5,586.6,1304.2,1001.7,830.1,724.7,656.6,609.70000000000005,546.1,44.9,43,43.1,43.8,42.8,42,42.4,148.6,153.4,156.80000000000001,168.9,180,180,180,1352.5,1115.5,992.2,908.1,865.6,849.1,850.8,869.2,728.8,644.4,602.70000000000005,584.4,577.5,575.29999999999995,813.9,684.7,612,581.79999999999995,566,557.70000000000005,553.79999999999995,770.1,647,590.5,565.9,548.70000000000005,534.9,520.29999999999995,775.8,641.6,581.1,554.29999999999995,542.29999999999995,531.1,503.3,775,637.1,579.4,551,526.20000000000005,503.5,483.7,802.1,657.5,587.70000000000005,557.70000000000005,533.4,509.2,470.4,897,725.2,620.1,575.9,550,526.5,483.1,1042,820.1,691.6,610.20000000000005,573.1,549.20000000000005,505.2,1203.2,943.8,794.8,689.3,616.29999999999995,577.79999999999995,532.1,0.75929999999999997,1.0066999999999999,1.1395,0.58509999999999995,0.80830000000000002,0.94789999999999996,0,0,0.64800000000000002,168,0.81240000000000001,0,0,738.6,"GRE01006429",6.41,4423,18.5,23.9,22.7,51,0,7690]
[null,"SUISUI760","SUI760","SUI 760","CARA SARA","Surprise","Archambault","Joubert/Nivelt",1977,"SIMPL","Brun, Miriam","CLUB","S",400,"21/4/2016",7.65,6.8319999999999999,1.57,2.38,1234,93.5,0.06,691.1,0.90280000000000005,747.7,0.59099999999999997,24.3,1140.9000000000001,920.7,792.4,718.9,680.1,656.9,621.4,1085.7,881.8,771.2,710.3,675.1,650.9,613.1,954.8,770.8,671,611.5,573,546.20000000000005,509,1001.8,804.5,697.4,633.70000000000005,593,565,527.1,1172.5,903.6,751.3,657.1,594.1,548.5,482.7,43.2,41.9,40.1,37.700000000000003,36.4,35.799999999999997,36,146.9,150.80000000000001,152.69999999999999,168.1,180,180,180,1168.9000000000001,963.4,846.8,791.9,770,758.8,756.5,762.6,640.20000000000005,590.6,568.1,558,551.70000000000005,546.79999999999995,717.1,614.5,575.5,549.5,536.20000000000005,528.4,522,680.2,597.6,561.5,528.20000000000005,502.5,490.5,480.3,684.5,596.70000000000005,553.5,528.1,496.3,467.6,441.4,694.7,594.29999999999995,550.20000000000005,505.1,467.7,447.9,411.8,720.3,604.9,559.70000000000005,516.4,473.5,429.3,382.3,806.4,659.7,585,546,505.4,465.3,378.8,963.7,760.2,642.1,581,544.79999999999995,507.5,433.6,1112.8,877.9,738.1,646,590.1,555,486.4,0.84830000000000005,1.1009,1.2635000000000001,0.65490000000000004,0.89939999999999998,1.0394000000000001,0,0,0.77700000000000002,216,0.89580000000000004,0,0,669.8,"SUI00002154",6.9720000000000004,1731,13,18.899999999999999,16.399999999999999,41.1,0,7705]
[null,"ltuLT1216","Affair","LTU 1216","AFFAIR","swan 42 club","Nautor Swan","GERMAN FRERS",2006,"Lietuva","UAB Corporate Property Holding","CLUB","C",871,"20/5/2016",12.96,11.978,2.77,3.91,8296,138.30000000000001,0,544.4,1.1364000000000001,594,0.79700000000000004,53.9,883,718.3,621.79999999999995,574.20000000000005,550.9,527.70000000000005,497.7,843.4,686.7,603.79999999999995,560.9,535.9,515.6,484.1,744.6,603.4,528.5,485.3,458.3,439.6,412.3,806.7,647.4,560.6,508.9,476.1,453.8,424.3,912.5,707.3,592.29999999999995,522.20000000000005,476.5,443.9,396.6,42.9,42,40.299999999999997,38.1,37,36.200000000000003,35.4,143.4,146,149.30000000000001,151.4,152.9,176.3,177.8,912.9,754,663.9,624,603.70000000000005,591.29999999999995,575,597,500.1,458.5,443.6,436.3,431.9,423.7,561.4,477.8,446.4,431.8,424,418.9,410.8,531.4,462.9,436.7,419.2,404.5,395.6,386.7,533.70000000000005,462.4,437.7,419.1,400.4,382.6,361.4,545.70000000000005,459.4,427.3,408.8,394.9,381.3,355.9,561.5,467.1,432.7,406,382.1,367.3,339.8,623,505.3,451.6,425.2,399.8,372.8,316.3,738.8,591.20000000000005,502.1,454.9,434.4,414.9,368.1,853.1,682.6,579.70000000000005,524.5,498.1,464.1,420.3,1.0914999999999999,1.3946000000000001,1.5639000000000001,0.84309999999999996,1.1319999999999999,1.2925,0,0,1.073,271.8,1.1324000000000001,0,0,529.9,"ltu00000346",11.715999999999999,9486,35.700000000000003,62.8,49.9,0,170.2,7766]
[null,"RUS420571","IVB 4205","IVB 42-057","Digital Alpha","Swan 42 Club","Nautor","GERMAN FRERS",2006,"British Virgin Island","Palatenar Trade Corp","INTL","R",875,"20/5/2016",12.98,11.91,2.7549999999999999,3.91,7930,136.69999999999999,0,542.4,1.1269,599,0.78800000000000003,50.6,892,724.1,626.1,578.6,556,532.79999999999995,502.9,852.3,692.5,608.6,565.9,541.20000000000005,521,490.5,737.5,599.9,527,484.9,458.5,440.1,413.7,815.4,653.4,565,512.6,479.3,456.7,426.5,918.9,711.1,594.70000000000005,524,477.8,444.7,396.8,43.2,42,40.9,38.799999999999997,38.1,37.299999999999997,36.799999999999997,143.1,145.80000000000001,148.80000000000001,151.4,152.5,177.8,179,927.7,764.5,673.2,634.4,615.29999999999995,603.79999999999995,588.6,598.6,503.7,460.9,446.1,439.1,435.1,426.8,544.70000000000005,472.4,447.8,433.4,426.2,421.5,413.4,492.1,446.2,433.3,419.6,405.3,397.2,389.3,479.4,437.2,419.3,407.6,397.9,382,362.6,504.5,452.9,425.9,400.1,378.4,364.3,345.4,553.1,465,430.6,403.1,382.8,360,333.1,624.1,503.2,449.8,423,396.3,368.2,313.5,741.5,592.1,501.5,453.5,432.3,412.5,364.9,856.2,683.7,579.1,522.79999999999995,496.7,461.9,417.1,1.1022000000000001,1.3951,1.5616000000000001,0.83540000000000003,1.1233,1.2799,0,0,1.069,274.89999999999998,1.1288,0,0,531.5,"RUS00007988",11.494999999999999,9098,35.200000000000003,61,48.1,0,177.7,7769]
[null,"GBR090501","47-029","GBR 1238","SARABANDE","Swan 47 (mod)","Nautor","SPARKMAN & STEPHENS",1975,"United Kingdom","Rob Mably","CLUB","C",1040,"5/9/2016",14.6,11.455,2.3820000000000001,4.1900000000000004,15147,145.6,0.53,608.70000000000005,1.0206999999999999,661.3,0.66900000000000004,25.7,1013.7,826.9,717.4,641.1,596.79999999999995,566.1,536.1,972.3,794.4,694.2,631.4,593.29999999999995,568.5,540.9,846.5,680.7,590.29999999999995,536.6,503.1,481,454.3,908.8,725.9,624.6,563.4,524.29999999999995,498.4,467.2,1039.3,800.5,664.1,579.6,524.5,486.7,436.7,44.3,42.4,42.7,43.1,41.7,40.700000000000003,39.6,145.6,150.19999999999999,147.69999999999999,153.9,162.6,180,180,1067.4000000000001,888.1,790.8,720.7,681.6,659.1,638.20000000000005,690.4,585.1,517,481,464.7,456.6,448.9,649.20000000000005,550.9,491.6,465.4,451.9,443.3,435,615.9,521.4,474.3,453.7,440.7,430.2,414.5,618.4,521.20000000000005,468.7,452.2,441.5,430.1,409.4,619,508.7,461.4,439.9,424.3,414.8,400.4,633.9,521.9,467.3,443.5,425.1,408.5,387.4,700.9,570.6,490.9,456.7,437.2,420.1,387.4,831.4,662.3,557.70000000000005,490.3,458.1,439.7,407.9,960,765.6,644,561.6,512,473.2,434,0.95279999999999998,1.2565,1.4337,0.73350000000000004,1.006,1.1999,0,0,0.78900000000000003,151.69999999999999,1.0145999999999999,0,0,591.29999999999995,"GBR27400155",10.021000000000001,16279,43,50.2,71.5,196.2,191.9,7830]
[null,"GBR091202","53-506","GBR 6053 L","BALLYTRIM","Swan 53 (2005)","Nautor","GERMAN FRERS",2005,"SW130NN London UK","Andrew and Sue Allner","CLUB","C",765,"12/9/2016",16.48,14.731999999999999,2.4990000000000001,4.74,22742,132.19999999999999,0.46,570.20000000000005,1.0724,629.4,0.67200000000000004,0.5,982.6,789.6,682,609.29999999999995,563.4,538.1,497.8,941.7,759.2,657.3,592.5,551.9,527.79999999999995,494.5,804.1,641.70000000000005,552.29999999999995,498.7,464.9,442.7,414.7,873.7,690.5,587.5,524.20000000000005,483.2,455.9,422.7,994.5,759.1,624,540,484.9,446.8,395.8,45.6,43.9,43.2,43.7,43.3,41.9,40.700000000000003,142.6,147.19999999999999,147.80000000000001,147.69999999999999,149,151.5,177.4,1045.9000000000001,852.3,747.8,676.7,629.29999999999995,603.70000000000005,581.20000000000005,665.7,552.70000000000005,486.2,441.6,419.8,409.9,402,617.5,518.20000000000005,455.8,422.2,406.1,397.1,389.5,579,488.4,434,409,395.4,385.6,371.6,580.4,480.3,423.7,402.3,394.7,385.5,367,578.29999999999995,474.4,419,396.3,381.5,370.6,356.9,594.79999999999995,489,427.7,401.1,385.1,370.7,344.9,667.3,539.20000000000005,462.9,419.2,398,383.3,355,796.1,629.5,533.70000000000005,469.3,430.7,411,385.5,919.2,726.8,616.20000000000005,541.79999999999995,497.4,472.5,414.5,0.99929999999999997,1.3498000000000001,1.5611999999999999,0.76180000000000003,1.0595000000000001,1.2751999999999999,0,0,0.81399999999999995,142.69999999999999,1.0833999999999999,0,0,553.79999999999995,"GBR27400244",12.234999999999999,24397,59.3,78.2,65,0,213.9,7856]
[null,"knw12347","NEDC5706","NED 5706","SODRA ENDE","Sweden 36 wingkeel","Sweden Yachts","Peter Morlin",1988,167234,"K, Visser","CLUB","C",600,"23/3/2016",11.04,9.516,1.673,3.68,7954,117.4,0.57999999999999996,676.7,0.92030000000000001,733.5,0.61899999999999999,37.299999999999997,1107.7,905.8,793.7,714.4,663.1,632.1,604,1066.4000000000001,876.3,770.8,704.3,663.2,637.70000000000005,610.6,934.7,754.5,656.7,598.9,562.79999999999995,539.29999999999995,511.2,991.3,794.4,686.3,621.6,580.79999999999995,554,521.70000000000005,1143.2,884.4,737.2,646.1,586.4,545.1,489.4,44.2,42.3,42.5,42.9,41.8,40.799999999999997,40,147,151.5,153.5,156.80000000000001,175.6,180,180,1166.7,976.1,873.8,801.3,761.1,739.2,723.3,756,643.6,573.79999999999995,537.29999999999995,520.4,512.6,506.8,711.3,607.29999999999995,547.29999999999995,520.5,506.2,497.4,490.9,676,577.1,529.20000000000005,507.5,493.2,481.6,465.7,679.9,580.9,526.6,503.4,494.2,481.1,457.1,692.8,575,521,496.2,476.4,460.5,445.8,711.3,590.1,527.5,500.5,480.4,460.6,430,777.1,640.9,555.4,516,494.1,474.9,437.5,908.2,724.1,620,549.79999999999995,515.5,495.1,459.1,1048.7,835.5,713.6,627.4,565,525.1,484.6,0.86499999999999999,1.1263000000000001,1.278,0.67049999999999998,0.9073,1.0726,663.4,0.90439999999999998,0.748,178.6,0.91290000000000004,0.623,44,657.3,"knw00004675",8.23,8815,30.1,31.4,41.6,98.2,0,7906]
[null,"UKR9640_3","UKR9640_","UKR 9640","Buyan","Sydney 40","Barhford Int,","Murray/Burns/Dovel",1998,null,"Kabakov A,V,","INTL","R",900,"4/7/2016",12.47,10.97,2.6619999999999999,3.73,5244,109.1,0,545.20000000000005,1.1283000000000001,598.20000000000005,0.78,44.4,894.5,720.5,624,579.1,555.6,532.79999999999995,496.3,852.1,688,605.6,564,538.20000000000005,516.29999999999995,486.2,748.9,605.4,529.20000000000005,485.1,457.3,437.6,408.3,816.4,653.20000000000005,564.20000000000005,511.2,477.5,454.5,424,920.4,711.1,593.9,522.6,475.7,441.7,391.4,42.9,42.1,40,38,36.799999999999997,36,35.9,142.4,144.4,148.6,151.69999999999999,149.9,176.3,141.6,924.7,753.5,667.2,633.4,615.20000000000005,601.4,593,603.6,498.8,462.3,451,444.4,438.7,430,566.6,478.2,448.6,436.9,429.7,424.8,412.5,536.1,465.4,435.8,415.1,404.7,398.2,387.8,539.79999999999995,462.4,437.9,411.2,388.2,375.2,364.5,536.70000000000005,456.6,423.2,405,388,373.3,339.8,555.29999999999995,464.1,427,394.1,375.4,359.2,325.8,626.70000000000005,501.2,450.9,418.5,386.1,353.3,298.2,748.4,595.29999999999995,503,455,429.6,404.5,346,864.2,687.4,580.79999999999995,524.79999999999995,496,464.3,399.5,1.0862000000000001,1.3943000000000001,1.5718000000000001,0.83589999999999998,1.125,1.2862,0,0,1.0820000000000001,281.8,1.1308,0,0,530.6,"UKR00007517",11.042999999999999,6257,30,57.5,37.299999999999997,0,150.9,7932]
[null,"USAUS6053","US6053","USA 110","Restless","Tartan 34-2","Tartan Marine","SPARKMAN & STEPHENS",1990,"77058 Houston USA","Robin Rice","CLUB","C",1200,"4/10/2016",34.448999999999998,29.428000000000001,4.4989999999999997,10.94,11775,113.2,0.18,672.3,0.91400000000000003,738.5,0.64600000000000002,56.2,1086.5,894.2,782.1,718.8,683.1,649.9,623.20000000000005,1045,860.3,759.5,702.8,669.5,645.6,624.20000000000005,918.8,745.1,652.70000000000005,599.5,567.1,546.20000000000005,521.1,972.5,782.2,679,618.20000000000005,580.6,556.4,528,1126.9000000000001,875.8,734.2,647.4,590.70000000000005,551,496.7,44.4,42.9,43.6,42.5,41.1,40.1,39.799999999999997,146.4,147.80000000000001,146.80000000000001,148.69999999999999,173.9,176.3,178.2,1137,955.5,853.5,793.3,761.7,745.5,739.1,735.9,624.5,562.1,536.20000000000005,525.79999999999995,520.6,517,692.2,588.4,541.20000000000005,520.9,510.7,505.4,501.2,655.7,562.4,526.6,508,494.1,483.4,474,657.6,563.9,524.70000000000005,508,493.2,478.6,455.4,675.8,562.29999999999995,519.9,495.9,474.3,460.7,442.9,697,575.6,525.70000000000005,500.8,477.9,455,426.3,768.1,628.4,548.70000000000005,516.1,493.9,471.9,431.5,897.3,721.2,615.6,557.9,529.29999999999995,511,477.5,1036.0999999999999,832.8,710.8,644.20000000000005,604.5,554.29999999999995,507.4,0.88329999999999997,1.1295999999999999,1.2582,0.68159999999999998,0.90529999999999999,1.0412999999999999,0,0,0.83899999999999997,251.4,0.91339999999999999,0,0,656.9,"USA00000403",8.0280000000000005,13528,260.39999999999998,280,449.9,0,985.1,7962]
[null,"ESP803201","E8032_C","ESP-8032_C","RCN CALPE 3","TOM 28","OMEGA YACHT","CECCARELLI",2005,"R,C,N,CALPE","RCN CALPE","CLUB","S",400,"19/5/2016",8.5,7.5609999999999999,1.855,2.5,1406,123.6,0,632.9,0.97609999999999997,691.5,0.63200000000000001,14.7,1054.2,845.2,725.5,667.9,632.70000000000005,608.79999999999995,567,1001.6,806.7,706.3,654.70000000000005,622.70000000000005,597.70000000000005,553.5,877.4,706.9,614.4,559,522.70000000000005,496.4,457.3,935.4,748.2,645.9,584.70000000000005,545.1,517.1,476.6,1079.3,829.9,688.6,600.9,541.70000000000005,497.8,431.9,43.2,42.7,39.6,37.6,36.5,35.799999999999997,36,139.19999999999999,147.30000000000001,151.69999999999999,161.69999999999999,180,180,143.80000000000001,1082.4000000000001,881.4,772.4,734.4,716.9,706.2,698.3,704,584.6,542,524.29999999999995,514.4,508.3,494.5,658.7,562.9,526.1,502.8,490.8,483.8,468.9,621.79999999999995,548,510.4,475.5,454.8,444.4,434.4,625.5,546,511.4,474.9,439.8,411.9,390.4,637.9,544.29999999999995,495.1,454.3,431,406.7,364.2,660.2,554.20000000000005,506.7,459.2,413.6,389,343.3,740.7,593.29999999999995,536.4,493.5,451.1,407.1,312.89999999999998,888.5,700.6,589.1,534.9,495.4,457,377.3,1026,809,678.6,601.4,548.6,511.4,435.7,0.9234,1.2032,1.3908,0.7107,0.97389999999999999,1.1267,624.20000000000005,0.96120000000000005,0.86599999999999999,232.2,0.97689999999999999,0.65600000000000003,39.200000000000003,614.20000000000005,"ESP00017975",7.915,1952,14.2,23.7,16.3,50,0,7996]
[null,"ITA291411","I29141","ITA-29141","FRECCIA ROSSA","TP52","SALTHOUSE","JUDEL/VROLIJK",2008,"ANCONA Y,C,","YAKIMENKO VADIM","INTL","R",1150,"30/6/2016",15.842000000000001,15.321999999999999,3.2,4.43,7433,138.4,0,449.3,1.3583000000000001,496.9,0.83499999999999996,-11.3,767.6,605.9,528.6,487.7,458,429.7,385.5,727.2,580.1,509.7,469.7,440.5,417.5,388.2,628.9,504.2,436,394.4,365.9,344.2,311.3,684.9,545.6,468.4,420.8,388.9,365.6,332.5,781.6,597.1,492.3,426.4,380.6,345.7,293.10000000000002,44.7,43.5,40.4,38.700000000000003,37,36.1,35.9,140.6,139.80000000000001,146.1,151.6,148.5,141.30000000000001,143.6,786.1,631,566.29999999999995,534.6,513.70000000000005,499.7,490.4,503,412.9,387.2,374.2,364.1,352.6,338.9,465.5,394.3,371.2,355.4,344.2,333.6,317.7,432.9,379.8,346.8,327.10000000000002,314.8,306.2,285.2,431.5,380.3,342.2,310.2,292.3,280.39999999999998,264.39999999999998,458.7,383.7,352.5,326.10000000000002,303.10000000000002,271.2,232.9,476.8,390.6,346.8,322,301.2,274.3,237.1,538.5,422.4,374.1,334,295.10000000000002,267,230.6,648.70000000000005,503,425.1,378.6,348.5,311.39999999999998,243.1,749.1,580.79999999999995,490.8,440.7,402.4,359.6,280.7,1.2901,1.696,2.0095999999999998,0.9829,1.34,1.6064000000000001,444.3,1.3504,1.137,193.3,1.3744000000000001,0.85,2.2999999999999998,436.6,"ITA00020279",15.462999999999999,9135,43.6,92.7,65.8,0,259.89999999999998,8022]
[null,"CLUUFO22","109UFO22","ITA-109UFO22","CIAPARAT","UFO 22","UFO BOAT","FELCI",1997,"CV SARNICO","ROSSI ROBERTO","CLUB","S",250,"4/5/2016",6.6230000000000002,6.2190000000000003,1.583,2.54,760,96.6,0,685.5,0.88549999999999995,762.3,0.63,47.6,1077.9000000000001,880.6,793.1,753.6,721.9,687.8,608.4,1040.5999999999999,859.8,775.5,732.3,700.9,671.3,623.20000000000005,923.5,756.1,667.6,615,579,550.4,501.5,1001.9,810.3,707.7,647.4,608.70000000000005,581.20000000000005,540.9,1130.3,885.3,748,661.7,600.70000000000005,551.9,471.9,43.3,42.4,40.1,39.200000000000003,39,38.9,39.9,144.9,148.80000000000001,151,174.9,145.1,143.30000000000001,142.19999999999999,1157.5,960.2,874.5,849.6,839.6,831.9,833.7,753.8,643.1,607.70000000000005,596,589.70000000000005,583.9,573.6,707.8,622,587.1,570.20000000000005,560.9,555.1,539.70000000000005,672.8,606,563.1,529.4,514.20000000000005,505.6,490.7,649.6,592.70000000000005,562,520.70000000000005,482.4,462.5,447.7,646.4,576,527.20000000000005,499.6,472.4,448.4,399.6,662.4,587.29999999999995,526.29999999999995,477.8,450.3,426.5,376.2,733.7,620.5,563,507.7,452.1,397.4,320.60000000000002,864.5,693.7,617,572.1,523.20000000000005,470.8,331.8,998.2,801,711.8,657.6,604.20000000000005,543.6,383.1,0.88439999999999996,1.0932999999999999,1.2511000000000001,0.68930000000000002,0.87729999999999997,1.0126999999999999,0,0,1.0149999999999999,403.2,0.89429999999999998,0,0,670.9,"CLU00019698",6.1989999999999998,1193,10.6,19.5,10.4,0,50,8072]
[null,"CLUUFO22","001UFO22","ITA-01UFO22","BANANA","UFO 22","UFO BOATS","FELCI",1997,"CANOTTIERI LECCO","FABI LUCA","CLUB","S",250,"24/10/2016",6.6230000000000002,6.2839999999999998,1.595,2.54,849,99,0,691.2,0.88500000000000001,762.7,0.624,46.4,1090.5,890.1,792.6,748.8,714.5,687.7,611.29999999999995,1051.7,865.8,775.1,728,695.5,667.3,608.6,934.1,763.4,672.8,619,582.4,553.29999999999995,502.9,1010.8,816.1,711.5,649.79999999999995,610.29999999999995,582.29999999999995,541.6,1140.2,891.5,752,664.7,603.5,555,475.3,42.7,41.6,38.700000000000003,37.700000000000003,37,36.700000000000003,37.5,145.5,148.5,150.6,174.8,177.6,143.30000000000001,139.80000000000001,1164.5999999999999,964.4,863.5,831,816.5,805.5,803.9,763.1,649.20000000000005,608.79999999999995,594.20000000000005,586.4,581.29999999999995,567.29999999999995,718.6,627.79999999999995,591.5,571.5,560.5,554.5,537.1,683.4,612.5,573.1,537.79999999999995,518.6,508.9,497.5,662.8,595.79999999999995,569.9,534.79999999999995,497,471.6,452.9,658.8,587.6,534,506,481.5,458.2,408.1,676.6,597.5,542,488,457.8,434.3,374.6,749.6,629.4,575.6,524,472.1,420.9,313.3,880.1,706.6,625.5,584.1,544.6,493.6,362.6,1016.3,815.9,721.7,666.6,612.5,569.9,418.7,0.87319999999999998,1.0868,1.2444,0.68159999999999998,0.88049999999999995,1.0139,682.8,0.87870000000000004,0.97899999999999998,378.7,0.88970000000000005,0.64200000000000002,66.5,674.4,"CLU00020670",6.3710000000000004,1294,10.8,19.2,10.9,0,48,8085]
[null,"nor6641",6641,"NOR 8915","Capriccio","VICTORY 42",null,"Sodergren",1987,null,"Otto  Book","CLUB","C",727,"28/4/2016",12.5,10.436,2.1150000000000002,3.82,8771,113.1,0.32,629.4,0.98070000000000002,688.3,0.66600000000000004,38.799999999999997,1036.9000000000001,845.4,737.4,666.5,632.20000000000005,601,570.79999999999995,994.4,813,712.1,651.70000000000005,617.79999999999995,595.1,571.4,869.6,701.1,610.5,557.70000000000005,525.29999999999995,504.3,478.8,934.6,745.9,641.9,579.6,540.70000000000005,515.5,486.1,1067.5,824.6,686.9,602.29999999999995,547.29999999999995,509.1,457.2,43.7,42,42.3,42,40.4,40,39.6,144.80000000000001,148,147.5,148.6,151.4,175.8,178.4,1084.4000000000001,901.6,800.7,731,698.5,682.5,671.4,704.3,594.70000000000005,528,497.2,483.5,477.5,473,662.3,560.4,506.1,482.9,470.5,463.5,458.5,628.70000000000005,532.29999999999995,491.2,471.5,457.8,446.8,434,632.29999999999995,529.20000000000005,483.6,466.9,457.8,445,421.2,635.4,524.29999999999995,480.9,458.4,439.1,426.1,409.8,655.20000000000005,540.29999999999995,487.8,463.7,443.8,423.6,394.9,726.6,594.20000000000005,514.4,479.6,458.7,439.7,402.8,856.9,683.4,583.79999999999995,521.29999999999995,492.1,472.3,443.2,989.5,789.1,674.1,602,565.9,519.5,470.2,0.93069999999999997,1.2128000000000001,1.3644000000000001,0.71719999999999995,0.96919999999999995,1.1297999999999999,615.29999999999995,0.97519999999999996,0.83499999999999996,207.1,0.98019999999999996,0.67500000000000004,47.3,612.1,"nor00000817",9.391,9752,33.5,42.9,41.5,0,113.3,8147]
[null,"CLU777731","I77773","ITA-77773","SUPERNIKKA","VISMARA MILLS 62","VISMARA MARINE SPA","VISMARA/MILLS",2015,"Y,C,REPUBBLICA MARINARA DI PISA","LA CORTE ROBERTO","CLUB",null,1320,"23/5/2016",19.02,18.3,4.1890000000000001,5.28,15860,137.80000000000001,0,428.4,1.4247000000000001,473.8,0.89500000000000002,-1.2,730.3,579.9,502,460.8,435.4,412.8,374.1,690.6,551.4,482.4,445.1,419.2,397.4,369,598.79999999999995,480,415.5,376.7,350.9,331.4,301,653.70000000000005,520.4,446.5,401.3,371,349.2,318.60000000000002,743.7,568.5,469.2,407.5,365.5,333.9,285.39999999999998,44,42.7,40.5,39,37.4,36.299999999999997,35.6,140.1,141.30000000000001,145.1,151.19999999999999,152.30000000000001,148.6,139.80000000000001,741.2,595.79999999999995,530.29999999999995,498.8,479.2,463.9,452.1,477.4,389.6,360.8,349,341.2,333.1,320.39999999999998,443.6,370,347.4,335.3,325.89999999999998,318.60000000000002,302.2,413.8,356.9,330.9,312.2,300.7,292.8,277.7,413.9,358.1,330.3,301.5,282.39999999999998,271.60000000000002,257,438.4,361.1,333.1,312.5,294.5,276.89999999999998,230.9,457.7,370.1,333.6,307,290.10000000000002,274.10000000000002,234.5,516.20000000000005,406.4,356.9,327.60000000000002,296.60000000000002,266.3,226.5,623.1,488.4,410.3,365.2,336.7,313.2,256.3,719.5,564,473.7,422.9,391.6,361.7,296,1.3548,1.7824,2.0840000000000001,1.0304,1.4117999999999999,1.6711,419.5,1.4302999999999999,1.2090000000000001,203.6,1.4396,0.90700000000000003,6.8,416.8,"CLU00020005",18.113,18158,68.400000000000006,146.6,96.8,0,369.5,8162]
[null,"knw28497","nedc8358","NED 8358","Anoniem","Waarschip 1/4 x1,5","'t Waar","Akkerman & Kremer",1970,4088451,"H, de Jong","CLUB","C",313,"23/3/2016",7.2240000000000002,6.0410000000000004,1.494,2.4500000000000002,1622,96.2,0.4,811.2,0.76970000000000005,877,0.49399999999999999,17.8,1360.3,1104.3,956.1,850.2,780.1,745.2,712.8,1317.5,1072.8,934.3,845,786.4,752.4,718.6,1130.2,908.4,786.9,714,667.6,636.79999999999995,599.5,1187.7,949.3,817.8,738.6,688.1,654.6,613.70000000000005,1389.6,1068.5,885,770.8,695.7,643.4,572.70000000000005,44.8,43.5,43.5,42.9,40.799999999999997,39.700000000000003,39,149.4,153.69999999999999,155.30000000000001,170.7,180,180,180,1460,1212.2,1071.4000000000001,970.8,900.5,867.5,852.9,928.1,775,685.6,642.5,622.70000000000005,611.4,604.1,851.4,714.7,649.4,620,601.70000000000005,591.9,581.4,786.1,671.8,628.1,604.29999999999995,584,566.1,546.5,790.8,677.9,631.5,601.29999999999995,577.5,553.6,523.20000000000005,832,686.8,627.6,596.4,567.20000000000005,539.5,507.7,855,701.9,634.4,602.70000000000005,574.9,547,500.1,951.3,770.9,663.1,620.70000000000005,592.4,564.9,515.9,1091.5999999999999,866.9,730.8,652.70000000000005,617.4,591.4,541.5,1260.5,996.3,840.8,729.5,659.7,623,572.6,0.7147,0.94179999999999997,1.0851,0.54779999999999995,0.75919999999999999,0.91,788.7,0.76080000000000003,0.57399999999999995,133.1,0.76160000000000005,0.502,26.8,787.8,"knw00004266",5.3860000000000001,2026,12.2,10.9,15.1,30.2,0,8188]
[null,"nor3984",3984,"NOR 1897","Bucky Bullet","WILLING 31 LR",null,"Jan H Linge",1976,null,"Stian  Gjelsnes","CLUB","C",466,"1/4/2016",9.5,7.7060000000000004,1.69,3.14,4244,109.3,0.61,742.4,0.83809999999999996,805.4,0.54200000000000004,19.7,1242.5999999999999,1009.4,875.4,781.3,721.3,687.3,655.5,1198.5999999999999,976.9,851.2,771.9,723,693.8,662.5,1036.2,831.8,719.8,653,611.1,583.70000000000005,550.79999999999995,1081.9000000000001,864.6,744.8,672.8,627.20000000000005,597.29999999999995,561.1,1270.7,977.2,809.4,705.2,637,589.79999999999995,526.1,45.2,43.7,43.7,43.9,42.6,41.6,40.9,148.19999999999999,152.1,152.9,158,180,180,180,1319.8,1096.7,971.8,884.1,833.2,807.1,788.4,845.7,712.7,629.9,585.1,563.9,554.20000000000005,547.29999999999995,790.2,668.5,597,564.79999999999995,547.1,536.4,528.5,744.6,630,574.4,549.1,531.6,517.29999999999995,499.2,746.1,631.79999999999995,573.6,543.4,528.79999999999995,516.20000000000005,488.5,765.7,630.1,566.79999999999995,538,514.70000000000005,492.8,472,789.7,646.20000000000005,574,542.9,519.5,496.7,459.3,869.8,706.5,603.9,559.70000000000005,534.6,512.4,471.6,1009.3,799.8,676.4,595.79999999999995,558.5,535.29999999999995,494.3,1165.5,922.2,779,678.5,609.4,567.5,522.6,0.77790000000000004,1.0315000000000001,1.1829000000000001,0.59950000000000003,0.82650000000000001,0.98699999999999999,723.6,0.82920000000000005,0.63800000000000001,144.30000000000001,0.83299999999999996,0.55000000000000004,27.9,720.3,"nor00000062",6.7060000000000004,4857,20.7,18.8,31.4,60.3,0,8238]
[null,"knw","NEDC8763","NED 8763","Catweazle","Winner 9Perf","Winner Yachts","vd Stadt & Prtnrs",2013,110768,"Dhr Clovis Buijs","CLUB","C",533,"13/7/2016",9,8.4770000000000003,1.9159999999999999,2.94,3812,120.2,0.06,654.1,0.9365,720.8,0.68300000000000005,71,1048.3,861.4,754.6,704.6,664.7,638.79999999999995,613.9,1005.5,827.6,735.3,687.2,655.9,634.79999999999995,608.79999999999995,884,721.2,635.70000000000005,587.1,557.4,537.9,512.9,990.6,791.5,682.9,619,579.70000000000005,554.6,524.70000000000005,1091.2,850.3,715.6,633.6,580.29999999999995,543,491.6,44.3,43.9,42.4,39.799999999999997,38.5,37.9,38.5,145.80000000000001,148,148.19999999999999,150.4,175.2,177.6,178.1,1088.5,912.4,815,772.6,744.6,733.6,728,700.2,590.1,548.79999999999995,535.5,528.5,524,521,649.5,559,530.29999999999995,519.79999999999995,513.9,508.9,505.8,601.79999999999995,538.79999999999995,514.1,499.4,491.3,485.5,476,597.70000000000005,540.29999999999995,515.9,495.6,476.7,463.8,451.3,649.1,550.9,516.1,489,469.6,454.9,427.8,670.7,562.70000000000005,523,496,468.2,442.7,418.6,743.6,609,544.29999999999995,514.70000000000005,489,462.8,414.6,873.1,701.8,601.20000000000005,552,526.1,506.9,463.7,1008.1,810.4,694.2,636.6,584.70000000000005,543.9,499.8,0.92159999999999997,1.1543000000000001,1.2765,0.70689999999999997,0.93189999999999995,1.0613999999999999,649.70000000000005,0.92349999999999999,0.92100000000000004,295.2,0.93440000000000001,0.69499999999999995,85.1,642.1,"knw00005656",7.9740000000000002,4518,21.5,30.4,20.7,0,78.599999999999994,8278]
[null,"nor7313",7313,"NOR 3571","Don nix 3","X-102 Mk I","X-YACHTS","Niels Jeppesen",1981,null,"Helge Nordahl","CLUB","C",507,"6/6/2016",9.99,8.1549999999999994,1.889,3.35,3871,109.6,0.01,656.1,0.94779999999999998,712.2,0.65100000000000002,48.2,1071.0999999999999,873.8,755.9,688.9,647.1,623.4,595.4,1018.3,833.7,731.9,677.4,646.29999999999995,626,599.9,900.7,728.8,636.79999999999995,583.4,550.5,529,502,932.5,751.4,653.79999999999995,596.70000000000005,561.4,538.20000000000005,509.3,1107.8,856.9,715.6,629.4,573.5,534.5,480.1,42.7,42.3,41.6,39.9,38.9,38.4,38.200000000000003,146.80000000000001,151.80000000000001,152.69999999999999,161,180,180,180,1072.0999999999999,899.3,796.7,754.4,733.8,722.1,713.9,704.1,592.29999999999995,544,527.9,520.1,515.70000000000005,510.6,663.3,565.5,529,512.4,504.2,499.4,495.3,629.29999999999995,547.79999999999995,516.79999999999995,496.5,481.7,473.7,466.8,633.4,549.70000000000005,517.9,496.2,476.8,460.7,443.9,678,563,519.9,491.9,465.9,446.6,428.1,704.6,579.79999999999995,528.1,499.6,473.8,449.8,411.7,784.6,640,556,519.4,493.3,468.6,424.8,926.7,734.9,621,551.5,518.29999999999995,493.6,448.8,1070.0999999999999,848.4,715.1,623.5,560.4,524.6,476.9,0.90010000000000001,1.1596,1.3009999999999999,0.69410000000000005,0.9425,1.0908,645.70000000000005,0.92930000000000001,0.82299999999999995,218.7,0.93810000000000004,0.66100000000000003,59.6,639.6,"nor00001498",7.9950000000000001,4541,20.9,35.1,30.6,59.9,0,8313]
[null,"GER141458","GER6395","GER 6395","MAX","X-302 MK I","X-YACHTS","JEPPESEN",1998,"SCB","ECKART PIRWITZ","CLUB","C",390,"27/5/2016",9.1199999999999992,8.4450000000000003,1.7509999999999999,3,3979,118.8,0.35,697.3,0.89839999999999998,751.4,0.58899999999999997,29.2,1161.3,939.6,813,726,673.9,645.79999999999995,618.79999999999995,1110.8,904,787.3,715.7,674.3,650.20000000000005,623.20000000000005,969.9,779.6,676.1,615.1,577.20000000000005,552.6,522.6,1019,814.2,702,635.20000000000005,593.6,566.4,533.6,1189.8,915.1,759.3,663.5,601.5,558.70000000000005,500.3,43.5,41.8,42,40.9,39.4,38.5,38.1,147.19999999999999,151.69999999999999,153.4,159.5,180,180,180,1202.7,996.5,880.5,802.1,764.9,747.4,737.6,781.8,657.7,585.4,552.4,537.6,531.29999999999995,526.6,735.3,620.29999999999995,563,537.79999999999995,523.6,516.1,510.4,698.1,591.70000000000005,547.6,525.79999999999995,509.3,495.6,481.4,703.6,594.9,542.20000000000005,518.79999999999995,509.2,493.3,464.4,716.3,592,541,514.9,490.6,469.6,450,741.6,610.29999999999995,549,521,497.4,472.9,433.1,822.1,671.7,578.70000000000005,538.6,514.5,491.4,446.1,969.9,765.1,647.6,572.5,537.5,514.9,471.2,1120,882.8,745.5,649.9,582.9,544.29999999999995,500,0.8327,1.0972999999999999,1.2479,0.64259999999999995,0.88839999999999997,1.0502,678.7,0.8841,0.69899999999999995,157.1,0.88770000000000004,0.59599999999999997,36.4,675.9,"GER20014811",7.6879999999999997,4695,21.3,26.7,24.4,57.2,0,8328]
[null,"FRA16077a","F19356","FRA-19356","NAUTILUX","X-332 DK","X-YACHTS","JEPPESEN Nielsen",1994,"56470  -  LA TRINITE SUR MER","CAPLAIN Olivier","CLUB","C",560,"4/3/2016",9.9779999999999998,9.0909999999999993,1.8140000000000001,3.28,4396,114.9,0.13,645.4,0.96230000000000004,701.4,0.96599999999999997,173.5,1060.2,861.8,744,677.1,637,614.6,587.70000000000005,1014.4,827,724.1,668.2,637,617.29999999999995,590.5,888.7,717.7,626.1,573,540.4,519.1,492.1,937.3,752,651.6,592.79999999999995,556.4,532.70000000000005,502.4,885.6,707.7,610.29999999999995,552.5,515.79999999999995,490.2,454.5,43.7,42.5,42.3,40.700000000000003,39.5,39.4,39.6,145.80000000000001,150.5,152.5,159.6,180,180,180,1098.5999999999999,913.4,803.4,751.8,730,719.4,712.1,713.1,598.79999999999995,539.79999999999995,518.29999999999995,510.6,506.6,502.4,669,566.20000000000005,522.29999999999995,503.7,495.4,491,487.8,632.6,543.79999999999995,509.9,489.6,474.3,465.1,458.1,635.20000000000005,545.5,506.5,490.3,470.9,452.6,431.1,653.6,544.4,504.1,477.3,453.7,441.1,421.1,676.2,558.5,511,484.1,457.1,431.5,403.3,750.2,609.79999999999995,535.9,502.7,477.8,452.1,403.2,885,701.5,594.6,532.4,502.2,478.7,431.4,1021.9,810.2,684.6,602.5,543.9,509.8,463.3,0.91159999999999997,1.1812,1.3257000000000001,0.70240000000000002,0.9577,1.1063000000000001,0,0,0.83299999999999996,217.7,0.95499999999999996,0,0,628.29999999999995,"FRA00002956",8.4909999999999997,5198,23.9,37.1,28.2,69.099999999999994,0,8378]
[null,"CLU159121","I15912","ITA-15912","SFIXIO","X-34","X-YACHTS","JEPPESEN",2007,"Y,C,CALA DE'MEDICI","GALLIGANI PIER ANGELO","CLUB","C",560,"11/5/2016",10.36,9.4350000000000005,1.913,3.38,5503,119.8,0.2,635.20000000000005,0.9778,690.3,0.66600000000000004,43.5,1045.7,852.6,736.2,665.2,625.6,603,574.4,1002.1,818.6,715.9,657.5,625.5,605.70000000000005,576.79999999999995,875.3,706.7,616.20000000000005,563.70000000000005,531.4,510.3,482.9,937.2,750.3,648.5,588.5,551.20000000000005,526.9,496,1074.9000000000001,830.6,692.5,608.1,553.5,515.4,462.6,43.5,42,42.2,40.700000000000003,39.5,39.4,39.299999999999997,145.1,150.30000000000001,151.1,158.30000000000001,180,180,180,1098.0999999999999,913.8,803.2,742.1,718.1,706.7,692.6,713.5,600.29999999999995,536.1,510.6,501.5,497.1,491.5,670.4,565.9,517.4,496.7,487,482.5,478.2,634.70000000000005,540.9,504.5,484.8,470,459.6,452.2,628.6,528.29999999999995,493.8,481.7,468.8,452.9,428.1,628.6,526.6,490.5,466.3,446.3,434.7,415.5,650.1,540.1,497.6,472.7,448.1,424.4,398,724.1,591.5,520.70000000000005,490.1,467,443.4,397.9,860.3,685.2,580.1,518.9,490.4,468.7,425,993.3,791.4,669.1,588.4,533.1,499.4,456.2,0.92530000000000001,1.2005999999999999,1.3487,0.71120000000000005,0.9718,1.1289,622.29999999999995,0.96409999999999996,0.82599999999999996,203.3,0.97030000000000005,0.67900000000000005,54.8,618.4,"CLU00019839",8.7669999999999995,6347,25.8,40.1,27.8,86.7,92.5,8404]
[null,"ITAX35OD","I193X35","ITA-193X35","MINUS QUAM X","X-35","X-YACHTS","JEPPESEN",2005,"C,N,LAVAGNA","PIZZOLI WALTER","INTL","C",640,"9/3/2016",10.6,9.4489999999999998,2.173,3.25,4486,117,0,607.79999999999995,1.0209999999999999,661.1,0.71299999999999997,53.9,988,804.4,694.6,639.6,605.4,583.4,554.79999999999995,942.9,769.2,676.4,629.4,602.1,582,552.79999999999995,831.9,674,590.1,541.6,511.7,491.7,464.8,882.7,710,616.9,562.5,528.79999999999995,506.5,477.4,1020.6,790.8,661.9,583.29999999999995,532.29999999999995,496.3,445.7,43.3,42.3,40.799999999999997,39.200000000000003,38.4,37.799999999999997,38,144.5,148.69999999999999,151.30000000000001,158.9,180,180,180,1016.9,844.4,742.8,706.4,689.8,678.1,670.4,663.2,557,510.6,497,491,487.7,479.9,623.4,532.20000000000005,496.8,483,476.6,473,463.6,590.79999999999995,515.79999999999995,486.1,465.9,453.4,447.1,441.7,593.1,516.4,487.4,465.5,444.2,427.1,413.7,611.29999999999995,514.70000000000005,478.5,450.9,435.6,421.4,401.4,630.6,525.29999999999995,485.5,456,426.4,406.4,381.3,699.8,569.1,507.4,477.2,449.5,421.7,364,830.6,662,560.70000000000005,506.6,478.3,452.5,401.6,959.1,764.4,646.5,572.79999999999995,521,488.7,439.2,0.97599999999999998,1.2499,1.3987000000000001,0.75319999999999998,1.0179,1.1675,599.9,1.0001,0.93100000000000005,249.1,1.0125999999999999,0.73099999999999998,72.599999999999994,592.5,"ITA00018428",9.1929999999999996,5312,24.4,42.1,32.4,92.2,0,8437]
[null,"ITAX35OD","I15828","ITA-15828","BE BLUE TWO","X-35 OD","X-YACHTS","JEPPESEN",2005,"Y,C,MARINA DI LOANO","RAYNERI MICHELE","INTL","C",640,"2/5/2016",10.6,9.4489999999999998,2.173,3.25,4487,117,0,606.29999999999995,1.0230999999999999,659.7,0.71799999999999997,55.9,983.5,801,693,639,604.9,582.6,554.5,938.3,765.8,674.7,628.79999999999995,601.6,581.20000000000005,552.70000000000005,828.7,672,588.70000000000005,540.70000000000005,511.1,491.2,464.5,877.8,706.7,614.70000000000005,561,527.70000000000005,505.6,476.9,1017.1,788.6,660.4,582.4,531.70000000000005,495.9,445.5,43.2,42.3,40.700000000000003,39.200000000000003,38.4,37.700000000000003,38,144.4,148.69999999999999,151.4,159.1,180,180,180,1010,838.9,740.5,705.9,689.6,677,670.4,658.8,553.70000000000005,509.5,496.9,491.1,488,479.9,619.20000000000005,529.6,495.8,483,476.7,473.2,463.4,586.70000000000005,513.9,484.7,465.1,453.5,447.3,441.1,588.70000000000005,515,486,464,442.7,426.4,414.2,609.70000000000005,514,478,450.5,435.1,421,400.6,629,524.5,485,455.4,425.8,406.1,380.9,698.2,568,506.9,476.8,449,421.1,363.2,828.8,660.8,559.9,506.1,477.8,451.9,400.9,957.1,763,645.4,572,520.29999999999995,488.2,438.6,0.98019999999999996,1.252,1.3998999999999999,0.75649999999999995,1.0197000000000001,1.1686000000000001,598.9,1.0018,0.94099999999999995,254.4,1.0145999999999999,0.73599999999999999,74.400000000000006,591.29999999999995,"ITA00019643",9.1989999999999998,5313,24.4,42.8,33.1,92.2,0,8479]
[null,"knw26168","NEDC7442","NED 7442","Xaenah","X-362 classic","X-YACHTS","N, Jeppesen",1996,4042455,"J,J, Jongsma","CLUB","C",666,"23/3/2016",10.725,9.7409999999999997,1.923,3.47,5731,110.1,0.35,660.1,0.94710000000000005,712.7,0.60799999999999998,18.600000000000001,1110.4000000000001,894.7,773.5,689.8,639.1,608.70000000000005,581.5,1063.8,861.5,748.1,677.3,635.6,611.1,584.6,923.5,740,639.70000000000005,580.1,542.79999999999995,518.4,489.1,979.9,779.8,669.2,602.79999999999995,561,533.70000000000005,500.6,1133,869,718.6,625.9,565.5,523.70000000000005,467.2,44.2,42.5,42.3,41.7,40.1,39.1,39.200000000000003,146.30000000000001,150.19999999999999,152.30000000000001,155.6,172.3,180,180,1158.4000000000001,953.2,839.8,760.2,720.4,702.3,691.7,748.4,626,554.4,517.70000000000005,501,494.3,489.8,701.5,590.1,530.20000000000005,502.8,487.9,479.8,474.5,664.4,561.20000000000005,513.4,491.3,475.2,461.8,447.1,668.5,564.70000000000005,512.1,486.6,476.6,461,433,687.9,564.20000000000005,507.8,481.6,459.2,439.3,419.8,709.2,580.70000000000005,515.4,486.8,464.7,441.9,403.1,783.1,634,546,503.9,480.5,459.3,416.4,920,724.2,613.4,541,503.9,482,441.8,1062.4000000000001,836.3,707.2,619.4,557.79999999999995,515.1,471.2,0.87319999999999998,1.1616,1.3312999999999999,0.67330000000000001,0.93469999999999998,1.1136999999999999,641.79999999999995,0.93489999999999995,0.71799999999999997,142.1,0.93930000000000002,0.622,30.4,638.79999999999995,"knw00004495",8.7289999999999992,6624,27.3,29.4,35.6,81.5,0,8529]
[null,"knw16285","NEDC6938","NED 6938","Druzix","X-362 sport","X-YACHTS","N, Jeppesen",1993,106850,"J,J,J, Bom","CLUB","C",560,"26/9/2016",10.72,9.7379999999999995,2.2450000000000001,3.47,5377,113.3,0.21,639,0.97909999999999997,689.4,0.64500000000000002,30.3,1064.5,861.3,742.3,664.1,620.70000000000005,595.4,567.29999999999995,1018.2,826.6,718.6,654.1,618.1,596.5,568.5,888.5,714,619.5,563.9,529.5,506.8,478.5,950.9,758.1,652.20000000000005,589.1,549.6,523.70000000000005,491.5,1089.0999999999999,837.7,695.2,607.79999999999995,551.20000000000005,512.1,459,43.3,41.7,41.6,40,38.6,37.9,37.9,145.19999999999999,149.80000000000001,151.19999999999999,157,175.1,180,180,1110.9000000000001,916.5,803.9,731.1,701.6,688.3,676.3,722.8,605.29999999999995,538.20000000000005,508.6,496.5,491.4,487.6,679.9,572.20000000000005,519.1,495.6,483,477.1,472.5,645.29999999999995,547.1,505.8,484.7,468.4,455.5,444.4,650,540.5,497.1,482.1,468.4,451.9,423.9,649,537.1,494.2,468.6,446.2,433.9,414.3,669.9,551.5,501,474.8,449.7,424.9,397.1,742.9,603.79999999999995,526.20000000000005,492.2,468.5,444.4,397.9,881.7,698.1,590,524,492.7,470.5,426,1018.1,806.1,680.7,597.1,539.9,502.6,458.2,0.90959999999999996,1.1975,1.3597999999999999,0.70099999999999996,0.97009999999999996,1.1416999999999999,622.79999999999995,0.96330000000000005,0.77400000000000002,165.9,0.96909999999999996,0.65700000000000003,41.3,619.1,"knw00005786",9.0399999999999991,6261,27,37.1,28.7,89.2,0,8544]
[null,"JPN160171","JC160171","JPN 6222","Le Grand Blue","X-37","X-YACHTS","N,JEPPESEN",2004,null,"HIDEYUKI MIZUNO","CLUB","C",696,"13/7/2016",11.345000000000001,10.042999999999999,2.294,3.47,6019,134.5,0,597.9,1.0309999999999999,654.70000000000005,0.72299999999999998,53.7,972.3,794.7,686.9,634.4,605.9,578,550.9,927.6,758.2,665.6,618.20000000000005,591.4,570.5,545.9,817.8,662.8,580.4,533,504,484.8,460,866.6,697,605,550.79999999999995,517,494.8,466.7,1005.4,779.2,652.1,574.6,524.20000000000005,488.9,440.3,43.2,42.5,41.5,39.6,38.4,37.799999999999997,37.4,143.9,147.80000000000001,148.19999999999999,150.1,173.6,176.7,178,995,829.3,728.2,685.2,664.9,653.29999999999995,644.5,649.9,545.1,497.3,481,474,470.1,466,611.1,519.20000000000005,483.7,467.9,460.5,456.1,452.1,578.1,502.6,473.7,454.4,440.1,432.3,425.2,579.9,503.8,471.9,455.1,436.1,418.8,400.3,601.5,503.9,468.8,443,424.7,412.8,391.9,621.70000000000005,516.29999999999995,476.2,450.4,424.2,399.8,374.8,694.4,565.6,499.3,469.6,445.5,420.9,373.4,822.4,658.3,559.1,505.5,479.3,460.6,420.9,949.6,760.1,645.6,583.6,547,502.7,457.4,0.99219999999999997,1.2706999999999999,1.4176,0.76400000000000001,1.0256000000000001,1.1742999999999999,588.4,1.0197000000000001,0.95,254.9,1.0283,0.73799999999999999,67,583.5,"JPN00016049",9.7710000000000008,6955,27.9,46.4,43.8,0,108.3,8570]
[null,"FIN00068","L-0068","FIN-68","Xini Freedom","X-41","X-YACHTS","Jeppesen",2006,"NJK","Martin Estlander","INTL","C",840,"4/7/2016",12.35,11.111000000000001,2.4980000000000002,3.65,6893,128.9,0.08,579.5,1.0710999999999999,630.20000000000005,0.71299999999999997,32.1,964.6,779.5,668.8,607.9,573.1,549.1,518.1,919.5,744.1,647.70000000000005,596.1,567,546.6,514.70000000000005,803.4,646.5,562,512.6,481.7,461,433.4,860.1,686.8,592.1,535.79999999999995,500.5,476.9,446.2,987.3,759.8,631.20000000000005,552.5,501.3,465.5,415.6,43.7,42.4,41.7,39.700000000000003,39.1,38.4,37.799999999999997,141.69999999999999,147.69999999999999,149.9,155.19999999999999,168,180,180,995,818.8,714.1,666.8,645.70000000000005,634.4,617.9,645.6,538.1,482.4,462.9,455.5,451.6,444.4,605.20000000000005,509.2,467.1,449.7,442,437.6,431,572.4,489.1,456.5,436.8,421.9,413.6,406.5,575.29999999999995,490.7,457.4,437.9,419,400.9,380.5,596.79999999999995,490.5,450.2,424.4,408.9,395.7,374.8,613.5,501.6,456.3,429.4,401.8,381.1,357.6,679.9,547.9,479.5,448.6,423.9,398.2,346.5,809,641.1,540,479.9,450.4,427.5,380.9,934.2,740.2,623.6,548.9,500.5,463.9,418.3,1.0068999999999999,1.3186,1.494,0.77400000000000002,1.0649999999999999,1.242,0,0,0.89400000000000002,196.1,1.0657000000000001,0,0,563,"FIN00013026",10.57,7965,32.6,48,45.9,127.1,0,8630]
[null,"ITA410511","I41051","ITA-41051","EXTRA 1","X-41","X-YACHTS","JEPPESEN",2006,"CLUB NAUTICO GELA","BARRANCO GIUSEPPE MASSIMO","INTL","C",800,"19/7/2016",12.35,11.201000000000001,2.5099999999999998,3.65,7154,122.5,0.04,576.6,1.0744,628.29999999999995,0.73099999999999998,41.2,951.1,771,664.4,607.6,574,549.9,520.5,908.3,737.2,644.4,596.20000000000005,568.29999999999995,547.70000000000005,517.9,795.1,641.5,559.4,511.7,482.2,462.3,435.9,853.3,682.8,589.9,535.1,500.9,478.2,449,976.9,754,628.4,551.70000000000005,501.7,466.7,417.8,43.5,42.3,41.5,39.6,38.5,38.299999999999997,38.200000000000003,143.5,147.4,148.5,155.69999999999999,169.6,180,180,985.6,812.7,711.6,670,650.6,638,624.29999999999995,640.5,534.4,481.6,465.2,458.3,454.5,446.2,600.9,506.4,466.4,451.5,445,441.3,433.3,568.29999999999995,487.3,455.5,437.2,425,418.6,412.9,570.79999999999995,484.2,455.2,437.2,418.9,402.7,387.2,580.9,482.9,446.5,422.7,409.2,396.4,377.3,599.29999999999995,494.2,453.4,427.3,400.3,381.2,357.1,668.9,541.4,475.7,446.1,421.7,396.1,344,793.9,631.5,534.5,477.6,448.9,426.2,379.7,916.7,729.2,617.20000000000005,545.29999999999995,497.4,461.8,416.7,1.0195000000000001,1.3221000000000001,1.4883,0.78390000000000004,1.0685,1.2387999999999999,566.70000000000005,1.0587,0.93,216.9,1.069,0.747,56,561.29999999999995,"ITA00020350",10.568,8241,33,52.4,44.6,120.5,126.1,8645]
[null,"GER142159","GER7356","GER 7356","XARAMELLA","X-412 MK2","X-YACHTS","JEPPESEN",1991,null,"SONKE BAAKE","CLUB","C",400,"17/5/2016",12.52,10.369,2.13,3.9,7969,122.5,0.24,648.9,0.95760000000000001,704.9,0.59099999999999997,2.8,1123.8,897.5,763.2,681.4,629.29999999999995,594.29999999999995,562.4,1050.5999999999999,847.5,731.9,661.4,619.9,594.9,569.79999999999995,912.1,729.1,628.6,568.6,530.9,506.3,476.8,912.1,729.1,628.6,568.6,530.9,506.3,476.8,1141.4000000000001,867.2,711.3,615.70000000000005,554,512.1,457.1,43.9,42.7,42.8,41.6,40.4,39.5,39.1,142.69999999999999,168.9,170.3,171.4,171.7,173.6,176.8,1057.3,879.5,775.9,715.6,685.5,669.2,658,686.2,576.6,513.29999999999995,487,476,470.1,465.1,644.70000000000005,542.4,493.9,473.2,461.9,455.8,450.3,610.4,517.20000000000005,480.1,461.4,447.6,436.3,425.2,613.6,519,481.2,462,447.1,433.2,410,684.2,575.79999999999995,504.1,474.7,456.4,439.9,407.7,737.6,608.29999999999995,526.9,486.5,464.8,447.7,414.9,860,685.5,586.4,519.29999999999995,484.9,465,433.2,1030.8,798.4,668,583.20000000000005,522.20000000000005,487.7,451.3,1190.3,915.4,750.5,647.1,573.20000000000005,519.29999999999995,466.8,0.88190000000000002,1.1842999999999999,1.3645,0.66790000000000005,0.94579999999999997,1.1419999999999999,632.4,0.94869999999999999,0.68200000000000005,110.2,0.9506,0.59299999999999997,4.8,631.20000000000005,"GER11001450",9.5389999999999997,8937,32.200000000000003,39.9,50.8,0,0,8695]
[null,"GER142225","GER7397","GER 7397","PHEONIX","X-43","X-YACHTS","N, JEPPESEN",2003,null,"PETER HERING","CLUB","C",720,"25/8/2016",12.903,11.599,2.1859999999999999,3.95,8605,119.8,0.21,596.29999999999995,1.0365,651.20000000000005,0.68300000000000005,26.3,1000.2,809.2,697.2,629.20000000000005,590,563.6,533.9,955.7,775.3,674.8,617.70000000000005,585.6,564.79999999999995,535.5,829,666.1,578,526.4,494.4,473.4,446.8,882.1,703.8,605.9,547.70000000000005,511.2,487,456.1,1021.8,785.2,651,568.6,515,477.8,427.1,44.4,43.8,42.8,41.9,40.700000000000003,40,40.1,144.1,148.6,150.80000000000001,154.5,166.3,180,180,1041.5,860.2,754.6,698,672.1,659.1,642.20000000000005,670.9,560.79999999999995,497.2,470.7,461.1,456.2,449.8,626.5,526.1,475.7,455.2,446.5,441.8,437.1,589.70000000000005,499.1,461,442.2,429.3,420.5,413.2,591.20000000000005,499.7,459.6,442.2,426.7,411.9,390.1,610.20000000000005,500.2,454.9,431.5,415.1,404.4,386.2,628.70000000000005,513.9,461.5,436.5,414.6,393.1,370.8,698,565.1,489,453.7,432.1,411,368.2,830.4,656.6,554.1,489.9,455.3,434.5,394.8,958.8,758.2,639.70000000000005,560.4,507.9,468.1,425.5,0.97430000000000005,1.2837000000000001,1.4552,0.74609999999999999,1.0273000000000001,1.2074,584,1.0275000000000001,0.83799999999999997,177.3,1.0347,0.69499999999999995,36.9,579.9,"GER20015129",10.375999999999999,9763,35.1,53.9,41.3,116,0,8710]
[null,"knw13635","NED_5984","NED 5984","Mad About You","X-79","X-YACHTS","N, Jeppesen",1987,108983,"R,L,H, Breddels","CLUB","R",373,"23/3/2016",7.9269999999999996,6.7569999999999997,1.3859999999999999,2.84,1803,95.7,0,701.7,0.88770000000000004,760.4,0.60899999999999999,46.8,1144.5999999999999,931.4,803.1,731.3,693,671.5,642,1092.5999999999999,893.2,784,725.5,693,672.2,642.20000000000005,961.7,779.1,681.3,624.29999999999995,588.79999999999995,565.20000000000005,534.4,1007.1,811.5,706.1,644.5,606.29999999999995,581,548.9,1180.9000000000001,914,763.8,672,612,569.29999999999995,508.5,43.9,43,41.7,39.799999999999997,38.700000000000003,38.1,38.5,147.80000000000001,151.5,152.69999999999999,168.9,180,180,180,1181.8,984.3,867.2,816.5,795.3,784.8,783.5,767.6,647.1,594.20000000000005,574.20000000000005,565.79999999999995,561.29999999999995,557.4,721.2,618.5,578.70000000000005,557.20000000000005,546.9,541.1,537.1,683.9,600.1,565.9,539.29999999999995,518.6,508.4,501,687.3,599.79999999999995,559.5,538,514.29999999999995,492.9,471.3,698.7,596.5,556.29999999999995,520.1,489,472.4,445.9,722.9,607.6,564.1,528.70000000000005,495,462.9,418.9,804.9,661.4,586.70000000000005,551.9,518.5,487.5,422.2,959,760.7,643.1,582.5,550.4,519.29999999999995,462.8,1107.3,878.5,739.1,646.20000000000005,590.70000000000005,558.20000000000005,500.6,0.84299999999999997,1.083,1.2178,0.65029999999999999,0.88539999999999996,1.0138,690.7,0.86870000000000003,0.79200000000000004,237.4,0.87860000000000005,0.627,66.3,682.9,"knw00004655",6.7229999999999999,2289,14.5,20.8,19.8,47.4,0,8771]
[null,"CLU104041","I10404","ITA-10404","MORDILLA","X-95","X-YACHTS","JEPPESEN",1982,"Y,C,SANREMO","MINIO ELISA","CLUB","C",430,"9/3/2016",9.2409999999999997,7.5309999999999997,1.778,3.22,3297,112.5,0.06,688.4,0.90449999999999997,746.3,0.61899999999999999,46.5,1124.4000000000001,917.5,794.3,721,676.4,652.79999999999995,626.20000000000005,1072.3,878.7,770.9,711.5,677.7,657,632.5,946.1,765.2,668.2,611.70000000000005,576.9,554.20000000000005,526.4,978,787.6,684.9,624.9,587.70000000000005,563.5,534,1162.0999999999999,898.9,750.4,659.7,600.9,559.70000000000005,501.9,43,42.6,42,40.5,39.4,39.1,38.9,147.9,152.69999999999999,154.1,165.9,180,180,180,1136.4000000000001,954.3,845.7,795,770.9,759,754.3,744.6,626.5,572.6,552.1,543.1,538,534.70000000000005,700.8,595.5,555.79999999999995,536.79999999999995,526,519.70000000000005,514.4,663.5,574.6,542.6,521.6,504.3,491.9,482.3,667.2,576.6,543.20000000000005,518.6,501.2,483.5,460.9,709.6,589.6,544.79999999999995,516.4,489.3,466.9,446.8,737.3,606.79999999999995,552.79999999999995,524.1,497.9,473.6,433.4,820.2,670.5,581.70000000000005,543.9,517.4,491.9,448.3,963.3,764,646.5,575.20000000000005,541.79999999999995,516.70000000000005,470.7,1112.4000000000001,880.8,742.9,647,581.79999999999995,546.6,498.1,0.85680000000000001,1.1055999999999999,1.2419,0.66110000000000002,0.8992,1.0405,675.4,0.88829999999999998,0.77800000000000002,213.9,0.89490000000000003,0.627,55.8,670.5,"CLU00018740",7.2939999999999996,3905,18.7,29.8,26,49.6,0,8789]
[null,"knw27731","nedc8267","NED 8267","Max","XC-42","X-YACHTS","Niels Jeppessen",2009,177827,"M, Kortbeek","CLUB","C",700,"23/3/2016",12.634,11.601000000000001,1.71,4.08,11276,124.7,0.33,617.4,0.98399999999999999,686,0.66400000000000003,29.5,1027.0999999999999,839.4,733.9,665.4,629,600,569.1,994.5,814,715.4,655.9,620.5,597.29999999999995,571.5,853.5,688,598.79999999999995,546.70000000000005,514.70000000000005,494,468.9,923.9,737.4,634.4,572.4,533.29999999999995,507.7,477.3,1052.3,812.6,676.1,591.4,535.5,496.3,442.7,46.6,45.2,45.3,46.2,45.1,44.2,43.7,144.1,148.19999999999999,147.69999999999999,149.1,151.30000000000001,175.4,178.2,1127,935.6,834.6,765.7,726.2,706.8,693.4,712.4,599.70000000000005,532.5,490.8,473.3,465.6,460.8,658.4,557.79999999999995,496.7,467.7,454,447.9,443.4,614.70000000000005,520.9,473.3,452,438.9,429.3,419.1,612.6,508.1,461.9,448.3,437.6,425.9,404.5,600.9,496.1,454.2,433.5,418.2,408.7,392.7,615.1,507.7,459.7,437.3,418.6,399.9,377.3,680.4,556.20000000000005,483.3,451.7,432.4,414.4,378.4,803,643.6,548.29999999999995,489.4,462.3,444.6,417.4,927.2,743.2,633.1,565.1,531.79999999999995,493.1,444.9,0.94799999999999995,1.2366999999999999,1.3934,0.72330000000000005,0.97309999999999997,1.1332,603.79999999999995,0.99370000000000003,0.85199999999999998,216.9,0.99580000000000002,0.67100000000000004,35.4,602.5,"knw00004300",9.6039999999999992,12444,37.1,53.9,43.1,0,154.9,8835]
[null,"USAUS6008","USA93664","USA 93664","Rival","XP 44","X-YACHTS","Jeppesen",2010,null,"Bob Cantwell","CLUB","C",909,"3/6/2016",13.305,12.358000000000001,2.3450000000000002,4.05,9565,130.80000000000001,0.08,555,1.1059000000000001,610.4,0.75700000000000001,40.1,921.4,747.5,641.20000000000005,586.1,561.29999999999995,540.1,509.4,882.5,714.3,623.29999999999995,575.5,549,529.4,498.6,766.1,617.5,538.20000000000005,492.5,464.4,445.5,418.9,835.3,666.9,574.4,519.29999999999995,484.6,461.4,431.6,942.8,727,605.4,531.4,483.4,449.5,400.9,44.2,43,42.5,40.9,39.700000000000003,39.5,39.200000000000003,143,146.19999999999999,146.69999999999999,151,152.19999999999999,175.3,177.6,972.5,800.8,701.5,653.5,630.70000000000005,618,601.70000000000005,627.4,522.9,466.6,445.9,437.7,433.2,426.4,586,491.9,449.1,431.8,424.3,419.8,414,551.4,469.6,437.1,419.2,405.9,397.6,389.9,552.70000000000005,461.9,437.8,419.4,402.8,386.2,364.2,546.6,455.3,422.4,407.6,395.1,383.1,358.7,560.4,462.6,426.6,401.5,382.6,368.8,342.9,634.1,503.4,445.5,419.1,395.2,369.5,318.39999999999998,753.8,601.1,503,449.5,428,410.2,367.8,870.4,694.1,580.9,518.70000000000005,492,462.2,417.2,1.0577000000000001,1.3757999999999999,1.5432999999999999,0.80889999999999995,1.1033999999999999,1.2642,0,0,0.99199999999999999,241,1.1099000000000001,0,0,540.6,"USA00000327",11.4,10811,38.799999999999997,65,48.9,0,202.4,8861]
[null,"NOR14700","NOR14700","NOR 14700","TOO BONITA","XP-44","X-YACHTS","JEPPESEN",2010,null,"Knut G,Heje","INTL","C",860,"14/9/2016",13.305,12.323,2.6890000000000001,4.05,9482,135.4,0.08,550.1,1.1308,596.9,0.75900000000000001,36.1,911.4,738.2,634,576.20000000000005,543.4,519.70000000000005,489.2,872,705.8,614.6,565.20000000000005,536.6,516,484.2,761.7,613.4,533.5,486.9,457.6,437.6,410,825.1,658.2,566.70000000000005,512.20000000000005,477.7,454.5,424.2,933.7,719.6,598.70000000000005,524.70000000000005,476.6,442.9,395.6,43.4,42.1,41.4,39.4,38.5,37.700000000000003,37,142.9,146.6,148.9,154.9,164,180,180,951.8,781.2,681.2,633.6,611.1,598.1,580.4,618.4,514.29999999999995,460.5,441,433.1,428.7,421.4,579.70000000000005,486.4,445.7,428.7,420.7,415.8,409.4,547.70000000000005,467,435.3,417.1,403,393.9,385.4,550.4,467.9,436.7,418.2,401,383.7,360.7,561.29999999999995,463,426.3,408.8,396.3,383.9,359.9,576.6,472.1,431.5,406.3,384.2,370.6,347.9,637.6,514.4,451.5,423.6,400.3,375.4,323.8,754.3,602,508.3,454.3,426.4,404.8,359.2,871,695.1,586.9,518.70000000000005,475.6,441.4,398.1,1.0626,1.3878999999999999,1.5738000000000001,0.81840000000000002,1.1235999999999999,1.3127,0,0,0.94299999999999995,195.2,1.1228,0,0,534.4,"NOR00001995",11.715,10722,39.299999999999997,65.599999999999994,49.3,173.4,0,8911]
[null,"JPN160400","JC160400","JPN6697","ASTRA","YAMAHA30CRS","YAMAHA","YAMAHA",1985,null,"Keiichi Makihara","CLUB","C",471,"4/6/2016",8.9600000000000009,7.6269999999999998,1.79,3.25,3389,112.9,0.03,694.8,0.89759999999999995,752,0.61099999999999999,44.3,1139.5999999999999,925.7,800.7,726.8,681.4,656.6,630.70000000000005,1091,889.4,778.7,717.1,681.7,659.8,636,958.5,773.4,674,616.20000000000005,580.70000000000005,557.79999999999995,530.29999999999995,1001.9,804,696.8,634,595.4,570.5,540.6,1173.8,906.7,756.1,664.2,604.6,563.20000000000005,506.4,43.9,43.1,42.8,41,40,39.1,39,147.4,150.9,152.5,160.19999999999999,180,180,180,1170.5999999999999,975.4,862.1,804.8,778,764.3,761.2,760.6,638.1,578.4,555.4,546.20000000000005,541.5,538.79999999999995,715.4,604.79999999999995,560.79999999999995,540.4,529.9,524.1,519.6,678.1,582.20000000000005,547.5,525.9,508.3,496.4,487.8,681.9,584.5,548.79999999999995,526.9,506.8,488.6,465.1,726.3,597.6,548.4,518.79999999999995,491.5,474.5,456.1,748.8,612.1,554.79999999999995,524.79999999999995,496.8,471.3,438.4,823.2,666.8,580.1,542.9,515.70000000000005,489.3,443.7,960,758.8,642.29999999999995,573.9,541.4,516.20000000000005,469.1,1108.5,875.9,739.2,648.9,584.79999999999995,548.9,500.2,0.84540000000000004,1.0976999999999999,1.2342,0.65369999999999995,0.8921,1.0336000000000001,680.7,0.88139999999999996,0.76500000000000001,207.9,0.88859999999999995,0.621,55.7,675.2,"JPN00016046",7.2569999999999997,4008,19.5,22.6,37.1,66.400000000000006,0,8937]
[null,"POR811204","E8112_C","ESP-8112","SUEVO","YATLANT 28","POLIMAR","J, CELA",2005,null,"Tomas Moreira","CLUB","R",370,"19/4/2016",8.49,8.2710000000000008,1.9350000000000001,3.37,2828,113.9,0.18,669.4,0.93030000000000002,725.6,0.61399999999999999,28.4,1111.9000000000001,898.6,773,697.5,656.4,634,605.79999999999995,1065.2,863.9,752.1,689.1,654.9,633.9,605.29999999999995,928.4,747.3,649.29999999999995,591.6,555.4,531.20000000000005,499.6,982.5,785.5,678,614.29999999999995,574.4,548,515.1,1138.4000000000001,876.6,728.4,637.29999999999995,577.4,534.70000000000005,473.3,43.9,42.5,41.8,39.6,39.299999999999997,39,39.299999999999997,146,150.30000000000001,152.6,161.30000000000001,180,180,180,1164.5,959.5,837.6,771.6,749.1,739,736.7,753.6,630.5,564.9,537.5,527.79999999999995,523.1,520.20000000000005,706.3,596.9,547.20000000000005,522.79999999999995,510.5,504.5,500,668.2,573.1,534.29999999999995,509.1,486,471.4,462.6,671.2,567.79999999999995,525.20000000000005,503.6,484.5,462.6,429.6,676.2,565.9,523.4,490.6,457.9,439.9,412.1,699.5,579.9,531.29999999999995,499.3,466.4,434.3,389.4,777,631.29999999999995,556.1,521.20000000000005,490.8,460.2,398.1,917.3,725.4,615.5,552.6,520.6,492.3,436.7,1059.2,837.7,708.3,623.5,563.70000000000005,529,474.8,0.87129999999999996,1.1411,1.2977000000000001,0.67149999999999999,0.92569999999999997,1.0730999999999999,0,0,0.77700000000000002,198.3,0.92410000000000003,0,0,649.29999999999995,"POR00000289",7.8810000000000002,3503,20.100000000000001,29,22.3,60.4,0,8951]
[null,"CLULOKI","LOKI","ITA-LOKI","LOKI","YAWL BERMUDIANO","ALBERT LIMOS","SPARKMAN & STEPHENS",1948,"YACHT CLUB ITALIANO","FORMENTON MACOLA MATTIA","CLUB","C",600,"10/8/2016",11.72,8.3170000000000002,1.7250000000000001,2.92,8053,122.5,0.68,749.1,0.81630000000000003,826.9,0.52700000000000002,12.6,1272.7,1026.3,894.1,803.2,746.7,711.7,683.9,1228.5999999999999,996.7,869.7,791.4,745.3,718.7,696.8,1048.7,839.8,725.7,658.4,617.1,591.29999999999995,563.70000000000005,1106.9000000000001,881.3,756.4,681.4,634.6,604.9,572.70000000000005,1293.5999999999999,991.6,818.9,711.6,641.29999999999995,593.1,530.29999999999995,45.3,43.6,43.3,44.3,44.9,44.9,45.8,146.4,150.69999999999999,153.19999999999999,153.80000000000001,162.1,174.7,179.9,1380.2,1132.4000000000001,1006.1,922.9,879.2,858.7,854.1,883.1,737.1,653.1,594.70000000000005,566.79999999999995,556,550.9,823,693.4,610.1,561.70000000000005,538.79999999999995,528.1,522.70000000000005,776.3,653.6,574.5,536.20000000000005,516.29999999999995,502.3,494.9,741.5,608.79999999999995,545.79999999999995,530.29999999999995,513,499,476.7,735.6,607,542.79999999999995,515.1,500.1,492.3,482,765,630.79999999999995,554.20000000000005,522.29999999999995,502.1,484,468.9,857.8,700.5,599.4,544.9,518.5,499.2,464.5,1009.1,797.2,678.6,595.9,546,520.79999999999995,485.8,1165.2,920.2,782.1,683.5,614.20000000000005,564.6,513.70000000000005,0.76839999999999997,1.0251999999999999,1.1665000000000001,0.58720000000000006,0.80549999999999999,0.95069999999999999,737.5,0.8135,0.64900000000000002,167.6,0.82479999999999998,0.54,29.5,727.5,"CLU00020416",6.7759999999999998,8711,27.8,32.700000000000003,24.4,64,0,8952]
[null,"GRE000567","GR401","GRE-401","DORIAN","YCA 29","THAMES MARINE","J, EVERITT",1979,"NAO LAVREOTIKIS","KALLINTERIS PANAGIOTIS","CLUB","C",250,"31/3/2016",8.85,7.056,1.635,2.97,3720,119.3,0.68,804.7,0.77249999999999996,873.8,0.48499999999999999,5.6,1368.8,1101.4000000000001,956,853.4,776.9,734.6,703,1328.5,1074.9000000000001,934.6,843.5,781.6,744.5,713.2,1133.8,905.7,779.6,703.7,655.7,624.6,589.1,1205.3,956.7,817.8,733,678.7,643.20000000000005,602.6,1388.4,1063.3,876.6,759.9,683.2,630.20000000000005,560.6,45.6,44,43.5,44.3,43.7,42.8,42.5,148.6,152.4,155.69999999999999,158.9,180,180,180,1500.7,1228.5999999999999,1086.3,985.6,911.2,873,857,955.4,795.9,702.7,638.29999999999995,604.79999999999995,588.70000000000005,580.5,887.8,746.2,656.4,607.9,584.1,570,558.9,834.9,703.1,623.29999999999995,588,568,552.70000000000005,529.9,828,679.5,601.29999999999995,570.1,557.1,549.9,524.5,816,671.4,597.9,566.5,542.5,520.4,500.5,843.1,692.3,607.6,572.20000000000005,548.5,525.4,487.4,928.1,753.6,645.4,591.6,563.9,541.1,499.1,1071.2,845.8,718.3,632.4,588.70000000000005,563.70000000000005,521.70000000000005,1236.9000000000001,974.1,825.8,721.1,642.5,596.1,549,0.70950000000000002,0.95489999999999997,1.1077999999999999,0.54649999999999999,0.75919999999999999,0.92049999999999998,0,0,0.56000000000000005,116.6,0.77039999999999997,0,0,778.8,"GRE01005442",5.8230000000000004,4270,18.8,14.6,22.9,0,47.4,8953]
[null,"GREF00164","GR14","GRE-14","KALIMERA","YCA 29","THAMES MARINE","J, EVERITT",1978,"ASIATh RODOU","KOUMBIADIS ELEFHERIOS","CLUB","C",416,"5/5/2016",8.85,7.0090000000000003,1.625,2.97,3595,120.9,0.56999999999999995,756,0.8226,820.6,0.55900000000000005,41.5,1234.7,1013.8,884.8,795,739.1,711.7,686.7,1196,983.9,864.9,790.4,745.3,720.1,695.8,1043.4000000000001,842.3,733.5,669.7,630.29999999999995,605.20000000000005,576,1103.8,885.2,765.6,694.5,650.20000000000005,621.6,588.5,1273.0999999999999,986.3,823.1,722.2,656.3,610.70000000000005,549,44.4,43.8,43.8,43.5,42.6,41.9,42,148.5,152.5,153,163.19999999999999,180,180,180,1326.1,1113.7,994.1,909.7,864.4,844.3,838.8,856.1,725.6,646.1,605.29999999999995,586.6,578.9,575.1,802.9,680.1,614.5,585.79999999999995,569.6,559.79999999999995,554.4,759.5,644,593.70000000000005,570.79999999999995,553.5,538.79999999999995,521.20000000000005,763.1,645.6,585.79999999999995,562.9,553.6,537.9,509.1,764.4,632.29999999999995,580.29999999999995,552.79999999999995,527.70000000000005,510.9,495.3,786,646.4,586.20000000000005,557.79999999999995,532.6,508.5,478.7,856.7,702,610.6,573.79999999999995,548.9,524.70000000000005,483.5,990.2,792.8,674.5,603.6,572.29999999999995,549.29999999999995,505.7,1143.4000000000001,913.8,775.5,680.3,613.9,579.20000000000005,534.70000000000005,0.77510000000000001,1.0087999999999999,1.1384000000000001,0.60040000000000004,0.81399999999999995,0.95169999999999999,0,0,0.68100000000000005,190.8,0.8165,0,0,734.9,"GRE01005835",6.1989999999999998,4140,18.3,17.2,27.6,61,0,8954]
[null,"GRE001176","GR363","GRE-363","ELENI","YCA 29","THAMES MARINE","J, EVERITT",1986,"IO PATRON","XENOS KONSTANTINOS","CLUB","C",350,"13/7/2016",8.85,7.056,1.635,2.97,3723,119.9,0.66,791.1,0.77580000000000005,870,0.50600000000000001,16.899999999999999,1324.9,1078.5,940.1,851.3,788.6,742.5,705.7,1287.7,1048.0999999999999,915.8,833,777.3,741.1,708.8,1104,886.1,767.1,696.1,651.4,622,587.4,1178.5999999999999,937.5,803.5,722.1,670.3,636.4,597.5,1352.9,1042.2,864.1,752.6,678.6,626.9,557.5,45.6,44.1,43.7,44.7,43.6,42.7,42.2,146.19999999999999,146.6,145.5,147.19999999999999,174.5,176.5,178.3,1461.4,1202.5999999999999,1064.2,967,898,864.5,845.2,930.9,778.9,686.8,628.1,598.5,584.20000000000005,575.9,865.1,728.6,642.70000000000005,600.6,578.79999999999995,565.29999999999995,554.4,812.2,684,612,581.5,562.4,546.79999999999995,523.79999999999995,803.9,660.2,591.79999999999995,562.6,548.70000000000005,540.9,516.20000000000005,787.6,647.9,586.79999999999995,557.5,532.29999999999995,509.8,490,812.4,665.3,594.20000000000005,562.79999999999995,537.79999999999995,513.70000000000005,476.9,888.4,724.1,623.70000000000005,580.1,554.1,530.70000000000005,490.7,1029.2,826.5,706.7,637,598.79999999999995,574.6,537.4,1188.5,954.4,816,735.5,679.1,620.6,566.1,0.73080000000000001,0.96740000000000004,1.1100000000000001,0.56169999999999998,0.76349999999999996,0.91190000000000004,0,0,0.61099999999999999,159.19999999999999,0.77959999999999996,0,0,769.6,"GRE01006425",5.9119999999999999,4273,18.8,17.7,23.4,0,53.8,8955]
[null,"GRE000240","GR1090","GRE-1090","NEARCHOS","YCA 29",null,null,1979,"ISTIOPLOIKOS OMILOS RETHYMNIS","ISTIOPLOIKOS OMILOS RETHYMNOU","CLUB","C",400,"21/3/2016",8.85,6.9969999999999999,1.613,2.97,3488,120.5,0.64,781.6,0.7964,847.5,0.51400000000000001,18.5,1310.4000000000001,1061.5,921.3,822.9,756.7,722.8,692.9,1269,1032,899.4,815.4,762,731.4,701.3,1092.8,876.3,757.7,686.9,642.6,613.9,580,1146.5,914.6,786.5,709.4,660.7,629,591.5,1337.3,1028.0999999999999,851.3,741.4,669.4,619.6,552.4,45.4,43.8,43.9,44.4,43,42.1,41.7,148.6,152.6,154.4,160.5,180,180,180,1413.5,1169.2,1035.7,942.2,882.8,855.4,842.3,903.3,758.2,668.7,618.9,594.6,583.20000000000005,576.9,841.6,709.2,630.6,595.6,576.20000000000005,563.70000000000005,555.1,791.4,666.2,605,578.1,559.5,543.70000000000005,522,793.8,669,599.70000000000005,568.6,552.70000000000005,542.20000000000005,512.6,802.7,658.7,593.4,563.1,537.70000000000005,514.29999999999995,492.9,826.4,675.5,600.70000000000005,568.20000000000005,543.20000000000005,518.79999999999995,480.7,906.8,735.5,631,585.70000000000005,559.1,534.9,492.4,1045.5,828,702.2,620.70000000000005,583.29999999999995,558.9,514.9,1207.3,953.8,806.9,703.5,630.70000000000005,590.29999999999995,543.6,0.73760000000000003,0.98060000000000003,1.125,0.56920000000000004,0.78580000000000005,0.93740000000000001,0,0,0.60699999999999998,144.30000000000001,0.79190000000000005,0,0,757.6,"GRE01005256",6.01,4030,18.399999999999999,16.899999999999999,25.7,51.6,0,8956]
[null,"GRE000298","GR29YCA","GRE-29 YCA","IOS","YCA-29","MARINE PROJECTS","J,EVERITT",1979,"IO PATRON","YACHT CLUB OF PATRA","CLUB","C",400,"28/7/2016",8.85,6.9740000000000002,1.611,2.97,3465,119.4,0.64,783,0.79469999999999996,849.3,0.51200000000000001,17.2,1314.2,1065,923.5,825,757.8,723.1,693.2,1273.7,1035.5,902.1,817.6,763.1,731.8,701.5,1095.7,878.3,759,687.7,643.1,614.20000000000005,580.4,1154.7,920.5,790.9,712.7,663.2,630.79999999999995,592.79999999999995,1340.2,1030.0999999999999,852.7,742.3,669.9,619.79999999999995,552.5,45.3,43.8,43.7,44.3,43,42.2,41.9,148.6,152.5,153.5,160.1,180,180,180,1423.7,1176.8,1041.7,948.2,885.9,857,843.7,910.1,763.8,673.2,621.5,595.6,583.20000000000005,576.79999999999995,848.2,714.9,633.9,597.20000000000005,577.1,564,554.9,798.2,672.1,607.4,579.4,560.70000000000005,544.79999999999995,522.5,801.3,672.6,598.70000000000005,567.9,553.79999999999995,543.5,514.4,800,656.4,591.79999999999995,561.4,535.9,513.20000000000005,494.4,823.5,672.4,598.70000000000005,566.29999999999995,541.29999999999995,517,480,905.2,733.8,628.5,583.79999999999995,557.20000000000005,533.1,491,1043.3,827.3,700.2,618.70000000000005,581.70000000000005,557.4,513.6,1204.7,953.1,805.4,701.8,629.79999999999995,589.29999999999995,542.6,0.73519999999999996,0.97929999999999995,1.1247,0.56740000000000002,0.78390000000000004,0.93679999999999997,0,0,0.60199999999999998,140.80000000000001,0.79059999999999997,0,0,758.9,"GRE01006492",5.9669999999999996,4007,18.3,15.9,25.1,53.6,0,8957]
[null,"GER142026","YLVA53","YLVA 53","SYLVA","YLVA","KJOELHEDE","KJOELHEDE",1976,"FYCB","KONSTANTIN NEUMANN","CLUB","C",350,"1/4/2016",12.18,9.7530000000000001,1.631,2.29,3451,123.2,0.34,655.4,0.93789999999999996,719.7,0.59,4.2,1151.0999999999999,909.1,764.1,687.9,647.9,620.79999999999995,583,1093.2,866.3,741.6,677.8,643.79999999999995,620.70000000000005,583.29999999999995,929.4,737.6,633.6,573.20000000000005,536.29999999999995,512.20000000000005,480.7,1013.4,797.4,677.9,606.79999999999995,562.5,533.4,496.9,1149.9000000000001,872.2,715.2,619.70000000000005,558.4,516,456.9,44.3,43.5,43.3,42.9,42.3,41.9,42.1,135.69999999999999,147.80000000000001,144.80000000000001,153.19999999999999,162,180,180,1211,973.3,840.8,785.5,760.4,748.3,725.3,778.4,629.6,547.29999999999995,516.5,505.3,500.1,489.1,725.5,588.6,517.70000000000005,492.7,483.8,479.3,471.8,684,556.1,497.9,474.1,459.3,451.8,446.2,672.5,540.29999999999995,499.9,474.2,454.6,436.7,417.8,663,529.5,479.9,463.1,449.3,435.9,412.3,685.9,544.79999999999995,485.1,454.6,434.8,420.4,395.1,774.6,609.29999999999995,513.5,474.6,446,416.7,364.9,945,731.6,595.20000000000005,514.4,477,450.5,397.5,1091.2,844.8,687.3,590.20000000000005,535.5,493.3,440.7,0.86480000000000001,1.1811,1.3455999999999999,0.65529999999999999,0.93530000000000002,1.1004,641.29999999999995,0.93559999999999999,0.71699999999999997,149.6,0.94440000000000002,0.59599999999999997,12.9,635.29999999999995,"GER20014203",8.4909999999999997,4254,21.3,23,19.3,68.400000000000006,0,8958]
[null,"GER142009","YLVA64","YLVA 64","SMAGGEN","YLVA","KJOELHEDE","KJOELHEDE",1976,"FYC","ANTJE LINDE + UDO BAASCH","CLUB","C",400,"18/4/2016",12.18,9.7530000000000001,1.631,2.29,3451,123.2,0.34,655.5,0.93920000000000003,718.7,0.58499999999999996,0.6,1156,912.1,765.1,685.7,645.20000000000005,618.20000000000005,580.1,1097.8,869.4,742.2,675.9,640.79999999999995,617.6,579.1,931.7,738.7,633.6,572.4,534.79999999999995,510.2,478,1018.5,800.4,679.4,607.20000000000005,562.1,532.4,495.2,1152.8,873.4,715.1,618.79999999999995,556.9,514.20000000000005,454.8,44.4,43.4,43.4,42.9,42.2,42.2,41.7,145.1,147.9,144.69999999999999,153.19999999999999,161.9,180,180,1219.2,979.1,842.7,781.2,754.8,742.8,719.3,783.7,633.9,548.4,514.5,503,497.7,488.3,730.6,592.79999999999995,519,492.2,482.2,477.4,471.2,689.1,559.5,499.7,474.5,458.8,449.9,443.5,674.7,540.29999999999995,501.2,475.4,455.6,437.2,415.3,664.2,530.20000000000005,479.2,461,447,433.8,409.4,687,545.4,485.2,454.2,432.3,417.8,391.8,773.8,610.29999999999995,513.70000000000005,474.7,446,416.7,361.8,946.5,731.9,595.5,514.4,477,450.5,397.5,1092.9000000000001,845.2,687.6,590.29999999999995,535.70000000000005,493.5,441,0.86180000000000001,1.1819,1.3514999999999999,0.65280000000000005,0.93630000000000002,1.1053999999999999,642.20000000000005,0.93430000000000002,0.70299999999999996,139.30000000000001,0.94510000000000005,0.59399999999999997,11.8,634.9,"GER11001256",8.5310000000000006,4254,21.3,22.6,19.100000000000001,68.900000000000006,0,8959]
[null,"nor21849",21849,"NOR 117","Jutta","YNGLING","Borge Bringsv?rd","LINGE",1967,null,"Jon Mikael Bjorklund","CLUB","R",220,"24/5/2016",6.3550000000000004,5.1319999999999997,1.054,1.71,644,112.3,0.25,810.4,0.77329999999999999,872.8,0.504,24,1342.2,1085.5999999999999,933.3,835.1,788.6,764,728,1294.0999999999999,1050.4000000000001,915.2,836,792,766.8,727.9,1122.7,904.6,786.3,716.1,671.5,640.79999999999995,598.20000000000005,1175.2,942.4,815.8,741,694.1,662.8,621.79999999999995,1374.6,1059.5,880.8,770.4,696.8,642.79999999999995,560.20000000000005,43.8,43,42.2,40,38.6,38.1,38.4,149.5,153.5,156.6,180,180,180,180,1423.4,1176.3,1031.5,945.7,908.2,895,890.2,921.5,767.5,695.9,662.8,643.9,636,631.5,863,727.8,674.6,644.70000000000005,621.5,609.5,602.5,814.7,700.9,658,626.4,596.70000000000005,573.70000000000005,556.5,798,684.2,638.79999999999995,599.6,580.70000000000005,563.6,522.9,799.5,684.5,638.9,597.1,558.1,521.4,473.2,831,697.9,648.6,608.1,569.1,532,432.7,943.4,761.5,674.4,634.4,595.4,559.29999999999995,478.7,1092.0999999999999,864,729.4,666.7,629.79999999999995,593.29999999999995,526.9,1261.0999999999999,994.9,835.1,724.5,669.1,633.1,565.79999999999995,0.72099999999999997,0.94130000000000003,1.0760000000000001,0.55610000000000004,0.76959999999999995,0.8921,790.1,0.75939999999999996,0.63900000000000001,193.3,0.76390000000000002,0.51800000000000002,39.5,785.5,"nor00001266",5.0599999999999996,942,8,10.8,6.9,19,0,8960]
[null,"nor666790",666790,"NOR 105","Batman","YNGLING","Borge Bringsv?rd","LINGE",1967,null,"Claus Gladyszak","CLUB","R",220,"22/8/2016",6.3550000000000004,5.1319999999999997,1.054,1.71,644,112.3,0.25,810.4,0.77329999999999999,872.8,0.504,24,1342.2,1085.5999999999999,933.3,835.1,788.6,764,728,1294.0999999999999,1050.4000000000001,915.2,836,792,766.8,727.9,1122.7,904.6,786.3,716.1,671.5,640.79999999999995,598.20000000000005,1175.2,942.4,815.8,741,694.1,662.8,621.79999999999995,1374.6,1059.5,880.8,770.4,696.8,642.79999999999995,560.20000000000005,43.8,43,42.2,40,38.6,38.1,38.4,149.5,153.5,156.6,180,180,180,180,1423.4,1176.3,1031.5,945.7,908.2,895,890.2,921.5,767.5,695.9,662.8,643.9,636,631.5,863,727.8,674.6,644.70000000000005,621.5,609.5,602.5,814.7,700.9,658,626.4,596.70000000000005,573.70000000000005,556.5,798,684.2,638.79999999999995,599.6,580.70000000000005,563.6,522.9,799.5,684.5,638.9,597.1,558.1,521.4,473.2,831,697.9,648.6,608.1,569.1,532,432.7,943.4,761.5,674.4,634.4,595.4,559.29999999999995,478.7,1092.0999999999999,864,729.4,666.7,629.79999999999995,593.29999999999995,526.9,1261.0999999999999,994.9,835.1,724.5,669.1,633.1,565.79999999999995,0.72099999999999997,0.94130000000000003,1.0760000000000001,0.55610000000000004,0.76959999999999995,0.8921,790.1,0.75939999999999996,0.63900000000000001,193.3,0.76390000000000002,0.51800000000000002,39.5,785.5,"nor00001888",5.0599999999999996,942,8,10.8,6.9,19,0,8961]
[null,"RUS3521,8","RU3521_A","RUS 3521","Alaska","YOK 41","TSUBOI, JAPAN","I,YOKOYAMA",1985,"RUSSIA","Paholiuk Yuri, Bogatskiy Pavel,","CLUB","C",664,"13/4/2016",12.41,9.8870000000000005,2.2770000000000001,3.86,6232,110.6,0,595,1.0416000000000001,648,0.72699999999999998,54.2,960.1,788.3,688.7,630.20000000000005,592,568.29999999999995,541.4,909.9,750,664.7,617.70000000000005,589.1,569.1,543.9,809.9,658.7,578.20000000000005,531.29999999999995,502,482.3,456.8,836.8,678.2,593.1,543,511.5,490.3,463.3,1000.3,776.6,650.6,573.5,523.1,487.5,437.4,42.9,42.3,40.799999999999997,39.4,38.299999999999997,37.6,37.200000000000003,144.5,149.80000000000001,151.9,158.1,180,180,180,948.5,801.6,722.1,684.8,664.6,651.9,641.4,620.9,531.1,495.5,482.3,474.9,470.1,465.3,584.4,509.4,482.4,468.6,460.5,455,449.3,553.29999999999995,494.5,470.8,453.6,439.3,430.9,422.7,554.70000000000005,494.3,470.3,451.6,434,419.3,402.3,610.4,512.6,476,451.2,427.4,410.9,392.6,634.5,526.4,482.8,458,434.3,412.1,378,707.2,578,507.7,476.3,453.5,430.6,389.3,841.6,671.1,568.29999999999995,506.5,476.8,455,413,971.8,774.9,655.29999999999995,575.5,519.5,484.7,441.3,1.0037,1.2718,1.4268000000000001,0.77210000000000001,1.0331999999999999,1.1964999999999999,0,0,0.93200000000000005,235.9,1.0309999999999999,0,0,582,"RUS00007923",9.6980000000000004,7123,28.1,52.5,49.4,92.3,0,8962]
[null,"JPN160160","JC160160","JPN 6089","MIROKU II","YOKOYAMA 12m","ITO BOAT YARD","AKIRA YOKOYAMA",2003,"HIGASHIKANTO OARAI","TAKESHI ITO","CLUB","R",791,"31/3/2016",12,11.1,2.2010000000000001,3.36,4079,103.4,0.04,571.6,1.0753999999999999,627.70000000000005,0.65500000000000003,-10.6,994.9,792.2,671,603.20000000000005,565.4,538,502.6,943.2,751.3,646.20000000000005,589.1,554.79999999999995,529.5,492.9,808.3,644,553.70000000000005,499.3,464,439.4,405.9,848.9,673.5,576.4,517.6,479.3,452.8,416.8,1003,762.4,624.9,539.29999999999995,482.4,441.8,385.3,45.6,44.5,43.3,41.2,39.4,38.299999999999997,37.4,139.4,146.5,146.30000000000001,153.6,161.69999999999999,180,180,1018.4,820.2,711,659.2,632.20000000000005,615.29999999999995,599.4,647.9,527.1,471,452.5,442.4,435.3,424.9,598.6,493.9,453.9,435.4,423.3,415.2,405,556.79999999999995,471.5,439.1,411.4,393.6,383.3,371.8,554.9,470.7,438.3,408.7,380.4,359.2,340.4,612.1,490.9,443.8,407.3,380.1,359.8,329.1,630.6,502.7,450.6,415.5,379.9,347.7,316,700.6,554.1,475.3,440.4,407.9,375.7,310.10000000000002,841.2,661.8,546.5,477.1,443.2,413.8,355.2,971.3,764.2,631,547.29999999999995,498.6,460.7,405.7,0.99670000000000003,1.345,1.5741000000000001,0.75539999999999996,1.0678000000000001,1.2698,562.4,1.0669,0.81200000000000006,141.4,1.0822000000000001,0.67500000000000004,8,554.4,"JPN00016024",10.680999999999999,5153,28.4,39.299999999999997,45.1,92.7,0,8963]
[null,"FRA16278a","F6408","FRA- 6408","RADICAL CONCEPT","YOUNG 11 Mod","LAND Roger","YOUG Jim",1982,"98000  -  NOUMEA","MAZARD Philippe","CLUB","C",600,"15/9/2016",10.94,10.481999999999999,1.8420000000000001,3.76,4548,119.7,0.18,606.20000000000005,1.0216000000000001,660.7,0.65200000000000002,11.8,1026.9000000000001,827.9,705.4,634.6,596.20000000000005,571.1,535.79999999999995,980.1,789.2,683.8,624.9,590.4,566.6,528.79999999999995,847.1,679.2,587.70000000000005,533.29999999999995,498.5,474.1,440.1,909.2,723.1,620.70000000000005,559.29999999999995,520.20000000000005,493.4,457.2,1043.7,800,661.2,575.20000000000005,518.5,478,420.4,44.4,43,42.7,40.700000000000003,39.299999999999997,38.5,38,138.6,148.19999999999999,147.30000000000001,156.19999999999999,172.2,180,180,1080.0999999999999,879.3,765.7,706.7,679.1,664.3,646.1,694.6,573.20000000000005,510,486.1,476,469.9,461.9,647.20000000000005,538.20000000000005,491.6,471.3,459.8,452.5,444.9,607.6,513,478,456.1,436.4,421.4,408.2,609.79999999999995,510.6,475.1,455.7,432.9,410,377.2,612.70000000000005,505.5,466,435.5,416.7,400.6,370.7,630.6,515.9,472.4,440.9,407.2,383.3,353.5,701,563.1,493.9,462.5,432.2,400.5,335.9,843.2,672.5,558.6,493.8,464.4,436.7,378.5,973.6,776.5,645.1,562.6,513.20000000000005,477.9,425.5,0.95340000000000003,1.2628999999999999,1.4555,0.7278,1.0155000000000001,1.1964999999999999,0,0,0.80500000000000005,164.5,1.0192000000000001,0,0,588.70000000000005,"FRA00005007",9.7059999999999995,5553,27.6,43.2,29.4,101.1,0,8964]
[null,"AUS279900",2799,6128,"VENUE","YOUNG 88","YOUNG","jim young",1984,"2107  Australia","Brian Ellis","CLUB","C",400,"23/9/2016",8.9619999999999997,7.8890000000000002,1.7689999999999999,3.31,2750,112.6,0,662.4,0.94220000000000004,716.4,0.63900000000000001,42.6,1088.7,882.8,758.7,690,650.20000000000005,627.79999999999995,596.9,1034,842.4,737.3,681.3,649.20000000000005,627.5,595.79999999999995,910.6,736.4,643,588.5,554.4,531.4,500.8,953.7,767.2,666.4,607.29999999999995,570.4,545.6,513.29999999999995,1120.5999999999999,865.3,721.6,633.9,576.70000000000005,536.5,479.6,43.2,42.2,40.799999999999997,38.799999999999997,37.6,36.799999999999997,36.700000000000003,146.5,151.1,151.19999999999999,161.1,180,180,180,1110,920.8,808.5,761,738.3,725.2,716.2,724.3,608.4,557.6,539.79999999999995,531.5,526.70000000000005,520.9,680.8,581.29999999999995,543.4,525.20000000000005,515.70000000000005,509.7,504.2,644.9,563.5,532.29999999999995,509.6,491.3,480.8,471.4,647.79999999999995,561.29999999999995,525.70000000000005,507.3,486.8,466.2,443.7,663.2,563.1,525.4,493.7,465.3,448.5,424.6,689.2,575.1,532.9,502.2,470.6,440.4,402.5,767.9,628.6,555.29999999999995,523.29999999999995,493.9,464.5,405,924.5,730.9,615.1,552.20000000000005,522.6,495.1,441.4,1067.5,844.8,709,618.9,562,530.29999999999995,477.6,0.89019999999999999,1.1485000000000001,1.2957000000000001,0.68469999999999998,0.93879999999999997,1.0855999999999999,650.5,0.92230000000000001,0.80800000000000005,213,0.93069999999999997,0.65200000000000002,56.7,644.6,"AUS00000414",7.7949999999999999,3376,18.399999999999999,30.6,22.5,57.5,52.7,8965]
[null,"FRA16079b","F9004","FRA- 9004","PARTY TIME","YOUNG ROCKET 31","CANTERBURY MARINE","YOUNG Jim",1988,"98830  -  NOUMEA","AUTERET Nicolas","CLUB","C",600,"7/4/2016",10.4,8.5549999999999997,2.4329999999999998,3.82,2895,102.8,0,585,1.0580000000000001,638,0.72399999999999998,40.299999999999997,949.9,770.9,669.9,619.1,587.9,564.6,517.5,911.7,741.1,653.29999999999995,606.6,576.9,554,521.1,802.4,650,568.29999999999995,519.9,488.4,465.8,432.1,875.8,702.7,608.29999999999995,552.1,516,491.1,456.5,980.8,760.4,636.20000000000005,559.5,508.1,470.2,413.1,43,42.4,40.200000000000003,38.299999999999997,37.200000000000003,36.5,36.4,143.19999999999999,146.5,151,158,180,180,142.5,1001.8,824.9,729.1,692.2,672.9,661.4,653.79999999999995,654.20000000000005,546.29999999999995,505.5,489.8,479.8,472.9,465.5,614.4,524.5,490,470.9,459.4,452.1,445.5,580.79999999999995,510.3,475.3,448.1,431.3,421.6,410.6,583.4,512.1,478,447.2,420.9,400.6,377.8,575.70000000000005,495.7,462.4,442.1,423.5,403.4,372.4,588.4,501.2,456,428.2,408.6,390.9,359.5,660.2,530.9,480,440.3,403.3,365.7,318.3,777.7,620.9,529.4,480,444.1,411,330,898,717,610.6,546,502.8,467.8,381.1,1.0122,1.2962,1.4798,0.78449999999999998,1.0532999999999999,1.2212000000000001,0,0,0.98599999999999999,261.89999999999998,1.0543,0,0,569.1,"FRA00004001",8.9320000000000004,3601,20.9,36.9,29.6,127.9,0,8966]
[null,"FRA16078b","F6781","FRA- 6781","YOUNG 'N FRISKY","YOUNG Rocket 8,4","FAIR Tom","YOUNG Jim",1986,"98800  -  NOUMEA","CHABAUD Jean Louis","CLUB","S",600,"7/4/2016",8.4,7.9279999999999999,2.1960000000000002,2.92,1290,112.3,0,594,1.0367,651.1,0.67300000000000004,10.4,962.7,780.1,686.5,639,605.70000000000005,572.79999999999995,507.5,922.4,752,667.7,620.5,586.20000000000005,556.5,517,816.3,662.2,578,525.9,489.5,460.9,414.4,884.7,710.9,615.4,557.1,517.9,488.8,444.9,998,773.7,645.9,564.4,506.8,461.5,389.8,42.7,40.9,37.6,35.4,34.299999999999997,33.799999999999997,33.9,142.9,147.1,155.5,167.1,153.80000000000001,147.4,142.30000000000001,1010.2,823.1,738.8,706.6,690.1,679.1,674,660.6,563,528.29999999999995,510.2,498.2,490.3,475.2,619.70000000000005,546.20000000000005,509.2,485.8,472.1,463.2,445.9,590.29999999999995,532.70000000000005,488.2,450.2,430.7,418.5,401,591.1,526.4,488.5,444,402,379.8,359.1,586.4,516.70000000000005,462.9,433.6,403.1,376.4,312.60000000000002,600.70000000000005,525.9,465.8,415.6,387.8,363.6,306.5,669,555.5,501.5,446.7,391.8,338.7,283,792.5,638.29999999999995,554.6,500.8,450.2,404,295.3,915.1,737,634.29999999999995,571.5,521.4,466.5,341,0.99380000000000002,1.2708999999999999,1.5001,0.77459999999999996,1.0254000000000001,1.2128000000000001,0,0,0.96799999999999997,259.2,1.0407,0,0,576.5,"FRA00004000",8.43,1909,14.9,32.799999999999997,13,70.7,0,8967]
[null,"JPN160270","JC160270","JPN 6210","RAIA","YOUNG99 MOD","YACHTING DEVELOP","J,YOUNG",1993,"SHONAN","TAJIMA HIROYUKI","CLUB","C",656,"3/4/2016",10.99,9.8810000000000002,2.0539999999999998,3.72,4262,116.3,0.02,603.20000000000005,1.0291999999999999,655.8,0.66800000000000004,21.5,1009.6,812.6,698.5,633.9,594.4,569,537.70000000000005,950.6,769.2,671.4,619.29999999999995,588.20000000000005,565.9,534.1,835.6,673.1,585.29999999999995,533.29999999999995,500.1,477.2,446.1,863.5,693.4,601,546.1,511.2,487.2,454.5,1035.8,795.2,659.1,575.5,520.4,481,424.4,43.6,42.5,40.799999999999997,38.700000000000003,37.4,36.6,35.9,138.5,149.19999999999999,150.1,156.80000000000001,174.3,180,180,990.4,818,722.5,681.9,660.5,647.5,635.4,643.6,539.20000000000005,497.8,483.6,475.5,470.3,463.8,604.20000000000005,516,484.5,469.2,459.9,453.6,446.9,571.5,500.5,472.5,450.9,434.1,424.5,414.6,574.4,501.8,473.1,449.4,425.8,406.6,386,630.4,520.29999999999995,479.4,449.5,418.3,396.6,369,655.4,536,487.4,458.4,428.1,397.9,349.4,739.7,594,515,480.1,453,424.2,366.7,890.9,699,584.20000000000005,513.70000000000005,480.9,455.3,402.3,1028.7,807.2,674.6,585.9,528.29999999999995,490.4,440,0.96960000000000002,1.2639,1.4452,0.7409,1.022,1.1976,594.20000000000005,1.0098,0.84399999999999997,185.3,1.0222,0.68400000000000005,37.9,587,"JPN00016032",9.7360000000000007,5142,25.4,41.3,37.1,70.5,0,8968]
[null,"FRA16043e","F5191","FRA- 5191","BOULEGUE","YOUNG99 MOD","LOOMS Craig","YOUNG Jim",1986,"NOUVELLE CALEDONIE","TRINQUET Vincent","CLUB","C",580,"26/9/2016",10.25,9.5649999999999995,1.929,3.71,4120,112.7,0.18,616.5,1.0108999999999999,667.7,0.68500000000000005,40,1009.7,820.7,706.9,644,607.6,585.5,550.70000000000005,968.7,787.5,689.6,635.5,603.29999999999995,581.1,543,849.6,686.2,598.4,546.9,514,491,457.7,922.2,737.4,636.6,576.79999999999995,539,513.4,479,1038.2,803,670.1,588.5,534.79999999999995,496.4,440.6,43.3,41.8,41.2,39.1,37.700000000000003,37.4,36.799999999999997,140.5,148.69999999999999,150.69999999999999,158.9,180,180,180,1068.7,880.1,770.8,717.8,693.5,680.6,664.9,696.1,581.4,526,504.8,495.7,490.4,482.7,653.9,552.1,510.7,491.2,480.3,473.8,467.5,619.9,532.1,499.1,477.2,458,444.3,433,621,523.5,497.8,478.3,456.1,434.2,403.8,612.5,517.5,481.1,456.3,439.9,425.2,395.2,628.5,525.6,487,453.8,424.3,407.3,375.9,693.9,563.20000000000005,506.5,475.8,444,412.2,344.5,823.3,659.3,557.29999999999995,505.6,477.2,448,388.4,950.6,761.3,642.9,570.1,521.70000000000005,490.5,436.5,0.95479999999999998,1.2343,1.4032,0.73750000000000004,1.0065999999999999,1.1677999999999999,0,0,0.875,217.8,1.0017,0,0,599,"FRA00005090",9.11,4985,25.5,39.299999999999997,27.5,109.1,0,8969]
[null,"AUTI03/16","AUT2664","AUT 2664",70170,"Z 34","Zurl Technik","Zurl/Fekonja",2005,"AUSTRIA","Zurl Technik","INTL","C",400,"30/4/2016",10.146000000000001,9.8460000000000001,2.431,3.23,3799,109,0.19,625.6,0.99119999999999997,681,0.65300000000000002,27.4,1061.5,847.7,718.3,652.70000000000005,617.70000000000005,594.29999999999995,561.70000000000005,1007.5,807.3,697.6,642.1,611.79999999999995,590.5,557.29999999999995,872.8,699.3,606,551.9,518.70000000000005,496.7,467.6,938.2,745.9,640.9,579.20000000000005,540.9,515.79999999999995,484,1075.7,823.3,681.3,595.20000000000005,539.9,501.6,448.2,43.9,42.5,41.6,39.700000000000003,38.700000000000003,38.299999999999997,38.299999999999997,144.6,148.5,147.19999999999999,155.9,171.7,180,180,1102.9000000000001,895.1,773.7,726.8,707.6,697.6,686.2,712.6,586.9,521.4,503.3,496.3,492.4,485.2,666.4,553.79999999999995,503.6,487.5,480.9,477.2,470.3,629.1,530.70000000000005,491.3,469.5,457.3,450.9,445.7,633.6,526.1,493.9,470.5,447.3,429.2,416.6,631.9,519.70000000000005,478.3,457,441.1,425.8,402.9,650.9,531.20000000000005,484.7,452,425.3,409.5,382,725.6,583.5,507.5,474.3,443,411.1,350.3,883.5,693.1,574.20000000000005,507,476.3,447.9,390,1020.1,800.3,663,578.5,527.70000000000005,491,437.3,0.92549999999999999,1.2267999999999999,1.3857999999999999,0.70709999999999995,0.98960000000000004,1.1480999999999999,0,0,0.81499999999999995,189.4,0.98819999999999997,0,0,607.20000000000005,"AUT00001752",9.1430000000000007,4685,25.2,30.9,31.9,95.7,0,8970]
[null,"ARG389901","2ARG3899","ARG-3899","SHAKTI","ZABRA 9,80","AST, DRAKKAR","NESTOR VOLKER",1993,"BUENOS AIRES","ALEJO ACOSTA","CLUB","C",370,"10/6/2016",9.82,7.9160000000000004,1.7549999999999999,3.41,3985,107.2,0.1,688.3,0.89970000000000006,750.2,0.61899999999999999,46,1125,921.2,799,725.9,680.8,655.9,630.4,1080.3,886.5,778.1,717.1,682.1,660.8,637.4,946.5,765.3,668,611.4,576.70000000000005,554.5,527.9,987.2,794.2,689.7,628.5,590.70000000000005,566.1,536.1,1161.0999999999999,899,750.7,659.8,600.6,559.4,502.7,44.4,43.8,43.8,42.3,41.4,40.9,40.6,147.4,151.4,152.19999999999999,159.5,180,180,180,1170.8,982.9,870.1,812.6,785.2,771.7,766.8,756.8,638.4,574.29999999999995,550.1,540.4,535.5,532.70000000000005,709.4,600.4,553.6,533.29999999999995,523,517.1,512.70000000000005,668.4,574,538.5,517.9,502,490.2,481.1,668.6,574.5,539,517.9,499.4,482.8,460,709.2,586.1,538,510.3,485.7,469.7,452.6,730,600.20000000000005,544.29999999999995,515.70000000000005,490.4,466.8,436.5,799.6,654.20000000000005,569.4,533,507.6,483.5,441.8,934.6,744.6,632.1,564.20000000000005,532.1,508.4,465.1,1079.2,859.4,727.9,639.1,576.29999999999995,540.1,494.1,0.85570000000000002,1.1065,1.2413000000000001,0.65980000000000005,0.89380000000000004,1.0344,0,0,0.77700000000000002,215.7,0.89429999999999998,0,0,670.9,"ARG00002619",7.335,4632,20.9,25.3,36.4,69.3,0,8971]
[null,"ESP09501","NL95_C","NL 95_C","HADDOCK","ZEEBONK 267","M,BROWER","V,D,STADT",1976,"C,V,P,ANDRATX","JOSE AROLAS/KATRIN FOSTER","CLUB","C",400,"11/3/2016",8.6999999999999993,6.7930000000000001,1.6220000000000001,2.86,3712,121.1,0.43,758.3,0.81479999999999997,828.4,0.59,68.900000000000006,1206.9000000000001,1000,882,803.8,756.5,734,716.7,1168.3,970,863.6,800.9,764.4,744.5,730.2,1032.2,838.9,736.4,677.7,642.79999999999995,621.4,598.79999999999995,1078.0999999999999,871.4,760.6,696.4,657.6,633.4,606.6,1258.4000000000001,981.9,826.1,730.6,668.5,625.70000000000005,568,43.8,42.5,43.9,43.8,42.9,42.6,43.6,149,153.30000000000001,153.4,168.1,180,180,180,1275.7,1084.9000000000001,985.8,924.8,894.5,882.9,893.7,830.4,709.1,642.9,613,601.20000000000005,596.5,596.79999999999995,781.8,665.3,614.79999999999995,592.20000000000005,580.79999999999995,576,574.5,738.9,632.5,595.1,575,559.70000000000005,548.6,541.79999999999995,740.8,634,594.20000000000005,573.9,557.20000000000005,541.70000000000005,519.4,771,640.1,588.70000000000005,560.70000000000005,541.79999999999995,532,516.1,791.5,652.6,594.5,565.20000000000005,539.79999999999995,517.5,498.9,858.2,705.9,617.4,581,555.70000000000005,531.5,492,985.6,794.7,677.8,609.9,578.79999999999995,555.29999999999995,512.4,1138.0999999999999,915.1,778.2,682.9,618.5,585,539.79999999999995,0.7873,1.0003,1.1052,0.61170000000000002,0.80900000000000005,0.92069999999999996,748.8,0.80130000000000001,0.77,272,0.81069999999999998,0.59699999999999998,80.400000000000006,740.1,"ESP00017087",6.0030000000000001,4229,17.600000000000001,17.8,31.4,58.6,0,8972]
[null,"knw21862","NEDI1870","NED 1870","De Wiekslag","Zeeslang","-","Stadt v/d",1960,175261,"G,M,,van den Brink","CLUB","C",532,"23/3/2016",9.2530000000000001,8.2430000000000003,1.9339999999999999,2.12,2381,120.5,0.41,746,0.83809999999999996,805.4,0.50900000000000001,-3.9,1313.4,1032.3,875,772.1,716.3,681.3,652.29999999999995,1252.5,989.7,843.5,757.9,711.6,683.9,655.6,1065.7,843.2,721,648.79999999999995,604.6,576.5,544.6,1110.5,875.5,745.6,668.3,620.5,590.1,555.20000000000005,1313.8,993.7,811.8,700.7,629.6,581.29999999999995,517.79999999999995,44.7,43.2,42.8,42.3,40.700000000000003,39.700000000000003,39.4,147.80000000000001,150.19999999999999,150.4,154.19999999999999,170,179.8,179.9,1351.4,1083.7,943,852.1,814.1,795.1,788.6,866.9,705.6,616.5,572.1,559.20000000000005,553.29999999999995,549.79999999999995,807.6,662.3,585.79999999999995,552.6,541.6,536.29999999999995,532.20000000000005,759.5,624.9,563.20000000000005,537,520.5,511.7,504.5,765.7,629.79999999999995,565.5,538.29999999999995,519.29999999999995,500.8,477.7,804.5,643.79999999999995,563.9,530.5,504.1,486.3,462.2,835.6,663.5,573.5,536.5,509.8,480.5,438.5,947.9,738.8,612.70000000000005,556.4,527.9,502.1,444.1,1104.5999999999999,849.6,699.1,604.6,555.20000000000005,528.9,479.2,1275.4000000000001,980.9,807.1,692.1,618.5,567.5,515.9,0.75229999999999997,1.0396000000000001,1.198,0.57550000000000001,0.82909999999999995,0.99390000000000001,733.9,0.8175,0.58599999999999997,103.9,0.83499999999999996,0.52600000000000002,18.399999999999999,718.6,"knw00004814",7.1920000000000002,3085,17.399999999999999,14.4,23.3,42.4,0,8973]
[null,"knw17169","NED_3104","NED 3104","Pagan","Zeester","Hoffman","v,d,Stadt",1977,144857,"J,E,J,,Muller","CLUB","R",320,"23/3/2016",9,7.2519999999999998,1.591,2.83,3479,123.7,0.59,776.9,0.80110000000000003,842.6,0.51100000000000001,14.2,1313.4,1059.0999999999999,918.4,817.1,752,717.2,687.8,1267.7,1027.5,893.4,807.7,754.9,725,696,1090,872.3,752.8,681.6,637.20000000000005,608.70000000000005,576.20000000000005,1138.9000000000001,907.1,779,702,653.79999999999995,622.79999999999995,587.9,1337.3,1025.0999999999999,846.7,736.2,664,614.4,548.5,45.8,44.2,44.4,44.7,43,42.1,41.9,148.19999999999999,151.80000000000001,153.5,157.4,180,180,180,1400,1155.3,1025.7,928.4,873,847.7,836,892.1,747.1,659.7,608.79999999999995,586.1,577.5,572.79999999999995,831,699.1,621.5,586.20000000000005,567.6,558.79999999999995,553.5,781.5,656.3,595.79999999999995,569,551,536.70000000000005,522.20000000000005,784.4,659.4,597.4,565.20000000000005,552.1,535.4,508,810.3,662.3,589.4,557.79999999999995,532.9,511,492,833.3,678.8,596.79999999999995,562.4,538.1,514,475.3,919.2,739.8,629.9,580.5,553.5,529.9,486.3,1062.5,835.1,704.8,618.9,578.4,553.70000000000005,510.5,1226.8,962.8,811.2,705.8,630.9,586.79999999999995,539.6,0.73909999999999998,0.98829999999999996,1.1346000000000001,0.56899999999999995,0.78969999999999996,0.94420000000000004,753.5,0.79620000000000002,0.6,135.9,0.79759999999999998,0.51600000000000001,19.100000000000001,752.3,"knw00004778",6.2130000000000001,4041,18.2,14.6,31.4,54.4,0,8974]
[null,"knw","NEDo8669","NED 8669","Swing","Zeeton",null,"E G vd Stadt",1980,4059749,"Pim van der Male","CLUB","C",334,"23/3/2016",7.2,5.9939999999999998,1.538,2.79,1700,110.5,0.18,769.7,0.81420000000000003,829.1,0.57699999999999996,63.9,1232.7,1012.6,878.8,796.9,755.8,734.7,712,1189.5999999999999,978.4,861.5,795.5,759.8,739.6,721.2,1051.0999999999999,853.1,747.4,686.4,649.20000000000005,625.6,598.29999999999995,1093.7,883.4,770.5,705,665.2,640,610.5,1279.0999999999999,995.1,835.4,738,674.9,631,569.5,43.6,42.8,42.2,40.299999999999997,39.200000000000003,38.700000000000003,39.700000000000003,149.19999999999999,152.9,154.6,175,180,180,180,1293.4000000000001,1087.0999999999999,962.6,896.2,869.8,859.5,868.6,843.2,712.9,653.5,627,615.4,610.4,609.79999999999995,794.3,679.5,635.4,611.20000000000005,595.9,589.20000000000005,586.4,752.8,657.2,621,596,573.70000000000005,557.6,548.20000000000005,755.5,659.4,619.9,590,574.1,552.79999999999995,525,783.1,659.8,614.9,581.4,549.5,526.70000000000005,509.4,805.4,670.6,620.9,588,556.4,528.4,489.7,882.2,721.7,642.70000000000005,607.29999999999995,576.1,546.5,498.7,1014.9,814.1,695.5,635.6,604.29999999999995,575.4,523.79999999999995,1171.9000000000001,938.2,795,697.6,641.70000000000005,610,555.5,0.77229999999999999,0.98609999999999998,1.099,0.60129999999999995,0.81140000000000001,0.92279999999999995,754.6,0.79510000000000003,0.74099999999999999,250.5,0.80200000000000005,0.59,79,748.1,"knw00004158",5.774,2134,13,12.8,22.2,40.799999999999997,0,8975]
[null,"knwC2420","NEDC2420","NED 2420","LARISA","Zeeton * 1,55",null,"E G vd Stadt",1980,136769,"J, Kroon","CLUB","C",345,"23/3/2016",7.25,6.12,1.58,2.79,2067,109.4,0.55000000000000004,792.6,0.79249999999999998,851.7,0.54200000000000004,48,1282.5,1053.4000000000001,916.8,822.1,767.9,741.4,714.2,1239.8,1020.1,895.4,818,772.9,747.6,721.6,1090.5999999999999,882,769.4,703.1,661.9,635.1,602.4,1133.4000000000001,912.4,792.3,721.4,677.3,648.79999999999995,615.1,1327.1,1029.5,860.8,756.8,689.1,642.1,577.1,43.7,42.6,42.9,41.1,39.700000000000003,38.9,39,149.19999999999999,153.69999999999999,155.69999999999999,172.3,180,180,180,1350.6,1136.8,1008.4,922.4,879.1,860.3,855.5,879.1,745.7,671.4,637.9,619.20000000000005,610.9,606.9,828.1,703.5,648.29999999999995,621.79999999999995,602.9,591.1,584.70000000000005,784.9,673.7,631.29999999999995,607.4,586.70000000000005,567.9,548.5,788.7,677,631.4,600.70000000000005,578.29999999999995,567.79999999999995,535.9,818.2,680.2,626.79999999999995,596.1,567,540.5,513.1,839.9,694.2,633.29999999999995,602.5,574.5,547.4,504.7,918.3,752.3,659.2,620.20000000000005,592.29999999999995,565,518.79999999999995,1051.7,843.5,718.1,650.20000000000005,617.29999999999995,591.6,542.70000000000005,1214.4000000000001,970,825.2,721.9,656.6,622.5,572.79999999999995,0.74260000000000004,0.96020000000000005,1.0848,0.57789999999999997,0.78539999999999999,0.91490000000000005,772.2,0.77700000000000002,0.66,195.1,0.78,0.55200000000000005,58.8,769.3,"knw00004802",5.681,2515,13.8,11.5,22.2,37.5,0,8976]
[null,"ITA15ZERO","I15ZERO","ITA-15ZERO","3,,,2,,,1,,,ZEROOO","ZERO","CRACKBOAT","COSSUTTI",1999,"S,V,B,GRIGNANO","FABIO ROCHELLI","INTL","S",310,"2/5/2016",6.6,6.258,1.6160000000000001,2.5099999999999998,800,84.9,0,686.1,0.88460000000000005,763.1,0.63400000000000001,50.3,1073.8,880.8,791,750.7,720.2,693,616.5,1036.2,858.5,773.9,730.9,701.3,675.1,617.1,922.9,756.2,668.2,616,580.6,552.29999999999995,502.7,996.4,807.2,706.1,646.9,609.20000000000005,582.6,543.70000000000005,1127.8,884.2,747.7,662,601.4,552.79999999999995,472.2,43,41.8,39.6,38.6,38.4,38.5,39.700000000000003,145.30000000000001,149,151.1,175.2,177.6,143.5,139.6,1145.5999999999999,956.2,866.5,841.7,832.4,828,833.4,748.8,643.6,606.9,594.70000000000005,588.5,585.5,576,704.6,622.5,587.70000000000005,570,560.79999999999995,555.9,542.9,671.1,606.70000000000005,566.1,531.29999999999995,515.6,507.3,495.2,654.9,589.4,560.70000000000005,524.9,485.7,464.8,451.3,652,582.5,525.1,494.7,468.5,446.2,397.4,668.3,593.1,535.20000000000005,478,445.3,421.2,360.7,738.4,624.6,570.20000000000005,517.1,463.5,411.6,297.5,867.7,697.6,620.5,578.29999999999995,538.20000000000005,483.3,346,1001.9,805.5,715.6,659.7,607.9,558,399.5,0.88429999999999997,1.0926,1.246,0.69069999999999998,0.87960000000000005,1.0058,691.3,0.86799999999999999,1.046,430.4,0.89400000000000002,0.66600000000000004,89.8,671.2,"ITA00019657",6.2759999999999998,1224,9.9,19.3,11,0,47.1,8977]
[null,"ITAZERO","I05ZERO","ITA-05ZERO","SEI UNO ZERO","ZERO","CRAKBOAT","COSSUTTI",1999,"S,TRIESTINA DELLA VELA","GIANNI ALESSANDRO","INTL","S",320,"21/5/2016",6.6,6.2670000000000003,1.6180000000000001,2.5099999999999998,812,98.3,0,680.4,0.89529999999999998,754,0.62,34.799999999999997,1073.9000000000001,879.2,785,739.8,707.3,680.7,602.20000000000005,1035.3,855.1,766.4,719,687.3,661,598.4,920.7,752.4,662.5,608.29999999999995,570.9,541,489.2,994.3,804,701.3,640.4,600.9,572.5,530.4,1124.3,878.9,740.4,652.70000000000005,590.20000000000005,540.1,457.7,42.8,41.6,39.1,37.5,37,37,38,145.4,148.80000000000001,151,175,177.6,143.5,138,1142.3,950.1,852.9,819,806.1,801.9,803.1,748.3,642.29999999999995,603,584.5,574.79999999999995,569.6,558.9,704.7,622,585.1,558.29999999999995,545.79999999999995,539.20000000000005,526.6,671.8,607,566.1,526.29999999999995,501.4,490.1,480,655.7,588.1,554,523.1,484.3,452,428,652.4,582.9,523.1,484.9,459.6,434.6,385.4,669.4,593.4,535.79999999999995,477.9,435.2,410.1,348.6,741,625.70000000000005,570.6,517.79999999999995,464.5,412.8,292.8,870.7,700,621.79999999999995,578.79999999999995,539,484.6,347.5,1005.4,808.2,717.2,660.6,608.5,559.5,401.2,0.88470000000000004,1.1039000000000001,1.2741,0.69120000000000004,0.8901,1.026,679,0.88360000000000005,0.997,383.3,0.90429999999999999,0.64800000000000002,67,663.5,"ITA00019981",6.4580000000000002,1238,10,19.3,11,0,48.2,8978]
[null,"GER163232","XAG1164","XAG 1164","SARAY UNO","ZERO 6,5","MOS COMPOSITES","LOMBARD",2002,"ASV KIEL","DR, GUNTRAM SEI?","CLUB","R",180,"1/4/2016",6.5,6.1029999999999998,1.641,3.01,1237,119.7,0,680.7,0.8972,752.4,0.7,98.1,1023.6,858.1,786.5,740.3,709.4,690.6,636.6,986.9,835.6,766.5,725.3,697.1,676.3,622.20000000000005,897.2,743.3,663.9,618.20000000000005,588.1,565,524.4,926.4,764,679.3,630.4,599.29999999999995,577,543.20000000000005,1095.4000000000001,868.3,742.2,664,610.20000000000005,568.4,500.6,44.3,40.799999999999997,39,37.299999999999997,36.5,36.5,36.700000000000003,146.9,149.69999999999999,151.30000000000001,169.5,177.8,177.6,138.69999999999999,1059.8,912.3,852.9,821.1,806.1,803.9,791.8,687.2,624.9,604.9,592.9,584.29999999999995,579.9,568.5,653,605.70000000000005,585.5,572.20000000000005,562.4,556.20000000000005,546.29999999999995,631.29999999999995,586.1,556.29999999999995,539.4,528.9,521.70000000000005,511.5,631,584.5,546.20000000000005,517.9,502.4,493.3,483.1,659.3,593.5,545.29999999999995,509.4,488.8,470.5,438.4,673.4,601.79999999999995,553.79999999999995,509.9,470.2,444.5,399.1,735.4,629.1,580.70000000000005,537.20000000000005,496.6,453.5,352.8,855,696.1,625.5,588.1,555.1,520.5,416.8,987.3,803.8,720.2,659.5,612.70000000000005,577.4,481.3,0.9123,1.0919000000000001,1.2150000000000001,0.71750000000000003,0.89070000000000005,0.99990000000000001,669.6,0.89610000000000001,1.167,512.9,0.89659999999999995,0.70199999999999996,99.3,669.2,"GER20014204",6.3579999999999997,1649,11.9,24.2,32.6,0,56.6,8979]
[null,"CLUZIG812","DEMUS","ITA-DEMUS","DEMUSE","ZIGGURAT 812","C,P,R,","VALLICELLI & C,",1979,"LNI CASTELLAMMARE DI STABIA","PORPORA DOMENICO","CLUB","R",300,"9/3/2016",8.1199999999999992,6.74,1.544,2.88,1674,105.4,0.28000000000000003,772.9,0.80630000000000002,837.1,0.50900000000000001,10,1326.6,1056.3,903,802.1,746.7,720.6,696.7,1275.3,1020.6,879.3,797,751.3,726.9,704.5,1089.0999999999999,868.6,748.2,677.3,633.70000000000005,605.9,573.20000000000005,1140.0999999999999,905.4,776.5,700.1,653,623.1,589,1339.5,1021.8,841.4,730.8,659.1,609.1,539.29999999999995,44.7,43.4,43.1,42.3,41.7,41.5,42.5,149.30000000000001,153.19999999999999,153.80000000000001,167.5,180,180,180,1404.3,1141.5999999999999,999,910.6,870.3,856.4,865,900.7,741.6,653.5,612.5,594,587.1,585.9,840.1,696,623.20000000000005,592.29999999999995,574.6,564.6,560.4,791.5,659.2,602.20000000000005,575.1,553.6,535.29999999999995,518.29999999999995,783.9,644.20000000000005,588.5,557.20000000000005,539.70000000000005,527.6,495.1,782,641.9,587.29999999999995,553.79999999999995,521,492.8,466,812.7,660.8,595.70000000000005,562.20000000000005,530.20000000000005,500,445.2,931.6,739.4,626.70000000000005,583.29999999999995,552.1,521.20000000000005,465.3,1081.5,843.4,701.3,617.20000000000005,579.9,550.70000000000005,494.9,1248.8,971,807,693.5,623,584.70000000000005,528.5,0.73980000000000001,0.99680000000000002,1.139,0.5665,0.80069999999999997,0.93989999999999996,752,0.79790000000000005,0.61199999999999999,146.6,0.80289999999999995,0.51700000000000002,19.7,747.3,"CLU00018555",6.0590000000000002,2156,13.3,18.100000000000001,13.1,34.299999999999997,0,8980]
[null,"CLU153741","I15374","ITA-15374","PRYDWEN","ZIGGURAT 9,16","CPR","VALLICELLI & C,",1977,"C,V,ROMA","CASTIGLIA DAVIDE","CLUB","C",480,"3/4/2016",9.16,7.4820000000000002,1.698,3.01,3686,121.5,0.27,714.5,0.87439999999999996,771.9,0.61,55.3,1147.5999999999999,947.2,826.7,747.7,699.8,674.5,648.4,1104.5999999999999,912.5,804.5,739.9,702.2,679.5,655,979.2,793.4,693.7,635.6,599.70000000000005,576.4,548.29999999999995,1028.0999999999999,828.2,719.8,656,616.29999999999995,590.4,558.79999999999995,1192.5999999999999,927.2,777.1,684.7,624.6,582.79999999999995,525.4,43,41.9,42.8,41.3,40.1,39.200000000000003,39.1,148.19999999999999,152.5,152.30000000000001,161.6,180,180,180,1190.5,1007.8,900.1,833.8,801.8,785.4,778,783.1,663.7,601.4,574.79999999999995,562.1,555.9,551.6,741.3,628.20000000000005,581.79999999999995,560.20000000000005,546.70000000000005,538.9,532.70000000000005,705.7,604.20000000000005,567.29999999999995,547,530.5,516.5,501.3,710.5,607.5,568.6,545.70000000000005,530.79999999999995,514.29999999999995,488,737.8,611.5,563.5,536.20000000000005,511.1,493,477.1,759.2,624.9,569.4,541.4,516.1,492.2,460.6,827.1,679.5,592.9,557.4,532.6,508.5,467.4,956.7,769.1,654.6,587,556.20000000000005,533.20000000000005,489.9,1104.7,886.7,753.3,661.5,597.79999999999995,563.5,518.9,0.82799999999999996,1.0637000000000001,1.194,0.64449999999999996,0.86680000000000001,1.0059,700,0.85709999999999997,0.755,215.5,0.86309999999999998,0.61899999999999999,65.900000000000006,695.1,"CLU00019106",6.9480000000000004,4296,18.100000000000001,19.100000000000001,31,63,0,8981]
[null,"CLU101161","I10116","ITA-10116","GRAAL","ZIGGURAT 9,95","C,P,R,","VALLICELLI & C,",1981,"S,V,M,M,","BRESCIANI GIANNI","CLUB","C",500,"6/9/2016",9.9600000000000009,7.9720000000000004,1.8029999999999999,3.24,4214,123.9,0.08,668,0.9284,727,0.66100000000000003,64.2,1072,883.4,769.7,703.6,663.6,642.1,616.79999999999995,1023.7,845.9,749.1,696.6,666.4,647.1,623.9,908.3,738.8,648.9,597.1,565.6,545.20000000000005,520,942,762.6,666.7,611,576.79999999999995,554.6,527.29999999999995,1116,868.2,729,644.1,589,550.70000000000005,497.3,42.8,42.8,42.2,40.700000000000003,40,39.299999999999997,39.5,147.1,152.4,152.5,165.2,180,180,180,1089.8,924.5,828,785.5,764.6,752.9,748.2,715.3,606.20000000000005,560.29999999999995,544.1,536.4,532.20000000000005,528.6,672.7,577.4,543.9,528.5,520.20000000000005,515.1,510.9,635.6,558.29999999999995,530.4,512.20000000000005,497.7,488.1,480.2,637.6,558.9,529.79999999999995,510.3,491.9,476.1,457.2,672.9,566.29999999999995,528.70000000000005,502.1,477.7,464,447.3,698.1,579.9,535.70000000000005,509.3,483.8,460.4,432.7,773.5,635,559.20000000000005,527.29999999999995,502.5,478.2,436.6,913,729.4,618.20000000000005,555.1,526,502.5,458.3,1054.2,842.2,711.3,621.79999999999995,562.70000000000005,531.29999999999995,485.5,0.89470000000000005,1.1341000000000001,1.2605999999999999,0.69040000000000001,0.92390000000000005,1.0580000000000001,659.7,0.90949999999999998,0.85399999999999998,254.2,0.91869999999999996,0.66900000000000004,74.8,653.1,"CLU00020462",7.6,4864,20.2,37.6,28.8,62.6,0,8982]
[null,"CLU90621","I9062","ITA-9062","LUPO ALBERTO","ZIGGURAT 910","C,P,R,","VALLICELLI & C,",1977,"LNI TORRE DEL GRECO","NIGLIO MICHELE","CLUB","C",330,"9/3/2016",9.16,7.4790000000000001,1.6839999999999999,3.01,3458,118.4,0.2,719.4,0.86270000000000002,782.4,0.61199999999999999,61.4,1155.4000000000001,953.4,833.2,758.3,712.1,687.9,666.4,1110.7,918.6,811.8,750.7,715.5,694.7,674.9,982.7,797.3,698.4,641.5,607.1,585.4,560.6,1021.4,824.7,719,657.5,620,596,567.70000000000005,1201.2,934.3,783.8,691.7,632.1,590.9,535.20000000000005,43.5,42.4,43.3,41.9,40.700000000000003,40.4,40.799999999999997,148.19999999999999,152.4,152.5,161.4,180,180,180,1195.0999999999999,1014.1,908.2,851.7,824.2,810.9,812.5,780.9,663.5,602.6,579.20000000000005,569.70000000000005,565,562.79999999999995,736.2,626.1,581.6,562.1,552.6,547.4,543.9,696.7,600.1,565.79999999999995,546.29999999999995,531.5,521.29999999999995,513.5,698.8,601,566,545.9,528.79999999999995,513.29999999999995,492.2,743.4,615.20000000000005,565.6,537.9,515.29999999999995,502.8,486.3,763.5,628.70000000000005,571.29999999999995,542.70000000000005,518.1,494.8,469.5,832,684.8,595.79999999999995,559.20000000000005,534.20000000000005,510.5,468.3,966.2,774.4,658.9,589.5,557.79999999999995,534.6,491.4,1115.5999999999999,892.7,758.1,664.8,600,565,520.29999999999995,0.82569999999999999,1.0559000000000001,1.1742999999999999,0.64019999999999999,0.85670000000000002,0.98409999999999997,705.7,0.85029999999999994,0.77600000000000002,239.9,0.85519999999999996,0.61799999999999999,69,701.6,"CLU00018767",6.8129999999999997,4062,17.7,18.399999999999999,33.700000000000003,59,0,8983]
[null,"CLU86131","I8613","ITA-8613","MORNING GLORY","ZIGGURAT 910","CPR","VALLICELLI & C,",1977,"CUS BARI","BASILE FULVIO","CLUB","C",380,"17/3/2016",9.16,7.3979999999999997,1.671,3.01,3379,119.5,0.17,715.2,0.8679,777.7,0.625,68.900000000000006,1141.2,943.9,824.3,752.7,709.6,687.6,666.4,1099.3,909.7,805.3,746.8,713.6,694.1,675.4,974.1,791.5,694.5,639,605.6,584.70000000000005,560.6,1019.8,823.8,718.7,657.8,620.9,597.29999999999995,569.5,1188.2,926.1,778.6,688.5,630.29999999999995,590.1,535.4,43.2,42.3,43,41.5,40.4,40.299999999999997,40.700000000000003,148.19999999999999,152.30000000000001,152.30000000000001,163.4,180,180,180,1188.3,1008.6,902.9,849,824.4,813.2,817,778.6,660.7,602.20000000000005,580.4,571.79999999999995,567.79999999999995,566.70000000000005,734.4,624.79999999999995,582.20000000000005,563.9,555,550.20000000000005,547.5,695.3,599.70000000000005,566.79999999999995,548,533.4,522.9,515.29999999999995,698,601.20000000000005,566.79999999999995,546.9,529.79999999999995,514,492.9,730.7,608.1,563.1,535.4,513.4,501.9,484.4,751.5,619.9,568.6,540.29999999999995,513.9,490.7,468.2,818.4,671.9,590.1,556.29999999999995,530.70000000000005,505.9,463.8,947.5,762.1,648.20000000000005,584.70000000000005,554.9,531.20000000000005,486.3,1094.0999999999999,879.1,745.7,656.3,594.70000000000005,562,515.9,0.8337,1.0608,1.175,0.64749999999999996,0.86350000000000005,0.98519999999999996,703.3,0.85309999999999997,0.80400000000000005,259.60000000000002,0.85970000000000002,0.63300000000000001,78.599999999999994,697.9,"CLU00018890",6.7919999999999998,3984,17.5,19.2,32.200000000000003,63.3,0,8984]
[null,"CLU122291","I12229","ITA-12229","DESIREE","ZIGGURAT 916","C,P,R,","VALLICELLI",1980,"LNI ISOLA D'ISCHIA","ITALIANO VINCENZO","CLUB","C",400,"9/5/2016",9.16,7.5359999999999996,1.7090000000000001,3.01,3743,120.1,0.32,732.7,0.85009999999999997,794.1,0.57799999999999996,43.1,1200.4000000000001,978.9,853.4,768.8,717.8,690.9,666.8,1154.8,945.6,830,760.7,720.6,697.7,675.1,1012.5,816.4,710.7,649.1,611.5,587.70000000000005,560.4,1065.7,854,738.7,670.7,628.70000000000005,601.79999999999995,570.20000000000005,1237.3,956.6,797.6,700,636.79999999999995,593.4,535.1,43.9,42.3,43.2,42.6,41.3,40.799999999999997,41,147.9,151.9,152.5,159.30000000000001,180,180,180,1255.9000000000001,1049.3,937.2,864.9,830.6,814.8,811.5,816.4,689.4,615.70000000000005,583.29999999999995,569.6,563.6,560.4,768.9,648.29999999999995,590.4,565.79999999999995,552.20000000000005,545.6,541.5,730.3,617.1,572.9,551,535,522.1,510.2,735.5,621.29999999999995,573.70000000000005,552.29999999999995,535.1,519.29999999999995,494,757.9,623,567.29999999999995,539,515.70000000000005,502.4,486.1,779,638.1,573.6,543.9,519.4,495.8,468.8,853.2,696.4,600.5,560.6,535.4,512,469.7,991.5,787.8,668.3,593.29999999999995,559.20000000000005,536,493.1,1144.9000000000001,908.5,769.5,672.7,604.9,567,522.1,0.7994,1.042,1.1715,0.61950000000000005,0.84189999999999998,0.98029999999999995,716.6,0.83730000000000004,0.71199999999999997,197.9,0.84319999999999995,0.58599999999999997,52.1,711.6,"CLU00019796",6.7489999999999997,4352,18.2,18.3,31.5,63.3,0,8985]
[null,"CLU100941","I10094","ITA-10094","AUMM AUMM","ZIGGURAT 916","C,P,R,","VALLICELLI",1980,"C,V,LUCANO","AMBROSIO GIUSEPPE","CLUB","C",450,"20/5/2016",9.16,7.5369999999999999,1.7090000000000001,3.01,3743,120.1,0.44,725.6,0.85929999999999995,785.6,0.59199999999999997,49.1,1176.9000000000001,966.7,844.4,760.7,710.7,684.6,659.8,1134.7,934.5,822.7,754.4,714.4,691.1,667.4,998.1,807,704.2,644.20000000000005,607.29999999999995,583.79999999999995,556,1056.2,848.4,735.2,668.3,626.70000000000005,599.9,568.20000000000005,1217.5999999999999,944.4,789.7,694.4,632.5,589.70000000000005,531.79999999999995,43.5,41.9,42.7,42.1,40.799999999999997,40.299999999999997,40.299999999999997,148.1,152.4,152,160.9,180,180,180,1241.4000000000001,1043,933.1,859,822.7,805.3,799.4,809.7,686.3,615.29999999999995,583.20000000000005,568,561.5,557.6,762.9,645.6,590.6,566.29999999999995,551.70000000000005,543.9,538.79999999999995,724,615.6,572.9,551.79999999999995,535.70000000000005,522.4,507.9,728.7,619.5,569.4,548.5,535.9,520.70000000000005,494.1,739.6,612.79999999999995,563.6,536.4,512.70000000000005,498,481.8,759.5,625.79999999999995,569.29999999999995,541.20000000000005,516.9,493.4,465,828,682.1,592.9,557.20000000000005,532.79999999999995,509.6,467.9,963.3,772.2,656.2,587,556,533.5,491.1,1112.4000000000001,890.4,755.6,662.3,598.70000000000005,563.9,520.20000000000005,0.81140000000000001,1.0496000000000001,1.1793,0.62980000000000003,0.85089999999999999,0.99,710.7,0.84419999999999995,0.72799999999999998,204.6,0.85050000000000003,0.60099999999999998,59.3,705.4,"CLU00019960",6.79,4352,18.2,18.3,27.6,63.7,0,8986]
[null,"ITA94611","I9461","ITA-9461","JOSHUA II","ZIGGURAT 995","C,P,R,","VALLICELLI & C,",1981,"C,V,SICILIANO","CARADONNA SALVATORE","INTL","C",427,"9/3/2016",9.9600000000000009,7.9589999999999996,1.9350000000000001,3.24,4089,124.5,0.24,685.9,0.9083,743.2,0.63500000000000001,56.1,1110.4000000000001,910,790.9,718,675.4,652.79999999999995,631.5,1067.4000000000001,876.3,770.7,710.6,677.2,657.7,638.6,941.7,761.7,665.5,610.1,576.5,555.4,530.79999999999995,1000.8,803.4,696.3,633.70000000000005,595.29999999999995,570.70000000000005,541.79999999999995,1148.8,891.1,745.8,657.1,599.9,560.6,507.3,43,41.9,42.5,41.2,40.299999999999997,40,40.5,147.19999999999999,151,151.80000000000001,159.80000000000001,180,180,180,1157.5,972,864,803.7,778.9,767.9,770.4,758.1,640,577.6,552.70000000000005,542.4,537.5,535.29999999999995,715.6,604.79999999999995,558,537.70000000000005,526.1,520.1,516.5,680.9,580.4,543.6,523.6,508.5,496.2,484.9,686.6,583.70000000000005,542.4,524.4,507.3,491.4,467.2,701.2,580.29999999999995,535.6,508.9,489.8,479.6,462.4,721.7,592.9,541.6,513.79999999999995,488.3,466.2,444.9,790.7,644.20000000000005,564.29999999999995,530.29999999999995,505.5,481.5,438.9,920.9,734.5,623.1,559.6,529.5,506.4,462.7,1063.4000000000001,848,717.7,632.4,571.79999999999995,537.70000000000005,492.7,0.8609,1.1104000000000001,1.238,0.66820000000000002,0.90290000000000004,1.0377000000000001,672.8,0.89180000000000004,0.80100000000000005,228.8,0.89949999999999997,0.64400000000000002,66.2,667.1,"ITA00018335",7.4320000000000004,4737,20.399999999999999,23,31.6,74.2,0,8987]
[null,"CLU97001","I9700","ITA-9700","UTOPIA","ZIGGURAT 995","C,P,R,","VALLICELLI & C,",1981,"TECNOMAR FIUMICINO","PROIETTI FABRIZIO","CLUB","C",600,"16/3/2016",9.9600000000000009,7.835,1.9359999999999999,3.24,3960,115.1,0.12,683.3,0.90990000000000004,741.8,0.64200000000000002,60,1103.4000000000001,904.7,786,717.8,676.1,653,631.70000000000005,1058.3,868.8,764.9,708.5,676.7,657.1,638.9,936.4,758.1,663.1,608.5,575.79999999999995,555.20000000000005,531.70000000000005,982.4,790.8,687.6,627.70000000000005,591.20000000000005,568.20000000000005,541.9,1143.5,887.5,743.5,655.8,599.29999999999995,560.5,508.3,42.9,42.1,42.4,40.799999999999997,39.9,39.4,40.1,147.6,151.4,151.5,159.19999999999999,180,180,180,1133.8,952.4,847.6,798.5,776.3,765.5,769.3,744.8,625.6,570.4,550.70000000000005,543,539.29999999999995,538.6,702.6,593.5,552.70000000000005,535.1,526.79999999999995,522.29999999999995,519.79999999999995,666.2,571.70000000000005,538.9,519.70000000000005,505.3,496.3,489.9,670.8,574.5,539.9,519.5,502.1,486.6,467.8,711.8,586,538.5,510.4,488.7,477.9,460.7,732.1,599.1,544.70000000000005,515.79999999999995,489.4,466.4,443.6,800,651.9,568,532.6,507,482.3,440.2,929.2,742.5,628.6,562.79999999999995,531.70000000000005,507.8,463.8,1072.9000000000001,857.1,724.4,637,575.79999999999995,540.5,494.2,0.86639999999999995,1.1137999999999999,1.238,0.67230000000000001,0.9052,1.0371999999999999,677.7,0.88539999999999996,0.81899999999999995,240.8,0.90169999999999995,0.65600000000000003,78.2,665.4,"CLU00018871",7.415,4601,19.899999999999999,21.6,38.299999999999997,73.5,0,8988]
[null,"CLU155191","I15519","ITA-15519","ACQUACHIARA","ZIP 25-ILC","SICILCRAFT/ACOM","INZERILL-ALBEGGIAN",2000,"LNI MAZARA DEL VALLO","LNI MAZARA DEL VALLO","CLUB","S",300,"28/4/2016",7.73,7.5469999999999997,1.6970000000000001,2.4900000000000002,1647,113.5,0.18,687.9,0.9052,745.7,0.59799999999999998,28.6,1140.5,920.7,790.7,716.1,676.4,654.5,617.79999999999995,1088.5,883.3,771,708.8,673.8,650.79999999999995,611.20000000000005,951.6,767.2,667.5,608.70000000000005,571.29999999999995,545.4,509.2,1010.3,808.3,698.4,633.4,592.6,564.9,527,1168.2,900,748.4,655,593.29999999999995,549.1,485.4,43.3,41.9,41,38.799999999999997,37.700000000000003,37.6,37.9,146.30000000000001,150.6,151.6,162.6,180,180,180,1194.5,982.4,858.9,798.7,775.8,765.4,755.8,776.8,647.9,587,562.9,553.5,548.5,539.70000000000005,728.7,615.4,569.9,546.79999999999995,534.79999999999995,528.20000000000005,519.20000000000005,688.9,592.79999999999995,556.29999999999995,528.9,504.7,491.1,481.6,686.3,583,545.70000000000005,527.79999999999995,500.4,473,442.4,682.7,579.70000000000005,538.5,498.6,474.6,456.5,425.3,705,590.5,546.6,507.5,467.4,434.8,400.9,781.6,640.1,569.70000000000005,534.1,496.4,459.1,381,940.9,743.4,627.29999999999995,566.5,533.4,498.8,429.6,1086.5,859.1,722.6,633.4,576.9,543.6,479.8,0.85119999999999996,1.1081000000000001,1.2641,0.65490000000000004,0.90229999999999999,1.0446,671.7,0.89319999999999999,0.77200000000000002,210.3,0.89890000000000003,0.61,40.4,667.5,"CLU00019574",7.2690000000000001,2224,14.4,22.2,14.1,46.5,0,8989]
[null,"CLU155181","I15518","ITA-15518","ACQUAZZURRA","ZIP 25-ILC","SICILCRAFT/ACOM","INZERILL-ALBEGGIAN",2000,"LNI MAZARA DEL VALLO","LEGA NAVALE MAZARA DEL VALLO","CLUB","S",300,"3/5/2016",7.73,7.5469999999999997,1.6970000000000001,2.4900000000000002,1647,113.5,0.18,688.1,0.90510000000000002,745.8,0.59799999999999998,28.5,1140.9000000000001,921,791,716.1,676.4,654.5,618,1089,883.7,771.2,708.9,673.8,650.9,611.5,951.9,767.3,667.7,608.79999999999995,571.29999999999995,545.5,509.3,1010.7,808.6,698.5,633.5,592.6,564.9,527.1,1168.5,900.2,748.5,655.1,593.4,549.1,485.5,43.3,41.9,41,38.799999999999997,37.700000000000003,37.6,37.9,146.30000000000001,150.6,151.6,162.6,180,180,180,1195.3,982.9,859.4,798.8,775.9,765.5,756.2,777.3,648.20000000000005,587.1,562.9,553.5,548.5,539.79999999999995,729.1,615.6,570,546.79999999999995,534.79999999999995,528.20000000000005,519.29999999999995,689.3,593,556.4,529,504.7,491.1,481.6,686.4,583.1,545.70000000000005,527.9,500.5,473.1,442.3,682.7,579.70000000000005,538.5,498.6,474.6,456.6,425.3,705,590.5,546.6,507.5,467.4,434.8,400.9,781.6,640.1,569.70000000000005,534.1,496.4,459.1,381,940.9,743.4,627.29999999999995,566.5,533.4,498.8,429.6,1086.5,859.1,722.6,633.4,576.9,543.6,479.7,0.85099999999999998,1.1080000000000001,1.264,0.65469999999999995,0.90210000000000001,1.0444,671.8,0.8931,0.77100000000000002,209.9,0.89870000000000005,0.61,40.299999999999997,667.6,"CLU00019668",7.2679999999999998,2224,14.4,22.2,14,46.5,0,8990]
[null,"CLU141441","I14144","ITA-14144","ASINELLI","ZIP 25-ILC","SICILCRAFT/ACOM","INZERILL-ALBEGGIAN",2000,"A,S,D,MATCH RACE","A,S,D,MATCH RACE","CLUB","S",320,"14/6/2016",7.73,7.5469999999999997,1.6970000000000001,2.4900000000000002,1647,113.5,0.18,685,0.90920000000000001,742.4,0.60399999999999998,30.7,1132.5999999999999,915.4,786.9,712.7,674.3,652.79999999999995,615.79999999999995,1083.5999999999999,880.1,768.3,706,671.1,648.29999999999995,608.20000000000005,946.5,763.6,664.8,606.5,569.29999999999995,543.5,506.9,1011.3,808.9,698.7,633.6,592.79999999999995,565.1,527.29999999999995,1160.8,895.1,744.9,652.4,591.29999999999995,547.4,483.8,43.2,41.7,41,38.700000000000003,37.6,37.6,37.799999999999997,146.19999999999999,150.4,151.80000000000001,163.30000000000001,180,180,180,1194.9000000000001,982.5,859.4,797.5,775.4,765.7,756.5,777.8,648.70000000000005,587.5,563,553.5,548.6,540.1,730.3,616.4,570.6,547,534.79999999999995,528.29999999999995,519.70000000000005,691.1,593.9,557.1,529.70000000000005,505.1,491.1,481.8,679.4,579.6,545.9,527.79999999999995,501.4,473.8,442.3,674,575.5,534.29999999999995,495.1,474.1,456.3,424.2,696.4,585.20000000000005,542.4,501.8,461,433.9,399.8,773.1,635.20000000000005,565.20000000000005,529,490.4,452.1,371,926.9,734.4,620.5,562.20000000000005,528.70000000000005,493.3,421.4,1070.3,848.2,714.4,627.79999999999995,573.20000000000005,540,475,0.85589999999999999,1.1122000000000001,1.2684,0.65920000000000001,0.90639999999999998,1.0477000000000001,669.6,0.89600000000000002,0.78200000000000003,215.7,0.90280000000000005,0.61799999999999999,44.6,664.6,"CLU00020192",7.2789999999999999,2224,14.4,22.3,13.3,50.4,0,8991]
[null,"CLU141431","I14143","ITA-14143","PORCELLI","ZIP 25-ILC","SICILCRAFT/ACOM","INZERILL-ALBEGGIAN",2000,"A,S,D,MATCH RACE","A,S,D,MATCH RACE","CLUB","S",320,"14/6/2016",7.73,7.5469999999999997,1.6970000000000001,2.4900000000000002,1647,113.5,0.18,685,0.90920000000000001,742.4,0.60399999999999998,30.7,1132.5999999999999,915.4,786.9,712.7,674.3,652.79999999999995,615.79999999999995,1083.5999999999999,880.1,768.3,706,671.1,648.29999999999995,608.20000000000005,946.5,763.6,664.8,606.5,569.29999999999995,543.5,506.9,1011.3,808.9,698.7,633.6,592.79999999999995,565.1,527.29999999999995,1160.8,895.1,744.9,652.4,591.29999999999995,547.4,483.8,43.2,41.7,41,38.700000000000003,37.6,37.6,37.799999999999997,146.19999999999999,150.4,151.80000000000001,163.30000000000001,180,180,180,1194.9000000000001,982.5,859.4,797.5,775.4,765.7,756.5,777.8,648.70000000000005,587.5,563,553.5,548.6,540.1,730.3,616.4,570.6,547,534.79999999999995,528.29999999999995,519.70000000000005,691.1,593.9,557.1,529.70000000000005,505.1,491.1,481.8,679.4,579.6,545.9,527.79999999999995,501.4,473.8,442.3,674,575.5,534.29999999999995,495.1,474.1,456.3,424.2,696.4,585.20000000000005,542.4,501.8,461,433.9,399.8,773.1,635.20000000000005,565.20000000000005,529,490.4,452.1,371,926.9,734.4,620.5,562.20000000000005,528.70000000000005,493.3,421.4,1070.3,848.2,714.4,627.79999999999995,573.20000000000005,540,475,0.85589999999999999,1.1122000000000001,1.2684,0.65920000000000001,0.90639999999999998,1.0477000000000001,669.6,0.89600000000000002,0.78200000000000003,215.7,0.90280000000000005,0.61799999999999999,44.6,664.6,"CLU00020193",7.2789999999999999,2224,14.4,22.3,13.3,50.4,0,8992]
[null,"CLU137001","I13700","ITA-13700","CAPTAN TULLIOS","ZIP 25-ILC  OD","SICILCRAFT/ACOM","INZERILL-ALBEGGIAN",2000,"C,N,GELA","CASSARA' TULLIO","CLUB","S",400,"9/3/2016",7.73,7.5380000000000003,1.6020000000000001,2.4900000000000002,1608,103.9,0.16,685,0.90739999999999998,743.9,0.60799999999999998,33,1124.3,909.4,785.5,716.9,677.9,656.5,620.79999999999995,1074.4000000000001,873.7,766.8,709.2,676.2,654.20000000000005,616.29999999999995,944,762.6,664.9,607.4,570.79999999999995,545.5,510.1,995.4,798.9,692.6,629.9,590.4,563.4,525.9,1157.3,893.8,745.2,653.6,592.6,548.20000000000005,482.9,43.3,42,40.9,38.9,38.299999999999997,38.1,38.299999999999997,146.30000000000001,150.69999999999999,153.30000000000001,167,180,180,180,1164.3,961.5,847.7,795.9,775.8,766.7,758.7,758.1,635.20000000000005,581.70000000000005,560.4,552.1,547.79999999999995,538.5,711.9,605.79999999999995,565.4,543.20000000000005,532.79999999999995,526.9,516.5,674,586.1,551.70000000000005,523.5,499.9,488.8,481,677.8,584.6,543.70000000000005,521.79999999999995,492.9,466.8,441,689.2,583.20000000000005,541.70000000000005,501.4,465.2,446.5,416.1,713.4,595.29999999999995,550.1,512.4,473.7,434.2,389.8,793.3,645.79999999999995,576.1,540.29999999999995,503.8,467.2,391.9,939.1,742.3,630.20000000000005,571.6,538.6,504.6,437.1,1084.4000000000001,857.2,723.4,638,580,546.29999999999995,483,0.85940000000000005,1.1106,1.2636000000000001,0.66379999999999995,0.90469999999999995,1.0408999999999999,674.6,0.88939999999999997,0.81,237.3,0.90180000000000005,0.627,54.7,665.3,"CLU00018676",7.2889999999999997,2183,14.2,21.6,15.8,40.1,0,8993]
[null,"CLUZIP25","GENGIS","ITA-GENGIS","GENGIS KHAN","ZIP 25-ILC  OD","SICILCRAFT/ACOM","INZERILL-ALBEGGIAN",2000,"C,N,GELA","BARRANCO GIUSEPPE MASSIMO","CLUB","S",400,"9/3/2016",7.73,7.5380000000000003,1.6020000000000001,2.4900000000000002,1608,103.9,0.16,685,0.90739999999999998,743.9,0.60799999999999998,33,1124.3,909.4,785.5,716.9,677.9,656.5,620.79999999999995,1074.4000000000001,873.7,766.8,709.2,676.2,654.20000000000005,616.29999999999995,944,762.6,664.9,607.4,570.79999999999995,545.5,510.1,995.4,798.9,692.6,629.9,590.4,563.4,525.9,1157.3,893.8,745.2,653.6,592.6,548.20000000000005,482.9,43.3,42,40.9,38.9,38.299999999999997,38.1,38.299999999999997,146.30000000000001,150.69999999999999,153.30000000000001,167,180,180,180,1164.3,961.5,847.7,795.9,775.8,766.7,758.7,758.1,635.20000000000005,581.70000000000005,560.4,552.1,547.79999999999995,538.5,711.9,605.79999999999995,565.4,543.20000000000005,532.79999999999995,526.9,516.5,674,586.1,551.70000000000005,523.5,499.9,488.8,481,677.8,584.6,543.70000000000005,521.79999999999995,492.9,466.8,441,689.2,583.20000000000005,541.70000000000005,501.4,465.2,446.5,416.1,713.4,595.29999999999995,550.1,512.4,473.7,434.2,389.8,793.3,645.79999999999995,576.1,540.29999999999995,503.8,467.2,391.9,939.1,742.3,630.20000000000005,571.6,538.6,504.6,437.1,1084.4000000000001,857.2,723.4,638,580,546.29999999999995,483,0.85940000000000005,1.1106,1.2636000000000001,0.66379999999999995,0.90469999999999995,1.0408999999999999,674.6,0.88939999999999997,0.81,237.3,0.90180000000000005,0.627,54.7,665.3,"CLU00018677",7.2889999999999997,2183,14.2,21.6,15.8,40.1,0,8994]
[null,"CLUZIP25","MARCOP","ITA-MARCOP","MARCO POLO","ZIP 25-ILC  OD","SICILCRAFT/ACOM","INZERILL-ALBEGGIAN",2000,"C,N,GELA","BARRANCO GIUSEPPE MASSIMO","CLUB","S",400,"9/3/2016",7.73,7.5380000000000003,1.6020000000000001,2.4900000000000002,1608,103.9,0.16,685,0.90739999999999998,743.9,0.60799999999999998,33,1124.3,909.4,785.5,716.9,677.9,656.5,620.79999999999995,1074.4000000000001,873.7,766.8,709.2,676.2,654.20000000000005,616.29999999999995,944,762.6,664.9,607.4,570.79999999999995,545.5,510.1,995.4,798.9,692.6,629.9,590.4,563.4,525.9,1157.3,893.8,745.2,653.6,592.6,548.20000000000005,482.9,43.3,42,40.9,38.9,38.299999999999997,38.1,38.299999999999997,146.30000000000001,150.69999999999999,153.30000000000001,167,180,180,180,1164.3,961.5,847.7,795.9,775.8,766.7,758.7,758.1,635.20000000000005,581.70000000000005,560.4,552.1,547.79999999999995,538.5,711.9,605.79999999999995,565.4,543.20000000000005,532.79999999999995,526.9,516.5,674,586.1,551.70000000000005,523.5,499.9,488.8,481,677.8,584.6,543.70000000000005,521.79999999999995,492.9,466.8,441,689.2,583.20000000000005,541.70000000000005,501.4,465.2,446.5,416.1,713.4,595.29999999999995,550.1,512.4,473.7,434.2,389.8,793.3,645.79999999999995,576.1,540.29999999999995,503.8,467.2,391.9,939.1,742.3,630.20000000000005,571.6,538.6,504.6,437.1,1084.4000000000001,857.2,723.4,638,580,546.29999999999995,483,0.85940000000000005,1.1106,1.2636000000000001,0.66379999999999995,0.90469999999999995,1.0408999999999999,674.6,0.88939999999999997,0.81,237.3,0.90180000000000005,0.627,54.7,665.3,"CLU00018678",7.2889999999999997,2183,14.2,21.6,15.8,40.1,0,8995]
[null,"CLU137241","I13724","ITA-13724","CAPTAN MAX","ZIP 25-ILC  OD","SICILCRAFT/ACOM","INZERILL-ALBEGGIAN",2000,"C,N,GELA","BARRANCO GIUSEPPE MASSIMO","CLUB","S",400,"9/3/2016",7.73,7.5380000000000003,1.6020000000000001,2.4900000000000002,1608,103.9,0.16,685,0.90739999999999998,743.9,0.60799999999999998,33,1124.3,909.4,785.5,716.9,677.9,656.5,620.79999999999995,1074.4000000000001,873.7,766.8,709.2,676.2,654.20000000000005,616.29999999999995,944,762.6,664.9,607.4,570.79999999999995,545.5,510.1,995.4,798.9,692.6,629.9,590.4,563.4,525.9,1157.3,893.8,745.2,653.6,592.6,548.20000000000005,482.9,43.3,42,40.9,38.9,38.299999999999997,38.1,38.299999999999997,146.30000000000001,150.69999999999999,153.30000000000001,167,180,180,180,1164.3,961.5,847.7,795.9,775.8,766.7,758.7,758.1,635.20000000000005,581.70000000000005,560.4,552.1,547.79999999999995,538.5,711.9,605.79999999999995,565.4,543.20000000000005,532.79999999999995,526.9,516.5,674,586.1,551.70000000000005,523.5,499.9,488.8,481,677.8,584.6,543.70000000000005,521.79999999999995,492.9,466.8,441,689.2,583.20000000000005,541.70000000000005,501.4,465.2,446.5,416.1,713.4,595.29999999999995,550.1,512.4,473.7,434.2,389.8,793.3,645.79999999999995,576.1,540.29999999999995,503.8,467.2,391.9,939.1,742.3,630.20000000000005,571.6,538.6,504.6,437.1,1084.4000000000001,857.2,723.4,638,580,546.29999999999995,483,0.85940000000000005,1.1106,1.2636000000000001,0.66379999999999995,0.90469999999999995,1.0408999999999999,674.6,0.88939999999999997,0.81,237.3,0.90180000000000005,0.627,54.7,665.3,"CLU00018679",7.2889999999999997,2183,14.2,21.6,15.8,40.1,0,8996]
[null,"FRA16211a","F29391","FRA-29391","ZOU","ZOU 40","Home Construction","PLESSIS/MARIN",2003,"13007  -  MARSEILLE","BOUCHE Nicolas","CLUB","C",861,"2/9/2016",11.994999999999999,11.747999999999999,2.8220000000000001,4,6200,117.2,0.18,566.6,1.0975999999999999,615,0.70299999999999996,15,959.6,770.1,654.1,590.9,556.29999999999995,531.70000000000005,498.6,912.6,731.5,631.29999999999995,577.9,547.29999999999995,525,490,793.1,635,549.1,498.2,465.8,443.4,412.3,854.3,678.3,581.20000000000005,523,485.7,460.1,426.4,975,746.5,616.70000000000005,536.9,484.7,447.8,395.8,44,41.7,40.9,38.6,37.200000000000003,36.799999999999997,36.1,140.5,146.69999999999999,147,154.4,164,180,180,988.2,801,691.9,643.1,620.6,607.5,590.79999999999995,642.20000000000005,528,471.5,452.3,444,439,430.4,601.70000000000005,499.2,457,438.9,429.8,423.8,415.2,568.5,479.4,446.5,424.8,406.3,395.7,385.7,573.1,482.2,448.2,426.3,402.9,380.8,356.2,587.5,479.6,439.3,412.7,396.9,380.5,352.7,605.6,490.8,446,416.1,384.7,366.4,339,675.2,539.79999999999995,468.7,437.4,409.2,379.1,318,806.3,640.1,533.70000000000005,470.9,440.4,414.8,359.6,931,739.2,616.29999999999995,538.70000000000005,492.1,455.9,406.5,1.0178,1.3532,1.5561,0.78049999999999997,1.0918000000000001,1.2846,0,0,0.86699999999999999,165.8,1.0926,0,0,549.20000000000005,"FRA00004950",11.265000000000001,7376,35.299999999999997,52.2,39.5,126.9,0,8997]
[null,"GRE001106","GR1728","GRE-1728","MEDITERRANEO","ZUANELLI 34","CANTIERE ZUANELLI","SPARKMAN & STEPHENS",1984,"IO KERKYRAS","ILIAS AGGELOPOULOS/AIKATERINI TOLLA","CLUB","C",539,"7/4/2016",10.06,8.1530000000000005,1.849,3.15,5487,128.4,0.61,758.8,0.82509999999999994,818,0.50600000000000001,0.9,1311.8,1041.0999999999999,891.6,792.2,728.1,688.3,655.5,1248.0999999999999,1003.2,866.5,778.3,724.7,694.3,666.1,1073.0999999999999,855,734.7,662.5,617.20000000000005,587.9,553.6,1073.0999999999999,855,734.7,662.5,617.20000000000005,587.9,553.6,1327.8,1009,827.3,715.4,643.20000000000005,594.20000000000005,531.4,45,43.3,43.3,43.7,42.3,41.3,40.9,156.1,163.30000000000001,170.2,172.6,172.8,176.7,179,1304.0999999999999,1075,952.4,863.3,815.5,792.5,779.2,835.6,700.9,617.4,573,553.29999999999995,545.20000000000005,540,780,657,584.6,553.4,536.70000000000005,527.9,522.29999999999995,735.4,618.70000000000005,563.1,538.5,521.9,508.6,494.5,739.4,623.4,565.6,540.6,522.1,503.5,482.3,813.3,672.2,586.9,550,528.4,510.1,474.8,867.4,712,613.5,562,536.5,517.4,481.6,989.2,785.3,672.5,594.20000000000005,555,532.6,496.6,1145.9000000000001,883.3,742.6,649.9,585,551.29999999999995,512.6,1319.5,1007.2,830.9,721.1,640.70000000000005,584.1,531.70000000000005,0.749,1.0150999999999999,1.1762999999999999,0.57379999999999998,0.81320000000000003,0.98409999999999997,0,0,0.58199999999999996,105.8,0.81830000000000003,0,0,733.2,"GRE01005552",7.0679999999999996,6203,24,23.5,38.799999999999997,0,0,8998]
[null,"CLU155451","I15545","ITA-15545","KEIRA","ZUANELLI 40","ZUANELLI","SPARKMAN & STEPHENS",1988,"LNI TREVISO","CAREGNATO GIANLUCA","CLUB","C",400,"5/4/2016",12.222,10.218,2,3.89,9585,124.8,0.56000000000000005,654.9,0.94740000000000002,712.4,0.61799999999999999,22.7,1093.7,888.4,773.3,693.2,641.5,608.79999999999995,579.70000000000005,1051.9000000000001,858.3,749.9,681.6,639.29999999999995,613.29999999999995,586,911.5,732.7,635.1,577,540.6,516.79999999999995,488.7,963.5,769.4,662.3,597.79999999999995,557,530.1,497.8,1120.0999999999999,862.1,714.7,623.29999999999995,563.5,522.20000000000005,467.1,45.1,43.3,43.3,43.7,42.4,41.2,40.9,146.1,150.6,152.69999999999999,154.9,171.8,180,180,1157.9000000000001,960.4,851.9,776.8,734,711.5,694.8,742.2,626.20000000000005,553.29999999999995,514.4,496.6,488.6,482.4,692.8,587.1,524,496.4,481.7,473.4,466.9,652.20000000000005,553,504.4,482.7,468.6,457.2,442.5,652.9,554,504.7,480.8,469,456.3,433,673.1,555.20000000000005,498.5,473.6,454.8,440.2,424.6,691.2,570.4,505.5,477.9,458.6,440.1,411.1,758.6,621.20000000000005,535.9,494.4,472.4,454.2,418.6,891.6,707,602.70000000000005,533.70000000000005,494.8,473.9,439.8,1029.5,816.4,694.8,609.5,549,506.2,464.6,0.88529999999999998,1.1677999999999999,1.3351,0.68110000000000004,0.93330000000000002,1.1136999999999999,636.6,0.94259999999999999,0.73399999999999999,152.19999999999999,0.94330000000000003,0.621,25.5,636.1,"CLU00019160",8.8040000000000003,10519,34.6,38.6,49.3,109.7,0,8999]
[null,"CLU100631","I10063","ITA-10063","BONAVENTURA","ZUANELLI/ALPA 34","ZUANELLI","SPARKMAN & STEPHENS",1970,"VELICA SMARE' ASD","ANDRIOLI GIOVANNI","CLUB","C",500,"7/6/2016",10.06,8.1530000000000005,1.819,3.15,5093,124.7,0.27,692.8,0.90029999999999999,749.8,0.625,53.2,1121.3,921.7,802.2,725.8,679.4,654.4,630,1076.7,887,779.8,717.1,680.8,659.1,635.9,950.3,769.5,672.5,616,581.29999999999995,559,532,990.5,797.9,693.7,632.70000000000005,595.1,570.9,542.1,1162.0999999999999,901.6,754.4,664.2,605.79999999999995,565.4,510.5,44,42.8,43.7,41.8,40.200000000000003,39.4,39.299999999999997,147.5,151.69999999999999,152.5,159.5,180,180,180,1158.8,978.8,868.9,806,775.6,760.3,754.3,753.8,640.5,578.20000000000005,553.70000000000005,543,537.70000000000005,534.20000000000005,710.9,604.29999999999995,560.20000000000005,539.6,527.70000000000005,521.9,517.70000000000005,675,581,547.20000000000005,527.20000000000005,511.5,499,488.8,677.7,582.79999999999995,548.79999999999995,527.70000000000005,512.4,496.3,471.8,719.1,594.70000000000005,546.9,520.79999999999995,497.5,480.6,457.4,738.7,608.4,553,525.70000000000005,502,478.9,448.6,806.2,662,576.5,541.5,517.79999999999995,495.1,454.4,938.6,749.5,639,571.29999999999995,540.6,518.70000000000005,477.2,1083.8,864.7,735.5,645.6,583.1,548.5,505.7,0.85289999999999999,1.0978000000000001,1.2312000000000001,0.66080000000000005,0.89290000000000003,1.0361,676.7,0.88670000000000004,0.77100000000000002,210.5,0.88959999999999995,0.63100000000000001,59.6,674.4,"CLU00020161",7.5090000000000003,5807,23.8,23.4,46.9,81.7,68.099999999999994,9000]
[null,"nor666918",666918,"NOR 15359","Kamloops",{"$f":"-Squib","v":{"$error":"#NAME?"}},"Oliver Lee","Oliver Lee",1967,null,"Christopher Phelan","CLUB","C",277,"1/4/2016",5.73,5.282,0.997,1.87,671,125.3,0.24,844.1,0.74129999999999996,910.6,0.47699999999999998,17.5,1403.7,1139.2,982.8,875.3,818.3,787.5,748.9,1365.7,1111,968.7,879.9,825.5,792.5,753.3,1173,944.1,819.1,744.1,695.6,661.9,615.9,1237.5999999999999,989.7,853.9,772.8,721.3,686.4,640.1,1434.2,1105.7,918.3,801.3,722.8,665.5,581.29999999999995,45.1,43.8,44.1,42.2,40.6,39.9,39.799999999999997,149.5,153.80000000000001,156,180,180,180,180,1545.2,1276.2,1120.0999999999999,1014.9,955.5,927.2,915.3,989.5,825.7,732.4,690.7,667.3,651,637.5,922.1,771.4,702.7,671.4,648.4,628.5,603.20000000000005,865.4,732,682.1,651.70000000000005,626.9,602.1,559.70000000000005,834.3,705,659.1,622.29999999999995,588.1,571.5,543.1,820.3,698.4,654.1,614.9,575,539,483.3,844.7,708.9,661.6,625.79999999999995,588.20000000000005,551.4,472.9,951.1,772.5,686.1,648.79999999999995,612.20000000000005,575.4,505.8,1093.0999999999999,871.4,738.3,678,644.20000000000005,609.79999999999995,543.4,1262.2,1002.2,845.5,735.7,681.2,647.9,582.5,0.68979999999999997,0.90359999999999996,1.0434000000000001,0.53090000000000004,0.73460000000000003,0.86460000000000004,820.5,0.73129999999999995,0.58499999999999996,165.8,0.73299999999999998,0.48499999999999999,26.7,818.6,"nor00000077",4.806,1029,7.7,10.199999999999999,7.1,20.6,0,9001]
[null,"UKR0695,1","UKR0695M","UKR-695","MaMaY",null,"A,Shaposhnikov","A,Shaposhnikov",2002,null,"Sergii Grek","CLUB","C",360,"25/5/2016",8.17,7.6630000000000003,2.202,2.77,3289,124.5,0,664.5,0.93959999999999999,718.4,0.72499999999999998,106.3,1030,854,750.7,697,665.7,645.9,618.1,990.7,823,737.8,694.1,667.9,648.70000000000005,626.9,889.7,729.3,646.20000000000005,599.70000000000005,571.79999999999995,553.4,528.9,944.5,767.4,673.8,620.4,588,567,541,1082.4000000000001,850.2,721.6,644.4,595,560.5,511.6,41.4,41,40.1,38.6,38.1,37.6,37.700000000000003,147.1,150.5,154.19999999999999,171.3,180,180,180,1074.8,911.2,822.3,789.3,773.2,760.7,754.6,714.1,608.9,570,558.70000000000005,553.29999999999995,549.6,543.20000000000005,674.4,585.5,555.29999999999995,544.4,539,535.9,528.1,640.29999999999995,570.1,543.4,526.4,517.29999999999995,512.1,506.3,643.20000000000005,571,543.9,523.9,505.2,491.3,480.8,643,560.79999999999995,532.1,518,505.1,493.1,463.3,661.7,568.70000000000005,534.29999999999995,506.9,490.9,478.2,457.4,728.6,601.1,552.20000000000005,524.20000000000005,496.3,468.8,432.8,853.2,689.9,593.79999999999995,549.5,523.29999999999995,497.4,449,985.2,796.9,679.1,604.70000000000005,558.20000000000005,531.1,481.7,0.91759999999999997,1.1317999999999999,1.2384999999999999,0.71650000000000003,0.93730000000000002,1.054,0,0,0.98299999999999998,341.3,0.92300000000000004,0,0,650.1,"UKR00007474",7.4109999999999996,3922,17.899999999999999,34.799999999999997,19.5,73.599999999999994,0,9002]
[null,"pol85","trochusI","POL-5870","TROCHUS II",null,"E,BANASZAK","E,GINTER",2004,"70-888 Szczecin","ZSZMiPO","INTL","S",403,"3/8/2016",7.85,7.3419999999999996,1.772,2.6,1482,118.9,0,658.9,0.94040000000000001,717.7,0.66600000000000004,58.2,1049.0999999999999,851.7,750.9,699.1,667.6,643.29999999999995,609.70000000000005,999.5,819.6,735,691.7,662.6,637.70000000000005,603.4,892.6,727.9,640.79999999999995,590,557.20000000000005,533.70000000000005,498.6,942,762.6,666.8,611,575.6,550.9,516.4,1095,852.5,717.2,634.20000000000005,578.6,537.5,475.7,42.6,41.7,39,38.1,37.4,36.799999999999997,37.799999999999997,145.19999999999999,149.19999999999999,154.6,171.9,180,180,180,1067.2,886.4,810.1,782.9,769.3,755.2,758,699.4,598.9,569.4,558.79999999999995,553,546.9,540.29999999999995,658.3,580.1,553.20000000000005,540.6,533,528.4,514.70000000000005,627.4,566.79999999999995,535.20000000000005,510,496.7,489.2,476.8,630.9,567.70000000000005,535.5,502,473.2,455,442.8,651.29999999999995,567.1,524,487.1,465.2,445.3,404.6,674.5,576.79999999999995,534.6,490,448.2,425.6,384.9,752.5,614.6,561,522.79999999999995,481.5,439.8,348.9,892.8,707.6,605.20000000000005,557.6,521.5,483.5,402.1,1030.9000000000001,817.1,691.7,615.4,565.79999999999995,531.4,461.4,0.91420000000000001,1.1436999999999999,1.2894000000000001,0.71020000000000005,0.93589999999999995,1.06,658.3,0.91149999999999998,0.96599999999999997,327.60000000000002,0.93389999999999995,0.68899999999999995,85.9,642.5,"pol00000077",7.3090000000000002,2016,13.2,25.3,16.7,45.9,0,9003]
[null,"AUS236200",2362,45,"FIDELIS",null,"LIDGARD","KNUD REIMERS",1935,"NSW 2088","Nigel A Stoke","INTL","C",760,"8/8/2016",18.510000000000002,15.196,2.4430000000000001,3.06,14901,150.80000000000001,0.25,546.1,1.123,601.1,0.71299999999999997,7.1,946.4,755.4,643.29999999999995,579.4,541.29999999999995,515.6,476.1,904.4,721.8,622.70000000000005,568.20000000000005,535.9,513.20000000000005,478.1,770.9,613.9,528.5,478.4,447.3,426.4,397.5,850.3,669.6,569,508.1,469.1,442.7,409,952,725.6,596.79999999999995,517.79999999999995,466.5,430.9,381.9,45.1,44.2,44,43.5,42.9,41.8,40.9,139.69999999999999,138.6,143.19999999999999,150.69999999999999,156.1,166.3,180,1009.6,812.9,712.3,660.4,630,610.5,576.70000000000005,644.6,523.70000000000005,459.1,430.2,416.4,408.9,395.7,597,487.4,430.3,407.8,398.2,392.8,384.4,557.20000000000005,456.5,409.8,390.8,380,374.1,367.4,560.20000000000005,458.1,409.5,389.2,375.7,363.7,348.7,559.6,447.2,408.9,393.5,382.9,373,351,574,456.2,402.6,385.7,374.4,364.4,345.8,634.9,502.8,426.2,392.8,372.5,352.5,326.10000000000002,764.9,604.4,497.4,431.8,397.4,377.5,339.6,883.2,697.9,574.29999999999995,498.5,452.5,420.7,375.5,1.0438000000000001,1.4126000000000001,1.6176999999999999,0.79330000000000001,1.1142000000000001,1.3308,0,0,0.85799999999999998,146.9,1.1307,0,0,530.70000000000005,"AUS00000292",12.711,16558,50.4,69.2,54.2,213.9,0,9004]
[null,"UKR0026_3","UKR0026_","UKR 26","Oblako",null,"Alexandr Yachts","Oyster 28",1999,null,"Kalnoy S,","CLUB","C",401,"31/8/2016",7.9669999999999996,6.7229999999999999,1.4490000000000001,2.97,2920,134.6,0.23,740,0.84199999999999997,801.7,0.59499999999999997,60.8,1180.9000000000001,979.2,855.4,774,729.8,706.4,679.7,1139.5,946,837.7,773.4,736,713.4,689.7,1007.5,819.4,719,660.5,624.29999999999995,600.5,570.70000000000005,1050.8,850.2,742.3,679.1,639.70000000000005,613.79999999999995,582.29999999999995,1229.8,958.8,805.7,711.4,649.6,606,544.20000000000005,43.5,42.8,43.5,42,41.1,40.299999999999997,40.299999999999997,149.19999999999999,154.19999999999999,154.1,174.2,180,180,180,1241.9000000000001,1057.0999999999999,946.5,881.2,848.3,831.2,825.9,811.5,689.9,629.29999999999995,603.20000000000005,588.70000000000005,581.1,576.29999999999995,764.4,652.29999999999995,608.6,587.29999999999995,572.1,560.79999999999995,551.79999999999995,723.3,627.9,593.5,572.6,554.20000000000005,537.5,516,724.8,628.4,587.1,560.5,543.29999999999995,533.1,504.5,735.4,623.79999999999995,584.29999999999995,556,528.5,505.6,483.8,758.9,635.9,590.6,562.20000000000005,534.9,510.4,473.7,835.2,690.7,611.9,579.70000000000005,553.1,527.1,485.7,969.9,782.6,667.2,606,577.20000000000005,552.29999999999995,506.4,1120,901.3,764.3,666.9,611.29999999999995,581.6,533.6,0.80569999999999997,1.0235000000000001,1.1456,0.625,0.83620000000000005,0.96120000000000005,0,0,0.755,239.6,0.83120000000000005,0,0,721.8,"UKR00007543",6.2329999999999997,3444,15.4,22.9,21,49.4,0,9005]
[null,"UKR0074_1","UKR0074_","UKR 74","Nadin",null,"Yahtclub SLVC","Scherbanos, Basele",1997,null,"Baselev O,M,","CLUB","C",691,"15/9/2016",11.3,10.336,2.1819999999999999,3.58,5025,115.6,0,583.70000000000005,1.0567,638.79999999999995,0.69399999999999995,24.1,976.6,793,681.2,616.5,579.1,554.20000000000005,523.1,935.1,757.8,660.9,606.29999999999995,573,549.29999999999995,516.29999999999995,804.6,650.29999999999995,566.79999999999995,517.20000000000005,485.1,462.5,430.8,873.5,698.1,601.9,544.29999999999995,507.4,482.1,447.9,999.6,769.8,639.29999999999995,558.70000000000005,505.4,467.1,411.8,44.2,42.8,42.1,40,38.5,37.4,36.5,140.69999999999999,147.9,149,155.80000000000001,172.3,180,180,1025.7,840.8,736,681.2,652.9,636.6,623.79999999999995,662.2,550.70000000000005,496.5,474.8,465,458.9,452.4,612.70000000000005,512,481,461.9,450.6,443.1,434.8,546,479.7,458.6,447.9,430.1,416,402.8,527.70000000000005,473.6,447.4,427.8,415.5,405.4,375.3,559.20000000000005,491,458.3,430.7,403,382,353.2,609.20000000000005,504.2,464.9,435.3,404.3,380.3,342.6,677.2,546.4,485,455.7,427.5,397.6,335.8,803.2,645.29999999999995,542.5,485,457.4,431.6,377.5,927.4,745.2,626.4,551.70000000000005,505.4,471.7,422.5,1.0065,1.3023,1.4910000000000001,0.76290000000000002,1.0490999999999999,1.23,0,0,0.86399999999999999,184,1.0525,0,0,570.1,"UKR00007545",9.9730000000000008,5955,26.3,44.3,36.1,111.5,107.6,9006]
[null,"UKR1223,1","UKR1223_","UKR1223","Virineya",null,"Galeta A,D,","Strujilin A,",2011,null,"Galeta A,D,","CLUB","C",410,"24/5/2016",8.91,7.2690000000000001,1.651,3.11,2970,116.1,0.04,733.9,0.84830000000000005,795.7,0.53700000000000003,11.5,1259.8,1005.7,860.5,763.5,709.9,682.6,658.4,1210,970.4,836.1,756.1,712.4,688.6,667.6,1034.5,824.9,710.4,643,601.79999999999995,575.79999999999995,546.70000000000005,1084.8,860.8,737.5,664.2,619.1,590.4,557.5,1272.7,971,799.5,694.4,626.5,580,517.1,45.4,44.2,44.3,43.3,42.2,41.8,42.3,148.1,151.6,152.69999999999999,160.30000000000001,180,180,180,1332.3,1086.2,950,859.9,823.4,808.7,811,851.2,701.1,615.4,574.79999999999995,559.6,553.6,551,792.1,655.1,585.79999999999995,556.29999999999995,540.70000000000005,533.4,528.79999999999995,744.7,619,566.4,540.79999999999995,521.20000000000005,506.4,493.8,747.8,617.4,558.9,531.29999999999995,519.20000000000005,500.3,473.2,753.3,613.20000000000005,556.79999999999995,525.9,497.8,476,457.1,782.1,632.70000000000005,565.20000000000005,532.9,504.9,479.2,440.7,880.9,700.8,596.6,552.79999999999995,524.4,497.8,452.6,1028.2,801.9,669.4,588.20000000000005,550.6,524.1,476.6,1187.3,925.2,771.1,667.2,596.29999999999995,556.5,505.9,0.77839999999999998,1.05,1.1981999999999999,0.59589999999999999,0.84099999999999997,0.99209999999999998,0,0,0.63700000000000001,139.9,0.84540000000000004,0,0,709.8,"UKR00007472",6.65,3506,17.600000000000001,26.4,23,53.4,0,9007]
[null,"KOR042/12","Menbal","KOR-1234","Menbal",null,"Chita Japan","Van de Stadt",1983,"601-054 Busan Korea","Jaeho Lee","CLUB","C",606,"10/4/2016",11.975,9.3469999999999995,2.1080000000000001,3.92,6296,114.8,0.02,629.70000000000005,0.98050000000000004,688.4,0.65700000000000003,33.9,1046.8,848.6,733.3,666.3,624.70000000000005,599.4,572.70000000000005,998.4,812.8,711.1,655.1,622.79999999999995,602.1,578.20000000000005,871.4,702,610.70000000000005,557.5,524.70000000000005,503.6,477.9,911.1,730.2,632,574.1,538.20000000000005,514.70000000000005,485.6,1074.4000000000001,827.5,687.9,602.29999999999995,546.70000000000005,508,454.9,44.4,43.8,43.2,42.2,41.2,40.6,40.799999999999997,145.80000000000001,150.4,152.1,157.1,180,180,180,1073.3,891.6,788,739,715.4,703.1,696.7,693.1,579.4,521.70000000000005,500.3,491.9,487.5,483.1,648.9,545.6,502.6,483.7,475.2,470.4,466.7,611.79999999999995,522.5,488.6,468.1,452.9,444.7,438.1,613.20000000000005,523.29999999999995,488.8,467.4,448.3,432.3,415.1,648.6,533.6,488.2,460.7,436.5,422.7,405.6,671,548.9,495.4,467.1,442.5,420.5,391.1,745.7,605.5,524.70000000000005,487.4,462,438.2,397.3,883.7,697.6,588.6,520.70000000000005,486.9,462.9,420.4,1020.4,805.5,678.6,593.5,534.1,495.7,448.8,0.92900000000000005,1.2128000000000001,1.3678999999999999,0.71230000000000004,0.97340000000000004,1.133,0,0,0.82499999999999996,200.3,0.97809999999999997,0,0,613.4,"KOR11001321",8.7560000000000002,7105,30.3,50.4,42.4,89.4,0,9008]
[null,"GRE000583","GR1446","GRE-1446","ELISAVET",null,null,null,0,"LOIATh","NIKOS TALLAS - HRISTOS TALLAS","CLUB","C",400,"1/6/2016",8.4499999999999993,6.9630000000000001,1.5740000000000001,2.74,3146,117.6,0.59,866.6,0.72919999999999996,925.7,0.41199999999999998,-32.6,1548,1209.0999999999999,1021.9,901.4,811.6,750.9,707.7,1490.9,1177.5,1003.5,889.9,809.5,758.5,723.6,1256.7,988.9,837.7,744.4,684.1,644.4,600,1256.7,988.9,837.7,744.4,684.1,644.4,600,1541.6,1159.8,939.7,801.9,711.4,649.6,572.29999999999995,46.4,45.2,44.3,44.5,44.1,42.5,42.1,172.6,173.3,174.4,175.4,175.6,176.6,178.6,1597.4,1286.0999999999999,1119.4000000000001,1007.1,917.9,864.2,843.7,1009.9,824.4,720.2,647.70000000000005,605.5,584.79999999999995,574.6,931.6,769.3,670.6,612.6,583.79999999999995,566.79999999999995,553.4,869.9,722.7,632.29999999999995,589.79999999999995,567.70000000000005,550.6,524.29999999999995,877,728.2,635.79999999999995,591.79999999999995,567.6,547,513.6,963.6,779.8,669.4,605.20000000000005,574.79999999999995,554,515.6,1029.3,819.2,700,622.1,584.20000000000005,561.70000000000005,523.6,1166.5999999999999,906.6,766.9,672.1,611.5,580.29999999999995,541.1,1339.2,1020.8,845.9,736.7,656.3,605.79999999999995,558.4,1498.5,1132.0999999999999,924.4,795.8,705.2,637.70000000000005,571.79999999999995,0.63500000000000001,0.89510000000000001,1.0790999999999999,0.48970000000000002,0.71450000000000002,0.90010000000000001,0,0,0.45,42.8,0.72240000000000004,0,0,830.5,"GRE01006118",5.68,3673,17.7,16,18.5,0,0,9009]
[null,"GRE000706","GR940","GRE-940","FIVOS",null,"DICASTELLI GALEPIO",null,1995,"SEANATK","ATHANASSIOS HARIS","CLUB","C",250,"16/6/2016",10.565,8.8409999999999993,1.607,3.58,7249,110.4,0.72,728.7,0.84299999999999997,800.7,0.54700000000000004,16.3,1226.3,995.8,868.5,779.4,719.7,685.8,661.3,1186.3,968.4,847.1,769.5,721.5,694.6,672.4,1016.2,816.1,706.5,641.20000000000005,600.79999999999995,575.29999999999995,548.20000000000005,1064.0999999999999,850,731.8,660.8,616.29999999999995,587.9,556.5,1251.9000000000001,962.3,796.4,693,625.20000000000005,578.29999999999995,516.1,46.9,45.4,45.3,46.1,45.3,44.4,44.4,147.6,151.5,154.1,156.4,174.6,180,180,1327.1,1102.0999999999999,981.4,895.8,845.9,824.7,821.2,837,705.2,626,572.20000000000005,549.70000000000005,541.6,538.6,772.7,656.6,581.70000000000005,543.4,526.1,519.79999999999995,516.70000000000005,720.7,613.1,551.79999999999995,524.20000000000005,508.1,497.3,489.6,719.3,612.79999999999995,552.5,520.9,508.5,494.7,473,742.1,614,543.79999999999995,513.6,492.8,476,461,761.7,629.20000000000005,551.9,518.20000000000005,497,477.4,445.3,835.5,682.5,587,537,511.3,491.5,454.4,974.7,771,657,578.70000000000005,536.20000000000005,512.5,476,1125.5,889.5,755.7,662.9,593.5,547,501.4,0.79300000000000004,1.0508999999999999,1.1996,0.60750000000000004,0.83109999999999995,0.98519999999999996,0,0,0.66200000000000003,159.6,0.84719999999999995,0,0,708.2,"GRE01006244",7.1989999999999998,8048,29.2,23.8,45.1,84.8,0,9010]
[null,"GRE000056","GR230","GRE-230","STEELHEAD",null,null,null,1983,"NOE","JOHN ANTONY EDWARDS","CLUB","R",743,"14/9/2016",14.83,11.031000000000001,1.853,2.69,10166,154.80000000000001,0.48,675.2,0.89139999999999997,757.3,0.56200000000000006,-2.6,1173.9000000000001,939.4,814.9,734.6,686,653.1,607.20000000000005,1129.8,909.7,790.3,719.6,676.3,648,611.9,951.4,759.1,653.79999999999995,591.4,552.70000000000005,527.5,497,1021.7,807.2,687.6,615.1,569,538.70000000000005,503.3,1184.4000000000001,902.9,741.7,641.4,575.29999999999995,529.29999999999995,467.7,47.3,44.6,44.1,44.8,45.4,45.1,44.9,145.4,147.30000000000001,146.80000000000001,146.80000000000001,148.69999999999999,174.2,178.1,1267.0999999999999,1034.0999999999999,914.5,848.1,804.3,776.8,752.5,793.5,657.3,586.6,538.1,512.70000000000005,499.4,489.5,722.7,604.1,533.5,498,480.4,471.2,462.8,662.7,550.79999999999995,488.9,465.1,454,445.4,437.7,659.2,548.29999999999995,486.1,459.4,443.9,434.1,421,683.1,554.4,481.4,454.2,443.7,430.4,412,707.8,575.4,492.8,456.9,436.1,423.6,407.6,791.1,635.1,536.1,479.1,451.5,432.3,397.8,935.9,731.6,619.4,537.9,491.6,464.7,432.3,1080.5999999999999,844.7,715.2,621.1,567.70000000000005,529.29999999999995,461.8,0.84550000000000003,1.1404000000000001,1.3085,0.63880000000000003,0.88090000000000002,1.048,0,0,0.71,168.7,0.91200000000000003,0,0,657.9,"GRE01006594",8.6159999999999997,11170,38.799999999999997,50.5,36.299999999999997,0,91.7,9011]
[null,"FRA16246a","F5862","FRA- 5862","YALLAH V","SAGITTA-35 Short M","SAGITTA YACHTS","SPARKMAN & STEPHENS",1969,"29950 -  BENODET","DE CARNE Olivier","CLUB","C",531,"8/8/2016",10.45,8.4689999999999994,1.9279999999999999,3.08,5990,137,0.65,711.4,0.87629999999999997,770.2,0.55800000000000005,13.7,1196,970.2,842.4,749,688.6,651.79999999999995,618.1,1150.3,937.3,816,736.9,687.1,656.4,623.79999999999995,995.8,798.3,689.8,624.5,583.1,555.79999999999995,523,1044,832.8,715.7,644.70000000000005,599.29999999999995,569.20000000000005,532.6,1222.3,938.4,775.7,674.4,608,562.1,501.1,45,43.3,43.6,43.7,42.2,40.9,39.6,147.69999999999999,151.5,152.30000000000001,155.69999999999999,173.7,180,180,1259.5999999999999,1045.9000000000001,928.1,839.1,785.7,756.9,733.6,808.8,682.1,601.29999999999995,556.5,535.20000000000005,524.79999999999995,516.70000000000005,757.1,639.79999999999995,569.6,537.79999999999995,520.5,509.3,499.6,714.9,602.79999999999995,547.9,523.70000000000005,507.3,493.7,473.6,716.8,605.1,548.9,519.4,506.6,494,467.6,741.1,608.4,542.70000000000005,514.70000000000005,493.2,473.3,454.5,765,625.4,550.6,519.6,497.9,477.1,441.3,840,683.9,583.1,536.70000000000005,512.4,492.1,453.6,980.7,775.2,656.4,575.4,535.9,513.5,475.8,1132.4000000000001,894.4,756.7,658.9,591.5,546.6,502.6,0.80889999999999995,1.0768,1.2431000000000001,0.62319999999999998,0.86160000000000003,1.0410999999999999,0,0,0.64500000000000002,125.7,0.87029999999999996,0,0,689.4,"FRA00004886",7.4020000000000001,6694,25.3,24.2,39.299999999999997,76.8,0,6757]

{"sheet":"Feuil5","index":5,"n_rows":182,"n_cols":1,"rows_kept":182,"cut":false,"hidden":true,"merged":[]}
["A"]
["B"]
["C"]
["D"]
["E"]
["F"]
["G"]
["H"]
["I"]
["J"]
["K"]
["L"]
["M"]
["N"]
["O"]
["P"]
["Q"]
["R"]
["S"]
["T"]
["U"]
["V"]
["W"]
["X"]
["Y"]
["Z"]
["AA"]
["AB"]
["AC"]
["AD"]
["AE"]
["AF"]
["AG"]
["AH"]
["AI"]
["AJ"]
["AK"]
["AL"]
["AM"]
["AN"]
["AO"]
["AP"]
["AQ"]
["AR"]
["AS"]
["AT"]
["AU"]
["AV"]
["AW"]
["AX"]
["AY"]
["AZ"]
["BA"]
["BB"]
["BC"]
["BD"]
["BE"]
["BF"]
["BG"]
["BH"]
["BI"]
["BJ"]
["BK"]
["BL"]
["BM"]
["BN"]
["BO"]
["BP"]
["BQ"]
["BR"]
["BS"]
["BT"]
["BU"]
["BV"]
["BW"]
["BX"]
["BY"]
["BZ"]
["CA"]
["CB"]
["CC"]
["CD"]
["CE"]
["CF"]
["CG"]
["CH"]
["CI"]
["CJ"]
["CK"]
["CL"]
["CM"]
["CN"]
["CO"]
["CP"]
["CQ"]
["CR"]
["CS"]
["CT"]
["CU"]
["CV"]
["CW"]
["CX"]
["CY"]
["CZ"]
["DA"]
["DB"]
["DC"]
["DD"]
["DE"]
["DF"]
["DG"]
["DH"]
["DI"]
["DJ"]
["DK"]
["DL"]
["DM"]
["DN"]
["DO"]
["DP"]
["DQ"]
["DR"]
["DS"]
["DT"]
["DU"]
["DV"]
["DW"]
["DX"]
["DY"]
["DZ"]
["EA"]
["EB"]
["EC"]
["ED"]
["EE"]
["EF"]
["EG"]
["EH"]
["EI"]
["EJ"]
["EK"]
["EL"]
["EM"]
["EN"]
["EO"]
["EP"]
["EQ"]
["ER"]
["ES"]
["ET"]
["EU"]
["EV"]
["EW"]
["EX"]
["EY"]
["EZ"]
["FA"]
["FB"]
["FC"]
["FD"]
["FE"]
["FF"]
["FG"]
["FH"]
["FI"]
["FJ"]
["FK"]
["FL"]
["FM"]
["FN"]
["FO"]
["FP"]
["FQ"]
["FR"]
["FS"]
["FT"]
["FU"]
["FV"]
["FW"]
["FX"]
["FY"]
["FZ"]

{"sheet":"Feuil3","index":6,"n_rows":7179,"n_cols":4,"rows_kept":7179,"cut":false,"hidden":true,"merged":[]}
["NAME","TYPE","BUILDER","DESIGNER"]
["ALTO RIESGO","FAYD 30","AST, FAYD","MARTIN BILLOCH"]
["B 612","K 37","MARTINOLI MARINE","JUAN YACHT DESIGN"]
["GARRAS","F&C 44","AST, F&C","GERMAN FRERS"]
["HELENE","PLENAMAR 350","PLENAMAR","N, VOLKER"]
["VENTARRON","CORUM 280 CR","Ast, CORUM","PGYD"]
["ATILA","PANDORA 34","AST, MARCO","NESTOR VOLKER"]
["AZZAM","MYSTIC 290","OCEANTECH","OCEANTECH"]
["AZZURRO","PETERSON 42","NEW ORLEANS MARINE","D, PETERSON"]
["BIZARRO","FARR 44","AST, DEL ESTUARIO","BRUCE FARR"]
["CALIFA 3","D'ANGELO 30 R","AST, D'ANGELO","S, CARLINI"]
["CROSSBOW 2","32DUE","AST, PIERMARINE","E, MARTINOLI"]
["CUIQUE SUUM VI","BORA BORA 42","AST, BORA BORA","UMBERTO FELCI"]
["DIVA","MARTINOLI 31","AST, MARTINOLI","JAVIER SOTO"]
["DON IGNAZIO","LOTZ 270","ASTILLERO LOTZ","JAVIER SOTO ACEBAL"]
["ESTELA","DUFOUR 34","CANTIERI DEL PARDO","R, ROVERE"]
["FALUA","SOTO 40","AST, OCEANTECH","PGAN"]
["GAUCHO","S 33",null,"ROBERTO ROVERE"]
["GHOST","FM 980","AST, FMA","J, SOTO A,"]
["GREEN PEPPER","PANDORA 31","AST, SPEED CRAFT","RON HOLLAND"]
["GUASON","MATCH 30","AST, PLENAMAR","G, FRERS"]
["INDIA","PLENAMAR 36","ARTESANAL - HOOD","HECTOR DOMATO"]
["JABEQUE Reloaded","G 28","AST, NAUTIVELA","FELCI"]
["LLANERO","ROY 38","AST, ROSENDO","S, MAZZA CAMPOS"]
["PROMETEO","IRC 305","CESPEDES Y PEONA","REGGE HNOS,"]
["PURA CEPA","MIURA 31","E, ANZOLA","Nicolas Goldenberg"]
["SAN GREGORIO","SOTO 45","AST, SPEEDCRAFT","B, FARR"]
["TERAPIA","HOLLAND 34","AST, F & C","SOTO ACEBAL"]
["TOO MATCH","MATCH 42","NAUTICA INTEGRAL","J, GONZALEZ"]
["XE","F&C 37","DUFOUR","J, SOTO"]
["ZAFIRO","VICTORY 43","NOVATECNIA","G, SCHROEDER"]
["DOLPHIN III","HOLLAND 44","AST, REGGE","Mastracchio P"]
["PERICLES II","DUFOUR 40","RIOTECNA","ING, TETTAMANTI"]
["SAN SALVADOR","MALBEC 410","AST, DEL SUR","H, SALERNO"]
["BWANA","ROY 32","AST, CESPEDES","B Farr"]
["LADY MARILINE","MAXI 33","ASTILLERO MARCO","Reichel/Pugh"]
["BIG MATCH","REGGE 35","AST, BENETEAU","FARR"]
["BRIBON","RG 650","M BOATS","JAKOBIN/KER"]
["AHOI","PND31","AST,RESCH Y GONZ,","MURRAY BURNS DOVEL"]
["BAGUAL","VAN 30","MORETI","Murray/Burns/Dovel"]
["FAROLERO","COBRA 1000","AST, ARIES","Phillippe Briand"]
["CONFIANZA CIEGA","BNT367","AST, CONNORS","JACKET TIM"]
["USHUAIA","FAST 40+","AST, RATTI","Jeppesen"]
["BADULAQUE","RESCH 32","AST, FRAN","SPARKMAN&STEPHENS"]
["BANZAI","MAGIC 33","Astilleros Del Sur","HUMPHREYS"]
["COMPLICE","ARIES 37","AST, NOVATECNIA","Johnstone/Jutson"]
["GRULLA","F&C 40","NUEVO MILENIO","jim young"]
["HAPPY HOUR","FRERS 43","AST, NAVALTEC","Judel/Vrolijk"]
["LEJOS 2","FAYD 33","MILLENIUM MARINE","Hank Kaufman"]
["PATAGONIA 3","PND 34","AST,MARCO","l,Davidson"]
["SANDOKAN","FRAN 37","CORUM YACHTS","Harry Dunning"]
["TIMIDO II","CORUM 300 CR","AST, NATIVO","Will Hardcastle"]
["TOLERANCIA CERO","PLENAMAR 40","Beneteau yachts","Rod Johnstone"]
["ZARATUSTRA","Mastracchio 28,5","Hart Marine","JOHNSTONE"]
["FICCION","N 34,5","McConaughy","HOLLAND"]
["LARA","CP 30","BENETEAU","J/V"]
["FUERZA DELTA","NAVALTEC 37","CARROLL","CORBY"]
["BIG BANG","MM 35","AD BOATS","LUDERS"]
["FJORD VI","S 40 OD","Sydney Yachts","Nivelt"]
["LADINO MILLENNIAL","MUMM 36","C & C","N Jeppesen"]
["OJO DE BALLENA","SOTO 44 C/R","X Yachts","Kaufman/Jutson"]
["ALCORNOQUE","MONARCA 33","SWARBRICK BROS","Don Jones"]
["AZUL MARINO","NATIVO 38","X-YACHTS","MILLS"]
["COCODRILO DADDY","Beneteau First 45","ELAN","Ian Murray & Ass"]
["DON ANTONIO","Reichel Pugh 46","Tilostsn Pearson","DAVID LYONS"]
["GUALICHO","FARR 40 One Design","YOUNG","Andrieu"]
["LIHUEN","FIRST 44,7","Hanse Yachts","Marc Lombard"]
["PEREGRINO","FARR45","Northshore Yachts","Judel / Vrolijk"]
["SAN PATRICIO","SALONA 38","Dufour Yachts","Rob Humphreys"]
["TATA","SYDNEY 38","Cavalier YACHTS","REICHEL PUGH"]
["CHANTA","SYDNEY 38 OD","McConaghy Boats","Jason Ker"]
["ASTARTE","FIRST 47,7","G Goetzee","Mark Mills"]
["RECKLESS TOO","BENETEAU 47,7 WING","J Composites","KING"]
["PULSION","FIRST 45","DEHLER","R Johnson"]
["MAC","C&C 115","J BOATS / FRANCE","Tim Kernan"]
["MAD MAX","X 43","King","BAKEWELL- WHITE"]
["MAX POWER","S&S 34 (MOD)1,92","COOKSONS","ROGERS"]
["MERCENARIO 4","FIRST 40","LAMBERT","SIMONIS"]
["MISS LILY","XP44","ALEGRO YACHTING","Joe adams"]
["MONARCA","ELAN S4","SALTHOUSE","S & S"]
["MONTE ANCHO","J35 modified","LARS HALVORSEN & S","FARR YACHT DESIGNS"]
["MUKA MALUGA 3","YOUNG 88","Mconaghy","G Frers"]
["NICO","Hanse 342","Archambault","Jean Berret /Olivi"]
["SCAMP","NS 340","Goetz","Bob Perry"]
["HARTBREAKER","335 Grand Large","North Shore Yachts","Philippe Briand"]
["WINDY TOO","Cavalier 28","Mal Hart","Kim Swarbrick"]
["LE BILLET","MC38","DK-COMPOSITES","Mr E, B, Fay"]
["PRETTY WOMAN","Custom","BASHFORD BOATS","NELSON - MAREK"]
["STICKY","Dufour 410 GL","MACKMAN BOATS"]
["THE GOAT","j 122","Jeanneau","Ian Linton"]
["CALIBRE","DEHLER 41DB","Jeanneau (FRA)","Berret/Racoupeau"]
["CHANCELLOR","J 120","Elan Yachts","Bruce Ritchie"]
["CALIBAN II","SYDNEY 36 CR","Mc Conaughy Boats","CARKEEK DES PARTNE"]
["BLACK SHEEP","FIRST 40,7","M,A,T","Peter Cole"]
["BEAR NECESSITY","TP52","SAILORS BAY B'SHED","H,KAUFMAN"]
["GREAT XPECTATIONS","COOKSON 12","J Composite France","ELLIOT"]
["BRAVO","HOLLAND 42","Hanse Yachtbau","Daniel Andrieu"]
["XS MOMENT","J/V 42","Ovington","Juan Kouyoumdjian"]
["CHUTNEY MARY","CORBY 43","ES YACHTS","P BRRAND"]
["Haupia","International 5,5m","HAKES MARINE","Reichel / Pugh"]
["VENUE","A40","CMI","Murray/Burnes/Dove"]
["Conspiracy","X 50","FAST YACHTS","Sparkman Stephens"]
["Hans Free","TP 52","Blueline Yachts","Ian MURRAY"]
["Scoot","NSX 38","QUILKEY","BOTIN & CARKEEK"]
["Nouvel Amour","INGLIS/JONES 40","DK Yachts","FARR/COOKSON"]
["Dancelot","DK 46","PREMIER COMPOSITES","Hugh Welborn"]
["Ghost Rider","BH 36","Pacesetter Yachts","JUDEL/VROLICK"]
["Summersalt","MKL49","SEA NYMPH BOATS","PETERSON, DOUG"]
["RUBY","Sun Fast 3600","Patridge Yachts NZ","Donovan"]
["Jazzamatazz","Jeanneau SO 42 DS","Hansheng Yachts","Kaufmann"]
["SOLUTIONS","Hanse 325","Peter Parvin","ROBERT HICK"]
["EUPHORIA","E3","J & S Scarlett","LYONS/LAUBREAUX"]
["JUST A DASH","REICHEL/PUGH 30m","Mr I, Perdriau","Mills Design"]
["AMANTE","CAPRICE 40","Sea Nymph","BOTIN"]
["REVERIE","KER 46","CARROLL MARINE","YOUNG"]
["RKO","X-412 Mk 2","McConaughy Yachts","W WARD"]
["OCCASIONAL COARSE LANG 1","MAT 1245","Cookson","A CAPE"]
["TOO IMPETUOUS","KING 38 CUSTOM","Longitud Cero","IAIN MURRAY &ASSOC"]
["ELENA NOVA","First 40 2,48","Roper Yachts","HUMPHREYS YACHT DE"]
["ARIEL","J 122 2,2","Wauquez Yachts","N PATRICK"]
["ANGER MANAGEMENT","Hanse 350","Noakes Group","BRIAND"]
["SKAGERAK","Farr 30","Kelly & Haugh","ADAMS"]
["Leroy Brown","ES 44","NAUTOR","Murray Ross"]
["BROADSWORD","Z 39","PREMIER CT","Dudley Dix"]
["WAX LYRICAL","ROGERS 46","East Coast Yachts","Briand Philippe"]
["ELEKTRA","SIMONIS 42 - MOD","DAVIE NORRIS","Juan Kouyoum Djian"]
["BALANCE","Adams 10","MILNER","BENETEAU"]
["EXCAPADE","S & S","COOKSON BOATS","J KING"]
["ARCH RIVAL","FARR 400","Jeanneau Yachts","BILL TRIPP"]
["M3","11m OD","Ericson Ships","Gary Mull"]
["DEKADENCE","First 42","JEANEAU","SHAW YACHT DESIGN"]
["LOCAL HERO","FARR 1020","YACHT DYNAMICS","BERRET"]
["NEVER A DULL MOMENT","FIRST 33,7","PACESETTER","P, JOUBERT"]
["Maverick","MD 35","Geoff Cruze","PICCO YACHT DESIGN"]
["HASTA LA VISTA","Flying Tiger 10","KING MARINE","FINOT"]
["Wild Flower 2","Farr 40 MOD","EICHENLAUB","STUDIO LOSTUZZI"]
["Wind Charmer","Sun Odyssey 509","ML BOAT WORKS","J&J DESIGN"]
["Volante","HANSE 400E","HICK MARINE","SANTARELLI"]
["WILD OATS XI","X-332","ROBERTSON YACHTS","R,HUMPHREYS"]
["CHUTZPAH","Swarbrick 945","Premier Composite","MP-DESIGN"]
["KOA","5,5 Metre","LONGITUD CERO COMP","Tripp"]
["PATRICE","Sun Fast 32i","LAWSON","SAM MANUARD"]
["X-Factor","NM 46 IMS RACER","R SWANSON","BROEKER"]
["Beachball","DK46","B,A,C, YACHTS","Judel/Vrolik"]
["Bushranger","First 35","MCCONAGHY YACHTS","NIELS JEPPESEN"]
["DRAKE'S PRAYER","KER 40","SIRENA MARINE","Van der Stadt"]
["KING BILLY","Ben First 40,7","N PATRICK","JOUBERT/NIVELT"]
["MAYFAIR","IMS R 52","PETER McFARLANE","JAVER SOTO ACEBAL"]
["Javelin","Ketch Roper 57","Modern Concept","JAKOPIN"]
["Les Girls II","Wauquiez Centurion","David Edmiston","J&J"]
["ITALIAN JOB","Ritchie 38","MULTIPLAST","Zurl/Fekonja"]
["SWISH","Maxi","JARKAN","NORLIN"]
["JAZZ PLAYER","SWAN 65","Unknown (Built NZ)","Povel Broeker"]
["SHAKTI","CARKEEK 47","PARTRIDGE YACHTS","Maurizio Lostuzzi"]
["SYNCHRONICITY","Cole 43","WAUQUIEZ","FARR YACHT DESIGN"]
["Gezzabelle","T/PAC 52","N, WRIGHT & SONS","HORACIO CARABELLI"]
["LOVE & WAR","REICHEL PUGH 42","PROTEUS YACHTS","JEPPESEN-COSSUTTI"]
["EXTASEA","NORTHSHORE 38","AUTOCOSTRUITO","HERNAN SALERNO"]
["IGNITION","Elliot 13","BAVARIA","J,MEDEIROS ARANHA"]
["FIRE FLY","SYDNEY 47","SANTARELLI","SOTO"]
["Inevitable","COOKSON 50","Del Pardo","CARABELLI"]
["TAILWIND","Beneteau M445","Elan Yacht","ROBERTO DE BARROS"]
["SMUGGLER","DUFOUR 36e","HIDRASHIP","BOTIN/CARKEEK"]
["Euphoria 2","Sun Fast 3600 2,15","X-YACHT","P, MASTRACCHIO"]
["ZEPHYR","LYONS 60 Custom","Solaris","Camper & Nicholson"]
["Tempus","Volvo 70","BIEHLMARIN","Frers"]
["Alibi","SUN ODYSSEY 469","BROEKER +NIELSEN","Peterson"]
["RISK","Super maxi 100'","Martin","Carter"]
["Matagi","SYDNEY 47 CR","CANTIERE SE,RI,GI,","Doug Peterson"]
["Balmain Tiger","TP 52 J/V","ADIBOATS","Van De Stadt"]
["ENIGMA","S & S 73 Classic","Zurl Technik","Michel Dufour"]
["Enterprise","Murray 37","OY BATAR","Kristiyan Valkov"]
["Wallop","TP 52 B & C","Interboats Denmark","JULIAN EVERITT"]
["ISABELLA","DEHLER 46","T-Yachts Italy","Rush"]
["Pistol Dawn","REICHEL/PUGH 66","Seascape d,o,o,","BILL GIBSON"]
["Madge","welbourn 12M","Schuchter Sport AG","Botin Carkeek"]
["X-RAY","TP52 J/V","CARABELLI","Brooks Dees"]
["Between Partners","Peterson 50 IOR","TOR YACHTS","Bill Abbott"]
["Antares","Farr 50","ML BOATWORKS","Ross"]
["TANA","Grand Mistral 80","SERIGI","J Boats"]
["Tenspeed","Northshore 33","ALEXANDRE MEINECKE","Bill Lee"]
["AURIC'S QUEST","HICK 50","CAMARGO ARANHA","Laurie Davidson"]
["KHALEESI","ROBERTSON 950","EMISUL","Paul Bieker"]
["White Noise","Mills 45 Custom","SKIPPER YACHTS","Berret-Racoupeau"]
["SHOWTIME","BOTIN IRC 52","AST, DELTA YACHTS","JOUBERT-NIVELT"]
["SAIL EXCHANGE","Farr400","mboats","W,I,B, Crealock"]
["Merlion","YOUNG 8,8","DELTA YACHTS","Mani Frers"]
["ANOTHER PAINKILLER","Farr40","MLBOATS","Scott Kaufman"]
["DUENDE","Ron Swanson","Estaleiro Estrutur","Rob Humpreys"]
["MARRIAH","CAPE 35","J-BOATS","Humpreys"]
["Meltemi","11 Metre OD","CAVALLI","Cosutti"]
["Revolver","BASHFORD 41","JOAO DE DEUS ASSIS","Jepessen"]
["BUMBLEBEE IV","KER 50","Hallberg Rassy","Juan Y D"]
["EVE","AZUREE 46","Trapper Yachts","Humpfreys"]
["INDIAN","PATRICK 35","Benetau","Paperini"]
["BLUNDERBUSS","BENETEAU FIRST 50","Gdansk, Poland","Malleto Design"]
["Minna","COOKSON 12m","Conrad Poland","Botin & Carkkek"]
["Fifty Two Hundred","ADAMS 11,9","Teliga","Cossutti"]
["RIKKI","Ross 35","Poland","Ceccarelli"]
["WEEKEND OPTION","Didi 40 Cr","Kristiyan Valkov","S&S"]
["LAST HURRAH","VOLVO OPEN 70","Gdansk /PL/","Lombard"]
["WOTS NEXT","BENETEAU 473","Conrad, Gdansk","Fauroux"]
["Triple Lindy","SWAN 43","Rowen","Judel Vrolijk"]
["OCEAN GEM","JARKAN 12,5 NEW K","Bavaria Yachts","Cossuti"]
["MONDO","TRIP 47","Conrad shipyard","Jakpoin"]
["ASTRAL","A 40","Prout Catamarans","Briand / Garonni"]
["OSKANA","Pocket Rocket 22","DROMOR","Judel/Vroelijk"]
["Mister Lucky","FARR 47 (ONE OFF)","MC_TEC","Thomas"]
["TRITON","SHAW 12","TPI","Matteo Polli"]
["MASERATI","CENTURION 40 S","Brooks Dees","Justin"]
["L'ESPIRIT","MOD J DORY 41","Abbott Boats","Simonis-Voogd"]
["BLACK JACK 100","PICCO 30","Coubray","N,JEPPESEN"]
["ST JUDE","FIRST 31,7","J Boats","ALBINSSON KENNETH"]
["CELESTIAL","SLY 47","Westerly Yacht","GROUP FINOT"]
["KIALOA 2","BAVARIA 39 CRUISER","Santa Cruz Yachts","JAKOPIN J,"]
["DARK & STORMY","MODULO 90","Carrol Marine","PETERSON DOUG"]
["ARK 323","Oceanis 461","Dash Marine Ltd,","DE DOOT"]
["ABOUT TIME","Elan 31","James Betts Enterp","CARTER DICK"]
["WINGS","Grand Soleil 37 BC","Santa Cruz","J,BERRET"]
["WILD OATS X","Elan 36","US Watercraft","BAVARIA"]
["IMALIZARD","IMS","Lee / Santa Cruz","LOMBARD-GARRONI"]
["MILLE SABORDS","X-50","Pacific Seacraft","Skrzat"]
["ENVY SCOOTERS BEACHBALL","Solaris One 48","Composite Works","MALETTO"]
["CHECKMATE of HOLLYWOOD","SEASCAPE 27","Brion Reiff","SWAN NY/CLUB FRERS"]
["RAGAMUFFIN","FROEKEN 34","Elan Yachting","POLLI"]
["WEDDELL","J/V 36","Elan Marine","BOTIN-CARKEEK"]
["FRANTIC","SOLARIS ONE 44","Bennetau","GERMANS FRERS"]
["North Encounter","X-99","AD brodovi","J, JHONSTONE"]
["CLIMATE ACTION NOW","Dehler 39","More brodovi doo","BOB SMITH"]
["CORROBOREE","GRAND-SURPRISE","Salona","VROLIJK"]
["VOODOO","SOLARIS 58","Dehler Yachts","HUNTER"]
["CONCUBINE","Grand Soleil 463","Elan doo","R, JOHNSTONE"]
["ICHIBAN","DEHLER 33 COMP","Cantiere del Prado","SOEDERGREN"]
["BORDERLINE","IMX-38SD Mod","Cantiere del Pardo","N, JEPPESEN"]
["REDJAM","Salona 41","Hanse Yacht","CATALINA YACHTS"]
["Harlequin","DUFOUR 44 PERF,","Dufour Yacht","ANDRIEU DANIEL"]
["CAMILLE","Bavaria 35 match","Bavaria Yacht","P,HARLE"]
["RESTLESS","Z 34","AS Boats","J, BERRET"]
["Pacesetter","AVANCE 36","AB Ovo Salona","Jakopin J&J"]
["B 52","Juwel 34","Murtic","JAKOPIN & JAKOPIN"]
["KERUMBA","Dehler 38","Stephens","J, VISIERS"]
["KAYIMAI","Janneau 57","YZ Greifswald","YVES MARESCHAL"]
["WISTARI","OCEANIS 430","MC-TEC","Groupe FINOT"]
["CARTOUCHE","T 34","Italia Yachts","Philippe Brand"]
["PHILOSOPHERS","ESSE 850","Enavigo","J & J"]
["TYBO","First 34,7","Fareast Boats","GP"]
["Mad Jack","FARR 52","J COMPOSITE","NIVELT BERNARD"]
["Passion X","SOLARIS 55","COMFORT YACHTS","J & J Design"]
["DREKI SUNNAN","Sun Odyssey 50 DS","ELAN 31","B,FARR"]
["WIZARD","ILC 25","OLYMPIC CLASS","P, ELVSTROM"]
["MANGO MADNESS","TOR 41","CARROL","RODE"]
["WOODRUN","IMX 45","Stocznia Delphia","J,J,DESIGNE"]
["SANTANA","B&C46","AS, ROBERTO FRERS","Segelbåt"]
["SHE'S APPLES II","FARR 51","F&C","RACOUPEAU / BERRET"]
["ABRACADABRA","HS38","A, DEL SUR","KIRBY"]
["41 SUD","ROCKET 28","T&P","E, DUBOIS"]
["Pick Pocket","BB40","GERAGHTY","CELA JAVIER / GONZ"]
["GRACE O'MALLEY","SKIPPER 30","RODMAN","F,ROCA"]
["DARE DEVIL","DELTA 45","Salona Yachts","G,FRERS"]
["BLINK","DUFOUR 36P","HUNTER YACHTS","L,G,"]
["AIRSTREAM","Soto Acebal 65","INDIANA YACHTING","V, DE STADT"]
["TILTING AT WINDMILLS","SKIPPER 30 QC","BASHFORD INT,","PROTOTIPO"]
["LA BLANCHE","SOLARIS 50","HUNTER","A, MAURIC"]
["Rosinante","DELTA 32","J, SOLDAVINI","HOLMAN"]
["Predator Z","IMS 50","MAGRATHEA","PH,BRIANT"]
["Aislinn","CARABELLI 54","Finngulf Yachts","R,HOLLAND"]
["Vento","FELCI 315","BARRACUDA","VATON GILLES"]
["Miss Marple","J-24","Frank V, Butler","RONAUTICA"]
["Mona Ida","FIRST 40'","BENETAUX","Monhaupt"]
["Papagena","FARR 11S","Bavaria Yachtbau","IÑIGO TOLEDO"]
["Sharee","Dufour 500","Furia Yatchs","Christian Stimson"]
["Hidra_54","CARABELLI 32","LA BORNA","M, DUFOUR"]
["Ima X","ONE OFF","ARCOA-JOUET","P,BRIAND"]
["Ganymed","GRAND SOLEIL 46","BENETEAU SA","Lindquist"]
["LA WALLY 4","MALBEC 360","BRAMADOR","HOLMAN & PYE"]
["LA WALLY CR","Hallberg Rassy 412","GP","IÑIGO ECHENIQUE"]
["LISBETH","Trapper 500","FURIA","BERN"]
["LaWally","Bavaria 34 Cruiser","MOTYVEL","I,TOLEDO"]
["Trinity+","OCEANIS 473","FIBRESTER","CASTRO TONY"]
["PFEIL 2","Swan 45","GRANADA","R, HOLLAND"]
["Thomahax","Bavaria CR 46","SE Sahlin","A, CABAL"]
["Licence IV","First Class 12","SONAR (UK) LDT","PETIT"]
["SUNNY SIDE UP","Conrad 25R","FEGALSA","EDEL MAURICE"]
["Desperado","X-35","POLIMADER","JACOPIN"]
["Boreas","Conrad 45","MONOTIPO","Andrzej Skrzat"]
["NO RELAX","Teliga 89","TAYLOR","P, HARLE"]
["Release","First 29","NAUTA","Lombars"]
["Jonathan Pink","Dehler 36 CWS","DRESPORT","AKOPIN & JAKOPIN"]
["Adrenalina","Conrad 24","ASTILLEROS L,G,","Faroux"]
[70170,"CYCLADES 50,5","CARABELA","FAUROUX JACQUES"]
["Filius 3","Bizzona","KIRIE","FINOT JEAN MARIE"]
["Tschenny II","Conrad 25RT","TILLOTSON-PEARSON","M,LOMBARD"]
["Svenja","Sun Fast 32","JENNEAU","C,Schumacher"]
["Largado","MINITONNER","KELT MARINE","SPARKMAN & STEPHEN"]
["Champagne","Rush 31","MOA","A,MOHNNAUPT"]
["Carpe Diem","Fisrt 345","SE,RI,GI,","Nicholson"]
["JANDIA","Melges 24","Pronavia Marine AB","L,TADDEI"]
["Nixe","Sun Odyssey 32i","Fabola AB","V,DE STADT"]
["CONOPUS","Bavaria 42 Match","INERGA","D,ANDRIEU"]
["Chili","MOODY S31","DINA","N,JEPPENSEN"]
["Godspeed 52","Sun Odyssey 42i","ASTRAEA","M, LOMBARD"]
["Zeitwert","APOLLO 12","COMFORT BATAR","N, Jeppensen"]
["Barrakuda Due","Class 40 Akilaria","TUCANA","A, PRIMROSE"]
["Zenon","1D48","ASTILLEROS ARAEZ","JAKOBIN & JAKOBIN"]
["Green Dragon",930,"ASTILLEROS MUÑOZ M","FNOT"]
["MARLIM","Grand Prix 26","RONAUTICA","D, ANDRIEU"]
["DOURADO","Sun Odyssey 44","GROP","J,FAUROUX"]
["BIJUPIRA","Farr 1220","JEANNEAU SA","LOMBARD MARC"]
["INAE","Swan 391","EDEL STRAT","Felci Yachts"]
["ABSOLUTO","Abbott 36","BAVARIA YACHTING","J,NAYA"]
["STAND BY ME","First 50","SASANKA YACHTS","BOTIN-KARKEEK"]
["CATUANA KIM","Ross 930","SOLMA","A,VALLICELLI"]
["MAXIMUS","J-109","Astilleros GMM SL","CELA"]
["CHROMA","XP 38","QBOATS","HUNPHREYS"]
["SORSA III","X-41","LABORNA","A, MOHNHAUPT"]
["KIRON","J/160 DK","Oyster Marine","FARR/BMW"]
["ROCKET POWER","Transpac 52","BALTIC","JEPPESEN NIELS"]
["MIRAGEM","J 111","Halmatic","PH, HARLE"]
["TROYAN","Santa Cruz 50","MARK III","BC"]
["ARIES V","Farr 40 mod,","SOUTH COAST B,Y,","PELLE PETTERSSON"]
["CRIOULA 29","Dash 34","X Yatchs","GILLES OLLIER"]
["SANTA FÉ V","Riptide 35-2","MISTRAL","DUFOUR"]
["CAMIRANGA","FARR 40","ELAN YATCHS","FARR Bruce"]
["HOBART","Santa Cruz 52","GOLFIÑO","J,M,NAYA"]
["ASBAR IV","J92","COMAR","J M NAYA"]
["SAN CHICO 3","C&C30 one design","POLIMAR","J, GONZALEZ-CELA"]
["BRAVISSIMO 4","Beneteau 10R","PUMA","GIBERT"]
["BOTO V","Santa Cruz 70","grand soleil","F, BRIAND"]
["DELIRIUM","Oceanis 50","Benneteau","DAVID REAR"]
["KAMIKAZE XI","A-31 Bulb Keel","BASHFORD","CASTRO ANTONY"]
["SAMURAI RIO","Crealock 44","MAXI YACHTS","Eric White & A,Hil"]
["SARAVAH","J133","KELT","A,URIARTE"]
["FELCIUNO","VO60","NAO GLASS","I,MURRAY"]
["EURUS","Bavaria 38","NAYA","Felici Yatchs"]
["RUDÁ","Kaufman 47","YATLANT","TORTAROLO"]
["DUMA","Elan 340","GIB SEA","HARLE PHILIPPE"]
["VENTANEIRO 3","Elan 350","BEPOX COMPOSITE","CHANCE"]
["AVANTI","Elan Impression 50","Marine Cons,","L,BRENTA"]
["Maestrale LogSub","Elan 450","RANGER YACHTS","NAUTATEC"]
["BICHO GRILO","Bavaria CR 45","AD YACHTS","JUDEL /VROLIJK"]
["ANGELA VI","Salona 34","MCGRUER YACHTS","S LANGEVIN"]
["VESPER 4","Bavaria CR 40S","SCHUETZ/KNIERIM","FELCI UMBERTO"]
["Inae 40","Sun Odyssey 44i","X- YACHTS","RACOUPEAU/BERRET"]
["JAZZ","Bavaria CR 36","MARYOLA","J+J"]
["LUCKY V","Bavaria 50 Cruiser","INT,COMPOSITES","HUMPHEYS"]
["Finoor S","Bavaria CR 41","DRAKEKO","DIXON/PENNA"]
["Caramel","Bavaria CR 41S","WHISSTOCKS BOATYAR","I, MURRAY"]
["Elina","More 55","FIBRAMAR","WARVET S"]
["KIZ","Salona 44","WAUQUIEZ HENRI","Claudio Maletto"]
["Wind Walker","X 4^3","NORTHWIND","Hunter Design Team"]
["Nimana","X 41","HANSE","BAGLIETTO"]
["Dara","First 30","SINERGIA C","HOLMAN&PYE"]
["Impala","Grand Soleil 46,3","S&S","T,CASTRO"]
["LZ Yachting 1991","Grand Soleil 40C","MAYORLA S,A,","ED DUBOIS"]
["Stella Polaris","Grand Soleil 43","HUNTER MARINE","JAC, DE RIDER"]
["Boj","Grand Soleil 40","BAGLIETTO","DAVID SADLER"]
["Kalina","Grand Soleil 39","UDONDO","B&C"]
["Forever","Hanse 445","LEWIN","JUDEL&VROLIJK"]
["Proxima","Grand Soleil 37","STARLIGHT YACHTS","MARCELO PENNA"]
["ANA BELLA","Dufour 460 GL","DEL PERDO","Stadt v/d"]
["Bizzona","Oceanis 45","BIANCA","HARLE'"]
["Nord Burgas","Bavaria 50","BALTIC YACHTS","DUBOIS Ed"]
["Mowgli","Salona 42","APL,COMPOSITE","JOUBERT/NIVELT/MER"]
["Blue Magic","Salona 380","LG ASTILLEROS","J, COMPANY"]
["SREBRENA","Murtic 52","WAUQUIEZ SA","RIAND PHILIPPE"]
["Schuss","Azuree 33 C","J, COMPANY","BERRET JEAN"]
["Castor","S&S 57","DUFOUR SA","P, BRIAND"]
["Extasy","Varianta 44","NAUTOR SWAN","J,VISIERS"]
["Tivia","Class 40","PERF,SAILCRAFT","JUDEL-VROLIJK"]
["Oberon","Bavaria 51 Cruiser","Sant Germany","ALBINSSON"]
["Ronin","Grand Soleil 50","ESTARELLAS","TONY CASTRO"]
["UK Sailmakers","Sun Odissey 54 DS","BAVARIA YATCHS","Sant Germany"]
["Dari","Hanse 47","VISION YACHTS","CAMPOS"]
["Ahshaena","Baavria C45","OYSTER","A, MONHAUPT"]
["WASABI","Bavaria 46 Cruiser","ZERO","CARKEEK / BOTIN"]
["Hygeia","Bavaria CR 37","Hallberg-Rassy AB","JUDEL FRIEDRICH"]
["Phoenix","Sun Odyssey 45DS","POGO STRUCTURES","A, VALLICELLI & C,"]
["La Bella II","Sun Odyssey 440","BELLIURE S,L,ASTIL","SCHUMACHER"]
["Algol","MELGES 24 OD","NORTH WIND","ROLLAND PIERRE"]
["Albireo","Elan 384 Impressio","AMATEUR","IBOLD"]
["Petra","Hanse 540","Cia, de Barcos","PRIM ROSE"]
["PLAN B","Quarto","J,BOATS INTERNATIO","REARD"]
["Metch","Italia 9,98F","CANTIERE BY SERIGI","Jakopin&Jakopin"]
["Kaliakria","Enavigo 38","Chantier STRUCTURE","NIEL JEPPESEN"]
["Alexa","Salona 700","BARRACUDA YACHTS","LOMBART"]
["DARINA","Fareast 28R","INERGA S,A,","V,D, STADT"]
["D-DAY","SALTY DOG 27","MTORRES I Y P S,L,","Francois Sergent"]
["Glory","X-119","Dehler Segelyachte","C,Beyer"]
["Nirvana","Oceanis 37","NAUTIQUES DU SUD-O","OLLE ENDERLEIN"]
["Ha a' Koa","J 80","PROTOTIPO","URNS CHUCK / MURRA"]
["DILLIGAF","CONFORT 30","JENNNEAU","SIMONI Y VOOGD"]
["Smoke","FIRST 27,7","INCONNU ONBEKEND","DOUGLAS B PETERSON"]
["Wraith","SUN LEGENDE 41","BIASI","NICOTRA"]
["Geminis Dream","OCEANIS 361Clipper","GAMMO STAMPI","BESOZZI"]
["Fugitive","CARTER 33","SEVIPOL","J & J DESING"]
["Oxomoxo","FIRST 345 S/D","SETSOM","FAUROUX/FINOT"]
["Krikkit","BAVARIA 38 HOLIDAY","TECNICA & REGATAS","A,VALLICELLI & C,"]
["Tigerlily 1","BAVARIA 35Holliday","SWAN","D, CARTER"]
["Spiny Norman","ELAN 45 IMPRESSIO","x yatch","JOUVERT-NIVELT"]
["Ultraman II","ELAN 444 IMPRESSIO","X YACTHS","HUMPHREYS Rob"]
["Serendipity","SUN ODYSSEY 42 DS","FURIA YACHTS","M, PENNA"]
["RambunXious","Hanse 400 (QB)","PEARSON","VROLIJK-KER"]
["DAIA","COREL 45","GARRIGA","HARLE"]
["Boondoggle","Sun Odyssey 39i","KIWI BOATS","JONES"]
["The Shadow II","OLYMPIC SEA 42","DALMAU MOTIVEL","FINNOT"]
["Dolce","FIRST 38","I,COMPOSITES","RHODES"]
["65 Red Roses (II)","Delphia 40,3","J-YACHTS","Finot/Conq"]
["Surfrider","X-37","BELLIURE","VISIER"]
["Idiopathic","GRAND SOLEIL 43 R","OLSON","JEAN BERRET"]
["Strait Marine","IMX-40","MAGRATHEA 2000","CARKEEK/BOTIN"]
["Final Dash","SWAN 42","MILLNER","P, IBOLD"]
["KISS","SWAN 45 SD","Lepanto","FINOT / CONQ"]
["Through","Xp 44","IGNACIO FRASQUET","ANDRE MAURIC"]
["Longboard","GRAN SOLEIL 50 JV","FOUNTAINE","GEORGE OLSON"]
["Defiant","ITALIA 9,98 F","COFEDE","CASTRO"]
["Marda Gras","F&C40","X-YATCHS","J,CELA"]
["Zaff","SWAN 42 CLUB","OY Nautor AB","PBRIAND"]
["Redrob","GRAND SOLEIL 42 R","XCHATS","J Visiers"]
["Five of Harts","F&C44","BRENTA","MORTAIN / MAVRIKIO"]
["Salient","First45f5","RONAUTICA YACHTS","IGNACIO FRASQUET"]
["Anjo","MUMM36","SOUTHERN OCEAN","JOUBERT NIVELT"]
["Westerly","J35","Etap Yachting","DUBOIS"]
["Turnagain","Italia 9,98","VIVANAUT,ALAV,","X YACHTS"]
["Kraken","IOR 43","OMEGA YACHT","YACHING DEV"]
["Antilhez","RODMAN 42","WEST CUSTOM MARINE","Robert Ball"]
["Lagniappe","Salona 38 BK","CTP","D,PETERSON"]
["Bella J","LEGEND 45","CAVADELO","PRIMROSE ANGUS"]
["Esprit de Corps IV","J37","Bavaria Yacthbau","J FRIEDRICH"]
["Sea Smoke","EVENTO 46","SINERGIA","J, de Ridder"]
["Dogsled","SIDNEY 40","NAUTOR SA","SCATTOLIN"]
["Alpha","J40","DAL FERRO","DAVID REARD"]
["Yankee","SOTO 39","YATES ESPADA","Humberto Felci"]
["Pancho 1","SOTO 42","NEVILLE HUTTON","FRERS German"]
["Karpo","ILC 46","SOUTH COAST BOATY,","X YATCHS"]
["Whiskey","ATHENA 34","TAYLOR S,A,","FONTANA-MALETTO"]
["Papa","BAVARIA 42 DS","Finngulf Marine","I, ECHENIQUE"]
["Uniform","DUFOUR 36 P","Sinergia composite","J & V"]
["Victor","PROTO IOR ONE TON","PCT","INOT / CONQ"]
["Tango","CATALINA 36","POLYSIER","Orlando Sanciveli"]
["Quebec","SUN ODYSSEY 40","SRG","HUMPREYS DESIGN"]
["Sierra","AQUILA","CUSTOM YACHTS","H, Södergren"]
["Romeo","Bavaria 37","HERRESHOFF","SODERGREN HAKAN"]
["November","BAVARIA 33 CRUISER","SLY YACHTS","CARKEEK & PARTNERS"]
["Oscar","FURIA 302","Green Marine","DUMAS"]
["Orca","BAVARIA 46 SK","SEA QUEST YACHTS","PICCO"]
["Ariadne","FORTUNA 9","G & GEDWARDSSON","NATHANAEL G,H,"]
["Sun Dreamer","JOUET 33 FANDANGO","COMAR YACHTS","JONES STEPHEN"]
["One","DUFOUR 37 ATOLL","LINDSAY","GÖSTA EDWARDSSON"]
["Malemok III","BAVARIA 38 CR","OCEAN YACHTS","FELCI/ROSÉO"]
["Jasmin","BRAMADOR 34","GARRIDO","LUPOLI SERGIO"]
["Judita","GP 26","DEHELER","JBERRET"]
["Wolke 7","FURIA 1000","SEAWAY","B & C"]
["Alegria 2","FIRST 40 KB","Beneteau S,A,","HOLLAND Ron"]
["Koralia","GIB SEA 33","COOKSON NZ","SIMONIS & VOOGD"]
["Aiolos","FIRST 27,7 SD","T-Yachts","Lostuzzi design"]
["Luna Mare","ELAN 350 IK","NAUTILUS MARINE","B,NIVELT"]
["Syntyche","FLASH 700","RIDAS YACHT OÜ","COSSUTTI MAURIZIO"]
["Black Pearl","ELVSTROM 30,5 CR","ARCONA YACHTS","STEFAN QVIBERG"]
["God Speed","FIRST 35S5 (BK)","Nycra","CYD"]
["Ela Ina","Dufour 35 Classic","E Antinoja","Petterson"]
["Calamari","GRANADA 35","Tätilä","Eivind Still"]
["Vamos II","OCEANIS 40","Triplast Anton Nov","Matti Pulli"]
["Ciao","DUFOUR 32 CLASSIC","Finn Yachts","Andrej Justin"]
["Artemis","SKY SAIL 28","Jaakko Toppila","K-J Stråhlmann"]
["Avalon","SONAR 23","Polar Yacht","Kamu Stråhlmann"]
["Aquarius","PROTOTIPO 3/4 TON","Plastmek Products","Mannerberg"]
["Victoria","YATLANT 24","Dehler YB","Stråhlmann"]
["Viviane II","FIRST CLASS 8","Furustam","Håkan Södergren"]
["Kraljevna","MEIRA V-900","CarrollL Marine","Judel & Vrolijk"]
["Alinghi","SOMO 23","JPK Composites","Dehler Team"]
["Albatros","WIND 44 J","J-COMPOSITE","Furustam"]
["Easy Eleven","FURIA 32","EGGER","Rob Humphries"]
["Neostar III","NADIR 33,5","CRAFF","FINOT Jean-Marie"]
["Kodo","SUN ODYSSEY 35","ARTECNA","MAURIC André"]
["More Fun","DEHLER 34","FONTAINE","ANDRIEU Y,DESIGN"]
["Samoa","A 35","CAMPER & NICHOLSON","VALER Jacques"]
["Tequila","FARR PLATU 25","3C COMPOSITE","JEPPESEN Nielsen"]
["Cherry","SUN ODYSSEY 42 I","CAPARROS","JOHNSTONE Rodney"]
["Santa Anastasia","BOLING","J-EUROPE","MAURIC Andre"]
["Moonflower 3","MELODY","J-boats France","JOHNSTONE Alan"]
["Ladies First","PROTOTIPO CLASICO","MAREE HAUTE","BALTA Patrick"]
["Mareus","FEELING  850 STD","TECHNOLOGIE MARINE","STEPHEN THOMAS"]
["Tara I","J 29","POUVREAU","ELVSTROM/KJAERULFF"]
["Xaviera","FIRST 32 S 5","ARMADA MOULDINGS","JOHNSTONE Al"]
["Xara","KELT 8,0 MOD","BIANCA YACHTS","PHILIPOT Olivier"]
["Xenia","OCEANIS 331","N,Shore Yachts","JAKOPIN J & J"]
["Toto Travel","RO 340","J EUROPE","JEPPESEN Nilsen"]
["Juventus","Bavaria 44 VISION","MALLARD","MANUARD Samuel"]
["Gringo 2","FIRST 40 DK","HOME BUILT","BRUCE FARR Modifie"]
["Blue Chip","RO 330 SD","SAILING CONCEPT","YOUNG Jim"]
["X-Cite","SOLARIS 50 SK","1720 YACHT UK","SHAW Rob"]
["Fugu","Pronavia 38","DEHLER YACHTBAU","ROLAND Pierre"]
["Xirena","DUFOUR 31","ISSA D,O,O","MAGNAN Jean Pierre"]
["Adio Pameti","SUN FAST 32 (DK)","CANTERBURY MARINE","MILLS Mark"]
["Anatela","XP-44","SHAW YACHT DESIGN","BRETECHET Gilles"]
["Najana","Diva 24 DC","MAGNAN","MABIRE Halvard"]
["Skalice","PUMA 34","M,A,T ( TURKEY)","PERILLAT Frederic"]
["Šjor","DINA 223","KL NAUTIC","STEPHENS Olin"]
["Ziggy","OCEANIS 350","JMV CHERBOURG","ELLIOTT Greg"]
["Maja III","ASTRAEA 260","ARTMARE","YOUG Jim"]
["Lucija","BAVARIA 36 CR","AMC MARINE","MURRAY BURNS&DOVEL"]
["Sportski vuk","COMFORTINA 42 SK","CARLINI","ELLIOTT Gilles"]
["Blitvica","TUCANA 28","PROTO SUD","X-YACHTS DESIGN Gr"]
["Erco","ARAEZ 20","PARTRIDGE","LUCAS Dominique"]
["Imago","SERVIOLA 23","QUERE","MALETTO Claudio"]
["Pixel","RO 400 (SK)","GIBERT MARINE","ECHENIQUE"]
["Solid White","SUN ODYSSEY 28,1","LAND Roger","FINOT Jean  Marie"]
["Mrs, Robinson","FIRST 285 Q,B,","MAAS Franz","FAYE Xavier"]
["More Grey","MANZANITA","UNITECH NZ","D,Thomas"]
["Lady Nor","SUN ODYSSEY 409 DK","HERVE","SUNDEN Tord"]
["Kaninvin","FURIA 28","EMBARCACIONES PCG","LEVET Eric"]
["More Amore","SUN ODYSSEY 43 DS","HANSE-YACHTS","ECHENIQUE Inigo"]
["Athene","SUN 2000","NAVAL FORCE","LUCAS Francois"]
["Cocktail","EDEL 6","BLACHFORD","JOUBERT - NIVELT"]
["Punch","BAVARIA 30 CR","Sigma Yachts","VISMARA"]
["Red Wine","BAVARIA 44","GREYSWALD","KJAERULF"]
["Samba Pa Ti","VIVA 700","MARIEHOLM","De RIDDER Jack"]
["Aquavit","FIRST 235","ACTUAL","LAUNEAU Christophe"]
["Calvados","TARANTELLE","LEVET & Co","LUCAS Paul"]
["Lia of Sweden","BAVARIA 50 VISION","MELGES PERFORMANCE","ALBERTO SIMEONE"]
["Becky Blu","Sun fast 35 (2,15)","PALMER JOHNSON","vd Stadt & Prtnrs"]
["Cape Cod","X-362","KIRIE SA","PARKER Fred"]
["New York","FIRST 30 ES","Self Built","P,Norlin"]
["Ramande","ELAN 331","FONTAINE PAJOT","Manuard YD"]
["Angelina","J 70","WINDBOAT Ltd","Reichel-Pugh"]
["Just for Fun","SERVIOLA 26","MARINE SERVICE","Stephen Jones"]
["Coco Loco","DUFOUR 28","WARSOE","Neils Jeppesen"]
["Coral VII","VROLIJK 37","S,O,S","KJOELHEDE"]
["Eveline","ASTRAEA 330","MPH - NAVALU","V D STADT"]
["Svibor","RO 300","PICHAVANT","SEB SCHMIDT"]
["Heroes","ELAN S3 DK","LUCAS Benoit","D KOOPMANNS"]
["Lady Stardust","FIRST 21,7","MYLIUS YACHT","W,TRIPP"]
["Starman","BAVARIA 36 SK","Winner Yachts","MANUARD"]
["Ziggy Stardust","SUN ODYSSEY 36 i P","MCW Woolston","S+S"]
["Ba Re V","OCEANIS 393","LOSSOUARN","NISSEN/SCHOECHL"]
["Calanthe","LIGHTWAVE 395","MARTEN MARINE","JEANNEAU"]
["Ju","S&S 45","Rex Marin","P, BOSGRAAF"]
["Capivari","BALTIC 52","ALUMINIUM & TECHN,","MANNARD YD"]
["Nicol - Maria","GRAND SOLEIL 45","Seascape","CHRISTIAN RODE"]
["Varianta","ELAN 310","ISSA d,o,o,","REINKE"]
["Ola","NICHOLSON 32 MKV","Sonar (UK) Ltd","FINOT-CONQ"]
["Aries I","FIRST 36,7","Sino Eagle Group C","DUNCANSON JOHN"]
["Atallya 1","OCEANIS 390","Select Yachts","SIMONIS VOOGD"]
["Silence One","STAG 24","KNIERIM","NISSEN"]
["Attalya II","DEHLER 36 CWS (DK)","MOS COMPOSITES","BILL DIXON"]
["Martini","OCEANIS 411","KJOELHEDE","B,DIXON/A,PRIMROSE"]
["Navis Celere","FIRST 45F5","RUS YACHTEN","OWEN CLARKE"]
["Stribor","OPTIMA 101","CH,WILKE","JOERGENSEN"]
["Aurora","SUN FAST 31","KILLIAN BUSHE","CARPE DIEM YD"]
["Medot","IMX 38","CARLSSON VARF","MENZNER BYD"]
["Ocean Queen","SUN ODYSSEY 36,i","VICTORIA","KOOPMANNS"]
["Ceti","DUFOUR 375 GL","VOILIERS BEPOX","P,BRUUN"]
["Rum","DUFOUR 325 GL","SCHOECHL YACHTBAU","JACQUES VALERT"]
["Ju 2","TELIGA 890","PIJNEN JACHTBOUW","SKAT"]
["Giordano Bruno","SHAMROCK","BARBERIS","JENSEN"]
["Janus","X 102","ISSA","T, SUNDEN"]
["Baluga","SIROCCO MK 2","BROAGER YACHTWERFT","LOOS"]
["Cassiopeia","ELAN 33","EIGENBAU","AENGERYDD/KOEHLER"]
["Le Ma Ra","FIRST 325","SEAQUEST YACHTS","HANS GROOP"]
["Relax","RO 330 (DK)","LATITUDE 8 ASIA CO","BEYER"]
["Sultan","J,O,D, 35","PACER YACHTS","DUCK"]
["Ikarus","SUN FAST 37","WAGNER","ELVSTROEM/KJAERULF"]
["Lero","GOLFIÑO 34","ALGRO YACHTING","FINOT/FAROUX"]
["Alhambra","FIRST CLASS 7,5","MARINE PROJECTS","FINOT-LONQ"]
["Lucia X","COMET 45S","FS COMPOSITES","STRAHLMANN"]
["Izazivač","ELAN 37","MAT TURKEY","FAURBY"]
["Analea","SALONA 37","JOERGENSEN","PETER NORLIN"]
["Giulia","PUMA 24","LUFFE YACHTS","ELVSTROEM"]
["Dubrovnik","BAVARIA 42 CR","MARKUS GLAS","GREG ELLIOT"]
["Antares II","Bavaria 34 1,90","LA YACHT","KJAERULFF"]
["CHARLIE","SUN ODYSSEY 37","FOMER/WILHELMINA","GERLACH"]
["AIAS I","BAVARIA 32/1,80 CR","P,BRUUN DK","DEHLER/V,D, STADT"]
["TYPHOON","OCEANIS 311","JANTAR","SIMONIS / VOOGD"]
["IASON","XP-38","J-COMPOSITES","V D STADT/DEHLER"]
["HORTENSIA","SUN ODYSSEY 36","SIEMER","THOMAS BERN"]
["ADVANCED HOSTING","ELAN 333","OTT YACHT","CARL BEYER"]
["ARGONAFTIS","COCO 6,50","IMPALA","C&C"]
["NHRIIDA","GRAND SOLEIL 43 BC","CINQUE GI","GREG YOUNG"]
["GAVINA","OCEANIS 423","BV VORDINGBORG","J, KJAERULFF"]
["NEPHELE","J-35","BOTNIA","NIELSEN"]
["TZINI","MAXI 95","GESTEN GLASFIBER","QVIBERG"]
["KALYPSO GP","KELT 8 m,","DITTRICH","HERRESHOFF"]
["ANANEE","PUMA 27","FAURBY","JAC, DE RIDDER"]
["FERMINA","FIRST 25,7","ALBIN MARINE","SCHARMER"]
["FIRST LADY","GOLFIÑO 7,25","ELVSTROEM","KERNER"]
["KAZ","FIRST 260 SPIRIT","EMKA","LESCEK GONCIARZ"]
["INO","YATLANT 26","BACHS","HAKAN SÖDERGREN"]
["PERSEAS III","X-34","G,G,BAADEVAERFT","LENNART AAHGREEN"]
["MYTHOS","FURIA 25","ONE OFF","LARSEN"]
["SVETLANA","OCEANIS 31 DK","DELPHIA YACHTS","MAGNUSSEN"]
["IRONFX","GIB SEA 302","BATSNICKARNA","BLANK"]
["Y-KNOT","TUCANA 28 SD","CATALINA YACHTS","BERET"]
["GLARONI","SWAN 42 CS","C&C","OLUF JOERGENSEN"]
["ALMIRA","DUFOUR 325 GL DK","GREG YOUNG","HARPPRECHT"]
["ARIA","BEPOX 850","BANNER BAADE","VOOGD Simonis"]
["SPIRIT OF JENNY","SUN FAST 40 DK","CONRAD (DANZIG)","V/D STADT"]
["VANDOME","SUNSHINE 36","BOO MARIN","ASMUS"]
["HANSEN","CUTLASS 27","BRITT BROTHERS","VALER"]
["FeOs","ASTRAEA 295","JW, BOOD NIJKERK","MOHNHAUPT/J+J"]
["Flux II","FIRST 42 S7","RADOS","DE RIDDER"]
["Sirena","BH 41","Topper sailboats","BERCKEMEYER"]
["TAROK VII","RANGER 32","YACHT SERVICE","ST,THOMPSON"]
["Quinta","DEHLER 42","HELMSMAN","OHLSON"]
["Stony 7","SALONA 37 LK","AAHGREEN BAATBYG","PIERRE ROLAND"]
["Bella Mente","J80","NYBOAT","W, GRACYK"]
["ALCANCE","SUN ODYSSEY 379","AD BOATS LTD","A & R"]
["ALEGATO III","SPRINT 95","ALBIN SCHWEDEN","DEHLER/V,D,STADT"]
["BANDIT","RED ADMIRAL","RIDAS,TALLIN","LUCA BRENTA"]
["BRAVISSIMO","50 ' IOR","HARPPRECHT","ANGERMARK"]
["CARITA","Elan 434 Impressio","C,NAVAL STRUCTURES","A, MIGLITSCH"]
["CURADDAU","BAVARIA 49","WINNER","BOOTSBAUTEAM SCRHE"]
["DESPACITO","X-362 S","OMEGA YACHTS","HAKAN SOEDEGREN"]
["GARUFA","FIGARO","ASMUS","LION / BOUVET"]
["HIGH NOISE","FIRST 345","BIERITZ","SUNDEN"]
["HIGH RISK","OCEANIS 405","F&F BOATS","RASSY / ENDERLEIN"]
["HMS VICTORY","JOUET 24","BENJAMINS","FELTZ"]
["KANTAKA","TONIC 23","LONGTZE YACHTS","STAHLE"]
["L'ARRABBIATA","DRAC ONE TON","MAXI","KUHN"]
["MATADOR 4","PHOENIX","OHLSON","KNUD REIMERS"]
["NEMESIS","BRENTA 24","THYSSEN NSW","S, AKERMANN"]
["PISCO SOUR","X 302","MARE S,C,","VALLICELLI ANDREA"]
["RAYO 4","DEHLER 36 JV","A & R","OSKAR TÜBBECKER"]
["SEVEN ELEVEN","PROTO 25","MAXI DOLPHIN","MARCO LOSTUZZI"]
["TABASCO","DEHLER 29","PARKER","LUTRA DESIGN GROUP"]
["TIBURON","NAJA 30","HOLLAND COMPOSITES","R, HUMPHREYS"]
["TIVOLI RELOADED","DUFOUR 425","WASA","LOSTUZZI MARCO"]
["TRAFALGAR","X 372","STAACK WERFT","JUSTIN ADRIJE"]
["LIV","SUN ODYSSEY 39 DS","FRANKLIN","JUSTIN ANDREJ"]
["MARLEX35","SUN FAST 40,3","J LEWIN","WOJCIECH SPISAK"]
["ALTAIR SEXTO","CENTURION 45 S","N,HUTTON","S, QVIBERG"]
["COTA CERO","BAVARIA 32 HOLIDAY","SC RHE","THOMAS WIEBERG"]
["SIRIUS IV","GRAND SURPRISE","LION WERFT RIGA","NELSON MAREK"]
["EUREKA II","MALBEC 360 QB","GRELL WERFT LÜBECK","NIEVELL"]
["LADRAGONA","RO 330 (SD)","BACHS BADVERFT","MAX OERTZ"]
["BM CONCISA","SUN LIGHT 31 SQ","FELTZ","HEINEMANN"]
["DESASTRE","GRAND SOLEIL 40 C","SPEEDWAVE","T, ROEPER"]
["ZALATA","NORTHWIND 35","SVENSKA FAMILIEBAT","JENSEN/SKOVENBORG"]
["TREBOL QUEEN II","CYCLADES 43,3","BACHS BAADE","G,RIBADEAU DUMAS"]
["SHAMAL","OCEANIS 40(1,90)","BECK / TUFA MARINE","ERIC NIELSSON"]
["LUNA MORA","HANSE 341 DK","S, AKERMANN","C, BOLINGER"]
["BELUGA UNO","DEHLER 38 SKB","BROEKER","J, BERET"]
["LA MARIA","DUFOUR 34 DKB","ICE YACHTS","U,DUEBBEL"]
["MAKOHE","SHE 31","LUETJE","VOELKERS"]
["PACHARAN","AQUADRAC 35","STARMARINE","RASMUSSEN"]
["GAROLA III","Dehler 39 SQ","SVP-YACHT SLO","MORGAN"]
["BLUE STAR","MUMM 30","ESTVARIO","V,D,REST"]
["TROPICANA","FURIA 382","CARBON INNOVATION","JUDEL/VROLIIJK"]
["DIESELREC","LEGEND 40,5","AST, MATCH","BEIL"]
["MOMA","ALBATRO","STRUCTURES","C, BERTRAND"]
["LIMAY","6 METRO","STORM YACHT","JACOPIN & JACOPIN"]
["PINTO TERCERO","DUFOUR 40 SK","VMG MARIN","M, JOUBERT"]
["AGUICA 2,0","Elan 34","A&R","PELLE PETERSON"]
["HAKUNA´S","J 109","TAIWAN","Mauric/Vaton"]
["BLIZZARD","FIRST 35S5 (DK)","PROTEUS YACHT","JACQUES FAUROUX"]
["VEGARES DOS","DUFOUR 412","WESTERLY","A,PRIMROSE"]
["SASAL","SUN FAST 40 (SK)","HENZE","CARVILL & HAWKINS"]
["FLOUNDER","MALBEC 290 QB","MICHELSEN","Angus Primrose"]
["GRUPO DOMINGUIS","PUMA 32","CARBO-MARE YACHTS","JAN NICOLSON"]
["BRAV PIRAT","ALTAMAR 41","JENSEN/SKOVENBORG","A, VALLICELI & C,"]
["VELAMAR XV","X 332 SPORT","MAXFUN BOATS BV","J&J/ANDRIEU"]
["HALCON MALTES","FURIA 332-J","KUNGSÖRS","Chabaud/Poncin"]
["SANTIAGO ROMA R, BAIXAS","KALIK 33","BLUBOATS","M,DUFOUR"]
["KENIA","DUFOUR 405 GL","STRICKLAND","Thorwald Karlsson"]
["ABOLO III","STARLIGHT 29","DUEBBEL+JESSE","PH, BRIAND"]
["DON VIRIATO","BAVARIA 36","MORGAN COMP,","Pelle Petterson"]
["NIGUL","SWAN 44 (S & S)","V,D,REST NAUTIC","K,ALBINSSON"]
["JANSEN","GRAND SOLEIL46 S","WALLHAUSEN","J, FAUROUX"]
["ZORRO 10","PROTOTIPO TWO TON","A+R","BERRET/ RACOUPEAU"]
["LOANCA","BALTIC 61","MELGES","ALBINSON"]
["UN MAR SIN BARRERAS","FIRST 32S5 (DK)","WHITE FORMULAR","William Garden"]
["SPA PRIMERO","PROTO IOR 1/4 TON","BERLIN/GLUECKSTADT","VALLICELLI & CO,"]
["PUERTO SHERRY II","FIRST 32S5 (BK)","ARCTIC COMPONENTS","PH,HARLE"]
["CAMARON VEINTE","GRAND SOLEIL 40 SD","HUISMAN","OHLSON EINAR"]
["GUAIRA","Dehler 35 CWS","YACHTHAFENWERFT","J  & J"]
["DEBEGUR","SUN ODYSSEY 29,2","ATLANTIC","J, EVERITT"]
["JUST4FUN","NADIR 22","JOUET","R,CARTER"]
["CALABRUIX II","FANTASIA 27 DL","J, COMPOSITE","MICHEL DUFOUR S,A,"]
["RAFAELA","SUN FAST 43","AKROPRORO","DAVID TOMAS"]
["TEMPTRESS DOS","CENTURION 37 S DK","ATLANTA MARINE","R, CARTER"]
["ANA HELENA","A-31","MIKE PARRY","SPARKMAN/STEPHENS"]
["GAUDIO","KAYTERET 770","MOODY","BREWER"]
["LEO II","FEELING 720","DROMOR YACHTS","JOUBERT"]
["RED SHARK","IMX 40","JAN NICOLSON","TED HOOD"]
["WOLFIE","DEHLER 41 CR DS","RM YACHTS","JOUBERT & NIVELT"]
["MALTA BLUE","A-35","PRO-YACHTING","T, CASTRO"]
["VERA CRUZ","WAUQUIEZ 40 PS","NAJAD YACHTS","PHILIP BRIAND"]
["CALLEJON DE LAA PARRA","SUN FAST 26","NEK DESIGN","Laurent Cordelle"]
["OTTO","X-46 DK","OLYMPIC HELLAS","Melges"]
["RESACA","RUSH 31 SK","OLYMPIC MARINE","ANGELO LAVRANOS"]
["LUDOMAQUINA","FIRST 235 (LK)","Maxi/Boerjesson","JOUBERT-NIVEL"]
["PILOLO VII","X 99","SWEDEN YACHTS","RIBADEAU DUMAS"]
["VENTUS","SUN FAST 3200 sdt","J,ROGERS","JEREMY ROGERS"]
["SVINGA 3","BAVARIA 40 CRUISER","BASHFORD HOWISON","DICK CARTER"]
["VIENTO LEVANTE","FURIA 44-J","Ta Chiao","J & J/ANDRIEU"]
["AIGAM","DUFOUR 334 TROPHY","CANADOS","DUDDLEY DIX"]
["MAYA PRIMERO","HANSE 470 E","MASTER MARINA","SGOUROPOULOS"]
["TETIS","MALBEC 360 R","ARTEKNO","PH,HARLE/FINOT"]
["MIRAVER","Tripp 33","PELLE PETTERSON AB","Jerzy Piesniewski"]
["APEX","COMFORTINA 32","Moody Yachts","FELCI / ROSEO"]
["ARGOS","SUN FAST 36 MOD","ATLANTIC MARINE","BERRET/STARCK"]
["PALACOST","SB 20","THAMES MARINE","PER BROHALL"]
["TANJAOUI","Proto Madera","RIMAR","O,ENDERLEIN"]
["JANO","NAUTATECH 32","MICHEL DUFOUR","Frans Maas"]
["NOMA","SUN ODYSSEY 37,1","MARINE PROJECTS PL","Tord Sunden"]
["CON CAALMA II","SWAN 37","HALSTEAD LTD","N, JEPESSEN"]
["MARIBEL","BAVARIA 320","Smap-Neptune S,A,","TRIANTAFILLOPOULOS"]
["SILKE","ELAN IMPRESS 374","CAPE YACHTS","DAVID THOMAS"]
["GRIFO","DUFOUR 40 DK","CANTIERE ZUANELLI","BRUCE ROBERTS"]
["CHESS","BAVARIA 36 HOLIDAY","CIMA","BERRET/NAUTA"]
["BLANC","BAVARIA 38 DK","AEGEAN MARINE","S, ROGERS"]
["ODEAMINOS","SUN FAST 36 (LK)","GILBERT MARINE","Johan Valentijn"]
["MIAJA","SUN ODYSSEY 45","OVINGTON MARINE","PRIMROSE"]
["ARNOIA","COMET 45 QB","NAUTORS","Butler/ Finch"]
["LLAMPA","PUMA 42","CONRADA STOCZNIA","GILES LAURENT"]
["BRUJO","DUFOUR 30 CLASSIC","GIBERT MARINE SA","PRIMROSE/ILLINGWOR"]
["ARGALLEIRO","J 35","KATSOULIS","A,MOHNHAUPT"]
["ITALIAN JOB IV","OCEANIS 343 CLIPP","JAVOBS BROTHERS","PETERSON/JACOPIN"]
["BONGANI","TORO 25","J BOATS EUROPE","W, Jenneskens"]
["BUENAVENTURA RACING","MINI ZERO 650","OLYMPIC YACHTS","Poncin/Chabaud"]
["ARJAU II","BAVARIA 46 CR","P,PETTERSSON","PH,BRIAND"]
["VEGA II","HALLBERG RASSY 34","PECAL","Rassy/Enderlein"]
["LIMBO II","POGO 6,50","CORFU YACHT YARD","BIGOIN"]
["NEO","FIRST 53 F5","SKIPPI YACHTS","SPARKMAN & STEVENS"]
["MESLLUNY","ENDURANCE 35","COLVIC","A,CASTRO"]
["JOYSO","RODMAN 42 MOD,","GIBSEA","J,TSIAMAS"]
["SANMER","MISTRAL 40","ALBIN","OLIVIER PETIT"]
["ALBANA 2","FURIA 44 SK A","RANGER","SADLER"]
["KOROMBO","BEPOX 700","Aloa Marine","R, MAGNUSON"]
["BELLA CREOLA","GRAND SOLEIL 43 SD","MISTRAL YACHTS","D,TORTAROLO"]
["ZANTE","BAVARIA 42 CR DK","CUSTOM MADE","R,MAGNUSON"]
["INDUS QUINTO","IMS 42","CONDOR","D,CARTER"]
["VICTORIA 07","OCEANIS 38 CR","OWNER","ROD HUMPHREYS"]
["IL DOTTORE","OPTIMA 106","YACHT SERVICES","Laurent Giles"]
["GATTACA","MALBEC 240","NEPTUNE","LUCA TADDEI"]
["NAYADE","FIRST 285","MARIEHOLM BRUK","PHILIP HARLE"]
["CORPI 2,0","SUN ODYSSEY 32 DK","JAGUAR MARINE","Kurt W, Schroter"]
["NABEL","Dufour 445 GL","BURMESTER","Rolf Magnusson"]
["CHUBASCO IV","DUFOUR 44","WESTERLY MARINE","COSSUTTI-BONIN"]
["SR SMEE","HANSE 630e","TRIDENT MARINE","PHILIP RHODES"]
["KHYRU II","J 92 S","W, Jenneskens","DICK  CARTER"]
["HABANA","SUNSHINE 38","MESCHEDE-FREIENOHL","R,MAGNUSSON"]
["EL BAHIRA","POGO 40","CNSO","EDWARD S, BREWER"]
["SHACKLETON","BAVARIA 38 CRUISER","CONSTR,NAUTIQUES","A,JEZEQUEL"]
["HATHOR","BARRACUDA 50","LASER","Butler/Finch"]
["PAGAMAR","X - 3/4 TON","SADLER YACHTS","PELE PETTERSON"]
["EFESERO","FIGARO 2","LATINI","AMEL"]
["ALAS DE ZAINOA","FIRST 47,7 (SK)","YACHTING FRANCE","TRIANTAFYLOPOULOS"]
["FITTI","GRAND SOLEIL 40 R","OY NYKRA AB","Streuer"]
["FLIP 2","FARR 42","CHANTIER BOMBAL","Lennart Sandell"]
["BATSCO","DUETTA 94","Comfortbatar","NELSON/MAREK"]
["JUKOFF","PROTOTIPO","ELAN LINE","PIER P, ROLLAND"]
["ILUSION IV","SUN FAST 32 I","SERENO BONIN & C,","HARLE/FINOT"]
["TAINAIS","VISIERS 35","DE VISSER","UNKNOWN"]
["ATRIA","FIRST 42 S7 (DK)","INERGA SPAIN","J,EVERITT"]
["ICUE","SUPER DAIMIO 28","SUNBIRD","VAN DE STAD"]
["NADIR X","HANSE 301","TELIGA YACHTS","Poncin/Berret"]
["ATLANTE TERCERO","AZUREE 33","AMEL","M,JOUBERT"]
["COKETO","DEHLER 38 (SK)","Genzel","GIORGETTI/MAGRINI"]
["MAFALDA","MISTRESS 32 HR","VINDO SWEDEN AB","TRIANTAFILOPOULOS"]
["KALIMA V","SYDNEY 40","MICHEL DUFOUR S,A,","OCEAN YACHTS"]
["MEDITERRANEO","PROTO 40","TEAM COTE D' ARMOR","JAUDENES-THEYS"]
["COURANT D'AIR","DEHLER 44 SQ","UNKNOWN","MORTAIN/MAVRIKIOS"]
["ORION UNO","DEHLER 41 Q,B,","SONATA YACHTS","J&J/Poncin"]
["ARAOK","GRAND SOLEIL 50 DK","RICHARD FAULKNER","Philippe Harle"]
["MON DE L'ONA II","BALTIC 42 DP","Hallberg-Rassy","Kurt  Schroter"]
["SMEIS","SUN ODYSSEY 32,IDK","YACHTIING FRANCE","C, J, S, Roy"]
["ZIRALLA PRIMERO","FRERS 45","NORTH WIND(SPAIN)","MACGREGOR"]
["IMAR 6","HANSE 400","HOME-MADE","Gerry Douglas"]
["TORPEDO JAMONERO","OCEANIS 40 (1,90)","SJOFARTVERKET","Martinoli"]
["TANILAI","FIRST 35 QB","CORAL BOATS","X-Yachts"]
["AUDI","QUARTER TONER","Macwester Marine","St, Thompson"]
["TIKISMIKIS","MARGUTTE 30","MACGREGOR YACHTS","Jim Donovan"]
["OLIMPIA","EQUIPE 33","Martinoli","Brian Bennett"]
["ALBANA","TRIANA 26","WRace Boats","Paolo Cori"]
["MANDROS DOS","SALONA 37 DK","Roger Martin","Olin Stephens"]
["AURI","FALCON 9","Gemini Intenration","G, L Watson"]
["ISURUS","SUN ODYSSEY 39i DK","Cobramarine","W, Hacht"]
["BELESALA","SOLARIS 36 OD","Balatonfüred SY","Jenő Benacsek"]
["BLUE OYSTER","DUFOUR 41 CL","W, Hacht","Boerresen"]
["ALBANNA","FIRST 38S5 (BK)","Boerresen","Judel/Wrolijk"]
["CARRION OF WIGHT","COMET 45 S","Sweden","Luhrs Marine"]
["TESEO","CARTER 42","Style Yacht","Primorose"]
["TRICK","WPS 40","SD Marine","Finot & Cona"]
["XEIC","HANSE 370 DK","Benetteau","Lostuzzi Maurizo"]
["FLAMENCO","NORTHWIND 47","Varianta","Sergio Lupoli"]
["SUKITA","X-362 SPORT","VIKO Yachts","Jeppsen"]
["GALACTICA","GRAND SOLEIL 42R05","Robertson","Joubert / Nivelt"]
["AGUIEIRA I","KER 60","Abobavtart","Etchells"]
["VIEJO LOBO","FANTASIA 27","OLYMPIC","Mohnhaupt"]
["CAÑAS II","FIRST 310","SANGERMANI","Rob Humphrey"]
["CHAPUNGU","X-382","ERYD YACHTS","Brit Chance"]
["AERIS","DEHLER 39 CWS","D'ESTE","Gary Hoyt"]
["TETE","CIRRUS 3/4","MARIVER","Jodel Vrolik"]
["PAULA","J-122","ALPA","Lidgard"]
["AJU III","SUN FAST 36 (IK)","DE CESARI","BERNARD NIVELT"]
["PEQUOD II","JV 49","CRAGLIETTO","LOSTUZZI"]
["CARONT","SUN ODYSSEY 45 DS","C,N,PONCIN FRANCIA","SANGERMANI CESARE"]
["SUROT","X 332","LAV,COMP,AVANZATI","ROSSI EMANUELE"]
["COKETO 2","X 442","MYLIUS","LUPOLI"]
["MIRALEJOS","X-46 SD","PLASTIVELA","SCIOMACHEN"]
["CORSARIO VI","DEHLER 37 CWS","RIMINI SAIL","JEZEQUEL"]
["ADAGI 3108","FURIA 37 J","YACHTING DEV, NZ","VALLICELLI & C,"]
["FENICIA II","Zero 6,50","A+F+1","SCIARRELLI"]
["PETRILLA","HANSE 540 E","X YACHT","MORTAIN-MAVRIKIOS"]
["JUANCAMARIA 3","RHODES RELIANT 40","GENESI","SIMEONE"]
["TARTERITA","POGO 12,50","J BOAT AZIMUT","ZANGRANDI"]
["BEVELLE","FORTUNA 12","J-BOATS ITALIA","BRENTA-PERIOTTO"]
["ODISEA TRES","COBO 40","G, SOLEIL","BRENTA"]
["27 DE DICIEMBRE","PROTOTIPO 1/2 TON","CADEI","PENSO & VISMARA"]
["TREBOLISIMO","Pogo 850","YACHTZENTRUM","BOTIN & PARTNERS"]
["MACHAQUITO UNO","J 97 E","BELARDI & C,","CECCARELLI YD"]
["VAGALUME","MUM 30","EXSOL","DUFOUR-CORDELLE"]
["BONA VENTURA","SWAN 56","ETAP","FONT-MALETT-NAVONE"]
["BALDUFA TRES","BELLIURE 40","PATUCELLI","ILLINGWORT"]
["NIHAL","X-562","BRITISH AEROSPACE","MURRAY IAN"]
["FETCH","DUFOUR 40 KB","LASERPERFORMANCE","FREER"]
["LA ESCANDALOSA","OLSON 30 O,D,(MOD)","UFO BOAT","BERTORELLO"]
["GAMEZ PINAZO","BAVARIA 38 SK","ROYAL HUISMAN","MORTAIN- MAVRIKIOS"]
["FALBALA","PROTOTIPO IMS 45","STAM COST,NAUTICHE","ANTONIO RAIMONDO"]
["ESCERT","FORMULA ONE","INTERCARENE","PETERSON-FINOT"]
["TITICACA","YATLANT 28","J BOAT","JOHNSTONE A,"]
["YOUKOUNKOUN","FIRST 50 SK","ALB SAIL","TADDEI"]
["FUERZA 4","SENSE 55","OXINGTON MARINE","STARKEL"]
["ANGIE CMA","GRAND SOLEIL 44 R","B,N,STELLA POLARE","ZAAL DICK"]
["AIGUABLAVA","NORAY 38","CONYPLEX","CANTIERE MARLIN"]
["BOLERO UNO","SUN ODYSSEY 44 i","DULLIA","SIMEONE ALBERTO"]
["LA INCREIBLE","SUN ODYSSEY 57","C,N,S,O,","FAGGIONI"]
["AL TARIK IV","DUFOUR 36 CL","LE PETIT BAT,","BAVARIA YACHTBAV"]
["RED DEVIL","SUN ODYSSEY 51","CANTIERE MARLIN","GILES"]
["RO YACHTS CLUB","ELAN 43","SIPLA","HARLE'-MORTAIN"]
["KIKI WIKI","FIRST 40 SD","NAUTICALODI","PIESNIEWSKI J,"]
["ROCH","NAUTATEC 42","COOP NAUTICA","VIOLATI"]
["QUEN VAI","HALF 82","MARINE COMPOSITES","FELCI-ROSEO"]
["DES-AHOGO","X 1 TON MK II","STAR MARINA","ANDREJ SKRZAT"]
["TRAVESIO","FURIA 382 MOD,","MULTIMARE","LOMBARDI"]
["SQUID","FIRST 34,7 SD","VAN DE SCADE SHEEP","ABRAMI"]
["SAILWAY CUATRO","SWAN 50 CS","SEAMANSHIP T,CRAFT","E,W, ETCHELLS"]
["SEBRALA 2","BALTIC 37","DALO'","J &J DESIGN"]
["PAMPEON","CONTENTION 33","KIRIE'","FRERS-PELASCHIER"]
["ORAL GROUP","BAVARIA 40","NAUTI","GILES LEXCEN"]
["LA BURLA NEGRA","OCEANIS 323","WWW,NAUTI,PL","SQUARCI"]
["VAUS","NORTH WIND 38","C, NAUTICO 71","PERACCA"]
["BELICH","BALTIC 56","CANTIRE CN71","EDEL"]
["SMAKU","SUN ODYSSEY 30 i","S,P,E,","FELTES ALBERT J,"]
["AIRON","FURIA 392","CROCODILE BOATS","ADRIEU"]
["PIKO NORTE","ETAP 26","NOVA SAILBOATS","Jan Linge"]
["NOTOS","VIVA 48","MINNEFORD","INZERILL/ALBEGGIAN"]
["BLADE","GRAND SOLEIL 44","CHARLIE PAPA","STUDIO FELCI"]
["MIRIAPODO","TOM 28","TANGO YACHTS","DIETER BLANK"]
["MARAL IV","FIRST 305","BETA SAIL","QUARANTA E,M,"]
["TAKAROA 2","Sydney 43 GTS","OCEANICA","VALLICELLI"]
["CUATRO VIENTOS","CLASSIC 38","LOMBARDI","FINOT/FAUROUX"]
["DON PANSA","BETIL 34","J BOAT EUROPA","FONTANA MALETTO"]
["S'INDIO III","FARR 395","ELANMARINE","CECCARELLI G,"]
["WHITE SPIRIT II","SINERGIA 40 MOD,","PEROTTO","HB & D"]
["SOMNI","Dufour 44 Race","G,R,P,","FONTANA-MALETTO-NA"]
["KAYUS","SUN ODYSSEY 40 DS","TEKNOCANTIERI","SIVIERO ENZO"]
["INFINITO","SUN ODYSSEY 26","NAUTICALUINO","MAKESAILS"]
["BLUE FLAG","XP-50","BRAZZONI","FELCI YACHT DESIGN"]
["MY LADY","HANSE 400 E","CPR","SANNA/NOVELLA"]
["NUT 1","ESPADA 34","ALTURA","MAROLLI"]
["BALANGUERA","HANSE 461 DK","MELGES RACING","BRENTA L,"]
["MANINA","SWAN 75","CORRIAS","THOMSON"]
["ANA-EMA","Dehler 31","Abbott","LEXCEN"]
["DEEP BLUE","POGO 30","GIBERT MARINE S,A,","STEFINI/MIGLIARI"]
["VENTO MAREIRO","NORTHWIND 55","DEVOTI SAILING LTD","DAMONTE"]
["DILIGENTE","OCEANIS 60","WHITE FORMULA (GB)","PUSTERLA LUCA"]
["CONSTANTE","PROTO IOR 1/2 TON","BLUE WAVE","NORDCANTIERI"]
["PENIZAS","MEAN MARINE 32","BARUFFALDI","RENAI"]
["COMBARRO","DUFOUR 46O GL","MULTIDEA","EUROVELA"]
["BELUSO","GOLDEN SHAMROCK","RIDAS JAHT ESTONIA","MALETTO-NAVONE-ST,"]
["PALLIETER V","JENNEAU RUSH 31 SK","VELIERI DA CORSA","ALBERIGI"]
["NEREIDA II","SWAN 80 (99)","2 EMME MARINE","R/P"]
["MARENGO","FIRST 38 S5","2M MARINE","BECK U SONHE"]
["TORTOOGA","FINNGULF 31","SIBMA NAVALE ITALI","STARKEL/VISMARA"]
["BELYMAR II","HANSE 331","AD BOATS-CROAZIA","JPK DESIGN"]
["CONSTANCIA II","NORTH WIND 40","C,P,R,","BAFFIGO"]
["ESTRELLA","A 40 RC","BLUE PHOENIX YACHT","JUDEL/VROLIJK & CO"]
["BLUE LIZARD","JV 44","DEVOTI","ANKER"]
["MARINA GREENWICH","Puma 29 J","SOLARIS TACHT","NOSTRINI"]
["ELAMAR","VOYAGE 12,50","LO PRESTI","PETERSON-JAKOPIN"]
["ITACA","SUN ODYSSEY 37,2","EUROSEBINA","JUDEL-VROLIK"]
["X TUTATIS","PICCO 38' C/R","TAPETTO VENEZIA","LUIGI CONSOLI"]
["QUIRON","GRAND SOLEIL 463SK","NEGRI NAUTICA","MURRAY"]
["MABORAN","SIROCCO MK II","MASSIMO BERT MAURI","CECCARELLI YACHT D"]
["KUSKUS","NY 30 AURIQUE","EUREKA","ANTRIM/CANEPA"]
["TORBELLINO SARA","FIRST 41S5","MAKESAILS BETTIGA","GROUPE PINOT"]
["LIMITLESS MARINE DESIGN","GRAND SOLEIL 58","POLARIS","FONTANA/MALETTO"]
["ISFAGEL","PRIMA 38","PROTEUS","MAURIC"]
["MARATHON DOS","DOMINANT 95","UFO BOAT SRL","KOUYOUUMDJIAN"]
["PECATA MINUTA","ATLAS 1000","COMET","PALMIERI"]
["ESTUPENDU III","sun odyssey 34,2","MC TEC","BRENTA-PIEROTTO"]
["BLUE CHARLY","DUFOUR 40E","FORA MARINE","RIBADEAU-DUMAS"]
["PLUMA HIERRO","COMET 33","TRANSMED","SVARA - MARCHESAN"]
["TABOGA CUATRO","GRAND SOLEIL 40 DK","CORK YACHTS","MAAS"]
["ANDREA","ARPEGE","M,VELA","SCIARELLI"]
["RIGEL","FIRST 405 SK","PEZZINI","CORI"]
["CREMISE","J  97","MADER","PAUL HANDLEY"]
["MARINA VIII","FARR 39","MARCHI","BIGOIN & DUVERGIE"]
["SIRIUS VI","RUSH GTE (Iron)","C,NAUTIC,ARTIGIANO","ROLAND"]
["LAZY DOG","ILC 30","CANARD YACHTS","DIXON"]
["WAIKIKI 3","DEHLER 44","C,NAVALE PESARO","LUCA BRENTA & CO,"]
["78 DE MAYO","FIRST 40,7 SD","VELMARE","PHELIPON"]
["TAGOMAGO 3","SHIPMAN 50","BONIN","PASETTI"]
["CHRONO","COOKSON 50 mod","C,N,DE CESARI","SKYRON"]
["LOANT","X-41 mod","EUREKA YACHTS","GIORGIO GRASSI"]
["PAJUELIN XIII BENIDORM","First 50 (SK)","CANTIERI DEL GARDA","JUDEL / VROELIJK"]
["CHISPETREN","T-34","IN PROPRIO","MARKO PAS"]
["STRATEGOS","NM38S","MARENA","JHONSTONE"]
["PUERTO SHERRY-AGERUL","ARCONA 340","CN D'ESTE","INZERILLO-ALBEGGIA"]
["OLALOLA","Salona 38 ibc","ABBOT","VISMARA MARINE"]
["LOULOU","X-35 mod","GALETTI","COSSUTTI Y,D,"]
["EOWIN 2","Finn Express 83","ZUANELLI","BOTIN&CARKEEK"]
["ADMIRABLE","First 36,7 mod","STUDIO ALTURA","AKIRA YOKOYAMA"]
["MYC-ONE","S&S 6,6","STARBOAT DESIGN","J,YOUNG"]
["SALEROSO 2,0","MP 34","NORDCANTIERI","O,TAKAI"]
["DIJOR","Y40","C,B,S,","Yokoyama/Kanai"]
["FAST SPIRIT","Finngulf 41","BEETEAU","YAMAHA"]
["BRUIX","Finnflyer 36 1,85","GALLINARI (ANZIO)","M MUIR"]
["DEIXANT","IMX-38","ALB-SAIL","I,yokoyama/kanai"]
["AMADIS","Mannerberg 31","COMPOSITE MARINE","I YOKOYAMA"]
["KROMI","Finngulf 37","JOUET-GOLIF","I,YOKOYAMA"]
["BUSCARI","SWAN 45 OD","CLASS YACHT","R,JOHNSTONE"]
["FIRME","FinnFlyer 31","STAR MARINE H,T,","JOUBER/NIVET"]
["CALA BLANCA U","Sinergia 40","CRAMAR","FARR DESIGN  209"]
["SIRPI","Finngulf 335","COBRA YACHTS","IAM & ASSOC,"]
["RUAJ","Fury 33","CAPECCI","MIKE MUIR"]
["ADDIS","Farr 40 ONE-DESIGN","MACIANTI","JJ design"]
["LIBERTY","Azuree 41","SILTALA","Norlin / Ostmann"]
["ZARZUELA","First 40 CR","MESCAL","CATALINA"]
["FORMIDABLE","Finngulf 331","ADVANCED I, YACHTS","Jeppessen"]
["BARBABLU","Bavaria 35 M MKII","REICHENAU","Jussi Manerberg"]
["RAFAGAS II","First 41 s 5","STELLA POLARE","A,Arminskij"]
["COCOLISO","OCEANIS 423 DK","ADRIA SAIL","UAB Plastolitas"]
["BLAUMARINA I","FIRST 30 Q Ir","SOBUSIAK Y,Y,","St, Thomas"]
["YABADABA","SUN FAST 3600 Al","DECESARI","Amon"]
["MANUELA II","FIRST 310 DK \"S\"","YACHTS 2000","Berret & Racoupeau"]
["XALEST","A-31Bulb Keel","DUE EMME MARINE","Farr Yachts"]
["NOTENOM","FIRST 36,7 Le","CRAKBOAT","Swarbrick"]
["TATAN","SUN ODYSSEY 40 DK","CANTIERI D'ESTE","Simonis - Voogd"]
["GALVESTOWN","A-35 R","C & B NAUTICA","A Lavranos"]
["ATILA UNO","DUF 36 Perf Sym","MORRI E PARA","Henderson"]
["ARCO IRIS","JPK 960 Sym","FIBAGO","Sparkman%Stephens"]
["SNOOKER UNO","JOD 35","OVINTON  MARINE","Nissen Design"]
["GATTO BOTTIGLIA","DUF 405 GL DK","RINALDI","Rogers-Jennings"]
["LULA","X-34 Sdt","SOLARIS YACHT","Andrew STEWART"]
["ANTAVIANA III","DUF 34E DK Ir Tall","PAGHERA CANTIERI","S, Jones"]
["GRUMETE","J-111 OD","LUIGI CONSOLI","D,Koopmans"]
["POTOL 2","PROTO  Cl2","BASHFORD INTERNAT,","Jac de Ridder"]
["VOLAVERUNT","BAV-35 Match Q MK2","RIMAR YACHT","Lutra Lutra"]
["WINDFANG","ELAN 333 DK Lead","ADRIA SAILS","A, Buchanan"]
["BOSS","DUF 36 Perf","CRACKBOAT","P,Brohal"]
["FILU","MC CLIPPER","C,B,Z,","C & C"]
["PEPINO FLOC","X-37 Sdt","BERT MAURI","Akkerman & Kremer"]
["VENTO SUR","A-40 Mod","C,N,G, DI A,CANESI","D KOOPMANS"]
["NORTH FACE","DELPH 28 7/8","SE,RI,GI","E,G, v,d, Stadt"]
["ROPIT IV","DUF 34E DK Ir Std","PROTO","E,G,v/d Stadt"]
["PAPAGENO","FIRST 310 DK","LION YACHTS SIA","Kremer"]
["SALAO DOS","X-332 DK","SLY YACHT","E G vd Stadt"]
["IREMAR TERCERA","PROTO 1/2 TON 1983","SE,RI,GI,AQUILEIA","S M VAN DER MEER"]
["ENERI","FIRST 40,7 Ra DK","JANNEAU","v,d,Stadt & Prtnrs"]
["NOCTILUCA","NICHOLSON 33","MARCHESAN","F,Maas"]
["DESPELOTE","DUFOUR 44 Perf","SCHIAVON","Dick Zaal"]
["PETRUS-K","BONGO 9,60","COBRA MARINE","v/d Stadt & Prtnrs"]
["KAIROS III","J-130 (SK)","RONDAR (UK)","S,Jones"]
["GENIO","FIRST 40,7 Dist DK","C, DEL PARDO","v,d,Stadt"]
["TENTOL","SUN LIGHT 31 GTE","CARBON LAB","Ph Harle"]
["PRAMNOS","BULLIT","MOODY YACHT","F&J"]
["FEHURIHI","J-97 Alu","F,LLI GRIGGIO","LINQUIST"]
["ALLEGRO VIVACE","AQUILA (DK)","CROSATO","Per Brohäll"]
["JANUARY SAILS","J-105","TECNOSTAMPI","-"]
["SAMAR II","X-442","MARINE SERVICES","P Norlin"]
["VIKINGO","DJANGO 770 TK","FK BOATS","R,Ball"]
["TRONQUIN","X 3/4 TON Mod","CANTIERI MOSTES","J de Ridder"]
["SHAZAM","ONE OFF B13-50","MISTRAL COMPOSITE","A BORGHEGN"]
["NUR","PROTO 3/4 TON Mod","CN YACHTS 2000 SRL","v/d Stadt/Arends"]
["AXONE","FIRST 30 (2010) DK","GU SERVICE SRL","W,J,A,Valen"]
["SKIPPER SAIING CLUB","A-40 Extended Keel","GILARDONI","Steve Thompson"]
["PARIPE DOS","FIRST 42S7 Race","STAR MARINE","Bell L,"]
["URKESKEN","PROJECTION 762","ITALIA YACHTING","K,Kremer"]
["COLIBRI I","APHRODITE 101","UGGE'","A Mauric"]
["MAIBE","RUSH Royale Tdf Mo","RPD OCEANICA","K Kremer"]
["SOULEIAS","J-120 Alu","OL","J,Kjaerulff"]
["DOSPERU II","CARTER 3/4 TON","PAM LUBIANA","F, Maas"]
["MISTER J","J-92 Asym  S/D (3)","ACOM  s,r,l,","v,d,Stadt&Prtnrs"]
["RETI","J-92 S","LILLIA","Stadt"]
["CALAMA","FARR 727","SCHUCHTER SPORTBOO","JUSSI MANNERBERG"]
["ETREUS II","RANDONNEUR 9,50 BQ","AMBROSI","vd Stadt"]
["VARANO DEL DESIERTO","INM 40","VISMARA","J, Faroux"]
["SARANTIN II","CORK 1720","STARMARINE MUGGIA","Bruun"]
["SND CORMORAN","FIRST 36,7 Racing","C,ALTO ADRIATICO","D, Koopmans"]
["ISLA TORTUGA UNO","JPK 960 Asym","NEO YACHT'S & COMP","J, Murray"]
["ALOPEX III","POGO 30 (LK) Carb","MAT SAILING YACHT","L,Angermark"]
["TREN EXPRESSO II","DEHLER 29 SK Cruis","NEW JAPAN YACHT CO","M, Mills"]
["EL TRAVIESO","ELAN 350 DK","ITO BOAT YARD","Poncin"]
["CHAWA","SALONA 45 Standard","YACHTING DEVELOP","R Johnstone"]
["BANATICA","DUF 34 DK Le Tall","Najad","Felici yachts"]
["TOURANE","J-97 Carb Mast","HUNTERMARINE","A,C, Konijnendijk"]
["ELS MENUTS","FIRST 40 DK Rac Ca","TSUBOI","K, van de Stadt"]
["VERTIGO DOS","SUN FAST 3200 R2","IAN FRANKLIN","Simones Voogd"]
["TOSCA PRIMERO","FIRST 33,7 DK Ir","Tsuboi Yacht","Massimo Paperini"]
["NAROE","X-40 Sport Carbon","BALTIC YACHT","Bosgraaf"]
["MAGICA","ELAN 410 DK","YAMAHA","Dehler"]
["GRISOL","IMX 38 DK","M MUIR","C, de Ridder"]
["BUZZ LIGHT YEAR","X-362 SPORT DK","HAKES","Robert Weguilin"]
["PATAPALO III","SEASCAPE 18 LK","NEW JAPAN YACHT","Simones-Voogd"]
["SWANY","FIRST 31,7 DK","T,P,I,","Judel &Vrolijk"]
["ZIVING","X-43 Std  (2,20m)","BASHFORD INTERN","Farr Design"]
["NUBA II","BAVARIA 32 DK CR","WINAVE","E,G, vd Stadt"]
["BEAGLE","SUN ODYSSEY 52,2XR","KINGS MARINE","H,F,v,d,Rest"]
["CLAJASAN","FARR 10,20","A,D,Boats","Rene vd Velden"]
["CAMBRIA","YOUNG ROCKET 31","Albin Marine/Shipm","Satelitte"]
["AGUAMARINA","SHAW 35","X Jachts","K, Kremer"]
["DAROAN","X-302 DK MK2","CATALINA","Simonis&Voogd"]
["TREBOLISIMO DOS","SUPER CALIN 750 Mo","st,yachtova,Gdansk","E, du Bois"]
["EUROYPA","ELAN 340 Sdt","Veleiro OY","U, Felci"]
["SELVY IV","MAT 1010 (N°001)","A - Yachts","Akkerman/Kremer"]
["GROP III","X-37 Sport","UAB Plastolitas","E+R Ginter"]
["BIG SUR PRIMERO","JPK 960","Tallin","Dijkstra"]
["PORT BO I","DUFOUR 45 Gte Perf","Amon","Van de Stad design"]
["ARELI","SHAMROCK MK2 mod","Beneteau S A","Sparkman& Stephens"]
["SEDIENTO","SPACE 30","Swarbrick","Soethoudt"]
["FELIPEVA IV","MUMM 36 Mod","Far East Boats","MPYD"]
["ALHENA GG","JOD  35","John Robertson","vd Stadt &Prtnrs"]
["SWAHILI","FARR 31","Archamblaut","Jean Marie Finot"]
["NO NAME","SURPRISE MK2","Contest","A, Peltzer"]
["DRAC BLAU III","DUF 34 P DK Sdt","P,CUESTA","Cussutti Maurizio"]
["PANXUT","APHRODITE 101 Mod","Paul Jennings","Johnson"]
["XEIRA","MISTRAL 750 Sym","Zygal Boats","Umberto Felcie"]
["X-KAYA","PROTOTYPE","Vervale LTD","v/d Stadt Design"]
["PESTAÑEO","SUN FAST 32 DK","T,P,Y,","v/d Waal"]
["ALENAR","PROTO MINI TON 82","Jeanneau France","Peter Morlin"]
["TRUE LOVE DOS","SPRINT 108 Mod","Jachtw, Huisman","Simon Voogd"]
["MILLE","ELLIOT 10,5","Kesteloo","Judel /  Vrolijk"]
["XIC","IMPENSABLE","ISSO","TORVALD KARLSSON"]
["X MERIT","GIB SEA 90 Plus","Jachtwerf van Dam","Jaques Fauroux"]
["COYANZA","YOUNG 11 Mod","'t Waar","Tony Dixon"]
["LAGUN","J-109 DK","--","Olofsson"]
["FOSC","STANDFAST 37/TINA","DAMSTRA/BEIMA","N, Jeppersen"]
["CALM DAYS","ELLIOTT 8,7","Mauree Haut","D Zaal"]
["RONDALLA III","X-102","Bouwhuis","DE RIDDER/KOOPMANS"]
["ZOOM 360","DEHLER 33 Classic","Perf, Sail Craft","D, Hennevanger"]
["MEIGAS FORA III","FIRST 28 DK","JW Huisman","Judel/Vrolijck"]
["OJO PIOJO","FIRST 35 DK (Rod)","ALUBOOT, HINDELOOP","J Berret"]
["MOANA","FIRST 34,7 DK","v/d Stadt","Judel/Vroljik"]
["WAZABI","FIRST 40,7 SK Mod","Offshor Y,","Peter Bosgraaf"]
["KAI","A-31 Bulb Keel 2r","-","W van Hacht"]
["NAUTA","Xp-33 SK Cruis","POLYMARIN","Young Yachtdesign"]
["GRANELL","JPK 960 Sym & Asym","Jachtw, M'harnis","JORMA NYMAN"]
["MALVADO","SUN FAST 3600 CaR2","Dehler B,B,","R, Magnusson"]
["MARINA SEIS","ONE-OFF 9M","Jachtwerf F,Maas","Phillipe Briand"]
["NIRVANA TRES","A-40 (Int Ballast)","R, de Koning","H,Langenberg"]
["UXAMA","X-382 Mk1","Nordsoe Vaert","Elvstrom"]
["AZAHAR","Gd SOLEIL 39 STD","South Hants Marine","Maarten Voogd"]
["COOL WAVE",747,"Meijer Balk","C, van Tongeren"]
["L' ILLA","SUN FAST 32 DK (3)","Meyer Balk","Koopmans"]
["AMOR FATI","SYMPHONIE DK","Hunterboats Ltd,","Bruce King"]
["LIBERTYENLAMAR","RUSH Gte","Hoffman","Jeppersen"]
["TANIT III-MEDILEVEL","HANSE 370 DK Lead","BEPS LTD QUAY WORK","Judel Vrolijk & Co"]
["NEW SISTERS","FIRST CLASS 10 Mod","Albin Marin","N, Jespessen"]
["SABARA","KAOBA 31","van Heygen","Nilssen"]
["GAÑAFOTE","BAV-42 Mat DK","Marine Pr,","Simonis en Voogd"]
["MARGARITAESTALINDALAMAR","DUF 40 P DK Sdt","Tillotsen-Pearson","Ron Johnson"]
["KIM","JPK 960 Ca Sym","Southcoast Boatyar","Berint Lindquist"]
["PIONENE","JPK 10,10 Ca","HOLLAND YACHTING","Ridder J, de"]
["ALEPH III","SPRINT 95 9/10","Banner Bade","Mr, Jonhstone"]
["HILBO","Sigma 33 OOD","Vels","Meer v/d"]
["ALWAYS","AQUILA Regate","Westerley Yachts","KROES"]
["SANTALIA","DUF 40 P DK Tall","v,Heygen","T DIJKSTRA"]
["KIMERA III","HANSE 401","Aluboot","--"]
["BAFFI","JPK 10,80","Le Comte","D,Koopmans Sr,"]
["ALVA","Grand Soleil 40 SK","Royal Huisman SY","VALK"]
["XEKMATT","ELAN 37 GTE","Friendship","E, de Wit"]
["KALAMANDURRIO","FIRST 40 SK Rac Al","FF Boats","Johnston"]
["SCORPIO","MARIEHOLM 26","Waarschip","Mortain&Mavrkios"]
["EGOA IV","BAV-38 Match DK Ca","Seaquest","Jonhstone"]
["MOKINGBIRD","ELAN 350 SK","Oyster Mar,","Beeldsnijder"]
["AZUER IV","ACTUAL 46 Bulb","Dick Rus Yachting","Borje Nilsson"]
["BRIO PRIMERO","SUN FAST 32 DK MOD","J_boats","Niels Jeppessen"]
["THYRA","JPK 10,10 Ca 2r","Granada Yachts","Georg Nissen"]
["HISTOLAB","SPRINT 98","F, Maas","Hennevanger"]
["O RIAS","ELAN 340 Racing","Waarschip BV","D, Zaal"]
["JUGUESCA","SUN FAST 40 Perf","K, Bood","Kees v/d Stadt"]
["INDIGO","J-109 (DK)","PROMOCAP","Niels  Jeppesen"]
["SIRIMIRI","PROTO 850","D, Rus","Massimo Peperini"]
["CMR","MELGES 32 OD","Flipper Scow","R, Hymphrie"]
["MANGUICU SEGUNDO","DJANGO 6,70","Comfort","H, Sodergren"]
["SA MENUDA","FIGARO BENETEAU","Beneteau France","M Joubert"]
["X-GROG","FEELING 850 Spec","Breehorn bv","JOHN CORBY"]
["SAONA","SELECTION","Rus Yachting","John Johnstone"]
["L'OREIG","JOD 35 MOD","Bashford boats pty","Vermeulen"]
["JOT","LCC 40","H,J, Bouma","Jac,de Ridder"]
["FERRER Y GARCIA","J-92 Asym  S/D","Wasa Marin","J, Johnstone"]
["TIMOTEO","BONGO 870","Comfortina","Mortain&Mavrikios"]
["AMADORIN I","POGO 40 Custom","Elan Marine D,O,O,","D Peterson"]
["MAREMOTO","DUF 34 DK Le Sdt","Halberg","Davis Tommes"]
["SALITRE","SUSPENS Q Mod","'t Herent marineBV","Kirie"]
["MIMAWY","FIRST 325 GTE","Schaap Shipcare","H,Jeppesen"]
["HUBARA","PROTO 1/4 TON 1981","Cant, Del Pardo","Arthur Peltzer"]
["ROGUE WAVE","DUF 40E DK Ir","Mareus Marine","D,Koopmans Jr"]
["JAY WALKER","FIRST 44,7 Racing","Parnu Yachts","Horst Glacer"]
["TUVVIK XX","J-120 Carbon","Kyrie","E,Dubois"]
["BRISOTE DOS","CARTER 34 Ragtime","Modus Marine","Joubert/Nievelt"]
["AQUILON","VISMARA 40","Steve Etherigde","Peltzer Design"]
["BRISA","J-122 Cruising","MaxFun Boats","Satellite Yacht De"]
["FAST FELSON","BAV-35 Match Gte","J, Boats","Steven & Jones"]
["ALVEDRO II","FIRST 29 SQ","Seastyle Shipyards","L, Hoogmoed"]
["BOLERO III","A 31","Kalik Yachting","K, de Ridder"]
["AMARENA II","ELAN 40 Q","Jachtw, F,Maas","L, Giles"]
["AZUL","MOSQUITO 85","Waarschip/Bos","R Humphreys"]
["ATRAPAVENTS","SOLARIS 47","Nautiner Yachts","vd Stadt Design"]
["BARAKA MAR","HIGH TENSION 36","KM Makkum","G,W,Mull"]
["MANDANGA II","CINETIQUE 36 mod","Soethoudt","M,H, Bart"]
["VIRYI","MAELAN 36","ARGO","v,d,Stadt/Bood JB"]
["MARY","SPRINT 98 Mod","Seaguest Yachts","N, Jeppessen"]
["MAVERTA","PROTO 1/2 TON 1981","Agoni","Stefan Quiberg"]
["BAMBAN","FIRST 36,7  GTE","Comar Italie","Albinsson/Ståhle"]
["CARICIAS","PROTO 1/2 TON 1980","N,C, Delfzijl","Finot - Conq"]
["BERINGUINYS","FIRST 29 DK","Cantiere de Pardo","Umberto Felici"]
["JABATO","SUN FAST 32 Mod","Waterhorst","Dick Koopmans"]
["LO CHIVAU","MYLIUS 50'","KD Polyesterbouw","Nils Jeppesen"]
["GIDA III","A-31 IRC Keel","Lewin B,V,","Philipe Briand"]
["ESTEPONA,COM","RUBIN 41","v/d Waal","Berret Racoupeau"]
["BARBA FEITA","Winner 900","beaufort","SKRZAT ANDREJ"]
["DANAR TERCERO","X-332 DK (3)","Najad Zweden","Elvström/Kjärulff"]
["TANIT IV - MEDILEVEL","SWAN 601","K & S Polyboat","Leif Ängermark"]
["GUAGUANCO II","FEELING 850 Specia","Waarschip Werf","Peter Bruun"]
["CASTROSUA","YOUNG 11M","Dehler 41","Jack de Ridder"]
["VIVIAN","JAVELIN 30","Copland Boats","Oluf Jørgensen"]
["ES PINYOL PRIMER","J-105 DK","Halmatic Ltd,","Kenneth Albinsson"]
["XALOC","PROTO 1/4 TON 1976","Scanmar","Jaudenes/Theys"]
["ARQUIMEDES","X-3/4 TON MK II","Wauguiez","Jens Østman"]
["EL JALEO","GIB'SEA 90 Ir M/Hd","BIANCA YACHT","Jan H Linge"]
["DELFYNA","MARTEN 49 3,64","MEIJER","Bjørn Bakke"]
["ALBEBARAN","Norlin 37 A (SD)","Saffier Yachts","Newman"]
["CARTUJANO","DEHLER 29 DK","Zaadnoordijk","Judel -Vrolijk"]
["CACHIVACHE","8 Mètres JI","W von Hacht","Finn Möller"]
["EMV XIV","SUN FAST 3600 Ca","Topper UK","J & J Deign"]
["FILIGRANA","PROTO IOR 1Ton mod","PJ","Marc  Lombard"]
["TALES","J-112E","JONMERI","PAPERINI MASSIMO"]
["ZEPPELIN","PROTO IOR 3/4 T","GILLIES","Botin&Careek"]
["COLEGIO LOPE DE VEGA","J-80 OD","v,d,Brink & zns","Umberto  Felci"]
["YESS","Seascape 24","Börjesson Brothers","H, Aaslestad"]
["DAX","Seascape 18","de Gooijer","Mats Gustavsson"]
["PURPLE HOTEL-CNSA","J 97","Frank Darnet","Samdal"]
["LANCELOT","Sonar","v,d,Stadt","Friedrich Judel/ H"]
["ARGALLAN","Impression 434","Hanse/Dehler","B Lindqvist/P Ståh"]
["ZETA","X-46","Aluboots","HARTER FRANZ"]
["CORRECAMINOS","GRAND SOLEIL 37BC","Ericson Yachts","Arthur Howard"]
["ALTAMAR I","X-43","Contest Yachts","VOOGD / SIMONIS AL"]
["JAMBO","Reichel/Pugh 45","EnterYachts Sweden","JUDEL FRIEDRICH /"]
["ZENKIU","Mystery 35","J-Composit","FELCHI"]
["SUR","SALONA 37 RK","J-Boat","Magnan"]
["VIMARA","J/V 53","EDGEWATER","Judel & Rovich"]
["COMET@","ZERO 6,5","Bood","Bengt Karlsson"]
["TOCONAL","YLVA","Tol Gebr,","Bernt Andersson"]
["TJULA","XP-33","Kroes","Olivier Poncin and"]
["MICANGA","XC-45","DIJKSTRA","Van Der Stath"]
["TXIO","X-442 MK II","ABMA","Hans Åge Larsen"]
["BARAKAH","X-412 MK3 NORMKEEL","V BEEK","K-J STRAHLMAN"]
["JERONIMO II","X-412 MK2","VALK","Håkan Sødergren"]
["SIMBAD VI","X-412","E, de Wit","CDE Danish Marine"]
["NARSAQ","X-40S","TPI Boats","Robert Humphrey"]
["TOSTAKI","X-302 MK II","Bumerang","J&amp"]
["SAILANDSEA","WINNER 1120","J, Rodgers","Joubert/Nivel"]
["MAEÑA 7","WILKE 49","GRANADA YACHTING","Jude Vrolijk"]
["CABO NEGRO UNO","VO60 2,5TWASSERBAL","Saffier","Gøte Berg"]
["PINGON","VICTOIRE 933 SD","JOHNSTONE","Tord Sundén"]
["SALAO TÚ","TRIPP 40","S,O,S,","Ib Hauge Nilsen"]
["AVENTURA CUARTO","TIPTOP","Jachtw, Maas","LINDQVIST BERNT"]
["ANOTHER FIVE","SWAN 48","JW, Elahuizen","Jan Herman Linge"]
["TUCANA I","SWAN 46","Rus Jachten","Howison & Murray"]
["PILLABAN","SWAN 38","Hunter Boats","Duck Design"]
["GUAYRE II","SWAN 37 NORM","Bordignon","Rob Humphery"]
["LA RABUDA","SUNSHINE","Satelitte Yacht","Owen Clarke Design"]
["SOLPOR","SUNBEAM 53","D,Rus","Jean Ferrau"]
["ICARO CINCO","SUN FAST 36","Hunter Boats Ltd,","SADLER D"]
["GURUGU UNO","SUN FAST 3200","Heygen","Rossätra Båtvarv"]
["WISE CHOICE","STERN 37","Masnedo Badvearft","Judel/vroljk"]
["FRONKONSTIN","SHOW 34","Alliaura Marine","Bruno Boström"]
["HEGO-AIZE II","RODE 30","YACHTSERVICE","Petersen J&J"]
["GRIEGO","REINKE S10","CORBY YACHTS","Rob Huphrey"]
["MARCHALADO","PHUKET SPORTS 8","Vermeulen","Douglas Peterson"]
["GOLAFRE II","PACER 27","Southcoast Cork","Erling Kristoffers"]
["CHAITAN II","ONE-OFF","Jeppesen","judel / vrolijk &"]
["U,P,VALENCIA","MOODY 45 DS","J Boats France","Faroux/Finot"]
["ACALA","MOODY 38 NOSPI","Rogers","Lemstra"]
["ALMA DO MAR","MINI TRANSAT","JBOATS EUROPE","Judel/Vrodijk"]
["HIPPOI UNO","MAT1010","Bach","Judel & Vroljik"]
["TIBERE DOS","LUFFE 48","David Tommes","Sitlata Yachts"]
["AL ANDRIS","LUFFE 4004","J-Work France","Olle Enderlein/C R"]
["ATOLON 3","LUFFE 37","MC CONAGHY","Bröderna Albinsson"]
["AZURRE","LAKE 35","Kolibri Jachtbouw","Laurin Arvid"]
["NAUTILE","LA28","Sentijn Yachts","Rossätra Varvet"]
["TRANSCOVERY","KOOPMANNS 38","Heino Gerdes","Classic"]
["GUDUNGEN II","KNIERIM 49","Tofinou","Simonis & Vogd"]
["ZARPA","KASKELOT","Broager G,","BRENTA LUCA / PERI"]
["PASSION 4","JPK 38 FC","Woof Boats","Umberto Felci, Pat"]
["CANTAMAÑANA","JANTAR 26RACE","Leonardoyachts","Thomas David"]
["ARAUCARIA","J-92S","NCD","Magnus Rassy"]
["ETNOG","J-39 MOD,","Saffier Maritiem B","Lars Hedberg"]
["TAMATA PRIMERO","J-122 (DK)","Master Marine LTD","Anker Johan"]
["PAUL CHIMENE","J/V 55 SK","J, Vels","Vetle Vislie"]
["ALPISPA 2","INT, 806","Le Geun-Hemedy","C&C Design Group"]
["AY CARAMBA","IMPALA 33","TP","J&V"]
["JUAN DE LANGARA","ILC 40","Jachtwerf Heeg","Alan Johnstone"]
["NOTICIA DOS","IF-BOAT","Nedyacht","Colin Archer"]
["PETROUCHKA III","HIDDENSEE MODIF,","vels & partners","Göran Dahlström"]
["LAMPO ROSSO","HELMSMAN 43","X-Yachts Denmark","Birger Kullman"]
["HUAYRA","H-BOAT ONE DESIGN","Jan & Maarten Bart","Robert Shaw"]
["POR FIN 3","HANSE 385","Vd Brink","Dehler Design"]
["SALSEIRO C","HANSE 370","Gurrit","Judel/ Vrolijk"]
["THE BOSS I","HANSE 315","C Yachts","Rolf Jacobsen"]
["ALLEGRA","HANSE 291 WINGKEEL","Bood Jachtb,","Svein Ingebrigtsen"]
["MAEA","HANSE 291","Everse","Jørgensen"]
["MARJUIN","GRAND SOLEIL 40R","Comfortbåtar","Pelle Brohäll"]
["WAWLAU","GRANADA 27","Frans Mans","M,Mills"]
["MOURISCA","FOLKEBOOT","Melges boatworks","F,SWEISGUTH"]
["MAAYA THILA","FIRST 32","Modus Marine Lelys","NEYHOUSSER ROMARIC"]
["CLOUDTOWAY","FINNGULF 33","J/Boats Inc","Oluf Jörgensen"]
["SELENE III","FINNFLYER 36","Cremo","R,Johnston"]
["IKKO","FAURBY 396","DELPHIA","Rob Humpfreys"]
["MARRA","FAURBY 360","Wasa Yachts","Francois Sergent/H"]
["AQUARELLE 1","EXPRESS","Comfortbåtar Marin","Kj&aelig"]
["FOLELÉ","ELVSTROEM 32 MOD,","Såtas Båtvarv AB","Glenn Henderson"]
["NAUTICUM","ELVSTROEM 32","Albin Marin AB","Jakopin &Jakopin"]
["CHIPIRON","ELLIOT 52 SS","Peter Bruuns verft","G&ouml"]
["BARCAROLE TRES","ELAN 40","Pogo","Ängermark"]
["SCAMPI 45","ELAN 360","a","Pettersson"]
["BACAN","ELAN 320 S","Thierry Dubois","KOUYOUMDJIAN"]
["BAMAK","DYNAMIC 35 B","Pacer Yachats (ZA)","Johan Anker"]
["QUARTER GINTONIC","DYNAMIC 35","Bavaria Yachtgebau","Nive lt Bernard"]
["MARIA LORETO","DRABANT 27","Jeannaeu","Edwardson og Hanss"]
["SEE YOU","DIDI 26","nn","Pelle Petterseon"]
["YA ANDARA","DELPHIA 24 OD","Oceantec","Dieter Hagenah"]
["NADIR","DEHLER 41","Contrastbåtar","Høgni Design"]
["SLAINTE","DEHLER 39/1,95M","own","HR"]
["DIABOLIC","DEHLER 38 C","Spirit Yachts","Ole Enderlien"]
["CORATGE","DEHLER 37 CRUISING","CB","Elvstrøm/Kjærulf"]
["DESIREE","DEHLER 36 DB","Alo Yachts","Torben Larsen"]
["FIXIUS","DEHLER 35","Ukjent","Sødergren"]
["MOUCHO","DEHLER 33 CR","Krohn Yachts","C, William Lapwort"]
["COSTELLATION","DEHLER 32 JV","H, Aaslestad","AENGERMARK LEIF"]
["BIRALAU","CONTENTION 30","Rosättravarvet","Oliver Lee"]
["PUNTA HERMINIA","COMFORTINA 38","Samdal","Boerresen Anders"]
["MATADOR","COMFORTINA 35","Alize Yachts","Elvstr&ouml"]
["BOCU","CB 370","Boo Marin AB","G, Edwardson"]
["NIAL","CATALINA 34 MK I","Helsingbrg Båtbygg","Robert bergstrøm"]
["AMAMA","C&C 110","Farsø Glassfiber","Macchi"]
["ABDERA","BULL 7000","Contrastbåtar AB","Berret Racouperau"]
["NOELIA TERCERA","BIANCA 107","Backs Bådværft","Richard Carter"]
["ARUBA","BAVARIA 42 MATCH D","Cobramold Ltd","BOTIN/CRKEEK"]
["BLUE JACQ","BAVARIA 36/2","?","A, Skrzat"]
["TRAMENDU","BANNER 30 R/C MK2","Far East","Olle Enderline"]
["VICTORIA CATORCE","B/ONE","Fareast yachs","Yacht Service"]
["MINIMON","ATLANTIC 40","NN AB","MSJ Szczecin"]
["CAPITAN HADDOCK","ARCONA 400","Br, Børjesson","Tommy Ståhl"]
["MARADENTRO","ARCHAMBAULT A35","Selvbygger","Piotr Adamowicz"]
["GORDI","A-27 DK","Mamba Boats AB","A,ARMINSKI"]
["IA ORANA","SCHONER","Dehler Deutschland","E, G, van de Stadt"]
["YRCUS II","DE RIDDER 30'","WASA Marin AB","Bernard Korybalski"]
["RAYGRASS III","EMKA 36","Compisbåtar AB","Edward Banaszak"]
["ALADROQUE IV","X-40S-SD","Møn Boats","Elvstrom P"]
["POLO III","COMFORTINA 42","Finngulf Yachting","E,GINTER"]
["BOIRA I","SEAQUEST 36","I Europa","L, Gonciarz"]
["THE GOODIES","VICTOIRE 1200","Lidköping Båtsnikk","ADAM GINTER"]
["CAPH","MAK7 RACE","HP Yachts","A, Armiński"]
["PAO III","LORD HELMSMAN","Nesmar A/S","Wojciech Denderski"]
["M","AAH 30","Elliot Marine","VAN D STADT"]
["SAMPAIO UNO","J-22 STD","Selvbygg","ETCHE GARAY"]
["PEZ DE ABRIL","LARSEN 34","Marieholm AB","JUDEL FRIEDRICH/VR"]
["RENEGADE","X-362 CLASSIC","Yachtzentrum Greif","PHILIPE BRIANT"]
["ALBA ALBA","BALLAD","Elan Rob","Berret/Racoupupeau"]
["ABELARDO UNO","SWAN 48 S","Fiberbåde","Berett / Racoupeau"]
["KANDINSKE","SWAN 40,2","Bebs Marine Ltd","Faroux / Finot"]
["YABADABA TOO","CROSS 31","B, Bringsvær","Berckmeyer"]
["SAUDADE","X-342","Bavaria Yachtburea","Lavranos"]
["ORBALLO","FIRST 30ES","WRaceboats","Berckermeyer"]
["TAMBO","J/V 39","Jeurope","Oswald Berkemayer"]
["TRIS TRAS","LUFFE 40","Nicanders Bårvarv","Cortland Steck"]
["SALAÑO DOS","LUFFE 45","Sail Ventures ltd","Simonis/Voog"]
["MANBO","POGO 40 CR","Rossätra Båtvarv","Simonis 35"]
["MATUXA","DEHLER 35SQ Std","Gesten Glasfiber B","Berke Meyer"]
["AQUILA","WINNER 10,20","Maxi Båtar","Pacer 42"]
["SENY","JPK 10,10","Per Bruun APs","Rod Johnston"]
["KEIKO","SWAN 441H MOD,","Håkan Södergren","Jacques Valier"]
["ALBARELLOS","OMEGA 30","Marin Form","Bongers / du Toit?"]
["UNUS","HANSEAT 70 B","Wauquiez Boats","Fred Scholtz"]
["HARMATTAN","SWAN 60","Nordsoe Verft","Simonis/Voogd"]
["OCEANDRIVERS ONE","BAVARIA 47","Composite France","Simoins"]
["VERTIGO SAILING","F & F 95 MODIF","Børresen Båtbygger","Alex Simonis"]
["BALEA DOUS","BM 53","Banner Både","Philip Brand"]
["BRITO","LONGTZE PREMIER","Life Yachts AB","Keith Callaghan"]
["KORRIGAN 4","MAXI 999","Jacht Vennekenes","Van De Statdt"]
["CRYSEL","OHLSON 8:8","Siltala Yachts","Lyons"]
["KYO V","NISSEN 55","Borge Bringsværd","ANDREU DANIEL"]
["HUBA","X-332 SPORT","Omega","CJD"]
["GAVILAN V","LUFFE 43/97","rowen composites","Yuri Sitnikov"]
["YELLOWFIN","BONGO 9,6 RS","J/Boats","E, Hoffmann"]
["STAMITZ","SYMPHONIE 312","Br, Jacobsson","HOFFMAN"]
["NAUTILUS","SYDNEY 32","Mats Gustavsson","FARR B"]
["COSTA ESTE","SWAN 44","Jeanneu","Mikhail Tihonov"]
["PANTALAN ZERO","DOLPHIN 81 MOD","Granada Yachts A/S","A, Struzhilin"]
["AY CARMELA","SPRINTA-SPORT","Mölnlycke Marin AB","GROUP HANS"]
["TAREIS T","BRENTA 55","Q yachts","Aleksandrov"]
["SERAPHIM","WASA30 HR RACER","Skrovab","Kosorotov/Mataruev"]
["OTRO","MINI 650 D2","Omega Yachts AB","JUDSON"]
["TRABUCO","8KR","Ledinbåtar AB","Tikhonov, Mataruev"]
["VELOX SAILING","1-TON","Jofa","LenShipInst,Ocean"]
["ROCK AND ROLL","PION","Sasanka yacht","Mihail Tihonov"]
["ASCATA III","M M 41","Melander","Mataruev/Kosorotov"]
["SUREÑO","RHEPRO 21","Anker & Jensen","M, Tikhonov"]
["MAR MENOR","DEHLER 42 MODIF","Nicanders båtvarv","Finnot Jean Marie"]
["PHILOXENE","LUFFE 43","oksø båt","Valicelli"]
["SPANIARD","TABASKO-S","Runn Båt AB","U,Felci"]
["SASHA UNO","HR 312 MK1","Øjabåtar","OLSEN"]
["BURLESQUE","DYNAMIC 43","Colin Archer","B,OLSEN"]
["MENESTEROS","GOLDKATZE 40","Dahlstrøm båt","X-Yachts UK"]
["PETROUCHKA II","SURPRISE","Shaw Yachts","v, d, Stadt"]
["CANALLA","X-35SD","Dixie Båt Karlsatd","G,Breteche"]
["MENUDETA","J/V 38 ONE OFF","Hans Groop","J, Finot"]
["OZU 2","OMEGA 28","Tollare bruk","Peter Roos"]
["CASTILLO TRES","SPW 9,5","Luffe","E,Santarelli"]
["ILLUKA","DYNAMIC 2000","X-Yatch","JULIANE HEMPEL"]
["METIS","S40 Jubilee","Viken","G,NISSEN"]
["BOND","DEHLER 34 SV","Elvstrøm","J,CORBY"]
["JUST THE JOB","ELAN 410","C,N de LARROS","A,Fritsch"]
["FAROFINO","DEHLER 36 SQ","Amel (Chantier) Ko","G,Nissen/Schöchl"]
["MARARA 4","SWAN 441R MOD,","Precision Boats","S,Schmidt"]
["INTRIGUE","SAY 10","Hallberg-Rassy Var","I, Nielsen"]
["CORTOMALTES UNO","HANSE 331 SD","Finngulf","Elvström/Kjaerulff"]
["PARANA","DEHLER 29 SPIQUEST","Mølnlycke Marin","BJARNE AAS"]
["JEFFERTJE II","IMX-38SD","Kvistgaard DK","Canepa"]
["DKTEGORIA","COMET 38 S","Norsø Værft","H,Groop"]
["AL VENT III","FLIRT","Johan Anker","H,Copponex"]
["CAMISIIS","SIGMA 38","J/composites","J, Sprecher"]
["TEAMGEIST","SLY 53","Tuco Yacht Værft","D,Blank"]
["INTREPIDO","HANSE 371","Familie Båtar AB","A,JUSTIN"]
["MK III","DUFOUR 34 PERF,","MAK","JOUBERT Michel"]
["EMERGENCIES SETMIL","ICE 52","Jørgen Jensen Yach","Rob Shaw"]
["LOST HORIZON","ELAN 295","Frers","H,Raudaschl"]
["DARING SISTERS","AKILARIA 40","SOUTHERN OCEAN SHI","NEUCRUISE"]
["PETRA MARY","LUETJE 48","Edin, Roger","K,Stråhlman"]
["SETEBELLO","ELAN 380","Krackemut marin","GREG ELLIOTT"]
["WHITE BLIZZ","MILLENIUM 40 Q,B,","CHINA NEW YACHTS L","D,Pattersson / JoJ"]
["VELL MARI","VAN DE STADT 34","PROGRESSIVA","FARR/Sindeman"]
["S’AVENC","J-111","Nordsø Værft","EGEYAT"]
["BULLA","FIRST 27,7 LK","Nordsøe","IGOR SIDENKO"]
["FILISPIN","HANSEAT 68","Storebro","Tonuy Castro"]
["DON'T ASK","L-30 OD","FarEast","L, Teliga"]
["ESPAÑA","J-97","Jensen Bjorn","Gulbis A,"]
["YAJÚ","DEHLER 33 CRUISING","Oliver Lee","Cherevanev O,"]
["JU DOS","CODE 8","Djupevåg Verft","Chaykin V,V,"]
["BATUCADA","SUN ODYSSEY 45,2","Ridas Yacht","Strujilin A,"]
["L'ESQUITX","BIANCA 36","egen","Dudey Dix"]
["COMETA A DOS","STORM 26","Mørebas","Cherevanev O,I,"]
["FANDANGUITO","ARCONA 465","Rivalbåter","A,Nazarov"]
["RUMBERO","T-24","AST, MILENIUM","P, Carter"]
["AKRA LEUKA","1D35","MSJ im, L, Teligi","Sytnikov Y,"]
["ALETHEIA","7 KR","LONGITUD 0","Banzhukov"]
["MOFLETE","SWAN 40","Abekin-Rasmussen","KB Sailecs-Bogdano"]
["PIRAÑA IV","HYLAS 51","Rufi","Alekseev V,"]
["ALTER EGO III","PROTEUS 90","im, L, Teligi","K, Reinke"]
["CHATIN","STP65","OAXEN MARIN","Judel/Vrolijk-Rose"]
["U 47","M 34","Piotr Adamowicz","SHUMACHER"]
["YAN","MARTEN 49 Mod","A,ARMINSKI","Douglas"]
["GALBULA","11,3 KR KETSCH","Judel Vrolijk","Felici"]
["VALENTINA","H 28","Dufour yard","PAUL BEIKER"]
["ZOSPIRO","DEHLER VARIANTA 18","STOCZNIA CONRADA","FARR,BRUCE"]
["HALCON NEGRO","CARBOMARE 35 BS","Esslinger & Abt, L","ANTRIM"]
["FUR'LOP","X-302 MK I","Stocznia \"Conrada\"","DAVIDSON/DIBLEY"]
["GENI0 4","MATCHER 31","McConaghy","Tim Jacket"]
["PK2","MAXFUN 35","Caravela Boatbuild","Beiley"]
["WAIKIKI","HANSE 345","E,BANASZAK","Voogd"]
["ENEWTEC","XC-42","Master Marine Ltd,","STILL"]
["INDALO NONO","RIBADEAU 46","Y,K,P, GDYNIA","RP"]
["SKORPIOS","MÄLAR 25","A, Armiński","JACKETT"]
["ESCIL,LA","BLU 26","ConradYachtGdańsk","JOHNSTONE,R"]
["SIRADELLA","DOVELL 82","MKŻ Bryza","R, MARTIN"]
["DUENDE 50","LUFFE 40 BK","VELEIRO","LEIF BAILEY"]
["KOUKO","J-125","FRANCISCO P, ROSA","Duncanson"]
["ELMER PRIMERO","ONETON","SEWAY","Jacket"]
["IVRESSE","NISSEN 31","RUSTLER YACHTS","BAKEWELL/WHITE"]
["CAMPING RIA DE AROSA","FIRST 38 SD","FIRST 235","ZAAL"]
["ARDORA III","NORDSEE 41","1720 Yachts UK","Marek"]
["MESTRAL FAST","HOFFNUNG 28","Lucian Dragomir","WILEY"]
["ANDROMEDA JMM","11 KR","Groupe Porcin","PAYNE"]
["TRINITRI","MARAUDER 55","Performance","Bieker"]
["GAVINA IV","KIEVIT 820","Starmarina","Carkeek"]
["ALDAN","HANSE 375","ITLIA YACHT","M B & D"]
["BIONIC ELK","REGENT","Bavaria Yachtbau G","LAPWORTH"]
["HMS SURPRISE","LARSEN 28","Fisksatra","TIM JACKETT"]
["OCTUBRE III","J-92","Cooper Craft","ELVSTROM KJARULFF"]
["ZIG ZAG I","12 MR","Nebe","N/M"]
["GIOKI D?ACQUA","MELGES 32 MOD","Cape Vickers","Jim Taylor"]
["WAVE","BAVARIA 38 MATCH","Halstead","LAPWORTH, WM"]
["LIMIT 997","ASSO 99","Tim Dykin","X  YACHTS"]
["REAL C, NAUTICO DE CALPE","PLATU 25 OD","DP Yachting","Mark Soverel"]
["SAIOLA 10","Bavaria B/one","Two Oceans","DOUGLASS"]
["KAJSA III","SPRINTA-SPORT OD","Scholtz Marina","PEDRICK"]
["ALTAIR","X-35 OD","Windsong Yachts","M&R"]
["TRAPELLA","J-70 ONE DESIGN","Fiskastra","Ker"]
["ADRIAN HOTELES","X-79 OD","Robertson & Caine","Roger Martin"]
["ENCIS","NISSEN 56","Pacer Yacht","Mark Lombard/Jeann"]
["ANITA","FOX 9,50","Scholtz","Jac, Fauroux"]
["FURAVENTOS","ALUMAAT","Fast Yacht","JENNEAU"]
["MIAJA X","BRENTA 60","Phil Harvey","P, Brriand"]
["SALAO","POGO 40 S3","Simonis","FAUROUX/GARRONI"]
["ALBORADA DIEZ","IOR","Radiant / OwnerKit","G,Nissen/Schochl"]
["KAWAN","ATLANTIC 31","Landmark Yachts","Andrew Dovell"]
["CARONTE","SUN ODYSSEY 42,1","John Robertson Yac","George Owen"]
["FANYTAS","ELAN 40 SD FK","J Composites Eu","P Norlin/J Ostman"]
["JILORIO","GIN FIZZ","Jpil Composites","SPARKMAN & STEPHENS"]
["SEARUSA UNO","SUN ODYSSEY 33,1","Robertson and Cain","CLUB FRERS"]
["BALTEA","JEANNEAU MELODY","CenMarine","GERMAN FRERS YACHT DESIGN"]
["NIDEA 2","SUN ODYSSEY 42,2","Fred Scholttz","Frer"]
["GRAN FISGON","FANDANGO 33","H, Vink","NORLIN/OSTMANN"]
["L'IMMENS","J-80","Mod by G  Fagan","Hakan Sodergren"]
["Es tes unno,,,","NEREIS 32stern ext","Tosca Marine","DOVELL"]
["RATS ON FIRE","FIRST 30E","Bongers Marine","MURRAYBURNS&DOVELL"]
["HYDRA","PIONIER 9","Robertson & Cain","MurrayBurnsDovell"]
["SLICK","MOODY 39","Ton Cup","MURRY/BURNS/DOVELL"]
["DUENDE 52","SUNSHINE 36 ST,EXT","Noordhoek Sailboat","THOMPSON"]
["MAXIMO","SIGMA 30","Noordhoek","Takeshai"]
["BRIBON VII","CATCH 22","Van der Luiden","PERRY"]
["BUNDA","SUN ODYSSEY 36,2","Ton Cup Yacht","Gogolkewich"]
["LOBSTER","FIRST 47,7 SK","Ton cup yachts","Gogolkewicz"]
["CANDELA C","MOODY 42 DS","Fred Scholtz","Carter-Sp,\"Teliga\""]
["TARTARUGA","Moody 28","PacerYachts-Dykins","GERMAN FRERS-PELASCHIER"]
["SRECHA","EVASION 28","Harvey Yachts","T,Siwik"]
["NAMASTE","GIBSEA 334","RyG Plastics","BERGAMINI"]
["CIATE","OCEANIS 38 Cruiser","Noland Yachts","Koos de Ridder"]
["LUNA NUEVA","FEELING 920","Mark Algra / Izivu","G, Verdier"]
["ZIG ZAG","SWAN 82 RS 3,88","Elvstrom & Kjareul","Joubert and Nivelt"]
["GAITERO DOS","DISCOVERY 3000EXT","Henry Vink","Blakewell/White"]
["CARPANCHO","SUN ODYSSEY 45,1","Farr","C & C Design"]
["MORNING SUN II","ATHENA 44","Ray Matthews","SOLER"]
["PIROPO","ESPACE 1000","Compass Marine","TRIPP Bill"]
["TENTONTÚ","RM 1260","PSI","BELTRI"]
["ALZIRA MORAIRA","GIBSEA 35-1","Fortuna, Cape Town","L,Tumilowicz"]
["ORLANDO","COMET 41S (T-Bulb)","THE FRANKLIN TEAM","H SODERGREN"]
["SEMPRE VOLVE","DUFOUR 38 classic","BENETEAU Bild,#84","LEE"]
["A PILLARA","SWAN 68","Pauger, Hungary","v,d, Stadt&Prtnrs"]
["ONE & ONLY","NAJAD 320","Spray Ltd","D, Koopmans JR"]
["SARANDREA","FIRST 405","yard \"RIO TECNA\"","D,Koopmans JR,"]
["BOTELLON","NEK 26 - DOLPHIN","Teliga yard Poland","Sodergren"]
["MAJARA  UNO","HALLBERG RASSY 42","Conrad yardGdansk","VISMARA/MILLS"]
["QUIMERA","BAVARIA 31","TELIGA SHIPYARD","VK Yacht"]
["MACACO","SUN FIZZ","Conrad yard Poland","Guy Ribadeau Dumas"]
["LA FANCIULLA","OLYMPIC 40","Konrad yard Poland","V,RIJCKEVORSEL"]
["PAPOA","Maxi 84","Aeromarine, Moscow","John Swarbrick"]
["CHANCE V","COMFORT 34","custom","Klaas Kremer"]
["KOCHAB","MOODY 29","Сonrad Boatyard","Warwick"]
["OLIVITA","CONTESSA 35","Raketa Yachts","Leif Angermark"]
["DOLCE FAR NIENTE II","ELAN 45","Solombala Yard","A, ASH-VIE"]
["CHISPA NEJRA","OCEANIS 381","Botnia Marine, Fin","WESTERLY"]
["ANTARES III","OCEANIS 440","Len,Sport yard","VAN TONGEREN Ceers"]
["ABARGORRI","HANSE 505 (T-keel)","Aquaplastika Pskov","C, v,Tongeren"]
["AKELU","CT-42 Mermaid","TSUBOI, JAPAN","N, Jeppeson"]
["PLIS-PLAY","DUFOUR 425 GL","SAYER","BUA"]
["LA ESTRELLA AZUL","CANADOS 37","BENETEAU CHANTIERS","LUTRA STUDIO"]
["NONA IX","GRAND SOLEIL 34","Raketa Yachts, Ltd","YAMAHA DESIGN GROU"]
["OKOFEN","SUNRISE","yard l,teligi","J, CELA"]
["MEIGAS FORA","DISCOVERY 3000 XT","TEVSS","LINGE"]
["TORMENTI","OYSTER 37","Raketa-Yahts","INZERILL-ALBEGGIAN"]
["PENEQUE","EYGTHENE 24","CYC yachts","PLESSIS/MARIN"]
["ALDEBARAN","OHLSON 29","Scorpio Yachts","A,Shaposhnikov"]
["PORTO PI","COMET 850","M, Tikhonov","Oyster 28"]
["ISLA DE LOBOS","SUNRISE 35","Ameta","Scherbanos, Basele"]
["BUCHACA","MAXI 108","Southern Marine"]
["SUKA","DISCOVERY 3000","Mezek"]
["JOGY","OCEANIS 343 GTE","Cantieri Vetro"]
["BIBLOCO","BAVARIA 42","J- COMPOSITE"]
["CHORLITO","BAVARIA 36 CRUISER","Moser"]
["FELIPEVA VI","YCA 29","Schuchter"]
["PORTOCARO II","JUPITER 30","OLSEN"]
["EL CARMEN","DEHLER 38 (SD)","PSAROS SA"]
["MAR DE VENTO","RIMAR 36 Modified","P,B,OLSEN"]
["NAUTIC CAFE DEL MAR","JEANNEAU OD","BG Race"]
["ABONICO","OCEANIS 440 WK","Nordborg"]
["INMA","SIGMA 33S","CHAMPIONSHIP YACHT"]
["MIRFAK","SUN ODYSSEY 409","WACKER"]
["ENRIAERO","SUN ODYSSEY 439 SD","Naval Force 3"]
["LAUSAMAR","DROMOR 26","Schöchl"]
["BALBOA","NEPTUNE 94","Fiberblade"]
["EL X","CAPE NORTH 43","Gesten"]
["FANDANGO 300","ZUANELLI 34","CBZ"]
["MENUT II","X-372","Frauscher"]
["CROSSWIND","HOOD 38","Portier"]
["PISTON BROKE","GIBSEA 96","Bianca/Ott"]
["CRISTINA V","BAVARIA 34","Farner & Stierlin"]
["QUEEN VELI","ELAN 410 (SD)","Clarc Yachts"]
["ROCINANTE","SUN ODYSSEY 43","PRELEX"]
["MAJOCHE","HALLBERG RASSY 26","Latitude 46"]
["BEBOP ALULA","BRIGAND 9,5","PERF, SAILCRAFT"]
["KEA","AEGEAN 234","Ott"]
["MALASPINA","GIBSEA 105 (scoop)","OTT WASSERSPORT"]
["AROSA VI","ATTALIA 32","Andaman"]
["ORIOLE","DUFOUR 1800","JS DANMARK"]
["NAHELA","GIBSEA 31","CALLE SCHILDT"]
["QUO VADIS II","OCEANIS 400","YDC NEW ZEALAND"]
["AVIS","SUN LIGHT 31","ROSÄTTRA"]
["MASCATO","GIBSEA 302","TBOATS"]
["THE ONE","SEA MINI","ATEL, DES GRILLONS"]
["SALAO TOO","LAVRANOS 43","OD Yachting"]
["SALVORA II","DEHLER DB-1","SREDNENEVSKIY SH-D"]
["GOMEZ MOSTLY HARMLESS","FIRST 41 S5","im, L Teligi"]
["CATAVENTO","SWEDEN 45","SP Master Ltd"]
["KANALA","CONTESSA 25","Bora yacht"]
["TAMARAN UNO","DUFOUR GIBSEA 33","Grischenko/Bondar"]
["ENTROPIA","BAVARIA CRUISER 45","LES VCSPS"]
["CARPANCHO V","SUN ODYSSEY 37,1DK","Verf im, L, Teligi"]
["CISCO","SUN DANCE 36","TVSS"]
["CATALINA DE ARAGON","MOODY 34","Verf im, D,Konrada"]
["MECAUEN IV","CARDEL 28","Galeta A,D,"]
["SPRINGBOK III","JPK 9,60","Verf im, L,Teligi"]
["DRACCO","GIB SEA 920","Bora Yacht Ltd"]
["SAETTA III","MOUNT GAY 33","AWL Yachting"]
["THOR II","ELAN 37 SD","Davoty Sailing"]
["ISLA MAROLA","KATIA 28","Verf im L,Teligi"]
["AL KEVIR","BRIN DE FOLIE","Solina Yachts"]
["ARROUTADO","X-40 SPORT","Konrad yard Gdansk"]
["DENTE DO CAN","SKIPPI 650 PERFORM","Sprey"]
["RODAMON DOS","BAVARIA 41","Banzhukov's Co"]
["ALEPH IV","UFO 27","Lazorevskoe SY No1"]
["BLUE","HANSE 370 BK","Stogna S,Y, Poland"]
["BLUE ROCKET","GIBSEA 312 (SK)","Sailecs LTD"]
["INJENIOUS","DEHLER DELANTA 80","P,P,Y,U, DALPOL"]
["LLEVANT BLAU REGATA","DUFOUR 34E","Alekseev V,"]
["STARFIGHTER","BAVARIA 40 C","M, Kharambura"]
["IDEFIX","ALBIN VEGA 27","Caroll"]
["PORRON IX","PLATU 25","FRERS&CIBALS"]
["PULPO NEGRO","SWAN 43T","BETTS"]
["C,A,F,","CORINTHIAN 28","JBOATS"]
["ALITAN 3","FUN 23","DICKERSON"]
["MARACANÁ I","X-452","PAUL LUKE"]
["KIARA III","X-3/4 TON","USI"]
["FENIX II","ALOA 27","FIRST CABIN MARINE"]
["FEND-LA-BISE","GIBSEA 402","Tartan"]
["BANDIDO","TRAPPER 950","B Boats"]
["ARGO NAVIS 3","MISTRAL 31","JBOAT"]
["MOONDANCE","DUFOUR 2800","Farest"]
["KEY BISCAYNE","FIRST EVOLUTION ST","FINN"]
["DiWeiss","GIBSEA 35 SK","Mag Marin Istanbul"]
["FORTE","NEREIS 30","NEB"]
["SILVA","DUFOUR 350","B-BOATS"]
["BRIGITTA-X","MIRAGE 28","Fareast Yachts"]
["BLUE LARK","LC-26 IMS RACER","Phuket Boat Works"]
["ADELE","CARIBBEAN 40 ST,XT","STEVENSON"]
["Cherie","J 92","PREMIER COMPOSITIE"]
["EVELYN III","OCEANIS 370","BODAM"]
["FURIOSA","Sun Odyssey 32,1","Cape Fear"]
["MINNI","CONDOR (TARTAN) 37","CCFC"]
["TECHNONICOL","OCEANIS 400 CC","SCHOONER CREEK"]
["VANISHING POINT","X-402 DK Mod,","MORRIS"]
["TUULE","SIGMA 33","CAL"]
["PEGASUS","ROBERTS 310","WATERLINE"]
["VESIKAAR","MOUNT GAY 30","HOLBY"]
["MERION","FIRST 27","AZZURRA MARINE"]
["Matilda 3","BAVARIA 35 HOLIDAY","Sabre Yachts"]
["SUGAR 2","TRIDENT 80","JENSEN"]
["KATARIINA II","OCEANIS 320","CCF COMPOSITES"]
["Credit 24 Reval Cafe","DUFOUR 4800","Soverel Marine"]
["Eesti Meedia ST","MIRAGE 26","NEW ENGLAND BOAT"]
["MY-CAR","FOLKBOAT","Aerodyne Yachts"]
["KATARINA JEE","MOODY 33","Schochl"]
["PREMIUM","JAGUAR 27","Schoechl Yachts"]
["OLYMPIC","WESTERLY 26","Oy Nykra"]
["DIRECTO","WARRIOR 35","NYKRA"]
["KADRI","BAVARIA 340 C","RAGAMUFFIN YACHTIN"]
["LAGLE III","COMET 41S","Lawley and Sons"]
["AMSERV TOYOTA ST","Greyhound 33","NAUTOR OY"]
["Inkeri","DEHLER OPTIMA 101","NAUTOR's SWAN"]
["Tiare","Maxi 77","SWAN OY"]
["Shangri-La","DUFOUR ARPEGE","Lidkoping Batsnikk"]
["Speculator","GIBSEA 33","BASHFORD INT"]
["Valkyrian","GHALLENGER 35","Barhford Int,"]
["VindUngen","HALLBERG RASSY 352","SYDNEY YACHTS, AUS"]
["Xtra Staerk","KARATE (SPORT)","AMG S,R,O"]
["LOW","SWAN 55","Takeshai"]
["Kind of Magic","FIRST 32 S5","TANGO"]
["RAMDATA","AIKIDO 31","TARGUI"]
["Jasmiina","DEHLER 36db","Tartan Marine"]
["Wild Joe","DISCOVERY 3000 ext","TASHING"]
["Blue Nights","AEGEAN 37","WERFT STETTIN"]
["Amidala","BAVARIA 31 CRUISER","MSJ Teliga nr 37"]
["Vinca","SB20 ONE DESIGN","Tes-Yacht PL"]
["Belette","OCEANIS 351","PRELEX D,O,O,"]
["Adela","SADLER 32","VEL, DA CORSA"]
["Nauti 'n' Nolla","RASMUS 35","Tirena Yachts"]
["Tikkunekku","ALBIN BALLAD","Poldijk Jachtbouw"]
["Seanna","GP 42","BG Rasce"]
["Nea Nora","JOUET 920","LATITUD 46"]
["WE 2","OLYMPIC SKY 39","Trapper Yachts Ltd"]
["Lutra Lutra","BAVARIA CRUISER 39","SERVIPOL"]
["Fun First","IDYLLE 1550","WEVER"]
["Melisande","SUNWIND 33","Annewever"]
["Penelope","OCEANIS 361 Clippr","A Wever"]
["Thetis","X-412 MK II","Caroll Marine"]
["Sportiga Marie","WESTERLY RENOWN 32","TUCANA YACHTS"]
["Milou","STAG 22","system gospodarczy"]
["Mon Amie","FIRST 210","GARDONI"]
["Watatait","FEELING 1090","UFO BOATS"]
["X2","BAVARIA 707","Landamores"]
["Bianco","COMFORTINA 36","Colvik"]
["Windrose","FEELING 1090 ST,EX","V,R, NAUTICA"]
["FinX","BONIN 33","v,d,Brink"]
["Vivace","SUN ODYSSEY 40 SD","V-1 ACT FZCO"]
["Fart","GIBSEA 352","Jachtwerf Victoria"]
["SOPU DOS","OCEANIS 343 SK","Victoire"]
["Bella del Mare","RHODES RANGER 28","FOSCHI-CARLINI"]
["Arwen","SUN ODYSSEY 32,2","HOME MADE"]
["Anastacia","DELPH 28","JW Victoria"]
["Uhuru","X-79","JW, Victoria"]
["Xelina","FIRST 31,7 MOD","NAVIKOM"]
["FinnFUN","OCEANIS 321","YACHT VISIONEN"]
["Mercedes-AMG","MOODY 31 MK II","VISMARA MARINE SPA"]
["Secrays","COMET 10,50","TY Seisakusho"]
["Xanadu","SALONA 45","VK Yacht"]
["Xini Freedom","FEELING 39 DK","AST, DURILUZ"]
["Senja","LANCER 29","Europe Yachts"]
["Audi E-Tron","SIGMA 400","GO MATERIALES COMP"]
["Kleopatra","OLYMPIC 42","Waarschip/NCD"]
["YOLDAN","GRAND SOLEIL 343","Azzura Yachts"]
["KASHMIR","OCEANIS 43","Wasa Yahts"]
["BAGHEERA","RODOS 39","NAUTA ASTILLEROS"]
["TIP","CONRAD 760 RT","WILKE"]
["FAST AND FURIOUS","AMEL EUROS 41","Sorland SY"]
["AR LOCA","TRITON 48","Sorland Sailing Ya"]
["GOUDURIX 6","PHANTOM 34","WIND NAUTICA"]
["CHARRETTE III","SUN LIGHT 30","WIND"]
["ALTIKHAN","VINDO 995","Winner werf"]
["JEMINY","DUFOUR 35","G-FORCE YACHTS"]
["CAPRICCIO II","FEELING 39","G Force"]
["DANAE V","MINI TRANSAT 6,5","Triplast"]
["GOUDURIX 5","ARCHAMBAULT A40 RC","ALBERT LIMOS"]
["CACHOU","FIRST 35 S 5","Borge Bringsv?rd"]
["ALMOGAVER","UNKNOWN","FAIR Tom"]
["THOXA 9","SONATA 26","LOOMS Craig"]
["CHAMAN J","KONSORT 29","AST, DRAKKAR"]
["TABASCO V","CARIBBEAN 40","M,BROWER"]
["SCHEGGIA","OCEANMASTER 48","SICILCRAFT/ACOM"]
["SLOUGHI","OCEANIS 50 G5","Home Construction"]
["PETIT PRINCE 2","ELAN 310p","A,Shaposhnikov"]
["LOONY CAT","DUFOUR 50 CLASSIC","LIDGARD"]
["MISTO","C & N 60","Alexandr Yachts"]
["TROIS TRISTES TIGRES","OCEANIS 281","Yahtclub SLVC"]
["AXIOME","ATLANTIC 49","Chita Japan"]
["4D","SEA STAR","DICASTELLI GALEPIO"]
["INSOLENT","TRITON 48 SH,DR,"]
["MANAONA","M34"]
["GILOLO","OCEAN STAR 51,2"]
["KIMBE RED !","HANSE 312"]
["JADE","SUN ODYSSEY 32"]
["DUNAMIS","HALLBERG RASSY 94"]
["VENTRE BLEU","COMFORT 32"]
["COYOTE","SUN MAGIC 44"]
["VARIATION","DUFOUR 43 CLASSIC"]
["LA BELUGUE","JOUET 37"]
["FAUVE","OCEANIS 311 CLIPPE"]
["WAPI","NORTH WIND 435"]
["MICCHIOBLU","BAVARIA CRUISER 51"]
["NONETTE","SEA-TON"]
["PEN HIR II","DROMOR 26 MOD,"]
["SPHENOIDE","MAXI 108 MODIFIED"]
["PICKWICK","BIANCA 420"]
["CIPANGO III","DUFOUR 27"]
["LA GRANDE JINETTE","SUN ODYSSEY 33"]
["VALSERINE IV","CORAL 30"]
["ANNOKIA","CATALINA 320"]
["ENDLESS SUMMER","DUFOUR 36 Classic"]
["MAYERO","MACWESTER 27"]
["ARLIKONE","MACGREGOR 26"]
["REIVILO","OCEANIS 411 CLIPER"]
["HERA 3","BAVARIA 44E"]
["DUCKWALL POOLEY","Magic 25"]
["ARES","Young 8,4"]
["MIMI TEAM","Longtze"]
["LETTY","VX One"]
["TOCCATA","Cori 45 mod,"]
["LADY JANE","6mR"]
["LOLITA","8mR"]
["SAPAJOU","40 Skerry Cruiser"]
["JUMACABI","BB-12 Touring"]
["FARR OUEST","75 Skerry Cruiser"]
["LE RENARD","X-35 SD"]
["ROUTES DU LARGE","Dehler 38CS"]
["GAIA","30 Skerry Cruiser"]
["XTREM JP","DB 1"]
["JULIETTE","Legend 33"]
["CELTICS","Sun Oddyesey 45,1"]
["JIN TONIC","Varianta 37"]
["JULEY","Grand Soleil 40 BC"]
["GALUDAJO II","Fist 21,7"]
["MARCEL","VIKO S30"]
["OURSY","A 40 RC 2,48"]
["ONIRIS","J 105"]
["MI CORAZON","Bavaria 44 1,65"]
["TCHIN TCHIN","Salona 35"]
["SEVEN MANI","Bavaria Cruiser 36"]
["APLYSIA 3","Bavaria 41 Cruiser"]
["CARINO","Etchell"]
["KOOKABURRA","Bavaria 39C"]
["BALOO","Dufour Classic 45"]
["ESKIL","SUN ODYSSEY 49i"]
["CEPHEI II","XC-35"]
["CASTAGNOLE","Bavaria 42 Cruiser"]
["ALCHEMIST","Chance 44"]
["FORCE 7","Freedom 25"]
["MARINAIS","Lidgard 48 Custom"]
["BILOUT","CARTER 37"]
["JOUJOU","SLOOP BERMUDIANO"]
["WET DREAMS","ERYD 30"]
["WALLIS","COMET 31 S"]
["GRISETTE","BONGO 960 2,20"]
["UNTOUCHABLE","ESTE 24"]
["PARTY TIME","PIERROT 9,16"]
["KEEL BILL","OCEANIS 361 CLIPPE"]
["TIR NA NOG 2","ALPA 12,70"]
["GUMMO","GRAND SOLEIL 343 G"]
["SUPER JOSEPHINE","COMET333"]
["LES BARBARES","IOR 1/2 TON"]
["FLOWER POWER","SCIARELLI 55'"]
["FUGUE","HARMONY 47"]
["WAHOO","SUN KISS 47"]
["CAVEJE 3","PROTO"]
["MAQUIS","ELAN S3"]
["ANAMAX","DUFOUR 45 E PERFOR"]
["SKIPTON","MYLIUS 18E35"]
["RACKHAM","MOUSSE 907"]
["MORDICUS","SUN FAST 40"]
["DEDALE","BLU SAIL 24"]
["ACQUERELLA","FIRST 211"]
["SEVEN SPIRIT","WALLY 60"]
["GWAIHIR VENTURI","G,S, 39 - 2,40"]
["MO","IOR 3/4 TON"]
["DELISS","GRAND SOLEIL 47 N,"]
["SAGITTARIUS","SOLARIS 72 JSA"]
["CHARLES III","SUN ODYSSEY 42 P"]
["TOMI","DIVA 40"]
["JURASSIC","RIMAR 36"]
["XLR8","COMET 38"]
["FEELING GOOD","MODULO 72"]
["EL PEPITO","AZUREE 33 FC"]
["KARIBARIO 6","FIRST 1T EVOLUTION"]
["PICHENETTE","G,S, 39"]
["RADICAL CONCEPT","COMET 12 G"]
["EYE CANDY","DUFOUR T6"]
["IMAJINE","SHOW 24"]
["BICHE","SHOW 29 B,TRAPEZ,"]
["PERSEPHONE","ALPA SUPERMAICA"]
["BIGOUDEN ON ROAD","HANSE 470"]
["J4F","HANSE 370E"]
["SOIZIC","MOODY 38"]
["LE HYCKS","IMX 45 (SD)"]
["KELT BRAZ","SYDNEY 46"]
["KEFELEG MOR 4","GRAND SOLEIL 45 JV"]
["STER WENN 5","H&R 412"]
["ERA ORA","ETAP 28 I"]
["MIJANELLE 3","EXPLORER 20"]
["GRIOTTINE","X-40"]
["KALAIS","SANGERMANI 40"]
["POMINO VII","COMET 910"]
["NAOS II","ETAP 345"]
["GAYA","CLASS 950"]
["FIOUPELAN","DUFOUR 44 P"]
["EUROPE","PROTO 33"]
["FONBADET","FIRST 47,7 SD"]
["GUILTY  PLEASURES","UFO 22"]
["X-MACHINE","FIRST CHALLENGE"]
["DR JEKYLL","GRAND SOLEIL 42"]
["PAULICK","COMET 375 ST"]
["CIAO CIAO","X-119 CUSTOM KEEL"]
["LOUISE ET TELMA","IOR ONE TON"]
["MATAMOUF of RECOUCOU","SUN ODYSSEY 49iP"]
["JEMINI","ELAN  E 4"]
["STERGANN","BRIGAND 27"]
["IOALLA","STAG 32"]
["CLEZIO","MATCH 33"]
["BINGO","BALANZONE"]
["FOU","POGO 10,50 LK"]
["IEMANJA","EC 37"]
["GWEZ GWERN","DEHLER 37 S"]
["PIVOINE","CANADOS 33"]
["SAUTE MOUTONS","VISMARA 38"]
["LES RAPETOUS","CONTEST 31 HT"]
["KAOBA","DULLIA 36"]
["KIA ORA","KARATE SPORT"]
["M 8","WING 34"]
["RIWANON III","MARLIN 9,15"]
["SPIRIT","SUN FIZZ 40 KETCH"]
["LARGO","METEOR"]
["AITO","OCEANIS 323 C"]
["CAVOK 4","SUN LEGEND 41"]
["NIGHT AND DAY","ELAN 31 SD"]
["SKREALING","GRAND SOLEIL 46 BC"]
["CELESTE","MYLIUS 55"]
["R2D2","SLY 38"]
["OIRRIOR","MC 46"]
["MAGIC S,E,A","SCIACCHETRA'"]
["SAM","DEHLER 39 SD"]
["JACKALS","CANARD 42"]
["VULCAN","FIRST 42 ST PTE"]
["ZACAPA","COMET 12"]
["JAASAP","MYLIUS 76 DS"]
["JOBIC IV","MULTI 78"]
["JOHN DOE","OCEANIS 35,1"]
["IROMIGUY","COMET 28 RACE"]
["LEON","IOR 3/4 TON '78"]
["COURRIER DU LEON","GRAND SOLEIL 43F"]
["WALLI","DUFOUR 350 GL"]
["BARONESSA","PIONIER"]
["PRONTO","COMET 45"]
["SEA PEARL","CUTTER BERMUDIANO"]
["DIEGO","6 METRI S,I,"]
["DELFINETTA","D 772"]
["TARANTA","DUFOUR 40 PERFORM,"]
["VIRE VENT","FOCUS 730"]
["NIOB 6","FOCUS 850"]
["JUBILATIONS","IMPALA 35"]
["TELEMAQUE 2","IMPALA 36"]
["TABON","IOR ONE TON '80"]
["CAPELLA","BAVARIA 35 CRUISER"]
["SOLENN","CROCODILE 25"]
["SOLEIL RAPIDE","FARR 31 MOD,"]
["EL CHICO","MELGES 20"]
["KERL","STAG 38"]
["DJAILOLO","ELAN  E4"]
["ROARK","TANGO 30"]
["ENCOUNTER","FIRST 21,7 S"]
["TREIZ","PICCO 25"]
["LA BELETTE","PROTO IOR 79"]
["TRADITION BRETAGNE","ILLIMIT"]
["ILLICO","ETCHELLS 22"]
["REVE DES ILES","CYCLADES 50"]
["TOINOU 2","BAVARIA 46"]
["SINEQUANON","FIRST 33,7 (DK)"]
["ZADIG ROYAL","TEN PF"]
["ESPRIT DE SEL VI","NELSON 46"]
["FARSTEO","PROTO 31"]
["LE GRAND LARGE","PERVERSION 37"]
["CANHABAQUE","BENETEAU 57 2,10"]
["ATROX","X 362 SPORT"]
["JACK MATHURIN","SLY 42"]
["LOREMI","OCEANIS 393 C"]
["STELLA MARINA","BALTIC 38DP"]
["SUZY","DELTA 84"]
["CHINATOWN","GRAND SOLEIL 39 G"]
["SAKIFO","SOLARIS 36 O,D,"]
["NOTORIOUS","ZIGGURAT 9,16"]
["NOMI","FIRST 27,7 BG"]
["HEY JUDE","SUN FAST 35"]
["PEPPERMINT","DUFOUR 365 GL"]
["GRAIN DE SOLEIL 6","DEHLER 25"]
["CHEYENNE II","MELGES 30 MOD"]
["NOISY OYSTER","SHOW 29"]
["MEAMEAME","GS 45 JV"]
["VOGALEN","SOLING OD"]
["ZIGZAG","GIB SEA 474"]
["VILLE DE SAINT PIERRE","DUFOUR 385 GL"]
["CAIPI","BAD 27"]
["SOULMATE","ITALIA YACHT 10,98"]
["LOUP GAROU","TE'SALT"]
["SURCOUF","FIRST 30 E"]
["BYE","ESSE 990"]
["STEADY TENSION","HANSE 311"]
["RENARD des MERS","KELT 7,60"]
["PROTOCOL","FARR 31 MOD"]
["X ' EAU","M37"]
["SURICAT","DUFOUR 3800"]
["EXIGENCE","EM 830"]
["CARABOT","DUFOUR 41 CLASSIC"]
["GALIPETTE","ZIGGURAT 916"]
["CYRIEL","AZUREE 40"]
["OVERDOSE BRAVO","HURRICANE 315"]
["CHOUPIE FREE","RIMAR 44,3"]
["DAGUET 2","VISMARA OPEN 45"]
["TAGAN IV","COMET 1050"]
["MAZIANNA","HANSE 411 SPOILER"]
["D'ARTAGNAN","DELPHIA 33"]
["CRAZY GOOSE","GRAND SOLEIL 343 P"]
["OXALIDE","IMX 40 MOD,"]
["AROBAS","BAVARIA 32 CRUISER"]
["VENT DE SOLEIL","SOLARIS ONE 50"]
["ATAO","DUCK 31"]
["CHAIRMAN","X-302"]
["MERLIN","FIRST 40,7 MOD"]
["MEANE","D 772 CROCIERA"]
["AXELLE'S","DUFOUR 34 MOD,"]
["BEELZEBUTH 3","DULLIA 30"]
["VERONIKA","RIGOLETTO"]
["OUPS","HALF TON"]
["XCEPTION","ICE33"]
["STARLIGHT","ITALIA 10,98"]
["DUR DUC","SYDNEY 39"]
["CAPTAIN CAP 2","BAVARIA 34 C"]
["CARRERAS","RIVETTO"]
["CHINA GIRL","SUN ODYSSEY 37 LEG"]
["BALISTRA","COMET 38S"]
["COEUR DE CHAUFFE 3","VISMARA 47'"]
["ODYSSEY","ESYD950/CLASS 9,50"]
["FRANCAJARO","EVOLUTION 10"]
["PYAXARAM","GIB SEA 312"]
["CUTTY-TOU","MAKE 25"]
["SHORTGOOD","POLARIS 37"]
["CHARLOTTE III","PROTEUS 90 MOD,"]
["MILLENIUM FALCON","SHOW 32"]
["J LANCE 12","UFO ONE DESIGN"]
["LA RAILLEUSE","COMET 1000"]
["Kirstine","DUFOUR 40 P"]
["JOIE DE VIVRE","AKILARIA 9,50"]
["SUNBURST","SALONA 40"]
["DOGS JORROCKS","SUN ODYSSEY 36i"]
["Jumbuck","JOKER MOD"]
["Seascape 24 Demo","FARR 49'"]
["Nautibuoys","HANSE 415"]
["SEASCAPE DISTRIBUTION UK","NSX 42"]
["UNITY LETS","CORK 1720 SB"]
["SOUNDBITE","MONO 22"]
["MARKS AND ,,,","ESTE 24 OD"]
["Drumlyn of the Seas","STREAMLINE"]
["IMPULSE","MARCHI 39"]
["Antilope","BAVARIA 44 CRUISER"]
["KATSU","FIRST 36,7 MOD,"]
["ARAGORN","GS 43"]
["MARIA LUDOVICA","BRENTA 44"]
["ROCK HOPPER","CANARD 41 MKII"]
["BANK VON BREMEN","XP55 SD"]
["SARAY UNO","ITALIA 13,98"]
["SYLVA","SOLARIS 37"]
["SEEUSOON","SUNFAST 3600"]
["AUXELLE","SOLEADA 34"]
["WEXELKURS","INTRO"]
["CARA","BONIN 31"]
["X-BOOT","STARKEL 57'"]
["NORDEN","GRAND SOLEIL 40 M,"]
["BAJAZZO","EUREKA 31"]
["PEANUTX","SUN ODYSSEY 42 I P"]
["ARNDT","LEADER 31"]
["MOSSINOL","ETAP 34 S"]
["ABACUS","ESTE 39"]
["WUCHTBRUMME","DAM 35"]
["ROXY","PORTOBELLO 28 QB"]
["BLUE BAT","J-22 ONE DESIGN"]
["HEAD HUNTER","M-34"]
["MORGENROETE","ELAN 410 SD"]
["OSTWIND","FAX 33"]
["DISCO VOLANTE","FENICIA 45'"]
["ATARAXIA","FIRST 435"]
["RUBIX","KEELER 28"]
["OTAGO","KOALA 34"]
["SIXTYFOUR","MOUSSE 99"]
["UTSIRA","SERENITY"]
["WILD LADY","NAUTILUS MARINA 43"]
["GLASHÄGER","CARTER 37 OT"]
["OSPA","BA 40"]
["AMUSE-BOUCHE","OCEANIS 55"]
["LONESTAR","QUEEN 34"]
["DANTES","JOUET-GOLIF 22"]
["NIKAIA VON HAMBURG","BONIN 358"]
["RAROTONGA","CLASS 33"]
["HIGH YIELD","MILLENIUM 40'"]
["TRUWEN","TUCANO"]
["JOS OF HAMBLE","FIRST 40,7 MOD,"]
["LORE","COBRA 33"]
["AURELIA","CANADOS 37 R"]
["SATURN","J-109 MOD,"]
["LOT","ITALIA 12,98"]
["ARRABBIATA","LEGNOMANIA"]
["CAELESTIA","SUN DREAM 28"]
["SQUIFFY","FUN OD"]
["A QUATRE","DEHLER 39 SQ L,E,"]
["JULIA","BALTIC 43"]
["RIGHT NOW","DEHLER 36"]
["UPDATE FF","J 39"]
["PUNTA D'ORO","3/4 IOR"]
["LORD JIM","CYCLADES 39"]
["BELUGA","NAUTICAT 43"]
["CEDO NULLI","FIRST 300 SPIRIT"]
["KNUBBEL","MESCAL 31 MOD,"]
["WILDFIRE","ADVANCED 66"]
["JOY","30 MQ SVEDESE"]
["FLEUR DE MER","BALTIC 130"]
["FLYER","MYLIUS 15E25"]
["MACH 1","STAR 60"]
["LUNA","SUN ODYSSEY 36i P"]
["VMAX","FY 49"]
["MATCHBOX","FOCUS 750"]
["ELFIN","C-41"]
["ELLA","AKILARIA RC1 CL'40"]
["YAM","G 34 ONE DESIGN"]
["KNAB HORN","SHOW 42"]
["ALSA","SUN ODISSEY 39i"]
["PINK MARTINI","DUFOUR 414 TROPHY"]
["LUTRA","ELAN-400"]
["DESNA","OPEN 43'"]
["HAVKARLEN","STARKEL 55'"]
["RATZFATZ 3","FY61"]
["CHILLY BANANA","ARYA 415"]
["FATHER'S JOY","MODULO 123"]
["YES!","ZERO"]
["FELINE","DB1"]
["WAPPEN VON BREMEN","DUFOUR 310 GL"]
["MAREIKE A,","EASY 27"]
["IMAGINE","ZIGGURAT 910"]
["PAX","ZUANELLI 40"]
["FINNJA","X-332 SPORT MOD,"]
["THIASSI","GRAND SOLEIL 42RMO"]
["CAPRICORNO","BALTIC 50"]
["HAI","PROTO HALF TONNER"]
["STUBBER","ONE TONNER"]
["LUCIA","SUN ODYSSEY 40,3"]
["CATCH UP","FIBAGO CX"]
["STUCHEL V","MOODY 376"]
["CAZADOR","C57"]
["WILMA","ASSO 99 MOD,"]
["BARCENTRAL","SWAN 70 RK"]
["HOPPETOSSE","FAX"]
["CHARLOTTE","JOD 35 ONE DESIGN"]
["MEDEA","FIRST 18"]
["MIKA","BONIN 36 SENZA SP,"]
["NIGHTFEVER","DRAGON"]
["PELLPOT","GRAND SOLEIL 50'"]
["RELAXED RABBIT","GRAND SOLEIL 52 P"]
["TAKE FIVE","OCEANIS 34"]
["MACHTNIX","SINTESI 45"]
["EXCITEMENT","SOLARIS 42"]
["LALUMA","COMET 770"]
["BLANC BLEU","FLYING STAR"]
["Rebellion","MELGES 32"]
["JACARANDA","VROLJK 37"]
["SEVELINA 2","MAYDA 39"]
["SUGAR","RIMAR 41,3"]
["KARUMA","SCUDERIA 50"]
["TSUNAMI","ULTIMATE 20"]
["LICHTBLICK","SOLARIS 44"]
["LOORA","BM 40"]
["HAJO","SWAN 36/7"]
["ANDAR","ELAN S5"]
["AKKA","ESTE 31"]
["DESSERT D'ALCYONE","DINAMICA RS 940"]
["SUSEWIND","ULDB 65"]
["BRIMIKE","FIRST 260"]
["KAEPTN BLAUBAER","ULTIMATE 30"]
["GEMMA XPRESS","SOLARIS 68 JSA"]
["FÖRDE XPRESS","GENESI 43 REGATA"]
["EXPLODE4US","DUFOUR 450 GL"]
["ROTHAUT","GENESI 43"]
["WALKABOUT","DELTA 95"]
["OUTSIDER","SOLARIS ONE S"]
["ROEDE ORM","JEANNEAU RUSH"]
["TOKE","SWAN NY/CLUB FRERS"]
["LALLI","PALVIT 37"]
["VIVIEN","GRAND SOLEIL 341"]
["DYVERTIMENTO","H22 ONE DESIGN"]
["SPINDRIFT","BAVARIA 36-3"]
["BONITO","MODULO 93"]
["AMANRICA","SLY 48 CRO"]
["THINCHEN","X-512"]
["NO LIMIT","COMET 41S BT"]
["CHACOSITO","COMET 36 S"]
["RAPID RELIEF","BALTIC 48"]
["SPEEDY GONZALES","DEHLER 38 CWS"]
["SPORTHOTEL","COMET 703"]
["FORTISSIMO","ONIAK 9400"]
["TRÄUMCHEN","MYLIUS 65"]
["SOMETHING HOT","SUN ODYSSEY 36 i"]
["WESTERGAST","SUN ODYSSEY 31"]
["TIMPE TE","MESCAL H,T,"]
["EASY RACE","XP 44 SPORT"]
["LUPERCALIA","SOLARIS 36"]
["RUNGHOLT","GIB SEA 43"]
["PADEDÖ LIKEDEHLER","SOLARIS 48 BT"]
["EEASY","XP 33"]
["WADLOPER","SCHOONER"]
["WINDFUCHS","STORM 33"]
["ESTELLA","GRAND SOLEIL 40RCK"]
["CASITA","CORI 53"]
["HOODED MAN","X-412 MK 3"]
["ALLEGRO","SINTESI 36"]
["LONGO MAI","RONDAR K6"]
["CAPRICE","KOALA 39"]
["MUESLI","HANSE 531"]
["ELFE OF NEW YORK","DUFOUR 45 E"]
["CHAPU CHAPU","X-442 SD"]
["FILIPPA","GRAND SOLEIL 58 P"]
["RESOLUTE","MOUSSE"]
["BELLA","COMET 910 PLUS MOD"]
["GERONIMO","FIRST 34,7 MOD,"]
["LOTTA","ZIGGURAT 995"]
["CROSSBONE","OCEANIS 361"]
["BRADA","M 37"]
["NOREIA","SWAN 601 (2004)"]
["RHE","MINI 650 POGO 1 95"]
["CHENAPAN","MOODY 54 DS"]
[null,"IOR ONE TON MOD,"]
["MISTRAL","COMET 1050 MODIF,"]
["GROTE BIM BAM","DUFOUR 485 GL"]
["INSPIRATION","ESTE 35"]
["TROTTOLINA BELLIKOSARACE","GRAND SOLEIL 54"]
["(T)RAUM","ICE 60"]
["AGLAJA","VISMARA 45 FC"]
["AMELI","VISMARA 34"]
["AVA","C34"]
["BLINDE KUH","IOR ONE OFF"]
["BLUE BIRD","P 38 MAGNUM"]
["CACHAVACHA","SUN ODYSSEY 42"]
["CIRCUS","GRAND SOLEIL 45 M,"]
["DICKE BANK","COMET 303"]
["EYE OF THE WIND","MOSTES 55"]
["FIRST ONE","MAXI ONE DESIGN"]
["GER 29","SLOOP"]
["GNARALOO","GULLIVER 57"]
["HARLEKIN","REBEL 35"]
["HAVLYS","MILLENIUM 40"]
["INSPIRE","VISMARA 41"]
["JALLA JALLA","DUFOUR 34 PERF"]
["LOCURA","GS 34"]
["MILERO VELOCE","ZUANELLI/ALPA 34"]
["SANTA CATHARINA","JEANNEAU O,D,"]
["BIG EASY III","IY 998"]
["LENA LY","X-3/ TON MK2"]
["KUDDEL DADDEL DU","FAT 26"]
["CALINA","STORM 22"]
["STALKER","FARR PLATU 25 MOD"]
["SCHWARZE WAND","RANGER 29"]
["SERAFINA","QUEEN 34'"]
["DIESKOPP","ECUME DE MER"]
["OLLE USE","FIRST 45 SK"]
["KONNICHIWA","CANARD 41 MOD,"]
["ARCONIA 4","H,BOAT"]
["HARP8","SUN ODYSSEY 49"]
["POGO 2","SWAN 60 R"]
["NIKAJU","BONIN 36"]
["KALEA","OCEANIS 46"]
["VINGA","MURPHY 26"]
["HINDEN","BAD 37"]
["SOPHUS","VISMARA 52 FC"]
["JENIFFER","FUN"]
["INTOXICATED","HANSE 455"]
["GYMIR","GRAND SOLEIL 35 PB"]
["FRIDA","SCIARELLI 60"]
["FREYA","VISMARA 46"]
["EMMA","ESTE 31 CUSTOM"]
["ELKE 8","FARR 53"]
["FEINSCHLIFF","COMET 50 R"]
["ELLIDE","COOKSON 50 CANT"]
["SUNBIRD","MYLIUS 14E55"]
["CORVUS","MILLENIUM 45"]
["CORVUS ALBUS","ITALIA 998 F"]
["X-WING","NEXT 37"]
["ALTER SCHWEDE","GRAND SOLEIL 39 2M"]
["SWANWIT","NEO 400 CARBON"]
["CALLE STRÖMER","OCEANIS 54"]
["PETER VON DANZIG","CLASSIC 30"]
["NEREUS","COMET 51 SPORT"]
["BIG MOJO","MYLIUS 76"]
["ADAMAS","ZIGGURAT 9,95"]
["TURBEMUS","SUN FAST 39"]
["SYDBANK","B&C IMS37CR"]
["KREUTZ ASS","YOKOYAMA 12m"]
["INSOMNIX","YOUNG99 MOD"]
["JUXBOX","OYSTER 55"]
["HEAVEN 77","Najad440ac"]
["MALAGA","HUNTER 306"]
["NICOLETTA","J/V 35 CR"]
["SIDEKICKS","TAKAI 40 (1ton)"]
["CHRILA","VITE 31"]
["GERMANIA 6","BALTIC 35"]
["SEHKRAFT","YAMAHA 30S N"]
["FINALMENTE","MUIR 40"]
["SCHÜDDELFROST","R/P 45"]
["FREDFISHER","VITE 31BK"]
["POUR ELLE","YAMAHA 31S"]
["IDEAL","VITE31 BK"]
["CHOSI VI","First40,7"]
["EMBER SEA","SWING 34"]
["STARDUST","SEAM 31"]
["FLIEGE","FIRST 45F5 (DK)"]
["HUSKY","J-130"]
["GLÜXKIND","X-362S(Std)"]
["CIRRUS","FIRST 40,7 (DK)"]
["UNIVERSITAS","FIRST 41S5 (BK)"]
["NO EXCUSES","Farr34"]
["INSCHALLAH VI","J-120"]
["RHEPRO 21","SPRINT108"]
["X-LINE","ONE TON"]
["QUATTRO","SOTO 36"]
["HALBTROCKEN 4,0","Bavaria CR 41 S"]
["INTERMEZZO","Yamaha 31 Festa"]
["HALBTROCKEN","TAKAI 34 IMS"]
["XENIE","FARR 45"]
["SOLCONIA","FIRST 375 G"]
["SMILLA","MIKE MUIR"]
["BLAUPAUSE","SOTO 36 C/R"]
["LOLA","X-55"]
["DONNA KLARA","X-402"]
["WINDLIESE","Sweden Yachts 340"]
["ANDASTA","CATALINA CAPRI 37"]
["VIERENDEEL","Conrad 54"]
["OLE MARIE","Rondo 33,3"]
["SEA LOUNGE","X79"]
["RASMUS","Mantra 7000"]
["ONE STEP AHEAD","RS 280"]
["KUEHNEZUG-GOLDKATZE","ST 25"]
["DWINGER 2,0","RS280"]
["LUCKY FIVE","Conrad 30"]
["FREIZHEIT","DEHLER DB1"]
["PHIA","A-40"]
["X - DREAM","ONE 42"]
["NEXUS","Amon 940"]
["SHOOTING STAR","BENETEAU 50"]
["X-DAY","Pacer 376"]
["SKROLLAN","Fareast 26"]
["LYNX","Lavranos 34"]
["DYNAMIT","Hunter 27"]
["TRAUMFAENGER","Oyster 41"]
["DOGMATIX","Swan 44 S&S"]
["AZZURRA","Sigma 38 OOD"]
["KRANICH","Salona 40x1,99"]
["ALBION","Contest 62"]
["MORRAN","Roger 36"]
["BEST BUDDIES","Limbo 9,9 mod,"]
["ICE","Hustler 32"]
["MAJO","AC Frers"]
["KARMA","Mazurka"]
["CALA VENTINOVE","F & F 65 STD"]
["WINDHEXE","KER 51"]
["RELAEXX","Lutra 52,5"]
["MECKI-MESSER","Dehler 37 DB"]
["TOPAS","Albin Nova"]
["CLAXPAX","Baltic 39 SD"]
["ABSOLUTE BEGINNERS","Waarschip1/2Tx1,65"]
["GRACE","Tina"]
["JALAPEÑO","PHASELUS"]
["ASKEW","Waarship1/2tx1,65"]
["RUDEN","Sigma 36"]
["PYLEIA","NORDIC FOLKBOAT"]
["STEVE WONDER 2","Laser 28"]
["FRU HANSEN","Staron"]
["XAOS","ALU 980"]
["VIVA","Marieholm 26 IF"]
["PHELIA","Pionier 10"]
["RUTHLI","Halcyon II 27'std"]
["4, STERN","Zeeslang"]
["CONCETTA","Waarschip 725"]
["AQUIS GRANUS IV","Zeeton * 1,55"]
["PANDA","TREWES 35"]
["TAIPAN","GK 24 * 1,52"]
["CROIX DU SUD","Solution (Mod)"]
["X-EXPLOSIV","Sprinta Sport"]
["MAMELIE","Standfast 33"]
["NO LIMITS","Waarschip 1/4 x1,5"]
["EDELWEISS","Extension"]
["BARINGA","Starbuck"]
["TOP JOB","Victoire 822 x1,20"]
["DU OPTIMUM","Victoire 34 x1,87"]
["DOCKENHUDEN","X-102 (Mod,)"]
["RIDE ON","She 36"]
["TI PUNCH","Pion (OOD)"]
["CORIOLIS","one-off 1-ton"]
["ESHA","Zeester"]
["LENA","Feeling 920 * 1,70"]
["SHARIFA","1/4 Ton"]
["RECKLESS RAT","ROBBER 3E"]
["ISOBAR","Albin VEGA"]
["SHODDY","Spirit 28 *1,42"]
["ELAN","J-44 (Mod,)"]
["NEROROSSOVENTO","Bashford 36"]
["YELLA 2","8 MOD"]
["ZUKUNFT IV","Norlin 37"]
["HIMMELBLAU","Victoire 855x1,20"]
["LIGHTWORKS","C & C 44 WK"]
["FAIR DO'S","Shamrock 30"]
["CHIAVE","HURLEY 800"]
["ROCK IT","F & F 110 DK"]
["SCHIFFSCHAUKEL","Spirit 28"]
["SKJÖLD","Dehler 36 CWS WK"]
["NEMO","First Class 10"]
["JYNX","Banner 41"]
["BELLEVUE INSPIRATION","F & F 95"]
["TINKERBELL","Maxi 999 * 1,45"]
["MAGIC LADY","Agari"]
["GRETA","Typhoon 37"]
["EINSTEIN","Spirit 32 SD"]
["JOSEFIN","F & F 95 STD"]
["KJU","ST 23"]
["MAGIC","ALC 46"]
["CARAMELLE","GRAND SOLEIL 34,1"]
["MILAN","Sun Rise 34"]
["FULL MOON","J-39"]
["ANDROMEDA","Cruising Sloop"]
["BAZZ","F & F 30 S"]
["HURLY-BURLY","Waarschip 740x1,65"]
["H,E,A,T","Waarschip 28 LD"]
["OPAL III","HOD 35"]
["ILE FLOTTANTE","F & F 110"]
["LUVTIKUS","Spirit 36 S"]
["ZICKE","Sweden 36 wingkeel"]
["SNOW WHITE","Victoire 1044"]
["MAX","Swan 39"]
["INFERNO II","Winner 950x1,30"]
["UMINOKO","Omega 36"]
["FORTY TWO","Norlin 37 MK II"]
["X4FUN","Waarschip660x1,25"]
["PANTA RHEI","Dehler 36 CWS 1,55"]
["MORENA","Dynamic 37"]
["ASIA DE CUBA","Standfast 40s"]
["VERMEER","Waarschip 900 plus"]
["LADY HEAVEN","Endurance 38"]
["MAIKO","Dehler 38 SD"]
["AVENTURA","Dehler 28x1,35"]
["MAÑANA","TEMPO"]
["MISTY","Winner 1010 x 1,80"]
["KOALA III","Kalik 30"]
["BLACK MAGIC","Grinde820x1,70"]
["BLUBIX","First 36,7 SD"]
["CALYPSO","Victoire 933 x1,45"]
["TIMANTTI","Breehorn 44"]
["SAYONARA LIGHT","Comfortina 42x2,10"]
["MIN DROOM","Winner 950"]
["CARPE VIVEM","Swan 46 (DK)"]
["\"needles and pins\"","Spirit 36"]
["SCARLINO","BH 41 MOD"]
["X-PRESS","v,d, Stadt 34"]
["T-TIME","Wasa 38"]
["SILVER MACHINE","Spirit 36 DD"]
["FRENCH CONNEXION","Landmark 43"]
["BALLERINA 2","SJ 320"]
["MADAME","Elan 40x2,05"]
["ATIEDE","Hallberg Rassy 43"]
["ESPRIT","Dufour Classic 38"]
["TAIFUN","Salona 45x2,10"]
["NIRWANA","Dufour 44x2,10"]
["ASTA","ELAN 37 mod"]
["JENEVER","Lutra 40 Open"]
["XTORTION","HANSE 461 x 2,30"]
["REE","Elan 37x2,05"]
["MIO CARO","Beluga 40"]
["MARELAN","Stadt 34"]
["NEVER SAY NEVER","Stern 33"]
["SCHRAT II","Feeling 1090x140"]
["SARAND","Beneteau 25"]
["WILLI","F & F 915"]
["HANS UHL","Sun Fast 36x1,95"]
["SOLA","Maxfun 25"]
["JACK FLASH","COMET 45S x 2,70"]
["NANNA","Salona 37x1,98"]
["IMMAC FRAM","Sprinta"]
["OLD JUG","Piewiet 1200"]
["LUTZIFER","First 42 S 7"]
["SEABISCUIT","X-37x1,98"]
["KÖNIG LUDWIG","Stila 44"]
["HONK","Indigo"]
["FISCHERMANN'S","X-50 x 2,40"]
["GAMBERRO","Winner 1010 x 1,95"]
["KNOCHEN","Dehler 41 DS"]
["WON4ALL","First 36,7 X 1,80"]
["MAÎTRESSE","Waarschip 40 ld"]
["AURIGA","Elan 384"]
["DÉESSE","Dehler 34SV"]
["SENZA FRENI DUE","Standfast 43x 2,05"]
["KHULULA","Waarschip 600 SV"]
["ALMA ROBERTA","Nautiner 30S"]
["XXX","Bestevaer 50"]
["BUMBLEBEE","Winner 1220"]
["BLAUBÄR","Sweden Yachts 54"]
["JOJO","Ragger 130"]
["TROPHYFEE","ARGO 680"]
["PINK X","Dufour 40E perf,"]
["BOATOX","Bonita 767"]
["GREYHOUND","Dehler 45"]
["ALEXIS","Waarschip 700LD"]
["LADY LIKE","Winner 12,20"]
["RONKARJO","Friendship 34"]
["WILD 'n' VERY FAST","Tirion"]
["BOOSTER","Waarschip 1220"]
["LEVANTE SPRINTER","Smile"]
["JESTER","Beaufort 8,3"]
["BLUE MOON","Sweden 34"]
["GERDA M","-"]
["BLOODHOUND","Dehler 35 SV"]
["WIRBELZOPF 3/4","Xc-50"]
["JAN HIMP","v/d Stadt Samoa 47"]
["BADASSO","Dufour 334"]
["MAXIMA","Najad 360"]
["LUXUSLINER","Oceaan 25"]
["FAKSE","Sun Fast  37"]
["CIRCUS MAXIMUS","Waarschip 1076"]
["MINX","SunShine38"]
["NAE-TO-DAN","Elan 360S"]
["FIEFDEELER","Duetta 94x1,10"]
["MISTRAL II","Foxhound 24"]
["FIXI","Spirit 36SD"]
["XPRESSO","Elan 33 mod keel"]
["EXTRA 3","Waarschip 8,7"]
["SWASH BUCKLER","Dufour 40 x 2,10"]
["NOODLES","Nicholson 43"]
["CARABELLA","XP 38-210"]
["KIROKASSIS","Scanner 391"]
["KALKEI","BAVARIA 46 C"]
["WALROSS IV","Optio 9"]
["TOKU ITI","Friendship 33"]
["PATENT 4","Kelt 620"]
["RED DRAGON","BIANCA 360"]
["VARUNA X PRESS","Contest 34"]
["TUTIMA","FRIENDSHIP 28"]
["TØSEN","First Class Europe"]
["GULFSTREAM","Saffier 8,00"]
["ELIXIER","Hanse 470e"]
["FREIZEIT","FIRST 375 (SK)"]
["PIRANHA","Compromis 888 Clas"]
["ALMOST NOTHING","Sweden 340"]
["ISKAREEN","Saffier SE33"]
["ESPADA","75m2 nationale kru"]
["AQUAMARIJN","Standfast 36"]
["NEAJA","JON 33"]
["X99","Kolibri 900"]
["STATIC ELECTRIC","Scanmar 33"]
["ONESPIRIT","Waarschip 740 ocea"]
["DRALION","Eversail 42"]
["DESTINY","Elvstrom 1/4 ton"]
["KALLONI","Allures 45"]
["KOURSAROS","Fareast 23R"]
["GIORGIO","Winner 1010x1,40"]
["ALKYON","Dehler 34 2016"]
["STAVENTO","Koopmans 43 vangua"]
["CORRENTE","Ericson 39"]
["ALHIMISTIS ONEIROU","Dehler 38C"]
["ARK","Contest 42 CS"]
["PANIC","C&C 25"]
["KAMAYA V","J-108"]
["MARILENA","Enter 360"]
["JUNIOR","SWAN 53"]
["GALENA","J/112E"]
["THYELLA","Swan 47"]
["MELODIE","J-29"]
["PHOEVIE","Winner 9Perf"]
["HAPPY CAPTAIN II","Spirit 37x1,98"]
["NATALIA A","J-133"]
["KAHLUA","SUMMIT 35"]
["GLAFKI III","FF 35 S"]
["ECHIONAS","Simones 45"]
["OKYALOS XV","Cormoran"]
["ALMYRA","ONBEKEND"]
["PELISSIMA","DOMP 825"]
["SCARLETT","8M one design"]
["IVILATO","Koopmans 34"]
["THALASSINOS AETOS","C&C 38"]
["NAFPARIS","TREWES II"]
["APIDALOS NAFS","Dehler 39 WK"]
["NATASSA","X-372 sport"]
["LAVORO","PB 44"]
["ANNA MARIA II","Friendship 33xcb"]
["ACOOL TURABI","Bumerang 32"]
["IOESSA","Dehler DB2"]
["MANOULI TOO","Dehler 35 CR"]
["MEDOUSA III","CONTEST 72CS (MOD)"]
["VENCEREMOS","S&S 34"]
["ARIADNI","Granada 340"]
["DE MALO V","Saffier 26"]
["SALTY","IMX 38 DK (3)"]
["CODE ZERO","Huisman 37"]
["ANAX","Standfast 40"]
["ADRA","X-312"]
["ARISTOFANI","Breehorn 37"]
["LEVANTE","Dehler Dehlya 25"]
["METHI","Winner 11,20"]
["HARA","Zeeton"]
["HERMES 3","Hunter 707"]
["TOMAHAWK","DEHLER 41 DB"]
["ARGONAFTIS II","Duetta 860"]
["ANNA KATERINA","Extra Paulette"]
["TILE 3","Dehler 28"]
["NAUTILUS VI","Mallard Start 7"]
["RIC ET RAC","TEN"]
["YACANA","X-43 x 2,50"]
["ERYTOS II","First 40,7x1,90"]
["PERAN","Waarschip 1010x1,9"]
["MUSUKO","Jeaneau Poker"]
["MIKIMI","Hunter Formula 28"]
["ROZA II","Spirit 32"]
["BANA BIOLETTA 5","Helmsman 35"]
["OKIROI","Feeling 32DI"]
["GORGO","Corby 36"]
["WATER GIPSY","F&F 1100"]
["ILIADA","Hunter 28,5"]
["NEFELI","Bavaria 37 SD"]
["AFROESSA","CORBY 38"]
["ANASTASIA","F & F 1100"]
["HERMES 2","J-70"]
["EVELIN G","Etap 21I"]
["BANA BIOLETTA 4","HALLBERG RASSY 35"]
["ELEONORA","Hunter Impala 28"]
["MANIA","Feeling 286s"]
["INNAMORATA","First 31,7x1,48"]
["CISSI","Dehler 36 CWS 1,85"]
["KORMORANOS II","vd Stadt25/Zeeton"]
["IASONAS","Kolibri 6,5"]
["BLACK SHADOW SEMI","Jeaneau Rush 32"]
["HARA TON ANGELON IV","Team Heiner 38"]
["CHIMERA","Sentijn 1133"]
["CHIARA IASON","JV 36 one-off"]
["NYSTERI","FIRST 375"]
["DECISION","Glacer 40"]
["AETHRA","Tofinou 12"]
["PIX-LAX III","A,C,"]
["SIRA","Eagle 44"]
["EVITA K","J-33"]
["PITHEAS","Waarschip 36  WK"]
["LARNE","Saffier Se37"]
["AEOLOS","Drifter 25"]
["ALS","X4,3"]
["GULIO","KER 11,3"]
["CHAMOGELO TOU PAIDIOU","Brise de Mer 34"]
["NAFSITHOI","Maxi 1300"]
["KOLOVOUTI","Pointer 25"]
["PEGA","Mull 42"]
["EX ANIMO","Saffier 36"]
["HARIS","VQ 32"]
["CHRISTINA","X-4"]
["SIBA","Westerly GK 24"]
["SIBYLLA","NF/35"]
["SEMELE II","mat 11,80"]
["CHIMOULIS","C yachts 12,50"]
["SOFIA","Marathon 28"]
["ENJOY","Loper"]
["EVELINA","Standfast 30 *1,75"]
["LYGEIA","Sentijn 37"]
["IRIS","Scaldis"]
["FILIRA","Seaquest 32"]
["NINO III","GP 42 07"]
["ZMPIRIS","Arcona 370"]
["CANENAS","Hanse 370 E"]
["ARIADNI II","Bavaria 41 Holiday"]
["AMFITRITI","NORDISK FOLKBÅT"]
["MYSTIQUE","FIRST 40,7 grunn k"]
["METATRON","Dufour 45 Performa"]
["ANEMOESSA","Oceanis 31"]
["DORIAN","Hanse 320 -1009"]
["ATHINA","Dufour 34 Evolutio"]
["CHRISTINA II","A31"]
["ROSA F","First 27,7s"]
["CHRYSSAOR","Hanse 430 E"]
["NORTH WIND I","Elan 350 grunn kjø"]
["ASTRAPI","Hanse 430"]
["MARSO","Sun OD 409"]
["CAPT, YIOTIS","GibSea 414"]
["BURGUNDY","C-55"]
["DIINEKIS","H-boot"]
["MESOGEIOS","Delphia 47"]
["TRIADA","X-99 Mod,"]
["THALASSA X LOUKAS","Sun OD 439"]
["STELIOS","Sun Od 42i Perform"]
["SAITA","Sun Od 30i"]
["CLYMENE","PRETORIEN 35"]
["IONIA","WASA 360"]
["PARALOS","FIRST 30E MH"]
["NINOU","CAYENNE INT"]
["AGAPI","CB 33"]
["EQUINOX","CONTRAST 33"]
["PANEFI II","H 323"]
["D,X,M,","ALBIN ALPHA"]
["BLUE LINE","ARCONA 36 S"]
["ANEMOS","MARSVIN"]
["MYRIA","Luffe 3,6"]
["ANTIOPE","Marten 49"]
["JEANNE BONNE","Bavaria 39 C"]
["TO KEFI MAS","Hanse 320"]
["TUCACU","Open 60"]
["TATANOS","Sun Od 349"]
["MOUSMOULO","Pacer 310"]
["ONAR","Bavaria 32 Cr"]
["BELL' ANGIOLINA","SW YACHTS 42"]
["ELENA","Sun Od 36i Perform"]
["PERIPETIA","DEHLER 38 13-"]
["GAGARIN","Arcona 380"]
["CHER","Sun Odessey 449"]
["TAMUMM","Dufour 405"]
["AELLA","Aquatich 40"]
["KRONOS","WILLING 31 LR"]
["AGIA IRINI","CONTRAST 362"]
["MELENI","BAKKE 26"]
["MOURMOURA","ALBIN DELTA"]
["STONE AGE","FIRST 31,7 LR"]
["VORRAS","SPIRIT 42"]
["ENALLAX","CB 365"]
["JOY OF FREEDOM","ALO 96 MS"]
["THETIS I","Bavaria 40 AC 98-0"]
["YAKINTHI","Bavaria 36 CR 01-0"]
["DENIS K","Hanse 311 dyp kj›l"]
["MYSTIC","Bavaria 32 AC 01-0"]
["ERINNI","FIRST 47,7 CRUISIN"]
["O PANORMITIS","FENIX"]
["INFIDIEN","Krohn 97/Vision 32"]
["AEOLIAN TOO","Dufour 34 Performa"]
["EVZAN","Dufour 44 Performa"]
["VIENTO","FIRST 45 F5"]
["BLUE SHARK","Maxi 1050"]
["ALALUM","Dufour 385"]
["ALOUSTINA","Dufour 365"]
["ALEXANDROS","Grand Soleil 37 B&"]
["NIKEA","Hanse 341 98-05"]
["LILI","Sun Od 40,3"]
["NAIAS","FIRST 44,7 grunn k"]
["KALLISTO","LINJETT 33"]
["SOPHIA","Sun Od 35"]
["LOVA","DUFOUR 40 HR"]
["LYSIANASSA","SW YACHTS 45"]
["HELIOS","Mini 650 PROTO"]
["SERENITY","Bavaria 39 Cr"]
["TWO CHOICES","RM 1200"]
["BEETHOVEN","SKIPPI 650 Cruiser"]
["FILINTA","Elan 40 dyp kj›l"]
["DE MALO","Gambler 38"]
["NESSUN DORMA","Dufour 36e P"]
["ANDARIN","DIVA 39"]
["ALCYON","SCANMAR 345"]
["FLORANNA III","RAINBOW 42"]
["ERATO","CONTRAST 400"]
["GREAT ESCAPE","MAXI 380+"]
["YULI III","LEISURE 17"]
["TOLMI","11 Metre"]
["DON QUICHOTTE DL MANCHE","Far East 28R"]
["GIORGINO","Sun OD 45 DS"]
["ALLEGORIA","Hanse 342 05-"]
["ANASTASSIA","First 33,7 dyp kjø"]
["ABSOLUT MELISSA","Hanse 311 dyp kjøl"]
["POSEIDON","MAMBA 33"]
["TEENIE TANOU","cb 66 racer"]
["BIDOURIK","Sun OD 49 DS"]
["SOKRATIS P,","Dufour 40 Performa"]
["TAZMANIAN DEVIL","Sense 50"]
["NIRIIDA","WASA 38 CR"]
["NIKOS-ANDREAS","COMPIS 36"]
["AMEDE","CUMULUS"]
["EX OFFICIO","Dehler Sprinta DS"]
["MOLOTOW","Jeanneau 57"]
["KALIMERA","MIXER CR"]
["AEGLI","RUSH 120"]
["AMALIA","HR 34"]
["IPSIPILI-AEGEAS YACHTING","Finngulf 28"]
["ITANOS","J/92 S"]
["RUSH","Swedestar 370"]
["KIRKI","FARR 40 OD"]
["VASILIKI","HP 1030"]
["POCKET ROCKET","Elan 310 2,15"]
["ARMIDA","NESSY 94 CR/R"]
["MARCI","Bavaria 46 Vision"]
["ADAGIO","X4^3"]
["SIESTA","Elliott 9SS"]
["DIAS","Bavaria 37 CR"]
["OKYRROI","A40 rc"]
["MY WAY","HH42"]
["ELLINIXX","SAFIR"]
["BLUE DOG III","IF"]
["INSOMNIA","Dehler 38c 13-"]
["LA DOSE","Hanse 355"]
["SEA EMERALD","Hanse 400 10-"]
["FISKARDO","Hanse 312 dyp kjøl"]
["MAROUSSO","Elan 400"]
["ELISSO","BANNER 28 HR"]
["DADDY","FIRST 36,7 CR"]
["IXIS-AFIXIS","Dufour 34 Standard"]
["GLAROS II","Elan 37 dyp kjøl"]
["OKYALOS V","FINNGULF 37/38"]
["CPT CAMFON","Sun Oddysey 469"]
["LIGO-LIGO","Bavaria 40 Cr"]
["ANNA","Yngling"]
["STRIGGLA","Dufour 365 Grand L"]
["GLAFKI II","W Race GP26"]
["CLEOPATRA","Sun Od 40"]
["OXYGONON","J/133"]
["NADA","Bavaria 33 CR 05-"]
["CYCLADES FORCE","COMFORTINA 38 CR"]
["RAFFICA DI VENTO","First 31,7 HR"]
["KERKYRA","SUN OD 37"]
["SVELTINA","Express 40"]
["AEOLUS II","Bavaria 40 Vision"]
["SOTIRIS JUNIOR","First 35 09-"]
["MARINA","LINJETT 32 7/8"]
["FAIRYTALE","HR 342"]
["APOLLON","HR 310"]
["NEOROS","J/109"]
["DECLARE","Miniton ONE OFF"]
["PANORMITIS","MAESTRO 35"]
["ARION I","ALBIN 78 CIRRUS"]
["NIKOLAOS","SADLER 34"]
["MARPISSA","OMEGA 34"]
["EL PRINE","Wauquiez Opium 39"]
["ARISTOTELIS","Bavaria 33 CR"]
["OKYROI II","Dufour GL 350"]
["GALINI","MAGNIFIK MIDGET"]
["ASSANTE","BAVARIA 42 AC 98-0"]
["COSMAR","HR 312"]
["NELA","Bavaria 34 AC"]
["LAMAR II","Oceanis 323 clippe"]
["CRYSTALLIA","X-46 grunn kjøl"]
["THARRINOS","X-442 Mk I"]
["ELISAVET","Knarr"]
["CRISTEL","BANNER 1/2 TON"]
["UTOPIA","Life 7,5"]
["BAXIMUS","Arcona 410"]
["NIKI","Sun Od 479"]
["QUASAR-EUMARIA","Lill Scampi / IW26"]
["NANY","Koral 46"]
["MYTILANA","N-YACHTS 41"]
["ARION","Bavaria 44 AC 01-0"]
["AEGEAS","Hanse 341"]
["KASSIOPI","X-41 OD"]
["KYMO II","Nauticat 385"]
["DAMSON","Hanse 430e"]
["LINA","SELECTION 37"]
["THALASSINI","COMFORT 30"]
["ALISACHNI","Bavaria 32"]
["MARABOU","Sunfast 3200"]
["LAMOGIA","BAVARIA 37 AC 99-0"]
["KONSTANTINA","XC 42"]
["SAXON","King 40"]
["BEATRICE","GRANADA 32"]
["KALHI","K-38"]
["IOLI","Oceanis 343"]
["PELAGINI","MAXI 87"]
["HIMERA","Dehler 41 SV DK"]
["PANOS GOLEMIS","Dehler 38R 13-"]
["EY","Blusail 24"]
["ZANTINO","Performance 35"]
["ARMENISTIS","HUNTER SONATA"]
["OUSYRA","BAVARIA 38 AC 98-0"]
["PHEVOS","Oceanis 331 Clippe"]
["ALBATROSS I","Pogo Classe 40"]
["FATA MORGANA","Sun OD 39i"]
["PARASKEVI","Sun OD 42,2"]
["HAKUNA MATATA","ELAN 37 DK"]
["BEETHOVEN IV","Bavaria 46 Mod,"]
["ESPEROS","Sun OD 49i"]
["ALMA LIBRE","Gambler 37"]
["DAS BOOT","1/4 TON ONE OFF"]
["BILLOUKIA","HR 29"]
["RAINBOW","TRISS MAGNUM"]
["CETERIS PARIBUS","Arcona 430"]
["KIARA","Bavaria Cruiser 40"]
["KATERINA","MAJESTIC 24 R"]
["APNEA","Hallberg Rassy 342"]
["THEOFANIS","1/2 TON ONE OFF"]
["AITIS","Elan 40 dyp kjøl"]
["MARA","52 KVM KRYSSER"]
["ANTIOPI II","OKSÖ 32"]
["QUEEN","J/122"]
["PINELOPI","J/92"]
["APODRASI","C&C 30E"]
["ENCARDIA","NESSY 94 GP"]
["SWELL","BALTIC 58"]
["GEORGIA ALEXANDRA","Sun Od 440"]
["ASTERIX","X-382 Mk II"]
["PEGIALDA","AVANCE 24"]
["EX-ANIMO","CROWN 39"]
["GRANMA X","SKØYTE"]
["DOCUMENTO","JEANNEAU 51"]
["DAPHNE'S SMILE","Rhapsody 34"]
["NEARCHOS","K43"]
["ANTILIA","Humphreys 30"]
["MELIPLOE","SUN KISS 45"]
["VICTORIA II","Shaw 9"]
["FRINI","DEHLER 34 DD"]
["POLINA","DEHLER 39 JV"]
["SUN LION","DIXIE 32"]
["AURA","Elan 380 dyp kjøl"]
["NIRITIS","HH 42_25-05"]
["FLIRT","J/111"]
["ALKMINI","RJ 85"]
["ONEIRO","MANI 30 SPES"]
["KLEONIKI","ALBIN VIGGEN"]
["AERIKO","Contrast 36"]
["GALAKTIKA","Star"]
["ENASTROS","Code Zero"]
["ALDI","Scampi 30"]
["SOFI","CONTRAST 36 Mod"]
["HARRISON","LUFFE 40 MH"]
["SB3 1","J/120"]
["BLUES","X-37 dyp kjøl"]
["EROMENI","Mistral Super Spor"]
["KONSTANTINOS","Sun Od 36i"]
["ORFEAS","FIRST 30E 7/8"]
["TWEETY","SW YACHTS 38 CR"]
["BLACK JACK-STATUS MARITI","Hunter 27 X"]
["DIMITRA","Bavaria 32 AC"]
["PLEIADES","HR 26"]
["MAST IV","J/88"]
["YPERION","BAVARIA 30 Cruiser"]
["NELLI","Bavaria 38 02-05"]
["FLUID I","Cenit 37"]
["GALAPAGOS","Dufour 34 LR"]
["ADONIS","ELAN 362"]
["ESCAPE","Finngulf 39"]
["ODYSSEUS","MAXI 909"]
["TRIAINA","SPÄCKHUGGARE"]
["BLUESCAPE","Swan 50 Club"]
["TEAM 24","8 M"]
["ANAMA","Archamault 35"]
["ANASTASIOS","J/105"]
["DANAI","Impala 31"]
["ZEFYROS","J/80"]
["ALEXIS P","7 m S"]
["AELLO","Bavaria 36 AC"]
["ERMIS-MYTHOS","Hansson 31"]
["URSUS MINOR","J/100"]
["FARSIDE XL","J/V 47"]
["ELMESKY","OMEGA 42"]
["KOUTROUMANIA","makTEN"]
["LUCKY LADY","Daydream"]
["SUPER DOOPER","X-102 Mk I"]
["FAETHON","HR 43"]
["EST EMAR","X-3/4"]
["ANASA","FARR 30 Mod"]
["BRAVA","HR 24 Misil II"]
["MARY LOU","Sun Od 49"]
["ANEMORIA","MAXI 1100"]
["ZANIN","A - 40"]
["IDHRA","Kracer 40"]
["JULIANNA","Elliot 44 Cr"]
["EXANTAS","SCAN-kAP 99"]
["ELLI","VICTORY 42"]
["THALASSO","SUN OD 34,2 HR"]
["KALIPSO","KELT 760"]
["LA MARIE MORGAN II","Oceanis 343 Clippe"]
["INTEGRALE","BALTIC 39 CR"]
["BOCA LUPO","Carter 40"]
["SUN FIZZ","MAXI 777"]
["ZOMI X","CAL 48"]
["AQUAHOLIC","WASA 53"]
["AVANTES","TARGA 96"]
["HECTOR","Squib"]
["SMARAGDI","BB 13,5"]
["EIRINIKOS","Sun OD 39 DS"]
["MELI","Blank 46"]
["ILONA","Dufour 40 LR"]
["JENY-MARI","GIB SEA 28"]
["HADI",707]
["AGIOS RAFAIL","X-40 Dyp kjøl"]
["IRIDINI","Oceanis 373"]
["DELSPYANA","MØREBAS 33"]
["ILIOHARI","Bavaria 37 Cruiser"]
["AGIAZI","RB 111"]
["OFFSKI","SOTO ACEBAL 42"]
["CASTA DIVA","Macchi 50"]
["CARDINAL","J70"]
["ARPYIA","J111"]
["SKYROS","Carter 30"]
["VICKING","Rasmussen"]
["EMMANOUELA","Dufour 335 Grand L"]
["ELLINAS","Vector 10"]
["FIDEL","Draco"]
["FLAME","Comet 36"]
["SAGINI","FACIL 26"]
["ENALIOS II","Cors T2"]
["NORTH WIND II","MANTRA 31"]
["RESPECT","DELPHIA 37R"]
["IRIDANOS","Two tonner"]
["NAFSIKA","Dufour 382 GL"]
["KALLISTI","none"]
["iSAIL","Clipper 2000"]
["ARGONAFTIS V","50  foot IOR"]
["ALSOUMA","Slotta 1200"]
["ANTHIIS","Outborn 39"]
["LINA II","FAURBY 999"]
["MOUNT KANDILI","DLR36"]
["PANEFI","Carter30"]
["VIRGINIA","Caravela 950"]
["SLOE GENIE","cruiser 22"]
["VELOX","LG 750"]
["GELENA","Conrad 760R"]
["LEONA","GP33"]
["GLYKA","Dufour 310"]
["MAKOSA","RONDO"]
["ARGO","DUFOUR 36 PERFOR,"]
["GITANA","DUFOUR 40 E"]
["ARALUS","SUN ODYSSEY 39 I"]
["ALTER EGO","Grand Soleil 50R"]
["ASTARTI","SHIPMAN 63"]
["MAKEDONIA","RUSTLER 42"]
["MAMMA AIUTO","DEHLERCWS"]
["TSIPOURO","J105"]
["DERIVE","JV 56"]
["SOFIA STAR I","SUNSHINE 36 juppet"]
["BULLET","JOD35"]
["WIND RIDER","COMET 41S MOD,"]
["BANA BIOLETTA 3","QT"]
["PORFYROUSA","Harmony 42"]
["TAXIDEFTIS","Oceanis 38"]
["BEER O'CLOCK","Laser SB3"]
["KATE MARY V","First 24 QR"]
["ULTIMO","JV 42"]
["DEMON","Pogo 650"]
["VOLTAIRE","Bavaria 31 C"]
["PANDORA","Millenium 40 QB"]
["TIFOEFS","First 34,7 PTE"]
["KORONI II","Sonate Ovni 28 mod"]
["ERODIOS","First 20"]
["SKIRON","Swede 55"]
["SEASHELL-KA","Farr 38"]
["MYSTIS","Miura"]
["HOY HOY","Vickers 41"]
["MARGIA","Leisure 42"]
["LEUCIPPE","J-27"]
["KIRKI II","Simonis 35"]
["DELFINI","RP 37 MK 2"]
["THALASSA","Fast 42"]
["AFRODITI - SOLARIS","Dynamite 680"]
["ADRASTEIA","Hunter 34"]
["EMEIS","Pacer 27 Sport"]
["NAIS","Lavranos 39"]
["ELVIKY","Astove 30"]
["KALYDONA","R/P 52"]
["DIAFANIA","Lavranos 52"]
["RITA III","Simonis 60"]
["PERAMARE","Farr 38 mod,"]
["OSTRIA","Rocket 55"]
["DELFIN","DD 26"]
["PRINGIPESSA","Cape 31"]
["KYMOTHOE","Pacer 42"]
["MELINA","JPK 1010"]
["ESPRESSAKI","Ocean 31"]
["PERIBANOU","Swan 411 (1977)"]
["MARABU","L 34"]
["GREGOS","Buccaneer"]
["PRINCESS OF LIMNOS","Corby 49"]
["Ricochet","Holiday 23"]
["Vixen","Lavranos 52 One of"]
["Sidewinder","Simonis 35 mod,"]
["It's My Pleasure","Charger 33"]
["Gnarwhal","Simonis 35 mod"]
["Catch 22","Beneteau First 7,5"]
["Red Herring II","RCOD Mod"]
["R2B2","Tosca 36 mod,"]
["Iron Man 25","Bongers 39"]
["Good Vibrations","Holiday 34"]
["Hotwired","L 26"]
["Carter USM","Montevedeo 43"]
["Gambit","Mauritius 43 mod,"]
["Spookasem","Atlantis 36"]
["Kiasu","Pacer 380"]
["Stingray","Mumm 36 mod,"]
["Havoc","Laranos 34"]
["Tuco","J 27"]
["Jive","Farr 38 [mod]"]
["Fab","RCOD"]
["Amadeus","Lavarnos 34"]
["Talizmán","BE 20"]
["Kishamis","Baltic 42"]
["Tramontana II","Jarkan 38"]
["Tabu","Compass 47"]
["Helikon","S 26"]
["Sirocco","Briand 43"]
["Ellinore","Sadler 26"]
["I'm Free","FARR 44 MOD"]
["Westport","JEANNEAU   JOD 35"]
["Szélvész","RC 44 OD"]
["Amina","Ricochet 930"]
["Nemere II","RG650"]
["Manöken","Xp 50"]
["Szürkebarát","Club Swan 50"]
["Addio","GRAND SOLEIL 42R"]
["Uj Vizöntö","Cetus"]
["Semiramis","Conrad-44"]
["Wee Helly","Conrad-24"]
["Solara","Rikoshet-780"]
["Fury","Konrad-25R"]
["Oran Almog","Raketa970"]
["Hanna","SOL 1350"]
["Bellendaine","H BOAT"]
["SLYD","L-60 mod"]
["Lou of Ixopo","O-800"]
["Mermaid of Delaware","YOK 41"]
["Tamar","OPEN 50"]
["Ananda","HALLBERG RASSY 31"]
["BeYOLO","Bavaria Cruiser 32"]
["Daya","Open 800"]
["Kidmit","CT-25"]
["Lataka-Be","Raketa-970"]
["Peach","ELF1180"]
["Shelly","NM 40"]
["Tern","On-off"]
["U-V","CONRAD 760"]
["Whisper","Forna 37"]
["X-President","X-35 OD MOD,"]
["Blue Point","TP52 - ONE OFF"]
["Galit","ARYA 415 MOD,"]
["Lihi","Elan Express"]
["Sydney","Super Stag 40"]
["Shachaf 1","Fiumanka 33"]
["Blue Wave","DEHLER 39 CWS DK"]
["Liz-Lu","Salona 42R"]
["Alma","SWAN 65 Ketch"]
["Senza Freni","OLSEN 34"]
["Etchell","PSAROS 33"]
["Cordonbleu","OLSEN 31"]
["Ocean 1","SLY 47 CRUISE"]
["Odelia 1","Varianta K4"]
["New Life","M 2"]
["Ely 1","M 1"]
["Cyclop","Varianta 65"]
["Guy-El","M 7,50"]
["CARMEN III","First 28"]
["Epoxy Lady","Hanse 325 SD"]
["Almogim","Nordborg 26"]
["Miralba","Dolphin 81"]
["Omaya","Esse 750"]
["GANT","LAGO 26"]
["Rimon","Saphire 27"]
["Jumanji","J-97 SD"]
["LESTE","NISSEN 33"]
["Giselle","AXION 33,5"]
["Hatulie New Wave","Dehler 35SQ"]
["NEXT","Class 2 M"]
["Roni 1","Sunbeam 30,1"]
["Karakahia","mOcean 26"]
["ORION","Banner 28"]
["VEGA","Granada 27 SD"]
["IREAL","MAK7 Cruise"]
["JUST A JOKE","COMET 26s FK"]
["HYPNOTIC","Comet 700"]
["IL PINGONE DI MARE III","8mIR"]
["IMXTINENTE","FARR 36 OD"]
["TOMIRA","h 26"]
["BLOW UP","Hanse 315 DK"]
["EMOTION","Lacustre spez,"]
["GIUBA","Elan 210"]
["MAGIA","Accent 26"]
["PESTIFERA 2","7,9m CYD"]
["ARIAL","Grand Surprise Lac"]
["PASTIS","Clarc 33"]
["ARTERIX","TOD"]
["GUACAMAYA","Tofinou 950"]
["PEPERITA","Helium 7,65"]
["SPAGHETTI WESTERN","LASER SB 20"]
["PIERROT LUNAIRE","Hallberg Rassy 29"]
["RIKKY 3","747 OD"]
["MARCUS","ESSE 850M"]
["AQUILANTE","Diamant 3000"]
["CANOPUS","DIAMANT 2000"]
["DENEB","Shaw 650"]
["FOMALHAUT","Electra"]
["GRIFONE BIANCO","JS FORMEL 20"]
["POLLUCE","Ufo 28 OD"]
["SAGITTARIO","Finn Flyer 36"]
["T'ARAS","ELLIOTT 44 CR"]
["JARAMI","MAT 1180"]
["MALANDRINA","SYDNEY 40 MOD KEEL"]
["DIAMIR","ClubSwan 50"]
["WIND BLUE","BILL TRIPP 54"]
["ANLU'","LINJETT 40"]
["SUD","SB20"]
["ANEMONE","EGE 26"]
["ANGELICA","CHEESE 6,5"]
["LUSSY","Delphia 24 (mod)"]
["MAIDIREMAI 1","OPEN 6,50"]
["MASCALZONE II","Farr 25 OD"]
["TINKY WINKY","Neva"]
["VIA COL VENTO","Master 27,5"]
["FAAMU-SAMI","Conrad 25 R"]
["GOOD JOB GUYS","Sportboat"]
["LOW NOISE II","Carter 33 modif,"]
["PERVINCA","LES 35"]
["SOTTO SOPRA 2,0","Tallinn 1/4"]
["XSITA","Conrad 25 RT"]
["ASTREA","Bora 22"]
["AYAME","open800"]
["CONTEMAX IV^","Solina 24"]
["EMILIAPICCOLA","Rikoshet-2"]
["GOGHI GO","Harmony 5,5"]
["LIBERAMENTE","NEFRYT"]
["NEIGHBOURS","Carter-30"]
["REWIND","HUNTER 326"]
["\"THAT'S AMORE!\"","Cruising-racing"]
["ANGE TRASPARENT II","Phobos 24"]
["ACHAB","Cruiser"]
["CHECKMATE","Omega-S"]
["SOLO","CT-25 modif"]
["BABAO","J-42"]
["ELETTRA","CATALINA 445 WK"]
["PUNTO J","JEANNUEAU SO 409 W"]
["CLIO","FRERS & CYBILS 44"]
["MELPOMENE","CATALINA 275"]
["URANIA","RIPTIDE 41"]
["SOLINO","J-100"]
["ARLECCHINO","FARR 37"]
["SCIABECCO","J-160 DEEP KEEL"]
["ALISEO","S&S 47"]
["FOLAGA","ANTRIM 27"]
["LO ZAMBESE VOLANTE","J 122E"]
["SOTTO VUOTO","DAVIDSON 29"]
["CASTALIA","TARTAN 4100"]
["JONATHAN VII","B25"]
["SWEET OBSESSION","MELGES32"]
["GIGI 1","J-36"]
["MELISSA","ONE DESIGN 35"]
["VALHALLA","FF33R"]
["AQUARANTA","MELGES 30"]
["ZAHIR","DIODE 36"]
["OBI-WAN","J-124"]
["BELLA' M BRIANA","B-32"]
["MAREDO'","MELGES 32 ODR"]
["CHEREN","1D 35"]
["FAREWELL3","J-37"]
["MORGAN IV","DUNCANSON PS8"]
["MUZYKA 2","C&C 110 SD"]
["DUCHESSA","ZAAL 38"]
["LEDA","CAPE FEAR 38"]
["SCILLA","J-111 ODR"]
["TIRITIRI","FOX 44"]
[1982,"MORRIS 45"]
["AMETA","RIPTIDE 44"]
["MARINA 2","J22"]
["SOPHIE","Carkeek 40"]
["SQUILLA MANTIS","CAL 40"]
["TATTOO","J-80 ODR"]
["MORETTO","TRIPP 41"]
["WIRELESS","J-145"]
["CHARAS 2","BOTIN 52"]
["ATTENTI AL LUPO","Tripp 40 ILC Modif"]
["TETTA","SABRE 426"]
["STELLA","J 121 DEEP KEEL"]
["BLUE ANGEL","XP 44 SD"]
["BREEZY","CATALINA 425"]
["POQUITO III","NAVY 44 II PEDRICK"]
["RONZINANTE","NAVY 44"]
["ELEN","TRIPP 40 MK II"]
["EUGENIA","AERODYNE 38"]
["ROMA","Sun Od 49 Perf,"]
["SERENDIPITY 2","Sun Oddysey 509"]
["X-BLUES","Sun Odessey 509"]
["MELAGODO","SUN ODISSEY 40"]
["FAR STAR","Sun Odissey 42 DS"]
["POKEKIAKKIERE","SUN ODISSEY 43"]
["ONDALUNGA","Sun Odysey 36i"]
["SHIDE","SUN ODYSSEY 32,I"]
["TURNASI'","Sun Odyssey 33i"]
["GEBEL","Sun Odyssey 33i P"]
["GIGLIO ROSSO","Sun Odyssey 349"]
["PIKI","SUN ODYSSEY 40 SK"]
["VELVET","SUN ODYSSEY 40,3 E"]
["L'IRASCIBILE","Sun Odyssey 42i P"]
["TAITEN","SUN ODYSSEY 42iP"]
["SANDRA","SUN ODYSSEY 43 MOD"]
["PAPAYA","Sun ODYSSEY 44 DK"]
["MANOLA","SUN ODYSSEY 452"]
["LASCIALA ANDARE","SUN ODYSSEY 49 DS"]
["WILD CAT","SUN ODYSSEY 51 WK"]
["ZIA FRANCA","SUN ODYSSEY 54 DS"]
["GIOC'ONDA 2","Sun Odyssy 439"]
["BE QUIET","SUN SHINE 38"]
["BERTI' N","SUN WAY 29"]
["WINDFINDER","Sunbeam 34"]
["ALASTOR","SUNFAST 36"]
["GIOGI","Sunfast 40"]
["STUPEFICIUM","SUNFAST 52"]
["NELLARIA","SUNFAST39"]
["MAGO BLU","SUNWIND 27"]
["EXTRAVAGANCE","SUNWIND 31"]
["FISHBONE","SUPER ARLEQUIN DK"]
["NOSTROMO","SUPER CALIN 6,50"]
["ARIMINUM","SUPER MAXI"]
["ANTINEA","Superyacht"]
["DIECITRENTUNO","SUSPENS Q +Jupe"]
["MAY BE III","SUSPENS-J"]
["FRA DIAVOLO","SW YACHTS 340 LR"]
["CHESTRESS 3","Sw, Yachts 45"]
["SORA LELLA","SWAN"]
["ANGRY RED","SWAN 115"]
["CAPITANI CORAGGIOSI","SWAN 371"]
["OJALA' II","Swan 38 (1974) MOD"]
["AIDA","SWAN 391/001"]
["ALCAM","Swan 44 (1972)"]
["ALPHA UMI","SWAN 44 (SPARKMAN & STEPHENS)"]
["BALEK","SWAN 44(1972) MOD"]
["BALLA COI LUPI","SWAN 441"]
["FAVELA BLANCA","SWAN 46 (2004)"]
["FERROFILATO","SWAN 46 MK2"]
["HELENICA","Swan 47  mod,"]
["MELTEM","Swan 47 (mod)"]
["ORIZZONTE","SWAN 47 CB"]
["SELENE","Swan 48 (1971)"]
["ZOE","Swan 48 (1971) mod"]
["LAEGA","Swan 48 (1995)"]
["ME GUSTA","SWAN 51 (1981)"]
["BASTASTRESS","SWAN 51 CB"]
["SAFRAN ROUGE","SWAN 53 (04)"]
["JOLLY ROGER","SWAN 53 (2005)"]
["IOCUS","Swan 55 (1970)"]
["MARY POPPINS","SWAN 56 CR"]
["CANAPIGLIA","SWAN 56 MOD"]
["ADELMA II","Swan 56-5"]
["SOLEIL D'OR","SWAN 57"]
["PIERROT","SWAN 57 (1978)"]
["NASHIRA","SWAN 57RS"]
["LA CICALA","Swan 60 (1994)"]
["HIROSHI","SWAN 60 SD"]
["BRUSCOLO","SWAN 61"]
["TERRY II","Swan 651"]
["TEMPO PERSO","Swan 651 extended"]
["BLUE DOLPHIN","Swan 66"]
["GALEONE","SWAN 66 (2007)"]
["BAHIA","Swan 76 CB"]
["TELEPATIA","SWEDEN 42 X2,10"]
["X-BLU","Sweden Yachts 38"]
["LIGHEA","SWEDEN YACHTS 390"]
["AZIMUT","Sydney 32 OD"]
["FORCE 9 OF LONDON","SYMPHONY"]
["BLOODY MARY","T750"]
["YANEZ","Takeshai 44"]
["SWASA","TARGUI"]
["COCO'","Tartan 28"]
["MOROSITA","Tartan 34-2"]
["ZEDDA","Tartan 3500 WK"]
["FAI UN PO TU","TARTAN 46"]
["WINDCATCHER","TASHIBA-40"]
["FANTASIA","TAURUS"]
["GAVIA","TAURUS MOD,"]
["CARBONERA","TES 720 BT"]
["YELLOW BEE","THE ONE DESIGN"]
["SAIL LA VIE","TIM27"]
["PIERSERVICE LUDUAN","Tirena 27"]
["VAI MO'","Tirion 28"]
["TESTACUORE","TIZH40"]
["SLY 38","TOFINOU 16"]
["MC SEAWONDER","Toledo 31 Mk2 M"]
["BETTA SPLENDENS","TRIANA 36"]
["SHEDSEA","TRIANA 36 MOD"]
["RE ARTU' II","TRINTEL II"]
["RAFFICA II","Trintella 53"]
["MY WIND","Trintella IIIa"]
["MIVIA SECONDA","TRIO 80"]
["GRILLO PARLANTE","TRIPP 36"]
["FELIX","TRIPP 36 Mod"]
["FEDERICA","Tripp 38"]
["CIABATTA","TROTER INT,"]
["TRESAMIS","TUCANA SAIL 21"]
["SAPORE DI SALE","Tun"]
["REGINA","TWISTER 650"]
["MOMONE","TWO STAR 36"]
["MIZAR","TWOSTAR 36"]
["ARIEL VELA","UFO"]
["ARDUINA","UFO 22 MODIFICATO"]
["BERENICE","UFO 28 OD Mod"]
["PAPEROGA","UFO 31"]
["MENZONIERO","Ufo 34"]
["ALBEN II","ULDB 50 SPOILER"]
["ANTIPOLIS","v,d, Stadt 40"]
["FREE IN THE WIND","V-1 30 Lutra Sport"]
["FRIZZ","V-24"]
["INDIANA II","VAGABOND 45"]
["BARONESA","VAN DE STADT 30"]
["MARTA III","VEGA"]
["ANNAMARIA 1^","Victoire 1044*1,50"]
["ROSA VELATA","Victoire 1122"]
["GAMBERETTO","Victoire 855"]
["LIBERA","Victoire 933 x1,80"]
["BLUE SPIRIT","VIKO S22"]
["SPRITS","VISION 32"]
["FREMITO D'ARJA","VISMARA 45"]
["CELESTE AIDA","VISMARA 50 FC"]
["TANGRAM","VISMARA MILLS 62"]
["ANGELA","VISMARA-40"]
["PROFILO","VITE 312"]
["KRYOS","VK-35"]
["FREE SPIRIT","VOLKER 39,5"]
["LANCILLOTTO","Voyage 12,5"]
["COCHINA","VR 30"]
["BAGUA","VROLIJK 42"]
["MAGIA II","W 60"]
["DAMANHUR","Waarschip 1/4 *1,2"]
["GALAHAD","Waarschip 28LDx1,8"]
["DOLASILLA","Warwick 67"]
["ARTEMISIA","WASA 30 HR RACER"]
["UKA UKA YAMAN","Wasa 370"]
["KEONDA III","Wasa 41"]
["ALBORAN 2","WASA 55"]
["BAU BAU","WEST CUSTOM 33"]
["CATMAZ","WEST WIND 35"]
["GHIRIBIZZO","WESTERLY 32"]
["WIVA PEDI LONGU","WESTERLY 33"]
["SURPRISE","WILKE 26"]
["SUN SHINE","WILKE CR 950"]
["CORTOMALTESE","WIND 34"]
["YAYA","Winner 8"]
["MIZAR COCCODRILLO","X 3/4 - 2"]
["SOB SOB","X 332 QB"]
["PARVA SED APTA MIHI","X 35 mod,"]
["X-LION","X 362"]
["ALMALIBRE","X 37"]
["ERIKA","X-1 ton"]
["KIWI","X-102 MK I mod,"]
["MERCENARIA GILDA XS","X-3/4 TON SPES"]
["VIOLA","X-342 7/8"]
["SCURSUNERA","X-342 MH"]
["MILUNA","X-342 x 1,85"]
["MALAFEMMENA II","X35 MODIFIED"]
["DUFFY","X-362 SPORT HK"]
["DONT FORGET TO SMILE","X-362x2,05"]
["PURA VIDA II","X-37 dyp kjol"]
["KALONI","X-37 SD"]
["CROC","X382"]
["CRIC","X-382 MK2"]
["ALCOR V","X-40 DK"]
["MELANIA","X-40 Dyp kjol"]
["MIRAN","X-40 S"]
["PROTEINA","X-402 MK II"]
["FREYJA","X-402 MOD,"]
["MEDITERRANEA","X-412 MK III"]
["ILLYRJA II","X-41OD"]
["MEFISTOFELE","X-43 MOD,"]
["FOREVER YOUNG","X-46 grunn kjol"]
["LA ZIA","X-482"]
["MILES QUICK","X-65"]
["PAOLA","X-95"]
["MI GARBA","X-99 mod"]
["ALBACHIARA","X99 MOD,"]
["VENTO DI PUGLIA","XC 45 DK"]
["ABI","XC-38"]
["TIMBACTU","XO RACER"]
["FIRST FUN","XP38"]
["STRABILIA","XP-44 S"]
["NAFTA ECOLOGICA","X-TREME 25"]
["MICCIARIELLO","X-Treme 37"]
["WAVE DANCER","Y 40"]
["ULTRAVOX","YAMAHA 1/4 TON"]
["ORIONE","Yamaha 24F"]
["ZASE II","Yamaha 24F (LTD)"]
["DAFNE","YAMAHA 30R"]
["TEKNO","YAMAHA 30R(-P)"]
["BLITZ","YAMAHA 33S"]
["SCAMPERIX","YAMAHA 33S II"]
["ATTIMO","YAMAHA 34S"]
["FAVOLA BLU","yamaha30"]
["MAHATMA","YAMAHA30CRS"]
["TERRA","YAMAHA-31"]
["ALEXIA II","YamahA-31 Festa"]
["TALLY HO","YAMAHA-31S"]
["BELLABLU","YAWL BERMUDIANO"]
["KANZA","YCA-29"]
["IL PINGONE DI MARE","YOUNG Rocket 8,4"]
["EUREKA","ZABRA 9,80"]
["HOBEL-X","ZEEBONK 267"]
["FORZA 4","ZIGGURAT 812"]
["A'FENESTELLA","ZIP 25-ILC"]
["VINETA","ZIP 25-ILC  OD"]
["VOGLIA MATTA","ZOU 40"]
["TOSCA"]
["HURRA'"]
["MAMIC"]
["6BIZZOSA"]
["EUTERPE"]
["CARIBE"]
["WILLY"]
["UE'H UE'H"]
["LA POSSENTE"]
["BABY B,"]
["SPIRIT OF NERINA"]
["ENERGY"]
["FOXY LADY"]
["MEROPE"]
["NIENTEMALE"]
["SANGRIA"]
["BLUE ADVENTURE"]
["OLD FOX 35"]
["NEFERTITI"]
["IRIDE"]
["BLU TANGO BLU"]
["SICA"]
["OBELIX"]
["WITZ"]
["MACONDO"]
["BIANCA"]
["IPANEMA"]
["GRIZZLY TOO"]
["GASTONE"]
["PRYDWEN"]
["VILLAMAR"]
["PAKA' A"]
["VELENO"]
["FANCY"]
["KYO"]
["GIOCONDA"]
["KAUNIS"]
["MARSERA"]
["PORTAMI VIA"]
["STORM"]
["VENUSIA"]
["LORAN"]
["AILE BLANCHE"]
["BEL REBELOT"]
["MEDUSA"]
["BORA FAST"]
["SEA WOLF"]
["MY FIN"]
["KONG BAMBINO VIZIATO"]
["SINDBAD"]
["TITI"]
["ALMALOCA"]
["BRUSCHETTA GUASTAFESTE"]
["ESCONDIDA IV"]
["LEA"]
["OSSODURO"]
["NEGHENE'"]
["TORTUGA"]
["CICLONE"]
["GEMELL"]
["ACUBE"]
["HORCA MYTICA"]
["NIMAR II"]
["SFERIKA"]
["GRANDE VENTO"]
["CIRCE"]
["JOSHUA 3"]
["JULES ET JIM 2"]
["MASQUENADA"]
["QUATTROGATTI"]
["VERTIGO"]
["REMAX ONE"]
["PURA VIDA"]
["PEPE"]
["PEN DUICK"]
["OTARIA"]
["MACONDO III"]
["FLAMA"]
["FAROUCHE"]
["ESSENZIALE"]
["CATINA4"]
["BIZZZOSA"]
["BABBO 2"]
["ANTONELLA"]
["NON MOLLARE MAI"]
["LOUCURA"]
["EGICLA"]
["NATA IV"]
["VALIS"]
["PARTENOPE"]
["ROBY & 14"]
["RAZZA CLANDESTINA"]
["QUANTUM"]
["BLACK ANGEL"]
["ORSETTA TRE"]
["NIRVANA III"]
["LUPA MANNARA"]
["KHAMSIN II"]
["KAOS"]
["CATTY SARK"]
["VITAMINA"]
["ASTRA"]
["MODESTAMENTE"]
["BAOBAB"]
["QUOTA ZERO"]
["CAVALLO PAZZO 2"]
["ARCADIA I"]
["BIG LILLIPUT"]
["MAGIE"]
["EVA I LNI REGGIO CALABRI"]
["MAXIMILIAN I"]
["CHEZ BLACK"]
["TEESPERA"]
["CHIARA"]
["VAVIA"]
["HACKERX"]
["DIOGENE"]
["BLISS"]
["SPEEDY"]
["DESTRIERO"]
["KEBIRRA"]
["LALTRA"]
["MAGIC US"]
["JKILLER"]
["NASTRO AZZURRO"]
["OLD FOX"]
["X-PLOSION"]
["X-SMALL"]
["BRAINSTORM"]
["ARKA"]
["VIZIO"]
["VELA D'ARGENTO"]
["BIRIKO'"]
["SAVANNAH"]
["OLANDESE VOLANTE"]
["BREZZA DI MARE"]
["ANTIGRAFFIO"]
["ARTIGLIO"]
["18 K"]
["MAWI"]
["TINA"]
["INDIAN SCOUT"]
["STERN"]
["FIORDILUNA"]
["TRICHECO"]
["IL COMMENDA"]
["LE PELICAN"]
["SIR BISS"]
["CHE SPASSO"]
["LA BOHE'ME"]
["REBYONE"]
["MERAVIGLIA"]
["LALISSA"]
["KIKO"]
["BITIPI"]
["JOTTO DOMINI VENETI"]
["BRAVISSIMA VIBATEX"]
["BALTHAZAR"]
["MARIA VITTORIA"]
["MAYA"]
["ARAS"]
["S'EXTRA"]
["SCRICCA"]
["ROBELJO"]
["CANDELLUVA ii"]
["LA CAGE AUX FOLLES"]
["PHANTOMAS"]
["UMMAGUMMA"]
["EVOLUTION"]
["HAY LIN"]
["AUDACE"]
["NONNALU"]
["TESTA E LISCHE"]
["GRAFFIO VITA SOL"]
["ALISEA"]
["STRIPPTEASE"]
["GAMISEL"]
["BARALLA"]
["PROSPETTICA"]
["DON'T WORRY"]
["CHEST' E'"]
["SLY FOX"]
["YUNUS"]
["LA MIA PICCOLA"]
["JALA"]
["NOI DUE"]
["JOLIE BRISE"]
["SEABISCUIT AGAIN"]
["ANTIGONE"]
["BE HAPPY"]
["FLY AGAIN"]
["MR, HYDE"]
["DONNA BEATRICE II"]
["MAREAMORE"]
["TOUJOURS"]
["SOGNO 1"]
["FIERAMOSCA"]
["TITYRE"]
["SULTAN OF WIND"]
["VIRUS"]
["ICE SPRAY"]
["VIVA PAPA'"]
["PICCOLA PESTE"]
["CALIGULA MINUS"]
["NOS3SSS"]
["MIZARX"]
["FREEDOM"]
["NARVAL"]
["TRIPUDIO"]
["ACTINIAS"]
["FUERTE VENTURA"]
["MADAMAPICCANTE"]
["SPIRIT OF RED MULLET"]
["SHERE KHAN - VAIMO'"]
["HECTOR X"]
["JAVAL 2"]
["PERLA NERA"]
["STELLA FILANTE"]
["DREAM AWAY"]
["EMY TOO"]
["CHIARA TRE"]
["MISTER X 3"]
["JAMILA"]
["MASCALZONE I"]
["LOLI FAST"]
["SEEADLER"]
["MIRA"]
["IDEA FISSA"]
["LA MARCOLINA"]
["SAKETA"]
["RAPTUS"]
["BLACK COCONUT"]
["SETBALL"]
["SHAULA"]
["TRIDENTE"]
["CAPRICCIO"]
["CUCCIOLONA"]
["ERA ORA 2"]
["GUARDAMAGO"]
["H2O"]
["PEPECUBE"]
["SPICA"]
["ASTERIA"]
["YAK II"]
["FENOMENO"]
["BEAU GESTE"]
["ANDREBORA"]
["AIA DE MA"]
["ERICA"]
["SERENA"]
["SOFFIONE"]
["MY ITALIAN DREAM"]
["TEMPO LIBERO"]
["BELLADENTRO"]
["DELFINO BLU"]
["DAM DELINE"]
["OCA GIALLA"]
["JACK SPARROW"]
["JENA PLINSKY"]
["MOJITO"]
["UFOLOGY"]
["FRISBEE"]
["CAMILLA"]
["ERAORA"]
["FANTASMA JUNIOR"]
["TESORO"]
["WET & PRETTY"]
["CIAPARAT"]
["GMT"]
["CORTO MALTESE"]
["WAYSET"]
["GAROPERA INSIDER"]
["HAURAKI"]
["REBEL"]
["ENRIBET"]
["BLU FANTA' SIA"]
["RENOIR"]
["BLUE SKY"]
["SOPHIBIANT"]
["BRAVEDUCK"]
["OLTREMARE"]
["YEMANJA' II"]
["IL PICCHIO"]
["YFFAR"]
["ARIAPERTA"]
["CRISTINA"]
["COLETTE"]
["MISTER A"]
["RISING SUN"]
["GINNY"]
["CALIPSO"]
["ROSMARINE 2"]
["LIBERTINE"]
["L'OTTAVO PECCATO"]
["VULCANO 2"]
["IL MORO DI VENEZIA XXVII"]
["MADIFRA II"]
["OUT OF THE BLUE"]
["ORSO BRILLO"]
["TAGADA'"]
["MASACCIO"]
["MARY STAR OF THE SEA"]
["RANDOM"]
["DONNAROSA2,0"]
["SCACCO MATTO"]
["WOORI"]
["VAGAMONDO"]
["HIGH FIVE BABY"]
["SOUND OF SILENCE"]
["PALUCK III"]
["STUPEFACENTE"]
["GRANDE CESARE"]
["SUPER  G"]
["VOLA VOLA ENDEAVOUR"]
["RENOVATIO"]
["MEBI"]
["RAJETA"]
["L'ESCARGOT"]
["KALA NAG"]
["JOD \"C\""]
["NEDRI"]
["STRANAGENTE"]
["POQUITO"]
["GULLISARA"]
["KUNDALINI"]
["SOLE DI GIADA"]
["SAGOLA 60"]
["REVE DE VIE"]
["JSTORM"]
["FURIA"]
["DARIO 4"]
["DARA 3"]
["RED CROW"]
["BERNIE"]
["CHESTRESS"]
["TESA"]
["IRINA"]
["ATAHUALPA"]
["TURNOVER"]
["TWENTY"]
["ZIZZE' PACCHIANA"]
["FUNTANTOSESSO"]
["DIOMEDEA"]
["JONATHAN"]
["MACHI"]
["PESTIFERA"]
["VALE'"]
["ADRIGOLE"]
["ALLEGRO APPASSIONATO"]
["BE FIRST"]
["DRUID MAGIC"]
["FUORI DI TESTA"]
["LO STRALISCO"]
["OLD SIMO"]
["SAILING RACE"]
["STREGATA"]
["WYUNA"]
["VOSCIA'"]
["BELLAMIA"]
["SAGHIR"]
["QUINTAPIENA"]
["GHITA"]
["PRAGMA"]
["KALI MERA"]
["CHARLIE VICTOR"]
["XWAVE"]
["PESTENERA"]
["LUNA STORTA"]
["NUVOLA ROSSA"]
["AMAMS"]
["NEREIDE"]
["PRINCE S"]
["PICCOLO DIAVOLO"]
["DUMBO VIT"]
["WONDERFUL"]
["FRITTATINA"]
["PEN GUEN"]
["BALBEC"]
["ARIA DI BURRASCA"]
["BOTTA DRITTA"]
["BACIOTTINHO"]
["GRAFITE"]
["DOLCENERA"]
["DAMA DI BELLAGIO"]
["MY SONG"]
["CUORE"]
["HURLY BURLY"]
["SURPLUS"]
["ELVSTROM"]
["STRAULINO"]
["AVAS"]
["DISVELA,IT"]
["VALJA"]
["PALLAS"]
["JO CONDOR"]
["AVAS 3"]
["LA RANA ARROGANTE"]
["MON ILE"]
["DUE R ,,, NEL VENTO"]
["MAGICA LUCE"]
["TANI E TASKY 4"]
["VAHINE' 7"]
["VAHINE' 5"]
["PRIMA VISTA"]
["ARS UNA"]
["X-WAVE"]
["ROXANNE"]
["ARIELE"]
["MARIE CLAIRE"]
["MAAYAAFUSHI"]
["JOBRI"]
["BYEBYE"]
["RITMO"]
["VAQUITA"]
["MARIO"]
["FOLLIABLU 2"]
["ANGI"]
["TATANA"]
["TALITHA"]
["AMELIE"]
["ARLY"]
["BARRAMUNDI"]
["BLU DI MORO"]
["BUENA VISTA"]
["GIVE ME FIVE"]
["MARCHINGENIO"]
["SEI UNO ZERO"]
["SPLASH"]
["EURISTICA"]
["SILVER AGE"]
["DREAMER"]
["FOUNET"]
["ISOLA"]
["MIROS"]
["NITA"]
["SHANGRI-LA IIø"]
["VACO A VIENTO"]
["FIGARO"]
["STROLAGA"]
["ALGA"]
["LUPACCIO"]
["ROBIROBY"]
["EASY"]
["MARLIN BLU 2"]
["ROSSKO"]
["MORNING GLORY"]
["KEIRA"]
["X LADY"]
["XL"]
["RAGGIO DI SOLE"]
["CRONOS 2"]
["MUSIC"]
["DOCTOR J"]
["CORIANDOLI"]
["LILA"]
["MOMENTS"]
["GALANA RIVER"]
["VENTO DELL'ESTE"]
["PICKA II"]
["RATAPLAN"]
["ARKANOE' BY MONTURA"]
["SILVER BULLET"]
["SHERAA"]
["MINUS QUAM X"]
["ALMIC"]
["SJOROVARJENNY"]
["ESCARGOT"]
["ALCOR IV"]
["SECOND LIFE"]
["STARFLY"]
["JK SAIL"]
["LA ROSA"]
["NAUSIKAA III"]
["EPHEMERIS"]
["MAGOO W,F"]
["FLYING DRAGON"]
["BELFAX"]
["WANDERLUST"]
["ZORANA"]
["MOXIE"]
["LE COQ HARDI'"]
["LADY DAY 998"]
["FASTER 2"]
["FURIETTA"]
["POLYANN UNIBA"]
["MATRIX"]
["OVERWIND"]
["ROBADAMATTI"]
["LEA IL GABBIERE IIø"]
["NAMBAWAN"]
["SIV CUBE"]
["LET ME SEA !"]
["SCHIZZO"]
["GUIZZO"]
["FREE LANCE"]
["SOFT"]
["SOLOLEI"]
["TASMANIA"]
["WILLIAM B"]
["CROCE DEL SUD"]
["FLASH"]
["VAI VIA"]
["NON SOLO VELA"]
["NON SOLO CIURMA"]
["ELCA"]
["LIVIA V"]
["REBUS"]
["BUDDHANA"]
["TUTTE' POSSIBILE"]
["SWISS NAUTIC ONE"]
["SWISS NAUTIC TWO"]
["LUCETTA"]
["KUMATOS ANTHOS"]
["O'SCIA"]
["LADY MORENA"]
["TUTTANATASTORIA"]
["EAVLE"]
["GATTAMELATA"]
["STAR FIGHTER"]
["MY PASSION"]
["NIM"]
["SAFRAN"]
["MIG"]
["COMETA DUE"]
["EXCELLENT"]
["NIQUIDA"]
["FARFALLINA"]
["ESTASI"]
["GEEX"]
["X-REAL"]
["SHEAR TERROR"]
["MAYDA"]
["FRA' DIAVOLO"]
["EDERAN"]
["DIDGERIDOO"]
["CATTIVA COMPAGNIA"]
["ALTAIR 3"]
["3,,,2,,,1,,,ZEROOO"]
["WAKI"]
["RENARDO"]
["PURE PASSION"]
["PERGENTINA"]
["MIKE"]
["LINUX"]
["KIKA GREEN CHALLENGE"]
["JOSIAN"]
["FURIBONDA"]
["FRANK"]
["CIOGGA MINUDDA"]
["CATERINA IV"]
["CAMALEONTE IV"]
["BLUE MARLIN"]
["AUMM AUMM"]
["ASPRA"]
["ALKMAAR"]
["ALABAMA"]
["ESCANDALO"]
["OUTLAW"]
["SIDERACORDIS"]
["BANDALARGA"]
["BARBARA"]
["ONE SHOT"]
["SHE IV REBORN"]
["DRAKKAR"]
["BLUE EST LA VIE"]
["STELLA CELESTE"]
["ASTEROPE 2"]
["RUBISCO"]
["MINNIE"]
["SUPERGIRL"]
["NOA NOA 2"]
["XANAX"]
["LITTLE BABY"]
["LOTOS"]
["KRILL"]
["MONELLA"]
["ALEGRIA"]
["FOLLE VOLO"]
["ONE-S  LADY B"]
["BRICIOLA"]
["PANTA REI"]
["DIGITAL BRAVO"]
["ESCAPE 3"]
["GO GO"]
["SIBILLA"]
["DEMON X"]
["2 ALFA 2"]
["MIA"]
["SEXY"]
["KARMA DELTA SALOTTI"]
["SHIVER"]
["BREVA"]
["QUELLI CHE IL LAGO"]
["KIKKIO"]
["JOIST"]
["BLANCA"]
["BLEACK"]
["ACCANITI"]
["PODEBA - COLORADO"]
["H22 RACING ACADEMY"]
["THERSANDRE"]
["SPLINTER"]
["JEAN JACK"]
["ROSARITA"]
["ATTO TERZO"]
["LA LUPA OCCHIALUTA 3"]
["FAVELA CHIC"]
["BLUCOLOMBRE"]
["LITTLE WING"]
["XENIA 2"]
["TANGO 2"]
["CLUE42"]
["LA LUPA OCCHIALUTA 2"]
["JASPER"]
["MAGIC DREAM"]
["DURLINDANA II"]
["BLUETTE"]
["GIO,CHI"]
["MAAT KA RA"]
["MALAFEMMENA"]
["TEAM ANDELSTANKEN"]
["HIDROGENO H22"]
["QUALFAT 3"]
["BOOMERANG"]
["SCUOLA ITALIA VELA JOD N"]
["ZUBEN"]
["JOD I SIV"]
["ACCHIAPPASOGNI II"]
["ETA BETA"]
["SKIP INTRO"]
["ONIAK 9400"]
["MAGIC ROCKET"]
["PALOMA"]
["ERIFAD"]
["MUGGI 4"]
["PROFUMO"]
["SILVER BARON"]
["MALY XI"]
["ATACUBE"]
["POCAHONTAS"]
["CAPITAN GIANNINO"]
["MERAK 2"]
["RICOMINCIO DA TRE"]
["BELLATRIX II"]
["X-TENSION"]
["ROCCABELLA"]
["EUROSIA XM"]
["HORATIO"]
["NOSTRESS"]
["SOLARIS"]
["TADEWI"]
["VENICE"]
["YELLOW"]
["FRECCIA ROSSA"]
["SKIN"]
["WHICH WAY"]
["OTTOVOLANTE"]
["NAUTILUS XM"]
["CONTROCORRENTE"]
["SAN MARY"]
["ASPASIA"]
["NIBESCA"]
["X BE"]
["SARCHIAPONE FUORISERIE"]
["ALVAROSKY"]
["SAGOLA BIOTRADING"]
["SQUALO BIANCO"]
["SEASE"]
["MOONSHINE"]
["IL RAIS"]
["SHERAZADE"]
["KOKOPELLI"]
["HITRA"]
["WHY NOT"]
["MAGA G BY TOO"]
["KOALA"]
["QQ8"]
["REVOLUTION"]
["ASTEROPE II"]
["WILD 1^"]
["OXIDIANA"]
["LULLABY"]
["LOLLOLILLA"]
["LEAPS & BOUNDS"]
["FROGFOOT"]
["CAESAR"]
["BLACK X°"]
["CATTIVIK"]
["GIAMBINO III"]
["CASSIOPEA"]
["MORNING SUN"]
["GAIOS"]
["BLUE MARY"]
["MAIPENRAI"]
["CINCIN"]
["PATRICIA"]
["OBSESSION"]
["JOSHUA II"]
["COSIXTY 8"]
["COLUMBIA"]
["INTERCEPTOR"]
["ZEROCOULD"]
["GUASTAFESTE"]
["NESSUNO"]
["UJI UJI"]
["CHIARO DI LUNA"]
["VITTORIA ZIZI"]
["MIZZICA"]
["IRMA LA DOLCE"]
["ANIME SALVE"]
["EXTE"]
["POLEMIQUE 2"]
["RAFFICA"]
["TES"]
["VITTORIA"]
["LORINA 1895"]
["LA CUCCIOLA"]
["ANTIGUA"]
["MAGNUM"]
["X-BIONIC OCEANS"]
["NUOVA"]
["FLYNG TEAPOT II"]
["BARBARIANS"]
["DREAM-ON"]
["ARMADA NUEVA"]
["GOUACHE"]
["KM ZERO"]
["SPIRIT OF SIZZANO"]
["SUPER ATAX"]
["ZERO IN CONDOTTA"]
["GENESIS"]
["GIBILLERO"]
["STROPOLO"]
["WHISKY ECHO"]
["IBUBI 2"]
["MARI DELLA LUNA"]
["TIP MOSS"]
["MARGHERITA"]
["SALINO"]
["ALEX"]
["ASELL"]
["HAPPINESS"]
["PANAMA"]
["BERTILLLA"]
["CAFFE'CORRETTO"]
["MAGGOT FROM NISIDA"]
["ADELANTE"]
["DON CHISCIOTTE"]
["X-LIVE"]
["CRISTIANA,TI"]
["MARAMAO"]
["STARS"]
["SEA GULL MAGIQUE"]
["GE CLUB"]
["NON DIRE GATTO"]
["' O SARRACINO 3"]
["ZAHRA"]
["IDRUSA"]
["YOL"]
["ANACAONA"]
["RAPTOR"]
["WYRA"]
["DRAKAR"]
["NAUSICAA"]
["ALINATURALI"]
["IMAGINATION3"]
["SUMMERTIME"]
["PISTRICE"]
["SALINA"]
["STARFINDER"]
["VOLARE"]
["LAVE"]
["LUNA PER TE"]
["QQ7"]
["SVEVA"]
["CHARDONNAY"]
["MASCE'"]
["PISOLO"]
["BIX"]
["TAZ"]
["CHOERADES"]
["ALFRAN"]
["MORGANA"]
["AIGYLION"]
["BRAVEHEART"]
["BONAVENTURA"]
["KIKA"]
["SHU"]
["O'GUERRIERO"]
["HATHA MARIS"]
["TAKE FIVE JR"]
["CHEYENNE"]
["FIVE TO SIX"]
["MIND THE GAP-TEMPUS F,"]
["APHRODITE"]
["PAOLA 3"]
["T,TEAM"]
["LUDUAN RELOADED"]
["MATARAN"]
["MORGAN"]
["YEMANJA"]
["LERA"]
["SWISS NAUTIC THREE"]
["DIECI E LODE"]
["BIRBA"]
["ESSENZA"]
["MASCALZONE SICULO"]
["TESEO 2000"]
["ROTEVISTA' 2,0"]
["ULTREYA VILJA"]
["ISMAELE"]
["FLED 2"]
["SAILORFLY"]
["MOMIX"]
["KEMIT"]
["GLOBULO ROSSO"]
["GREAT EXPECTATIONS"]
["SAYANN"]
["STAMURASAILORPROJECT"]
["ULYSSES PORTOFINO"]
["GUFETTO,,,ESCOPAZZO,,,ST"]
["SESTELEMENTO 20"]
["MARRAKECH EXPRESS"]
["ATHENA"]
["CALAMATANA"]
["WORK IN PROGRESS"]
["NORA 57"]
["ALAKALUF"]
["MATTONE V"]
["MYRON"]
["FOLLE IDEE"]
["AGORA'"]
["CRAL SARAS"]
["ESPERANZA I"]
["FERDINANDO"]
["ADELASIA DI TORRES"]
["ONE'S"]
["HEBE V"]
["LEXOTAN"]
["I AM BAD"]
["KOKKOLA"]
["GIOIA DI VIVERE"]
["DREAMER TECH"]
["JUSTFUN"]
["BETSABEA"]
["FRECCIA DEL CHIENTI"]
["NATALIA"]
["ATREJU"]
["ENGI"]
["SOLAL"]
["NATALI"]
["FANTAGHIRO'"]
["Grifone Fiamme Gialle 3ø"]
["MILADY"]
["SEABIT 2"]
["WANAX"]
["CRISTIANA"]
["ELIXIR"]
["PAZZA IDEA"]
["SUAKIN II"]
["PROFILO 2,0"]
["EXTREMA"]
["MART D'ESTE"]
["SCUGNIZZA"]
["VERVE - CAMER"]
["CRI CRI 2"]
["ENDLESSGAME"]
["MILU'"]
["ULIKA"]
["GIUMAT+2"]
["LOUCURA ZENTRUM CASSINO"]
["NEREIS"]
["SOUTH KENSINGTON"]
["CANOPO"]
["CIPPA LIPPA ROSSA"]
["FEVER"]
["VLAG"]
["NEO ZERO"]
["TRIMEGISTA III"]
["NEMBO SPEED"]
["FLY AWAY 2"]
["DAJENU"]
["THEMESEN"]
["MACASSAR"]
["S,H,A,D,O,"]
["ELISIR"]
["FORBIDDEN COLOURS"]
["TWIN SOUL B"]
["CHIMIN DEL MER'"]
["MELA"]
["LO RE"]
["GRAAL"]
["MIROKU II"]
["RAIA"]
["KINE KINE 11"]
["MAGELLAN MAGER VII"]
["JAM"]
["Lady Kanon V"]
["ROOT"]
["TICTAC"]
["TOM BOY"]
["TONBI"]
["SHARK X"]
["GEFION"]
["INDEPENDENCE 7"]
["ZENDA EXPRESS III"]
["FRIENDS"]
["CASSANDRE"]
["1122TREKKEE"]
["LADY KANON 6"]
["FUHTA DE PASSER"]
["IRRESISTIBLE 5"]
["AMALFI"]
["BITTER END"]
["NAPOLI"]
["MALOLO"]
["Thetis-4"]
["BETTER THAN MOST"]
["HAYATE"]
["VOYAGER 5"]
["AZ"]
["BASIC"]
["EBB TIDE"]
["SASHIBA V"]
["WIND DANCER"]
["Team URUMA AQUARIUS 6"]
["TEAM FOXY LADY"]
["EVGENIA"]
["MANBOW"]
["SLAINTE MHATH"]
["OTOMARU 5"]
["T DRACONIS"]
["SUMMER GIRL"]
["RIZA"]
["ARIES"]
["GUMBO III"]
["SAKURATIAMO"]
["USUGA"]
["AFRO BLUE"]
["WINDWARD II"]
["Blue Queen II"]
["SONIC"]
["ANSAN"]
["TEAM HAEMARU"]
["BLUE QUEEN"]
["APROMAN"]
["VIKIRA"]
["BIG APPLE"]
["Podium"]
["AGRINA"]
["TEAM chuyong"]
["Pyeong Taek Angels"]
["COOL PEACH II"]
["Lucero"]
["Wild Thing"]
["FOXSEA"]
["KIRKĖ"]
["Gera Diena"]
["TEGU"]
["ESOX"]
["Baltas"]
["IDEFIX 2016"]
["NIDA III"]
["ARCTURUS"]
["JOKER"]
["LIETUVA"]
["RASA"]
["TOJANA"]
["EXTREME"]
["Rondo"]
["PRUS PRIMO"]
["X-xs"]
["TIGRA"]
["VEJAS PLUS"]
["Alfeta"]
["ŠIAURINĖ"]
["BELONE"]
["Hornas"]
["RE/MAX"]
["PROPAGANDA"]
["DELČIA 2"]
["COOL WATER"]
["KETURI VĖJAI"]
["BANGA"]
["MIRAGE"]
["RUNA"]
["JOLIE"]
["KNYAZ"]
["Unica"]
["Selena"]
["Chita"]
["SIMEON"]
["FAVORIT PLUS"]
["PlusMinus"]
["Wasabee"]
["Spry"]
["Ocean Vox"]
["Massilia"]
["Eole"]
["Chasseur IV"]
["Alizee"]
["Black Dog"]
["Visione"]
["Prince de Pétarcq"]
["Shark"]
["Illusion"]
["Repoman"]
["Huldra II"]
["X-Bie"]
["EMRAR 3"]
["BATANGA VII"]
["VINDIO"]
["Dynamix"]
["Pacemaker"]
["Salteezer"]
["MaXimum"]
["Résumé"]
["J, Livingston Seagull"]
["Jam Session"]
["DEKADENT"]
["J-String"]
["Firestorm"]
["Panther"]
["Jaguar of Burnham"]
["VOJAGX0"]
["Blizzard of UZ"]
["OFFCOURSE"]
["ILUKA"]
["BLUE JANE"]
["Ambition"]
["RASPA"]
["Sjeekie"]
["Seascape"]
["Tonnere 4"]
["SIXpack"]
["Nothing Box"]
["blauwhoed"]
["Xposure"]
["Coin Coin"]
["Bestevaer"]
["Sara-Mia"]
["RACEBEVER"]
["LEMMINKAINEN"]
["OLIMAR"]
["Zwerver"]
["l' Esprit du Morbihan"]
["MERYN"]
["Black and Brain"]
["WILD AT HEART PART TWO"]
["JUTTER"]
["Wynsnobber"]
["Twee Gezusters III"]
["Farrwell"]
["STARON"]
["STUIVER"]
["Spotgaai"]
["CROIX DU CYGNE"]
["DOBBE"]
["De Wiekslag"]
["Ciao Baby"]
["Windekind"]
["LARISA"]
["RAZENDE BOL"]
["RACYKALTRANT"]
["SOLUTION TOO"]
["Aquarel"]
["SPOOM"]
["OVERDRIVE"]
["Coolkid"]
["JOHANNA"]
["VRIJHEID"]
["ANNEKE V"]
["DWARSKOP"]
["FIDELTA"]
["FORTUNE"]
["AMERICA JANE II"]
["Meteoor"]
["O"]
["Pagan"]
["BAGATELLE"]
["Popov"]
["FOOLPROOF"]
["SECOND WAVE"]
["Lyra"]
["ZAZOE"]
["ALDEBARAN V"]
["'T SPANWIL IV"]
["TINTAMARRE"]
["8 Modified"]
["THE FOX"]
["DE WESTFRIES"]
["FUGA"]
["Camelot"]
["Janboel"]
["Rapketel"]
["OFF COURSE"]
["TSJOENDER"]
["DELOS"]
["TITAN"]
["GOTCHA"]
["Vagebond"]
["Intense"]
["RIETJE"]
["Fast Food"]
["LOTTE-ELISABETH"]
["EPOXYDUS"]
["WINDFALL"]
["Waai"]
["MAGIC MACHINE"]
["BINTANG"]
["\"Skip Intro\""]
["ST 23"]
["HINDER"]
["Numero Uno"]
["Fianchetto"]
["TENDERFOOT"]
["GOURA VICTORIA"]
["J-Rover"]
["HOTSTUFF"]
["Kirsten"]
["SAYONARA"]
["Brizo"]
["FAST FORWARD"]
["SAFFIER"]
["PRETENDER"]
["Anne Mazurka"]
["Hodspur"]
["BLUE JAY"]
["ESPRIT DE CELIEDE"]
["SODRA ENDE"]
["BACK BAY"]
["IRISH-MIST"]
["BOEBES"]
["CATOOTJE"]
["Vanilla"]
["BALLADE"]
["OPPORTUNIST"]
["Jinx"]
["TIJDGEEST"]
["MARY BRYANT"]
["QUEEN OF HEARTS"]
["EVENING TIDE"]
["SEA-BERYL"]
["DEINUMEID"]
["BRANTA"]
["ZEEUWSE RAKKER"]
["Four Leaf"]
["BAIJI"]
["Team Delft Challenge"]
["FINNISH"]
["TRI-EAU"]
["GULLIVER"]
["MUSKETEER"]
["XQUISE"]
["ELF"]
["AMAZONE"]
["Jottem"]
["IJs Na!"]
["VIRAGO"]
["REDAN"]
["SCANDAGLIO"]
["Paradiso"]
["MAGIX"]
["Papauw"]
["DE BUURMAN"]
["SUNSHINE 4"]
["Otter"]
["Pier 10"]
["CAPOLAVORO"]
["CULLUS"]
["GBR-1"]
["FLIN"]
["First by Farr"]
["ADDY"]
["Blauwe Knoop"]
["Maatskip J"]
["Norrsken"]
["Boekanier"]
["Switch"]
["ALTOPANA"]
["COOL RED"]
["ANDIAMO"]
["Skarp"]
["White Rabbit"]
["Ragazza"]
["Wiper one"]
["Knots!"]
["Overstag"]
["LA GAVINA"]
["Toermalijn"]
["Jikke"]
["CAPTAIN JACK"]
["MARE NOSTRA"]
["Eelgersee"]
["Bixmile"]
["E-Motion"]
["Stille Wilde"]
["Simply Blue"]
["Roaring Again"]
["Xaenah"]
["Willem barents"]
["Big Time"]
["EARLY BIRD"]
["Rebbons"]
["Blacq Magic"]
["Alskling"]
["Rosy Maes"]
["Lovely Rita"]
["Incognito"]
["Chouette III"]
["The 1st One"]
["EALA"]
["BASTA !"]
["Fall For"]
["Jaffa"]
["Bolocan"]
["Joris K"]
["Osprey"]
["Bowmore"]
["grote Gemene Deler"]
["Biscaya"]
["El Toro"]
["Lumen Maris"]
["MXTC"]
["TT Yellow Rose"]
["Halvar"]
["Easy Living"]
["Emozione"]
["Oorsprong"]
["Sail East"]
["van bibo naar babo"]
["Wild Romance"]
["Montrachet"]
["Who's next"]
["Furie"]
["Bankroet"]
["RamiroX"]
["Penny-wise"]
["Jitters"]
["Arethusa"]
["Bubbels"]
["Second First"]
["Indian Summer"]
["Optie"]
["X-otic2"]
["Slartibartfast"]
["Existence"]
["First Sight"]
["Amare"]
["Quintessens"]
["Covergirl"]
["--"]
["Grutto"]
["Blue June"]
["Tug of Wa(a)r"]
["Yeti"]
["Virtue"]
["Pentasail"]
["Rixt"]
["Moshulu"]
["Missing Link"]
["Kiet"]
["Zeehond"]
["Midnight"]
["Stormvogel"]
["Antoinette"]
["Dante"]
["Gesina"]
["Cool 'n Fast"]
["ALU4STARS"]
["Together"]
["Sea's Out"]
["Simply First"]
["Grand Cru"]
["DeGroet-Yes"]
["Secondo"]
["Majic Potion"]
["Marlijn"]
["Joost en Vrolijk"]
["Hagelslag"]
["KICK"]
["Zilt"]
["Barcarolle 2"]
["Windshear"]
["Namorado de Verao"]
["Joule"]
["Inspirit"]
["Adios"]
["SparklinGS"]
["Sea Dazzle"]
["Dolce Vita"]
["Sweeny"]
["Taika"]
["Evolutix 5"]
["Fairwinds"]
["Anoniem"]
["4 seasons"]
["Waterproof"]
["Bluesmile"]
["Beaufort 8,3"]
["Sa Better"]
["X-perience"]
["Twenty4Fun"]
["Dehlirious"]
["Endeavour"]
["Polaris III"]
["Dehlicious"]
["So Logical III"]
["XAR"]
["Zeearend"]
["Pi Squared"]
["Josephine"]
["Grijze Plaag"]
["Windshift"]
["Boxer"]
["Hartenvrouw"]
["Brothership"]
["Zenith"]
["Festa"]
["J & A"]
["Marlene"]
["Good Times"]
["Fair Wind"]
["Bojangles"]
["Big Biche"]
["Let it Be"]
["Deep"]
["SOLSKEN"]
["Wave Impact"]
["Harkelijn"]
["ZsaZsa"]
["Yellow Fox"]
["Betty Boop"]
["Pippiquax"]
["Toubab"]
["Sister Ray"]
["EVENTYR"]
["Bulletproof"]
["Bon Vivant"]
["Navicula"]
["Miss Moneypenny"]
["Wind of Change"]
["Bakvis"]
["Kelt"]
["Meicoma"]
["L'avalanche"]
["Kyan"]
["Maxime"]
["le Barteau"]
["OffRoad"]
["Schavuit"]
["Maria Magdalena"]
["Fram"]
["Donna Anna"]
["Sables"]
["Dinky Toy"]
["Vandalist"]
["Primo Volente"]
["Samei"]
["Comodo"]
["Mare"]
["Wending"]
["Galathea"]
["Vitamien"]
["Delizia"]
["Muschka"]
["Tantivy"]
["Nanna II"]
["CompanJon"]
["Due"]
["Krullevaar"]
["JAMERELLA"]
["Touchdown"]
["Lubengula"]
["Shellback"]
["JeJoLi"]
["One Design"]
["Ingnis"]
["Scanny"]
["Element"]
["OB6ION"]
["Magic Kingdom"]
["Roelien"]
["New Breeze"]
["Tzigane"]
["Max on Fire"]
["GBI van Dijk bouw en tec"]
["18+"]
["Chiquitina"]
["Edda"]
["Summum"]
["Olympia"]
["Bon Bini"]
["Le Pion Rouge"]
["Vinur"]
["Mac Fast"]
["De Lendte"]
["Stella Bella"]
["Dancing Queen"]
["Era"]
["Blue Jack"]
["Zeewind"]
["Noorman"]
["Libel"]
["Fuut"]
["Zeeëend"]
["Kemphaan"]
["Plevier"]
["Stella Maris"]
["Twenty Five"]
["Joint"]
["Everlong"]
["Maas"]
["Tante Miek Miek"]
["Zilte Zoen"]
["Ike"]
["Zeilblij"]
["True North"]
["Histos"]
["MANDATE"]
["Lallekonig"]
["Jack in the Box"]
["Just us"]
["Moving Intelligence"]
["Belle Mare"]
["Who Cares"]
["Goeyedag"]
["J'Zuster"]
["SCHEURIJZER"]
["X-35 ONE DESIGN"]
["Jool"]
["J'entre"]
["Sjees"]
["DE SPIN"]
["MELGES 24"]
["Silver"]
["Frats"]
["Jipper"]
["CON SPIRITO"]
["Kwinte II"]
["Batfish"]
["4 Fun"]
["Reco"]
["Fast Four"]
["BATAAF"]
["KATALYX"]
["Bay Max"]
["Team Heiner II"]
["PESCADOR"]
["GOD en GODIN"]
["BORDINE"]
["SAILLANT"]
["Pebbles"]
["EXIT"]
["SEALION"]
["BLACK RABBIT"]
["Waterzooi"]
["NINA"]
["RAGAZZI"]
["VROUWE ALIDA"]
["SNOOPY"]
["WHITE MAGIC"]
["Overruled"]
["Chickx"]
["NRJ"]
["SUSTER ANNA"]
["Jack rabbit"]
["TOPOLINO"]
["JUNO"]
["Druzix"]
["Bluemotion"]
["Roxane"]
["Boei 22"]
["Just J"]
["STAG"]
["Customer Contact Company"]
["Team Heiner 4"]
["De Ruyter"]
["Frihet"]
["JUNE"]
["op Merote"]
["Quinto"]
["Blub"]
["Bongo Fury"]
["Xoana"]
["Xanthos"]
["Hestia"]
["The Flow"]
["Ewent"]
["Gast Vrij"]
["DAZE"]
["PH III"]
["Joe Cool"]
["Nerida"]
["Bellini"]
["Pur Sang"]
["Led 2 lease"]
["BIZZY BEE"]
["Jelischa"]
["BEREND BOTJE III"]
["BREEZAND"]
["JASON"]
["Que Guapa"]
["Exquis"]
["Denonzen"]
["JenN"]
["Winged Winner"]
["Tramontana"]
["Dito"]
["Dame Blanche"]
["Swing"]
["Whistler"]
["De Ware Lubach"]
["Fuxels"]
["Kambo"]
["De Prins"]
["Barracuda"]
["ZARAFA"]
["Blue Whale"]
["Privateer"]
["Red King"]
["Sedikih"]
["Boruna"]
["Tien-10"]
["Layam"]
["Geusje"]
["Jip"]
["Wolk"]
["Stennis"]
["Il Corvo"]
["STORTEMELK"]
["Quest"]
["Splendide"]
["Elke"]
["GRIEL"]
["GOUDVIS"]
["Salty Dog"]
["JUNIQUE"]
["Jeanne"]
["Xeven"]
["GRAND SLAM"]
["Black Magic Woman"]
["Jan-Jan"]
["SCREWBALL"]
["Jeanne m'Arc"]
["Scylla"]
["Rosco"]
["TUTTI"]
["Viva la Vida"]
["SB 20"]
["Amares 2"]
["Witte Beer"]
["Box jellyfish"]
["Bongo"]
["Nosy Roa"]
["Westenwind"]
["Team Heiner III"]
["Bruorskip"]
["Ondeugd"]
["Volada"]
["Fliere Fluiter"]
["KING"]
["Full Grown Man"]
["Flecha"]
["DREAM MACHINE"]
["Joanna"]
["Gamble"]
["Samantaga"]
["J-BLUE"]
["Jibe"]
["GANXO"]
["Double Edge"]
["Silveren Swaen"]
["Xtra Hod"]
["Anne"]
["Morning Cloud"]
["Larx"]
["Endorphin"]
["Flevomare 01"]
["Mooi"]
["Jetstream"]
["Flicka"]
["Guanabara"]
["XoGood"]
["Amaris 2"]
["Bardolino"]
["jaffix"]
["Tuimelaar"]
["SCA Nature"]
["Elyxir"]
["La Belle"]
["Cadans"]
["Majic"]
["Ajeto"]
["FunX"]
["Picasso"]
["Helder"]
["The Huntsman"]
["ZEEBEER 3"]
["White Hawk"]
["Elixer"]
["Lucifer"]
["Jadwiga 2"]
["Klaver 4"]
["Excession"]
["BANZARE"]
["DJ"]
["neXt summer"]
["Aligator for Ever"]
["Jolokia"]
["Van Uden"]
["Jai Alai"]
["Kolibri 6,5"]
["Speeltuin"]
["Coppelia"]
["Hemels van der Hart"]
["Red Herring"]
["Wendelin"]
["Miesje"]
["Nightshift"]
["Zoet van Zout"]
["Germane"]
["Caro Mio"]
["Cerva"]
["Jelle"]
["IsniX"]
["Foxy"]
["CHOUETTE"]
["Amaretto"]
["DRV"]
["TURNING POINT"]
["BRIGHT-SIDE"]
["ITCH"]
["J Power"]
["SailSelect"]
["Yang"]
["Yin"]
["EWVA 2"]
["EWVA 1"]
["Off line"]
["Cap"]
["KINGS LEGEND"]
["Golden Eagle"]
["JIMP"]
["RAQUERO"]
["Magnificent"]
["eXe-Cuties"]
["Yellow Rose"]
["Hubo"]
["Saffier Se37"]
["Bounty Hunter"]
["Driftkikker"]
["Join"]
["I(5)kander"]
["Gotcha2"]
["ONYX"]
["Sunshine"]
["MANTISSA"]
["FarFelu"]
["Extra Djinn"]
["Ragazza III"]
["ILIOS"]
["LE RAYON VERT"]
["Feniks"]
["Jellow"]
["IJsvogel"]
["Laiva"]
["Azuree 46"]
["Hunter"]
["J Quattro"]
["Ohana"]
["To the Point"]
["One-X"]
["IMBEKKALBLE"]
["Bateleur"]
["Rosetta from the Rocks"]
["Vrijgezeilig"]
["Flying Dolphin"]
["SAFFIER 36R"]
["Serdon"]
["CSI Rakker"]
["Witte Waar"]
["OlympiX"]
["Pelgrim"]
["Bluebell"]
["New Frontier"]
["Simply Red"]
["Leeloo"]
["Suzie Wong"]
["NIKS LOOS"]
["INsails"]
["GoffelS"]
["Paint it Black"]
["Rosa"]
["Decatur"]
["Flow"]
["RELAXION"]
["Pg 2"]
["Free Bird"]
["Letitgo 3"]
["ALCAPONE"]
["Venus"]
["Båten"]
["Big Butt"]
["ShadowfaX"]
["Otilie"]
["Vinna"]
["Eneste Søster"]
["Tempo"]
["Eldorado"]
["Samson II"]
["Lulu"]
["Saramarie"]
["Flash V"]
["Vindtora"]
["Mai"]
["Blue Fox"]
["Bluesette"]
["Pan 9"]
["Aurora 2"]
["Julie"]
["Marissa"]
["Melges 24/7 Sailing Team"]
["Jutlandia II"]
["SAGA"]
["Stormen"]
["Bazinga"]
["PING"]
["Appétit"]
["O2"]
["El Torres"]
["Glede III"]
["Granuaile"]
["Caromilla"]
["Yabadoo IV"]
["Vandal"]
["Le Ponch"]
["Too Bonita"]
["Anticoma"]
["Calluna"]
["Aava"]
["Hypocampe"]
["kuling"]
["Verona"]
["Didi"]
["Bacchus"]
["Blue Cirrus"]
["FORZA"]
["Marie G"]
["Storefri"]
["Blue Note"]
["Livlig"]
["Almazi"]
["Mathilda"]
["Nerthuz"]
["Addicted"]
["Ferdinand II"]
["Kalina III"]
["Hera"]
["Alfred"]
["Exciter"]
["Nena"]
["Venninna"]
["Princess Leia"]
["Fri da'"]
["Lucille"]
["Vilje"]
["Happy"]
["Lille My"]
["Josin"]
["Fredrikke II"]
["Lady XL"]
["NN"]
["Corazon"]
["Ylle 19 Huldra"]
["Stutt-Tjukken"]
["Alida II"]
["Vilja"]
["Yani"]
["Gullan'go"]
["Moin"]
["Nofint II"]
["Elise"]
["Galatea"]
["Sjarm"]
["Moonlight"]
["Flying Scotsman"]
["Somle"]
["Milen"]
["Mani 2"]
["Galactic Viking"]
["Comfortably Numb too"]
["Tiriltutt"]
["SansSoucy"]
["C'est nous!"]
["Pacer"]
["Lady Franziska"]
["Felicia IV"]
["Stary Night"]
["Pool Panther"]
["Ticora III"]
["Finally"]
["Coccos"]
["Marlin"]
["Timeout II"]
["Skomvær"]
["Chill"]
["Lille Du"]
["Aquatich"]
["Snail Racing"]
["Dixie"]
["Odrik II"]
["Priscilla"]
["X-faktor"]
["PIA II"]
["Lillefix"]
["Tarzan"]
["Vibe II"]
["Brigten"]
["The Target"]
["Andante"]
["Sofie"]
["CB`N"]
["Mee Ran"]
["Lucky Lady II"]
["Muligheten"]
["NOLA"]
["Barolo II"]
["Out Of Office"]
["Wind Waker"]
["Frøken Smilla"]
["BLUE DAWN"]
["Tigergutt"]
["Farr well"]
["Janita"]
["Bada Bing"]
["Anker VI"]
["Tussi"]
["Lupona"]
["Patos"]
["Kilroy"]
["Dina"]
["Safir"]
["Krabbelure"]
["Oriana"]
["Gleden"]
["Steam"]
["Tusså"]
["Sees"]
["MetaXa"]
["LuRek"]
["Simsarabim"]
["Cebina"]
["Snute"]
["La Sirena"]
["Splitter Pine"]
["FirstPrice"]
["Silje"]
["BLU"]
["Elisabeth"]
["Spiralis"]
["Lisiane"]
["Rocky Ocean"]
["Fryd"]
["CAOS"]
["FS 2"]
["Grøyven"]
["Caparai III"]
["Katinken"]
["SVEMAR"]
["Malik"]
["Ruffen"]
["Endorfine"]
["Lille Spurven"]
["The White Pearl"]
["A-Game"]
["Hexedans"]
["Bris"]
["Cumulatus"]
["La Nina"]
["Team Rabalder"]
["Jølle"]
["Fri vind"]
["Yoda"]
["Aljada"]
["SeaYou2"]
["Sheep Dip"]
["Draumen 2"]
["Rossi"]
["Villanda"]
["Vela Felicia"]
["Piano"]
["Karin"]
["Goodtimes"]
["Shen Long"]
["Laila 2"]
["Laisy Daisy"]
["Infinity"]
["La SaonA"]
["Lancing"]
["Norte"]
["EL DORADO"]
["IL TEMPORALE"]
["Lystig"]
["Kristina"]
["Martine"]
["Kaliber"]
["Criado"]
["MIA MARA"]
["Jippi"]
["EXPLOCROWD"]
["Amanda"]
["Just 4 Fun"]
["Delan"]
["Track"]
["Momentum"]
["Madeleine"]
["Silvergirl"]
["Maxi Marta"]
["Drambuoy"]
["Jacobine"]
["Chakita"]
["Xcite"]
["Bonnie XI"]
["Alida"]
["Kria"]
["Heim"]
["NewAge"]
["Si-Si"]
["Impuls"]
["Konstanse"]
["Frisnes"]
["Miraculix J"]
["Nora"]
["Pulverheksa"]
["jr,"]
["Octarine"]
["Jacetti"]
["Trimar 2"]
["Tina II"]
["MadameX"]
["Pole Pole"]
["Jonna"]
["Anima"]
["Trollfjord"]
["Cayenne"]
["JYSLA LØYE"]
["XLENT"]
["Vindfang"]
["Kårstua"]
["Beeonsea"]
["Marco polo"]
["Carisma II"]
["Velferd 1"]
["teXas II"]
["Overload"]
["Nalle"]
["Quadriga"]
["Trigger"]
["Havhesten"]
["Travelling First Class"]
["HAVSULE"]
["Fri Flyt"]
["Unit"]
["ASISS"]
["Rå Glede"]
["Njord V"]
["MargoDaphne"]
["Cantomar"]
["Haffsårkesteret"]
["FriFlyt"]
["ESCAJOSA"]
["Sjiraff"]
["SAGITTA V"]
["Big Brother"]
["mipia II"]
["Danica"]
["Carmencita"]
["Ea"]
["Vito 4"]
["Kraftkar"]
["Marild"]
["XFram"]
["Dalarina"]
["Anne-lise"]
["Håp"]
["Grand Tante"]
["Robberinnen"]
["FIRSTLADY"]
["Klara"]
["Felicia"]
["Valkyrjen"]
["Eowyn"]
["Doris"]
["Xanthippe III"]
["Båtenvår"]
["Ragnhild"]
["Leda 3"]
["Consensus"]
["Four To Match"]
["Tidig 3"]
["Ollie"]
["LEX"]
["Born to Run"]
["Amor III"]
["Grayce"]
["Twist"]
["Starlit"]
["Yme"]
["Tai"]
["Blaast"]
["Madcap"]
["Tella"]
["first we take"]
["Snakkas"]
["Matchless 2"]
["Tobica 2"]
["Sailfish"]
["Felizia"]
["SONS OF HURRICANES"]
["Breezin"]
["Bølgen & Meg"]
["j-walk II"]
["Vind-Erla"]
["Farvide"]
["Spleis"]
["MASITO"]
["Miss Helen"]
["Amaryllis"]
["Jolly Yacht"]
["Regina II"]
["Windsong II"]
["Kilden"]
["Maija"]
["Rubber Duck"]
["Istedenfor"]
["El Dragon III"]
["MorraDi"]
["Carisma"]
["Smil"]
["Limer"]
["Tayo"]
["Emiliane"]
["Nini Roll"]
["Inua"]
["Rebell"]
["Jubel"]
["WilDa"]
["May-Lady"]
["Josefine III"]
["Kompis"]
["Baaten"]
["Grid"]
["EIR"]
["Back in black"]
["FRI"]
["Ariela"]
["Rocky"]
["Kismet jr,"]
["Rocket Dog"]
["Framtia"]
["Rubin 4"]
["Woodlark"]
["Pamina"]
["Annisen"]
["Carioca"]
["(It&acute"]
["Cavatina"]
["Gunnela"]
["Empire"]
["Dussi II"]
["Spin Off"]
["Furia III"]
["CHANRU"]
["Shiraz"]
["Foxy Siss"]
["Easy Match"]
["Ami"]
["Cooling"]
["Lysing III"]
["Øse"]
["Bissie Lissie"]
["Symra"]
["Winocean"]
["Levens"]
["Extase"]
["Andrine"]
["MARGARITAVILLE"]
["Runa Regine"]
["Papillon"]
["Miramis"]
["Duppen"]
["Miraculix"]
["Sitaren"]
["Sgt, Pepper"]
["Easygoing"]
["SIMETRA"]
["Silius"]
["piXeline"]
["Jenny E,"]
["SY Mango"]
["Bilbo"]
["VELELLA III"]
["Lakrisa Viola"]
["Time Out"]
["Elvira"]
["Kismet"]
["Team Timeout"]
["Elanthea"]
["Akina"]
["Ex99"]
["Luzern"]
["Frøya"]
["Havløye"]
["My Life"]
["Veiva"]
["Blanke Arc ^2"]
["Essex Girl"]
["Berenike"]
["Poniente"]
["Mathilde 2"]
["Raphael"]
["Snehvit"]
["AMIGO VII"]
["Guttas"]
["Marathi"]
["Exita"]
["Fritt Fram!"]
["Mimoka"]
["Veronica K"]
["Albertine"]
["Arius IV"]
["Zen"]
["Morild"]
["Havkatt"]
["Miss Marianne"]
["Pedro"]
["FEM"]
["Sval"]
["Rabbagast"]
["Helika to"]
["Fykan"]
["ocean girl"]
["Soles"]
["Marie II"]
["Balder"]
["Jutta"]
["Selima"]
["FØNIX"]
["Tini"]
["Madam Larsen"]
["Passe Gal"]
["Christiane"]
["Norwegian spell"]
["Streif"]
["Maren"]
["Careika II"]
["eXodus"]
["Ungen"]
["Winifi"]
["toXic"]
["Coco"]
["SMILEY"]
["EMITINE"]
["Anahita"]
["MEMENTO MORI"]
["Karpediem"]
["EGO"]
["Wish"]
["Bretanus III"]
["Cruella deVil"]
["Effie Marconi"]
["NEMI"]
["QUINAYA"]
["Whatever"]
["GAMBLER"]
["MUSTANG SALLY"]
["Mango"]
["Clupea"]
["Slappa 3"]
["La Nova II"]
["Gøy på vannet"]
["MORILD2"]
["Memento Vitae"]
["Carolina av alvøen II"]
["Marialene"]
["Begge Dehler"]
["Vela"]
["Stegg XVI"]
["Erina"]
["Dawn II"]
["Xbox"]
["Mirasol"]
["Utla"]
["Norbreez II"]
["Blia"]
["Ready lady"]
["Pepita"]
["Match"]
["Saevitia"]
["Windstar"]
["Ashiki"]
["BØR"]
["Gråtass"]
["Team HeXa"]
["Caro"]
["INXS"]
["Fast Born"]
["Just do it (tidligere Ti"]
["Babar"]
["Zefyr-3"]
["Himlaleite"]
["Siahgahay"]
["Bjørnstjerne"]
["Synzygus"]
["Hansemann"]
["SuperTrouper"]
["Costa Mer"]
["Suzie Serken"]
["Lille Myh"]
["MoJo"]
["Veloca"]
["Duva"]
["Eir V"]
["LatHans"]
["Facile"]
["X-tra"]
["Prunus"]
["Elanor"]
["Othilie"]
["Liffe"]
["Expresso"]
["Friskus VI"]
["Set Sail"]
["Illuminati"]
["Deidrès Samba IV"]
["Barbarella"]
["kiwayo"]
["Vivante"]
["Albinchen"]
["Fjordfryd"]
["Hanna Marie"]
["Linea"]
["Farr out"]
["Rassker"]
["Havheksen"]
["Titrack II"]
["Flugt VI"]
["Ikaros"]
["Arckaos"]
["Paulus"]
["Drømmen Om lykke"]
["Feelgood"]
["Crazy Bananas"]
["Elin Express"]
["Sigvaldson"]
["Lundefuglen"]
["Randafloga"]
["Lykke"]
["Achieva"]
["Elly"]
["Emami"]
["S/Y Rasputin"]
["Seamaster"]
["Team Ellida II"]
["Adrenelan"]
["Sarpsborg EL Installasjo"]
["Fortitude"]
["Wendigo 2"]
["Skarv II"]
["Wild Bird"]
["Hårek"]
["Mamar 2"]
["LISA"]
["Brisen III"]
["Kong Neptun"]
["Ellida 3,5"]
["Pus"]
["My"]
["gamma"]
["Alda III"]
["flora"]
["Sheherazade"]
["Zorro"]
["Ranegutt II"]
["MØY"]
["DESTIN"]
["Tikk Takk"]
["Mars"]
["PAKALOLO II"]
["Jungmann"]
["Jakobine"]
["Felicity"]
["Stær"]
["Felicita"]
["Redline"]
["Rypa VI"]
["Paradise"]
["Citius"]
["First Mill"]
["Karisma 2"]
["X´est La Vie"]
["Passatempo"]
["Go' tid 2"]
["Anarchy"]
["Bellatrix"]
["Sex’tanten"]
["Zikk Zakk 8"]
["JOY IV"]
["S/Y FRI"]
["Sea Lemon"]
["Tamara"]
["Cara Mia"]
["Kelso"]
["Anitra"]
["Svanthe"]
["Rollon"]
["Swansea"]
["Bertha"]
["STAKKATO"]
["-"]
["AJAJA"]
["Najaden"]
["Zombrero 2"]
["Ripstick"]
["Joppe"]
["Hals"]
["XANA"]
["Karma Police"]
["Sortebill"]
["SANTA"]
["Xena"]
["Point 2 Point"]
["Sone 2"]
["Larsson"]
["Dollard IV"]
["Sandia III"]
["Skagerrak"]
["Null Stress"]
["God Tid"]
["Miles Ahead"]
["Amatør´n"]
["First Kiss"]
["LnX"]
["Blur"]
["Bimbo"]
["Anna Serine"]
["Green Magic"]
["Cinderella"]
["Dilemma"]
["toXifia"]
["Magnolia"]
["4ALL"]
["TURANGALILA"]
["Tjangs"]
["Leken"]
["MELANIE"]
["Red lady"]
["Ydalir II"]
["Carmen IV"]
["match35"]
["Solsidan"]
["White Shadow"]
["Gottix"]
["Farrari"]
["Salacia"]
["Lurie"]
["Hyak"]
["Iggy"]
["Angelique"]
["Conkylien"]
["Trio"]
["Mixer"]
["Olisabeth"]
["Jokerman"]
["Lovise"]
["Mymlen"]
["Windmachine"]
["Argo Navis"]
["Nini Roll II"]
["Ellen"]
["Tolama"]
["Mithrandir"]
["Kahlua III"]
["Wolfpack"]
["s/y Choicetta"]
["Hvalborg"]
["Selfrid"]
["Drak lunne"]
["The White Rabbit"]
["Jakobine II"]
["Festina Lente"]
["Akhillevs-X"]
["Crux"]
["Morgensol"]
["Bloom"]
["Filterfree"]
["Hyggen IX"]
["First Fox"]
["Lille Bly"]
["Celnik"]
["Jou Jou II"]
["Miss Flænders"]
["Rainbow chaser"]
["Jolla"]
["SLIM"]
["Seksern"]
["Excalibur"]
["Paprika II"]
["After Work"]
["Vill Vakker & Våt"]
["Vortex"]
["Aurora Borealis"]
["Gone to Sea"]
["Heart of Gold"]
["Eirill 2"]
["Undine"]
["Corax"]
["Con Moto"]
["Luringen"]
["Chablis"]
["Kunna"]
["Dacapo"]
["Ella hval"]
["Fast Raven"]
["Proxflyer"]
["Barcarole opus IV"]
["Jet Flyer"]
["Lucky Fox"]
["Verano II"]
["Jigy Jigy"]
["Tellus"]
["Fri av fjærholmen"]
["Yippi!"]
["First Star"]
["HELTOK"]
["Uredd II"]
["First Tracks"]
["Jake"]
["Sinbad"]
["Olivia"]
["Sætreplogen"]
["Easy Rider"]
["MarBeth"]
["Surfin Lady"]
["Frøkna"]
["RAMBLER 77"]
["TAO"]
["Megrez"]
["KIKKEN"]
["Third Sentence"]
["SOLDIER BLUE"]
["Ollie IV"]
["FADERENS BESLUTNING"]
["DayDream"]
["Albertine 3"]
["Alegra"]
["Don nix 3"]
["Hazard Chase"]
["Indy"]
["Karina"]
["Milska"]
["First Choise"]
["DILL"]
["Lethe"]
["Turbulens"]
["LUPI"]
["Penny"]
["Majuca"]
["Hello Goodbye"]
["Granville Express"]
["Fleury Dancer"]
["Memento"]
["CarbonCave"]
["Mulen"]
["Puffin"]
["ONIRO 2"]
["Goodny V"]
["Me"]
["Karukera"]
["POD"]
["THROT"]
["Xess"]
["Dagny"]
["Bith2"]
["Gemini"]
["Agalaus III"]
["GoingToo"]
["Flying Ace"]
["Kiriliane"]
["Milliways"]
["Rehab"]
["Gammal Moro"]
["Gertrud"]
["PROGRESSIVA"]
["Frille"]
["Flaks"]
["Alfard"]
["JJFLASH"]
["PIVO"]
["Beat"]
["Hideaway"]
["Lazy"]
["Havbris"]
["Tess"]
["Baba Yaga"]
["HeiltVilt"]
["Vestavind"]
["El-dorado"]
["Ziru"]
["Flyvepappen"]
["X Files"]
["Just for fun 3"]
["XPRONTO"]
["Katla"]
["Terne"]
["ANUK"]
["Jærbuen"]
["Lo"]
["Gråbein"]
["Aranka"]
["Deep Shit"]
["NextGen"]
["Cosinus"]
["Andrik"]
["SailLogic"]
["Pluto"]
["Capere Ventus"]
["Galadriel"]
["Enavigo"]
["Weni"]
["Lucky Jack"]
["Toriane 3"]
["AndreKryss"]
["Hanauma"]
["Koroo"]
["SPURVEN"]
["Gabrielle"]
["LA STREGA BIANCA"]
["Hufsa"]
["S/Y Vårbudet"]
["Amarone"]
["Fomle"]
["Sjøliv"]
["Skarven"]
["New Attitude"]
["Hyggen"]
["Linda"]
["Naomi 3"]
["Aminda"]
["Pernille"]
["iboat"]
["Evelyn II"]
["Stella Badio"]
["hey hey may may"]
["Flugt VII"]
["Blå"]
["Promineo Racing"]
["Cymbal"]
["Rex"]
["EL TUNANTE III"]
["HURACAN"]
["PONINO"]
["PAICHE"]
["CALMA"]
["CHALLWA"]
["ARIETIS"]
["Anafesto"]
["TYGLO"]
["AQUAVIRGO"]
["Polled 2"]
["VATAHA 2"]
["RASTABAN"]
["Vector Baltica"]
["Czarodziejka"]
["Trygław"]
["Zena II"]
["2 EASY 2"]
["FACIL"]
["Neoprofil"]
["DUŻY PTAK"]
["OPOLE"]
["Oiler,pl"]
["ZOLTAR"]
["DEXXTER"]
["FIDELIA"]
["Good Speed"]
["HADAR"]
["RESUMEE"]
["ZEFIREK"]
["Fujimo"]
["Konsal II"]
["Oceanna"]
["Hruby"]
["SCAMP 27"]
["Busy Lizzy"]
["SLONI"]
["Nec timide"]
["Four Winds"]
["Elessar"]
["QUANTA"]
["Sea Bee"]
["Caravela 950"]
["Sea Dog"]
["Res Navalis"]
["TROCHUS II"]
["Fujimo 55"]
["BLUEFIN II"]
["A Q U I L A"]
["Wyklęty"]
["ZORBA"]
["Bryza33"]
["ENDORPHINE 2"]
["SAIL 4 US"]
["GOLFINHO M2"]
["BABSEA"]
["GIANZO"]
["PEDE VENTO"]
["ZDAMEN"]
["CONTRASTES"]
["FUNBEL"]
["EAGLE TWO"]
["TROVAO"]
["IDEIA FIXA"]
["PARALELO 32"]
["ATCHIM"]
["ALF"]
["Golfinho L3"]
["AYE"]
["STEP IN / ROFF"]
["MEDETA"]
["ALTITUDES II"]
["SUPER AÇOR"]
["PROJECT 03"]
["ATRIA 45"]
["SAO BERNARDO"]
["RED RUTH"]
["CRISTINA A"]
["HARFANG SPIRIT"]
["TWISTED"]
["NO STRESS"]
["BOMBAY"]
["ALMA GEMEA"]
["AIRMAIL"]
["CIDADE DE FARO"]
["PAQUITO"]
["TOMATE"]
["Miss Joana"]
["BOCAGE"]
["ALVOR"]
["MAGIC BRISA"]
["Giulietta 2"]
["IMPULSIVE"]
["MARUJO"]
["SULA-TOO"]
["TERCEIRA IDADE"]
["CHOQUE"]
["Naval Experience"]
["4Xcape"]
["Cidade  Tavira"]
["Melx II"]
["Teodora"]
["Harmony"]
["Thea"]
["Pelican Racing"]
["Jackpot"]
["Santa Monica"]
["Esperanta"]
["Cloud"]
["Santa Clara"]
["Getika"]
["Simina"]
["Elysea"]
["Setsail"]
["Quebramar"]
["Irony"]
["Odyssea"]
["Echipa"]
["Fyling Cloud"]
["Life"]
["Baby One"]
["Santa Maria"]
["Fly"]
["Indira"]
["Hope"]
["Wanderer"]
["Delia"]
["Mac Too"]
["Adria"]
["Feriola"]
["Dream"]
["CAZ"]
["Spilhaus III"]
["Mwah"]
["A-L"]
["Bellisima"]
["Chen"]
["FarMed"]
["Feisty"]
["Hill Billy"]
["Iechyd Da"]
["Majimoto"]
["Regardless"]
["Silky"]
["Skitzo"]
["Skye"]
["Stoked"]
["Umoya Omusha"]
["Love Affair"]
["Felix The Cat"]
["Pure Magic"]
["Scarlet Sun"]
["Humdinger"]
["Pants on Fire"]
["Strumpet"]
["CFM 2"]
["Cape Fling II"]
["Stinger"]
["Touch & Go"]
["Thunderchild"]
["Warrior"]
["Majimoto 2"]
["Hot Ice"]
["Rocket"]
["Sizwe"]
["Sabatier"]
["Assagai"]
["Windpower"]
["Lapwing"]
["Naledi"]
["Tin Tin"]
["Southern Star"]
["Sophie B"]
["Regardless 2"]
["Avatar"]
["SixPak"]
["Let's Go"]
["Nitro"]
["Morning Wings"]
["Patches"]
["Pallucci"]
["Bodytec Flyer"]
["Scatterling"]
["Always Well"]
["Chazaq"]
["Indaba"]
["Faraway"]
["Suidoos 2"]
["Yolo"]
["Rotary Scout"]
["Ray of Light"]
["Nuthr Witch"]
["Gryphon"]
["Colour of Magic"]
["JML 1"]
["Mac A Tin"]
["Libra"]
["Co-ordination"]
["Derbigum"]
["Mr B"]
["Malu'Lani"]
["CuAl6(PO4)4(OH)8,4H2O"]
["Ski"]
["TnT"]
["Vivaldi"]
["Jacana"]
["Scud"]
["Sheshisa"]
["Saoirse"]
["Pacer 1"]
["Pacer 2"]
["Pacer 3"]
["Pacer 4"]
["Hors d'Oeuvre"]
["Rockstar"]
["Mega Freight"]
["Cape Dancer"]
["Mafuta"]
["Ambeloui"]
["Ballyhoo Too"]
["Eileen Taigh"]
["Tenacity"]
["Just Fun"]
["Morgenster"]
["Phantom"]
["Sir Henry"]
["Reaction"]
["Malgas 1"]
["MB Racing"]
["Wallbanger"]
["Running with Scissors"]
["Blue Tango 2"]
["Carousel"]
["African Renaissance"]
["Me2Me"]
["Hamba"]
["Silver Girl"]
["Maestro"]
["Chinook"]
["Cabaray"]
["Maverick Meerkat"]
["Argo Fy"]
["JML 3"]
["Phezulu"]
["Solitaire"]
["Benguela"]
["Moonraker"]
["Nebulae"]
["Corum"]
["Bonnie Lass"]
["Keg"]
["STRANNIK"]
["First"]
["X-PRIME"]
["SAMBA"]
["SOUTHERN  BREEZE"]
["GASTION"]
["QUANTUM GT"]
["Valeriya"]
["RUS841"]
["LOKO"]
["Bronenosec"]
["Zanoza"]
["Utekha"]
["Knyazhna"]
["Kreyser"]
["TIME MACHINE"]
["Mir"]
["Neptune"]
["KORUSHKA"]
["PULSAR"]
["Mirabelle"]
["KURAZH"]
["BELKA"]
["Ukor"]
["Prizrak"]
["TIFFANI"]
["JUKEBOX"]
["Slavia"]
["Lastochka"]
["Flavis"]
["Breeze"]
["ALEKSANDRA"]
["Blanko"]
["Luga"]
["Kvartet"]
["Alaska"]
["PEREGRINE FALCON"]
["RAY"]
["DIRLANDA"]
["Fortune-II"]
["Aleksandriya"]
["Joker-1"]
["Spasibo"]
["Vopros"]
["AMIGA"]
["SOLAR"]
["Arfa"]
["VOLGA"]
["Milonga"]
["Sky"]
["Krka"]
["Fado"]
["Aurora Pirnar"]
["Generali - Assilina III"]
["Pogaze"]
["Taia 2 & White Goose"]
["Krka D"]
["Macropus"]
["Nika"]
["Ahil"]
["Cesarica"]
["Riedl Aerospace"]
["Babi"]
["Mesto Novo mesto"]
["FE 28R Enka"]
["FE 28R Dvojka"]
["FE 28R Trojka"]
["Little Big Man"]
["Palada"]
["Scorpio 44"]
["Bled 2"]
["Mimi Aldebaran"]
["All 4 One"]
["SAIDA"]
["CLIN D'OEIL"]
["JAWS"]
["PRINCIP-ESSE_OFF"]
["NUMBER ONE"]
["FALCON"]
["WUSCHEL vor"]
["Xperience"]
["PRINCIP-ESSE"]
["NYX"]
["TARTARUGA-O"]
["TAMINA"]
["MEZZANOTTE"]
["NASHORN"]
["SHANNON"]
["SHIRI"]
["ROCK'n SAIL"]
["SCACCIAPENSIERI"]
["RUF rot"]
["AS DE COEUR"]
["SUBITO"]
["LOU LOU"]
["4 VENTI"]
["SYRAH"]
["TIFFANY"]
["GUZZI  II"]
["ReLiVi"]
["TOBEGA  2"]
["GILBERTE J"]
["SURFIN"]
["FRIENDSHIP"]
["MISIA"]
["THIRZA"]
["IMPERATOR 2"]
["PAUA"]
["B TOO"]
["CYRUS"]
["BLUE PEARL"]
["EVANESSE"]
["COMTESSE"]
["VITESSE OBLIGE"]
["SOLIDAGO"]
["ESCAPADE"]
["AMETHYST"]
["BOHOMO"]
["BAUREAL"]
["GOOD DAY SUNSHINE"]
["SILENZIO !!!"]
["RENNFIX"]
["OCTOPUS"]
["LUCKY MACKY"]
["HYPNAUTIC"]
["BOOTSLIFT"]
["CARA SARA"]
["STERNSCHNUPPE 2"]
["ESMERALDA"]
["FRÖYA"]
["SUNBEAM"]
["YAHOO"]
["DOMINA"]
["SPEEDY GONZALEZ"]
["Phoenix-O"]
["CoCoRoxy"]
["BALLYHOO"]
["BINAUDA"]
["SAPHIRA"]
["BONA FIDE"]
["NOZOMI"]
["MAXIMUMM"]
["BLUE BAYOU"]
["AYLA"]
["RAYA-O"]
["RAYA"]
["MAVERICK III"]
["MORNING BREEZE"]
["X 4 SIX"]
["AZURA"]
["1001 NACHT"]
["ESSE 990"]
["GINGER"]
["SANTOSHA"]
["SONNENKÖNIG"]
["IBINADO"]
["PLAYMATE  II"]
["SARASOTA"]
["ONDEIA"]
["PORFIN 2"]
["ROSSO"]
["SOLSTITIA"]
["SOLSTITIA-O"]
["WHITE SNAKE"]
["WHITE SNAKE-O"]
["PURANI"]
["BLACK MERLIN"]
["CHANCE"]
["JONATHAN SEAGULL"]
["EVITA"]
["BEUGEN"]
["UHU"]
["KOENIGSBERG"]
["MÄX"]
["FALKONE"]
["ESSE 750"]
["FORTUNATA"]
["FRIOUR"]
["ESSENZY"]
["DESASTER"]
["PINTGA"]
["MAXI-MILIAN  III"]
["PASSION"]
["FUCHUR"]
["WILLIWAW"]
["HAZEL"]
["WOODWAY"]
["CHUBASCO"]
["CRESCENDO 2"]
["KIRIBATI II"]
["AS DE PIQUE"]
["OOPS,,,"]
["COSMIC WIND"]
["EFFEDUE"]
["MISIA-O"]
["SWIMMINGTOOL-O"]
["FIORETTA"]
["ELFE"]
["SCMD - J 70"]
["LE CACTUS"]
["VISTAFJORD IV"]
["HAKORA"]
["ESSENZ"]
["FETTES BOOT- O"]
["FETTES BOOT"]
["ZERO 40"]
["STORMTROOPER"]
["Zlatan"]
["XPLORER"]
["Hang Loose"]
["NAOMI"]
["TRUE HEADING"]
["Pro4u/Malin"]
["Veronix"]
["NORIX"]
["BLUE PRINT"]
["EDIN PROGRESSIVA"]
["Draklunne"]
["FARRGO"]
["DATACOM"]
["Madonna"]
["Gloria"]
["S/Y PANDION"]
["Magic Mix"]
["Solong"]
["ABSOLUTE BLUE"]
["AlmaViva"]
["DU SOLEIL"]
["Grynet"]
["MUCHACHA II"]
["Hurrykanen"]
["Regina 2,0"]
["Kwanza"]
["ANTHEM"]
["Take Off"]
["PERFECT EXCUSE TOO"]
["FEMELLES"]
["Mrs Freckles"]
["NAYAD"]
["Golddigger"]
["Ayarsız"]
["FB 4"]
["Team Turkuaz"]
["FB 5"]
["KARYA YELKEN"]
["KYK 1"]
["KYK 2"]
["Seftali"]
["RAPIDO"]
["GALATASARAY YELKEN 2"]
["Galatasaray Yelken 1"]
["POSEIDON YELKEN 1"]
["Vira Yatcilik"]
["POSEIDON YELKEN 2"]
["MODAFEN"]
["SOS 1"]
["SOS 3"]
["Guarana - Globit"]
["Nomos"]
["PENDİK YELKEN 2"]
["PENDİK YELKEN 1"]
["Heybeliada Su Sporları K"]
["HEDEF YELKEN 8"]
["SOS"]
["BURGAZ YELKEN 2"]
["JUMBO"]
["DEEP FREE"]
["Gun Isıgı"]
["OneDesign"]
["CYGNUS"]
["GOKOVA III"]
["PAPIRUS"]
["DANCER"]
["BLUE BIRD II"]
["KG"]
["PENTELI"]
["Foros"]
["SB-20"]
["Mobi Dick"]
["Galleya"]
["Cayman"]
["Amazonka"]
["Gonta"]
["GO FAST"]
["Polonez"]
["Olviya"]
["Alfa"]
["Alisa"]
["Virineya"]
["MG-30"]
["Ruimbaan"]
["Catalonia"]
["Vera"]
["Bars"]
["Smila-2"]
["Secret"]
["Sinop"]
["OLGITA"]
["Eol"]
["Borey"]
["MG"]
["Magellan"]
["Halych"]
["Sea Biscuit"]
["ALLEGIANT"]
["Velocity"]
["Troublespot"]
["Blended"]
["PANACHE"]
["Spray"]
["Teamwork"]
["STYLO"]
["ULTRAVIOLET"]
["JOY RIDE"]
["Harm's Way"]
["KALEVALA II"]
["MADAME PELE"]
["SPOOKIE"]
["PATRIOT"]
["Fully Involved"]
["FEARLESS"]
["Soul"]
["Illyria"]
["FOGDOG"]
["Eagle's Eye"]
["Sitella"]
["MOOMIN"]
["Cougar"]
["Gold Rush"]
["Sprint 6"]
["RATTLE AND RUM"]
["ARROW"]
["LUCKY EIGHTS"]
["SADIE MAE"]
["USA 1162"]
["CHIP'S ALL IN"]
["Monkey Business"]
["GUILLOTINE"]
["PHOTON"]
["CARINA"]
["Flash Mob"]
["PLAYMOBIL"]
["MIST"]
["JEROBOAM"]
["GREY GHOST"]
["CROSSFIRE"]
["Xiberger"]
["MERIDIAN X"]
["SLUSH FUND"]
["OCELOT"]
["FIREFLY"]
["DARK STAR"]
["WINDBORN"]
["Second Star"]
["TooToo"]
["SAYKADOO"]
["RIVAL"]
["AEOLUS"]
["KURRANULLA"]
["BANDANA"]
["NICOLE"]
["CHEETAH"]
["MONKEY DUST"]
["Second Mouse"]
["DARKHORSE"]
["ReJoyce"]
["CHECK MATE"]
["JEDI"]
["HAMACHI"]
["TEAM BEAU GESTE"]
["SLY"]
["SUMMER STORM"]
["AFTER MIDNIGHT"]
["Relentless"]
["CENTURION"]
["JACKHAMMER"]
["OAKCLIFF FARR 40 RED"]
["SONRISA"]
["2 If By Sea"]
["Swift"]
["DIRE WOLF"]
["DEFIANCE"]
["ZUUL"]
["Mossa"]
["Happier"]
["Veliero"]
["Next Wave III"]
["Erin"]
["Oisan II"]
["Equus"]
["TINKA"]
["St, Pavel"]
["LA VICTORIA"]
["Gosail,lt _ Marinis"]
["Gosail,lt _ Pietvis"]
["SPUGNA"]
["MAORI"]
["MADEIRA"]
["MARABARA"]
["Lotus"]
["LUISON"]
["NUN"]
["LA PERLA BLANCA"]
["ILDEMAR"]
["Haddock"]
["Cocopelli"]
["STINTA"]
["LUPO ALBERTO I"]
["VETROCCHIO"]
["OBLIVION"]
["MAHE"]
["Lokura"]
["ARTETEKA"]
["QUASAR I"]
["KARTIKA"]
["DIDU"]
["FIROGAN"]
["Shikari"]
["Canard"]
["GANDALF"]
["SCIALAI"]
["CANTAMANANA"]
["IBANA"]
["OCIDE"]
["ARAN II"]
["EMV DOCE"]
["AMANCAY"]
["NEIS"]
["ALKINOI"]
["PUNTO E BASTA"]
["FLEUR"]
["HELENA"]
["CIENTOTRECE"]
["MARIBE CUARTO"]
["CONTEMAX^3"]
["LUPO"]
["EL AMPARO"]
["ATAMAN"]
["SEDNA V"]
["Gosail,lt _ Jurinis"]
["ESTEL"]
["MACHAQUITO 2"]
["PORTU TERCERO"]
["Sopu"]
["QUEEN OF MAYBE"]
["MAEL"]
["EL BANDIDO DOS"]
["IAIA II"]
["Shuguang"]
["Alexandra"]
["HERMOSA"]
["MAGIC RITA"]
["RE ARTU'"]
["Bordeaux 3"]
["ALBADA"]
["MILLY"]
["GIOY"]
["WHITE PEARL"]
["CAOTIKA"]
["Mrs Jones"]
["PALMERSTON"]
["VOREAS VELAKI"]
["GOLDEN ACORN"]
["SEA-ESTA"]
["MAJESTIC"]
["D & D"]
["NILOTNA"]
["CRISTINA JJE"]
["FESTINAZO"]
["VEGAS"]
["IGARAPE'"]
["HOME IN THE WIND"]
["SURYA"]
["Polly One"]
["STAVROS TOU NOTOU"]
["VIVALTI"]
["BLUE PEARL V"]
["Miles"]
["TRASGO"]
["EMANUELA"]
["LYBRE"]
["OCHO"]
["CASTIGAMATTI 2"]
["LUNATIKA"]
["XXL"]
["MAKEDON"]
["TREN EXPRESSO"]
["ANGELIKI"]
["BLUE LINE - ASTERAS TAXI"]
["ALTAMAR 1"]
["AJU CUATRO"]
["Kollekten"]
["PANAGIOTIS G"]
["MAEVA"]
["LISKA"]
["SCALLYWAG"]
["Megaenergija"]
["HMCS Oriole"]
["KALLISTE"]
["FAI BENE"]
["DIES"]
["TO BE LATE"]
["CVM"]
["VALIA"]
["SUN SURPRISE"]
["ALALUNGA"]
["SUPERTRAMP"]
["STRAVAGANTE"]
["PERSEUS"]
["TRUBLION"]
["ALBA III"]
["LYST"]
["Sula Bassana"]
["IMPETUOUS"]
["SOLLEONE"]
["STRADIVARIUS"]
["MASCALZONE LATINO"]
["KATIA"]
["IVANA S"]
["SWARTE SWAEN"]
["ORACABESSA"]
["BEWILD"]
["VOLOIRA IV"]
["RAVING SWAN"]
["ORBIT"]
["AFFAIR"]
["Lusso Lupa"]
["Digital Alpha"]
["ZAPPY'S"]
["MAGICAL MYSTERY TOUR"]
["LONG ECHO"]
["SOLANO"]
["Northern Child"]
["PIPPUS"]
["ROSY PELICAN"]
["CHARISMA"]
["CARAT"]
["K-Force"]
["NEGRA"]
["JEROBOAM-CA'NOVA"]
["Stell"]
["T'ALA"]
["Fever of the Seas"]
["Gaastra"]
["Samantha"]
["SHAKA"]
["MONOMOTAPA"]
["FIXATION"]
["YLVA"]
["RUMTRADER"]
["WALIDADA II"]
["AORANGI"]
["SARABANDE"]
["VANESSA"]
["SOLENIA II"]
["QUERO-QUERO"]
["THEMIS"]
["CLARION OF SKYE"]
["SNOW WOLF"]
["SLEEPER X"]
["SNATCH"]
["CUORDILEONE"]
["CHERI"]
["CRILIA"]
["OLWYN"]
["BALLYTRIM"]
["Ellinor"]
["SWAN VALHALLA"]
["YASHA"]
["GENESTHO"]
["LATONA"]
["CLEM PRIMERO"]
["Berge Viking"]
["Lintu"]
["EQUINOCCIO"]
["ALPHA CENTAURI"]
["VERTICAL SMILE"]
["TSAAR PETER"]
["Spirit of Europe"]
["SGM"]
["ASANA"]
["BLACK JACK"]
["CUORDISOLE"]
["Concerto"]
["LIBELULA"]
["SIX JAGUAR"]
["VENATOR"]
["SHIRLAF"]
["UNE JOIE DEVIVRE"]
["Coeur de Lion"]
["GAETANA"]
["LUNZ AM MEER"]
["Indigo VI"]
["Bounty"]
["ALDABRA"]
["BUGIA BIANCA"]
["TIGRIS"]
["Saker"]
["THE USUAL SUSPECTS"]
["Clockwork"]
["ONE WAY"]
["CHALLENGE"]
["GUILTY  PLEASURE"]
["SEVEN THINGS"]
["Buyan"]
["Luctor 3"]
["MORPHEUS"]
["HAWK"]
["DON JONAS"]
["MOON SAFARI"]
["RAIRA"]
["Ivy"]
["FOURWINDS"]
["IPHARA"]
["Maiden"]
["Forty"]
["TANDEM"]
["SHUANG HSI"]
["Fregat"]
["Taurus P09-60?A"]
["Asmoday"]
["SARMATA"]
["DANZIGER"]
["LOBUS"]
["ITI NUI"]
["TOD"]
["HAPPINESS II"]
["Fier"]
["HEBBES II"]
["Solo 2"]
["PINTIA"]
["BETI GIRO"]
["Seleni 3"]
["RCN CALPE 3"]
["RCN CALPE 2"]
["RCN CALPE 4"]
["RCN CALPE 5"]
["RCN CALPE 6"]
["Valkyrie"]
["A-TEAM"]
["WOT EVA"]
["ICHI BAN"]
["XIO"]
["BLIXT PRO SAILING"]
["Kinetic V"]
["MI NEGRA"]
["TRIANA SPORT"]
["MAYUMBA"]
["ZOFIA"]
["STURMVOGEL"]
["MUNGA"]
["AUDAZ"]
["Main Squeeze"]
["Pipe Dream XIV"]
["VAMOS ADELANTE"]
["TRIPTYQUE"]
["ENTROPY"]
["AGERI"]
["OKYALOS"]
["OPUS UNO"]
["MENGANO"]
["GALOPIN 2,0"]
["Tauri"]
["YAK"]
["Bodega III"]
["SIXBEAT"]
["NORTHERN LIGHT CANAGLIA"]
["MIAMILU'"]
["DUMBO"]
["GOLDRAKE"]
["SPINA NEL FIANCO"]
["JACIL SPARROW"]
["POI SI VEDRA'"]
["BANANA"]
["DUSANO SAILING TEAM"]
["WHY NOT 4"]
["Eilean"]
["SI-SAWAT"]
["NON C'E' PROBLEMA"]
["L'AMANTE ROSSA"]
["MISTEL"]
["BUEN VINO TINTO"]
["ILEUS 5?"]
["Duicibella"]
["Aquamarine"]
["TAAI BENNIK II"]
["MIRACLE"]
["KYMOTHOI"]
["Daniel"]
["Saba Shimon"]
["Lior"]
["TUULELIND"]
["HAVANA 44"]
["BUKH BREMEN"]
["Westwind"]
["Vector Baltica II"]
["Raga"]
["Andersons Vega"]
["Hartendief"]
["Jean Bart"]
["THOMASVAER"]
["PLANCIUS"]
["BLUE LADY"]
["MY FELLOW"]
["MAXGUAY"]
["GEMINI HT"]
["MISTRESS"]
["SUPERNIKKA"]
["PLUMERIA"]
["GLASHAGER"]
["MARIA MARIA"]
["Pat & Mat"]
["GIO'"]
["Cetus"]
["VENTURA DEL MAR"]
["TUMBAU"]
["ONO"]
["Tokio II"]
["HoutNsteen"]
["One Wave Ahead 1"]
["STROMER"]
["RED PLANET"]
["Reade Wikel"]
["Triple X"]
["SIDDHARTHA"]
["Wasa'n"]
["Xue Long"]
["Zheshanghanghai"]
["Hao Wei"]
["Cubaneren"]
["HIGHLANDER"]
["AMBUI"]
["MetaMagic"]
["UNCHAINED LADY"]
["NILA-ANN"]
["Bucky Bullet"]
["Fortuna"]
["Froya"]
["MELODY 5"]
["FLASH BEST FELLOW"]
["Befana"]
["Right Know!2"]
["FLAMAND DES VAGUES"]
["mare liberum"]
["Baloega"]
["Acqua Cheta"]
["HUNT"]
["Brainwash"]
["Horizon"]
["Twaalf Twintig"]
["Watersportverbond"]
["Winner 8"]
["Negenhonderd"]
["Nine"]
["Catweazle"]
["Equinoxe"]
["MANA"]
["ASCALO"]
["UN MOMENT PRIMERO"]
["FLOR DE LIS"]
["VERMELLO"]
["Ramona"]
["BLUE MARLIN III"]
["NONNO STELIO"]
["Andela X"]
["Janska X"]
["Nube"]
["MyX"]
["PERSEO XVIII"]
["Shamrock"]
["X-Fram"]
["LEHYCKS"]
["Kepi"]
["Poff"]
["BONNIE N,C,"]
["SPYROS I, KOSTOPOULOS"]
["Eneri Fiber"]
["FAUST X 2"]
["CELTIC DREAM"]
["X-CELERATOR"]
["KEEP SMILING"]
["LOW BUDGET"]
["PEGGY"]
["LIEBLINGXSTUCK"]
["XTC"]
["CLASSIX"]
["FLORENXIA"]
["DIECI X DIECI"]
["X-EQUO"]
["MATTIA"]
["BIRBA^2"]
["CALEXICO"]
["GRAPHIX"]
["NEXT BEST"]
["Drom"]
["Bla Extra"]
["NAUTILUX"]
["PATENT3"]
["ON THE ROX"]
["Ferrx"]
["MASU"]
["Sonja 3"]
["SIOUXSIE"]
["STELLA DEI VENTI"]
["SFIXIO"]
["XONLINE"]
["X-SAM"]
["De Ruimte"]
["Xilia II"]
["Romantica"]
["HELSINGOR"]
["Xpress"]
["X Red dingo"]
["Xanthe"]
["FIVE STAR"]
["DESAFINO"]
["XPERIA"]
["Epsilon"]
["HOT, WET & SIXTY"]
["SVEA"]
["NIRAMO X-TREME"]
["STRIXIA"]
["BE BLUE"]
["WILD DOG"]
["READY X SEA"]
["BE BLUE TWO"]
["KETURI VEJAI"]
["The Untouchables"]
["Xces"]
["Runabout"]
["X-Vision"]
["NOV Team"]
["Xarabi"]
["Carmen"]
["Symfony"]
["DoXy"]
["Szelvesz"]
["Ham-Let"]
["X-FLY"]
["Lady-X"]
["EXCAPE"]
["QUIKSILVER-GAC"]
["Catxalot"]
["Xil"]
["GLUXKIND"]
["SOUL SEEKER"]
["VIAVAI"]
["WINE DECK"]
["KORRIGAN"]
["eXpence"]
["SEA WHIPPET"]
["Xinia"]
["Blixkaters"]
["Ventoux"]
["TENORIO VI"]
["MODARK"]
["SOLVENTIS"]
["XTRA FUN"]
["teXas"]
["Le Grand Blue"]
["XS"]
["Next Christine"]
["Glalax"]
["GECKO"]
["FREDERICA DEVONIA"]
["JUX BOX"]
["PRIDE OF PIA"]
["Hexenketel"]
["GANDUMBAS"]
["Exquisite"]
["XANDUS"]
["XIPHIAS"]
["X AMORE"]
["X-Life"]
["Plexat"]
["X/est La Vie"]
["Xaviere"]
["SnaXy"]
["OPTIM'X"]
["EXCEPTION II"]
["MICHALIS"]
["Smooth Operator"]
["PARSIFAL II"]
["BAXKISTE"]
["Godspeed"]
["Nicole4"]
["LEUFT"]
["JOX"]
["WB FIVE"]
["FOX"]
["EXTRA 1"]
["CURADDAU III"]
["Oxygen"]
["Legally Brunette"]
["Normet"]
["PATRICE SIX"]
["X-n Min"]
["EXPERTO"]
["GARABATO"]
["ABSOLUT"]
["NIXMITX"]
["X-ELOR"]
["ESPRIT 2"]
["MARINARA"]
["ROGG"]
["X-Stream"]
["XARAMELLA"]
["NARALSO"]
["SHE"]
["X-MARIE"]
["RED RED WINE X"]
["PHEONIX"]
["Square-One"]
["Xventure"]
["Nickname"]
["Glory Days"]
["Bjornstjerne"]
["xForza"]
["VERON X"]
["SHAMADI"]
["Xenacanthus"]
["KNIDOS"]
["LOLA TRES"]
["SORONDONGO IV"]
["NIRAMO"]
["MARDIVINO"]
["IL COLORE DEL VENTO"]
["CAPRICCIRICCI"]
["2 MUCH"]
["Mad About You"]
["BLUE BOX"]
["Flying emma"]
["Loxa"]
["PLANLOS"]
["JIMI HENDRIX"]
["haX"]
["MORDILLA"]
["NO-XQSE"]
["Forex"]
["AQUA-TIC"]
["Ixi"]
["FENIX"]
["XSTATIC"]
["IXSE"]
["FIX WIE NIX"]
["Blade Runner"]
["Nagymedve"]
["MADAME X"]
["Xmeralda II"]
["NATI"]
["AUF EX"]
["PAS DOSE'"]
["XO"]
["DREAMING SWISS"]
["ELIZAVETA II"]
["ZERSTOREN"]
["Labad-X"]
["X BLUE ONE"]
["De Zomer"]
["Daredevil"]
["Afrita"]
["Zilverzandhaas"]
["VIKESHA 2"]
["Hendrix"]
["SWIMMINGTOOL"]
["HALBTROCKEN XPRESS"]
["EXTREME WAYS"]
["TOYBOX 2"]
["ADDA"]
["IRRWITZER"]
["SIXTY4"]
["Xpedite"]
["Xp-Act"]
["Muca Maca"]
["EL MORO"]
["DSK X-Treme"]
["HIT"]
["Vagabund"]
["YAMAHOELA"]
["Santamaria"]
["Blue Ocean II"]
["Amigo"]
["702 Yacht Team"]
["MAGELLAN MAJOR VIII"]
["EVERYTHING EVERYTHING"]
["MILKY  WAY V"]
["Sea Nuri"]
["Unicon"]
["ARISU"]
["MANDINGA"]
["KRUSTY KRAB"]
["AGUILUCHO"]
["PITOUCHO"]
["RUSALKA"]
["SUEVO"]
["LOKI"]
["ELENI"]
["IOS"]
["SMAGGEN"]
["Batman"]
["YOUNG 'N FRISKY"]
["BOULEGUE"]
["DEMUSE"]
["LUPO ALBERTO"]
["ACQUACHIARA"]
["ACQUAZZURRA"]
["ASINELLI"]
["PORCELLI"]
["CAPTAN TULLIOS"]
["GENGIS KHAN"]
["CAPTAN MAX"]
["ZOU"]
["Kamloops"]
["MaMaY"]
["FIDELIS"]
["Oblako"]
["Nadin"]
["Menbal"]
["FIVOS"]
["STEELHEAD"]

{"sheet":"Help","index":7,"n_rows":17,"n_cols":1,"rows_kept":17,"cut":false,"hidden":false,"merged":[]}
[]
["dans l'onglet \"ORC\", chercher le bateau qui vous interesse"]
["En cliquant dans l'une des 3 celulles sous \"TYPE\", un fenètre s'ouvre, on peut retrouver un type de bateau"]
["cliquer ensuite sur le flèche bleu à gauche, cela filtre la liste (pour annuler le filtre, cliquer sur le rond rouge)"]
["Il est possible de filtrer sur d'autres critères en indiquant le critère choisi sous la cellule correspondante (ligne 2)"]
["Une fois le ou les bateaux sélectionné noter le N° de la ligne correspondant a ce bateau"]
["dans l'onglet \"Main\" inscrire le N° de la ligne dans la cellule C2, ce qui permettra d'afficher dans les onglets \"Polar\", Detail1 et New polar"]
["les caracterisques du bateau choisi"]
["renseigner les cellules c3, c4, etc. permet d'afficher d'autres bateaux pour comparaison"]
["en B8, on pourra choisir les forces de vent"]
["il est possible d'éditer une polaire au format .pol lisible par Maxsea, adrena, et d'autres logiciels:"]
["après avoir choisi le bateau en C2, aller dans l'onglet \"New polar\", cliquez sur le bouton \"macro new polar\", puis a l'aide du menu "]
["\"for the polar\" Visible dans les compléments d'Excel, choisissez \"fill polar\" "]
["Les données se remplissent par interpolation"]
["Certains logiciels comme Squid ou QTVLM n'acceptent pas des polaires avec des cellules vides, utilisez le bouton Smiley pour remplir les "]
["cellules vides avec des 0"]
["puis \"save as polar\" (voir aussi les autres possibilités de ce menu) dans le menu \"For the Polar\" dans la barre d'outils d'Excel"]

{"sheet":"New polar","index":8,"n_rows":38,"n_cols":9,"rows_kept":38,"cut":false,"hidden":false,"merged":[]}
["TWA",1E-3,6,8,10,12,14,16,20]
[1E-3,1E-3,1E-3,1E-3,1E-3,1E-3,1E-3,1E-3,1E-3]
[40.200000000000003,1E-3,2.9997088730860604,3.7174016579680482,4.2119238030426285,4.6292503140931034,5.0349670123588561,5.3271984224615796,5.4761243561704909]
[40.4,1E-3,2.9997088730860604,3.7174016579680482,4.2119238030426285,4.6292503140931034,5.0349670123588561,5.3804617382690907,5.4674480918327726]
[41.2,1E-3,3.0746784691531133,3.8103140222263558,4.3171995300118686,4.7449594646741948,5.185989798299274,5.4054799546648251,5.5108294135213587]
[41.3,1E-3,3.0746784691531133,3.8103140222263558,4.3487822481026397,4.7449594646741948,5.1765581024091736,5.4054799546648251,5.5108294135213587]
[41.5,1E-3,3.1496480652201666,3.8567702043555112,4.3842743480845474,4.8606686152552872,5.2237165818596578,5.44717698199105,5.5542107352099457]
[41.7,1E-3,3.1496480652201666,3.8786396828665408,4.3842743480845474,4.8259558700809624,5.2237165818596578,5.44717698199105,5.5542107352099457]
[43,1E-3,3.2246176612872213,3.9223786398886027,4.4349773480587018,4.8976591568539112,5.2708750613101421,5.488874009317275,5.5975920568985318]
[52,1E-3,3.5931729713544267,4.3160292530871596,4.8913043478260869,5.3940665268204979,5.6953013763644993,5.8641472552532985,5.9880239520958076]
[60,1E-3,3.7894736842105261,4.523181304183943,5.1494779001573452,5.604857543204111,5.8574682720468596,6.0120240480961931,6.1813186813186816]
[75,1E-3,3.9417496988941205,4.7028086218158069,5.3707295240936901,5.7636887608069163,5.9910134797803298,6.1643835616438354,6.4366172000715185]
[90,1E-3,4.0853381752156146,5.0097411633732252,5.7188244638602068,6.0463553913335577,6.2434963579604572,6.3302268331281866,6.4366172000715185]
[110,1E-3,4.1899441340782122,5.1282051282051286,5.7961680888745768,6.1349693251533743,6.41254007837549,6.6765578635014835,7.0066173608407949]
[135,1E-3,4.0733197556008145,5,5.7170080990948069,6.0800540449248439,6.3593004769475359,6.6506558285608728,7.1371927042030139]
[150,1E-3,3.7033227034255733,4.598875830352581,5.4013503375843959,5.8890888270898092,6.1823802163833079,6.4562410329985651,7.0011668611435232]
[180,1E-3,3.2128514056224899,4.0853381752156146,4.8432665141934619,5.5104852288382062,5.9161873459326211,6.1823802163833079,6.6976744186046515]
[]
[]
[]
[]
["TWA",1E-3,6,8,10,12,14,16,20]
[1E-3,1E-3,1E-3,1E-3,1E-3,1E-3,1E-3,1E-3,1E-3]
[{"$f":"Main!D79","v":43},1E-3,{"$f":"IF(ISERROR(INDEX(speed,MATCH($A24&\" \"&C$22,angle&\" \"&force,0))),\"\",INDEX(speed,MATCH($A24&\" \"&C$22,angle&\" \"&force,0)))","v":3.2246176612872213},{"$f":"IF(ISERROR(INDEX(speed,MATCH($A24&\" \"&D$22,angle&\" \"&force,0))),\"\",INDEX(speed,MATCH($A24&\" \"&D$22,angle&\" \"&force,0)))","v":""},{"$f":"IF(ISERROR(INDEX(speed,MATCH($A24&\" \"&E$22,angle&\" \"&force,0))),\"\",INDEX(speed,MATCH($A24&\" \"&E$22,angle&\" \"&force,0)))","v":""},{"$f":"IF(ISERROR(INDEX(speed,MATCH($A24&\" \"&F$22,angle&\" \"&force,0))),\"\",INDEX(speed,MATCH($A24&\" \"&F$22,angle&\" \"&force,0)))","v":""},{"$f":"IF(ISERROR(INDEX(speed,MATCH($A24&\" \"&G$22,angle&\" \"&force,0))),\"\",INDEX(speed,MATCH($A24&\" \"&G$22,angle&\" \"&force,0)))","v":""},{"$f":"IF(ISERROR(INDEX(speed,MATCH($A24&\" \"&H$22,angle&\" \"&force,0))),\"\",INDEX(speed,MATCH($A24&\" \"&H$22,angle&\" \"&force,0)))","v":""},{"$f":"IF(ISERROR(INDEX(speed,MATCH($A24&\" \"&I$22,angle&\" \"&force,0))),\"\",INDEX(speed,MATCH($A24&\" \"&I$22,angle&\" \"&force,0)))","v":""}]
[{"$f":"Main!D80","v":41.5},1E-3,{"$f":"IF(ISERROR(INDEX(speed,MATCH($A25&\" \"&C$22,angle&\" \"&force,0))),\"\",INDEX(speed,MATCH($A25&\" \"&C$22,angle&\" \"&force,0)))","v":""},{"$f":"IF(ISERROR(INDEX(speed,MATCH($A25&\" \"&D$22,angle&\" \"&force,0))),\"\",INDEX(speed,MATCH($A25&\" \"&D$22,angle&\" \"&force,0)))","v":3.8567702043555112},{"$f":"IF(ISERROR(INDEX(speed,MATCH($A25&\" \"&E$22,angle&\" \"&force,0))),\"\",INDEX(speed,MATCH($A25&\" \"&E$22,angle&\" \"&force,0)))","v":""},{"$f":"IF(ISERROR(INDEX(speed,MATCH($A25&\" \"&F$22,angle&\" \"&force,0))),\"\",INDEX(speed,MATCH($A25&\" \"&F$22,angle&\" \"&force,0)))","v":""},{"$f":"IF(ISERROR(INDEX(speed,MATCH($A25&\" \"&G$22,angle&\" \"&force,0))),\"\",INDEX(speed,MATCH($A25&\" \"&G$22,angle&\" \"&force,0)))","v":""},{"$f":"IF(ISERROR(INDEX(speed,MATCH($A25&\" \"&H$22,angle&\" \"&force,0))),\"\",INDEX(speed,MATCH($A25&\" \"&H$22,angle&\" \"&force,0)))","v":""},{"$f":"IF(ISERROR(INDEX(speed,MATCH($A25&\" \"&I$22,angle&\" \"&force,0))),\"\",INDEX(speed,MATCH($A25&\" \"&I$22,angle&\" \"&force,0)))","v":""}]
[{"$f":"Main!D81","v":41.3},1E-3,{"$f":"IF(ISERROR(INDEX(speed,MATCH($A26&\" \"&C$22,angle&\" \"&force,0))),\"\",INDEX(speed,MATCH($A26&\" \"&C$22,angle&\" \"&force,0)))","v":""},{"$f":"IF(ISERROR(INDEX(speed,MATCH($A26&\" \"&D$22,angle&\" \"&force,0))),\"\",INDEX(speed,MATCH($A26&\" \"&D$22,angle&\" \"&force,0)))","v":""},{"$f":"IF(ISERROR(INDEX(speed,MATCH($A26&\" \"&E$22,angle&\" \"&force,0))),\"\",INDEX(speed,MATCH($A26&\" \"&E$22,angle&\" \"&force,0)))","v":4.3487822481026397},{"$f":"IF(ISERROR(INDEX(speed,MATCH($A26&\" \"&F$22,angle&\" \"&force,0))),\"\",INDEX(speed,MATCH($A26&\" \"&F$22,angle&\" \"&force,0)))","v":""},{"$f":"IF(ISERROR(INDEX(speed,MATCH($A26&\" \"&G$22,angle&\" \"&force,0))),\"\",INDEX(speed,MATCH($A26&\" \"&G$22,angle&\" \"&force,0)))","v":""},{"$f":"IF(ISERROR(INDEX(speed,MATCH($A26&\" \"&H$22,angle&\" \"&force,0))),\"\",INDEX(speed,MATCH($A26&\" \"&H$22,angle&\" \"&force,0)))","v":""},{"$f":"IF(ISERROR(INDEX(speed,MATCH($A26&\" \"&I$22,angle&\" \"&force,0))),\"\",INDEX(speed,MATCH($A26&\" \"&I$22,angle&\" \"&force,0)))","v":""}]
[{"$f":"Main!D82","v":41.7},1E-3,{"$f":"IF(ISERROR(INDEX(speed,MATCH($A27&\" \"&C$22,angle&\" \"&force,0))),\"\",INDEX(speed,MATCH($A27&\" \"&C$22,angle&\" \"&force,0)))","v":""},{"$f":"IF(ISERROR(INDEX(speed,MATCH($A27&\" \"&D$22,angle&\" \"&force,0))),\"\",INDEX(speed,MATCH($A27&\" \"&D$22,angle&\" \"&force,0)))","v":""},{"$f":"IF(ISERROR(INDEX(speed,MATCH($A27&\" \"&E$22,angle&\" \"&force,0))),\"\",INDEX(speed,MATCH($A27&\" \"&E$22,angle&\" \"&force,0)))","v":""},{"$f":"IF(ISERROR(INDEX(speed,MATCH($A27&\" \"&F$22,angle&\" \"&force,0))),\"\",INDEX(speed,MATCH($A27&\" \"&F$22,angle&\" \"&force,0)))","v":4.8259558700809624},{"$f":"IF(ISERROR(INDEX(speed,MATCH($A27&\" \"&G$22,angle&\" \"&force,0))),\"\",INDEX(speed,MATCH($A27&\" \"&G$22,angle&\" \"&force,0)))","v":""},{"$f":"IF(ISERROR(INDEX(speed,MATCH($A27&\" \"&H$22,angle&\" \"&force,0))),\"\",INDEX(speed,MATCH($A27&\" \"&H$22,angle&\" \"&force,0)))","v":""},{"$f":"IF(ISERROR(INDEX(speed,MATCH($A27&\" \"&I$22,angle&\" \"&force,0))),\"\",INDEX(speed,MATCH($A27&\" \"&I$22,angle&\" \"&force,0)))","v":""}]
[{"$f":"Main!D83","v":41.2},1E-3,{"$f":"IF(ISERROR(INDEX(speed,MATCH($A28&\" \"&C$22,angle&\" \"&force,0))),\"\",INDEX(speed,MATCH($A28&\" \"&C$22,angle&\" \"&force,0)))","v":""},{"$f":"IF(ISERROR(INDEX(speed,MATCH($A28&\" \"&D$22,angle&\" \"&force,0))),\"\",INDEX(speed,MATCH($A28&\" \"&D$22,angle&\" \"&force,0)))","v":""},{"$f":"IF(ISERROR(INDEX(speed,MATCH($A28&\" \"&E$22,angle&\" \"&force,0))),\"\",INDEX(speed,MATCH($A28&\" \"&E$22,angle&\" \"&force,0)))","v":""},{"$f":"IF(ISERROR(INDEX(speed,MATCH($A28&\" \"&F$22,angle&\" \"&force,0))),\"\",INDEX(speed,MATCH($A28&\" \"&F$22,angle&\" \"&force,0)))","v":""},{"$f":"IF(ISERROR(INDEX(speed,MATCH($A28&\" \"&G$22,angle&\" \"&force,0))),\"\",INDEX(speed,MATCH($A28&\" \"&G$22,angle&\" \"&force,0)))","v":5.185989798299274},{"$f":"IF(ISERROR(INDEX(speed,MATCH($A28&\" \"&H$22,angle&\" \"&force,0))),\"\",INDEX(speed,MATCH($A28&\" \"&H$22,angle&\" \"&force,0)))","v":""},{"$f":"IF(ISERROR(INDEX(speed,MATCH($A28&\" \"&I$22,angle&\" \"&force,0))),\"\",INDEX(speed,MATCH($A28&\" \"&I$22,angle&\" \"&force,0)))","v":""}]
[{"$f":"Main!D84","v":40.4},1E-3,{"$f":"IF(ISERROR(INDEX(speed,MATCH($A29&\" \"&C$22,angle&\" \"&force,0))),\"\",INDEX(speed,MATCH($A29&\" \"&C$22,angle&\" \"&force,0)))","v":""},{"$f":"IF(ISERROR(INDEX(speed,MATCH($A29&\" \"&D$22,angle&\" \"&force,0))),\"\",INDEX(speed,MATCH($A29&\" \"&D$22,angle&\" \"&force,0)))","v":""},{"$f":"IF(ISERROR(INDEX(speed,MATCH($A29&\" \"&E$22,angle&\" \"&force,0))),\"\",INDEX(speed,MATCH($A29&\" \"&E$22,angle&\" \"&force,0)))","v":""},{"$f":"IF(ISERROR(INDEX(speed,MATCH($A29&\" \"&F$22,angle&\" \"&force,0))),\"\",INDEX(speed,MATCH($A29&\" \"&F$22,angle&\" \"&force,0)))","v":""},{"$f":"IF(ISERROR(INDEX(speed,MATCH($A29&\" \"&G$22,angle&\" \"&force,0))),\"\",INDEX(speed,MATCH($A29&\" \"&G$22,angle&\" \"&force,0)))","v":""},{"$f":"IF(ISERROR(INDEX(speed,MATCH($A29&\" \"&H$22,angle&\" \"&force,0))),\"\",INDEX(speed,MATCH($A29&\" \"&H$22,angle&\" \"&force,0)))","v":5.3804617382690907},{"$f":"IF(ISERROR(INDEX(speed,MATCH($A29&\" \"&I$22,angle&\" \"&force,0))),\"\",INDEX(speed,MATCH($A29&\" \"&I$22,angle&\" \"&force,0)))","v":""}]
[{"$f":"Main!D85","v":40.200000000000003},1E-3,{"$f":"IF(ISERROR(INDEX(speed,MATCH($A30&\" \"&C$22,angle&\" \"&force,0))),\"\",INDEX(speed,MATCH($A30&\" \"&C$22,angle&\" \"&force,0)))","v":""},{"$f":"IF(ISERROR(INDEX(speed,MATCH($A30&\" \"&D$22,angle&\" \"&force,0))),\"\",INDEX(speed,MATCH($A30&\" \"&D$22,angle&\" \"&force,0)))","v":""},{"$f":"IF(ISERROR(INDEX(speed,MATCH($A30&\" \"&E$22,angle&\" \"&force,0))),\"\",INDEX(speed,MATCH($A30&\" \"&E$22,angle&\" \"&force,0)))","v":""},{"$f":"IF(ISERROR(INDEX(speed,MATCH($A30&\" \"&F$22,angle&\" \"&force,0))),\"\",INDEX(speed,MATCH($A30&\" \"&F$22,angle&\" \"&force,0)))","v":""},{"$f":"IF(ISERROR(INDEX(speed,MATCH($A30&\" \"&G$22,angle&\" \"&force,0))),\"\",INDEX(speed,MATCH($A30&\" \"&G$22,angle&\" \"&force,0)))","v":""},{"$f":"IF(ISERROR(INDEX(speed,MATCH($A30&\" \"&H$22,angle&\" \"&force,0))),\"\",INDEX(speed,MATCH($A30&\" \"&H$22,angle&\" \"&force,0)))","v":""},{"$f":"IF(ISERROR(INDEX(speed,MATCH($A30&\" \"&I$22,angle&\" \"&force,0))),\"\",INDEX(speed,MATCH($A30&\" \"&I$22,angle&\" \"&force,0)))","v":5.4761243561704909}]
[52,1E-3,{"$f":"INDEX(datpol,2,5)","v":3.5931729713544267},{"$f":"INDEX(datpol,3,5)","v":4.3160292530871596},{"$f":"INDEX(datpol,4,5)","v":4.8913043478260869},{"$f":"INDEX(datpol,5,5)","v":5.3940665268204979},{"$f":"INDEX(datpol,6,5)","v":5.6953013763644993},{"$f":"INDEX(datpol,7,5)","v":5.8641472552532985},{"$f":"INDEX(datpol,8,5)","v":5.9880239520958076}]
[60,1E-3,{"$f":"INDEX(datpol,2,6)","v":3.7894736842105261},{"$f":"INDEX(datpol,3,6)","v":4.523181304183943},{"$f":"INDEX(datpol,4,6)","v":5.1494779001573452},{"$f":"INDEX(datpol,5,6)","v":5.604857543204111},{"$f":"INDEX(datpol,6,6)","v":5.8574682720468596},{"$f":"INDEX(datpol,7,6)","v":6.0120240480961931},{"$f":"INDEX(datpol,8,6)","v":6.1813186813186816}]
[75,1E-3,{"$f":"INDEX(datpol,2,7)","v":3.9417496988941205},{"$f":"INDEX(datpol,3,7)","v":4.7028086218158069},{"$f":"INDEX(datpol,4,7)","v":5.3707295240936901},{"$f":"INDEX(datpol,5,7)","v":5.7636887608069163},{"$f":"INDEX(datpol,6,7)","v":5.9910134797803298},{"$f":"INDEX(datpol,7,7)","v":6.1643835616438354},{"$f":"INDEX(datpol,8,7)","v":6.4366172000715185}]
[90,1E-3,{"$f":"INDEX(datpol,2,8)","v":4.0853381752156146},{"$f":"INDEX(datpol,3,8)","v":5.0097411633732252},{"$f":"INDEX(datpol,4,8)","v":5.7188244638602068},{"$f":"INDEX(datpol,5,8)","v":6.0463553913335577},{"$f":"INDEX(datpol,6,8)","v":6.2434963579604572},{"$f":"INDEX(datpol,7,8)","v":6.3302268331281866},{"$f":"INDEX(datpol,8,7)","v":6.4366172000715185}]
[110,1E-3,{"$f":"INDEX(datpol,2,9)","v":4.1899441340782122},{"$f":"INDEX(datpol,3,9)","v":5.1282051282051286},{"$f":"INDEX(datpol,4,9)","v":5.7961680888745768},{"$f":"INDEX(datpol,5,9)","v":6.1349693251533743},{"$f":"INDEX(datpol,6,9)","v":6.41254007837549},{"$f":"INDEX(datpol,7,9)","v":6.6765578635014835},{"$f":"INDEX(datpol,8,9)","v":7.0066173608407949}]
[135,1E-3,{"$f":"INDEX(datpol,2,10)","v":4.0733197556008145},{"$f":"INDEX(datpol,3,10)","v":5},{"$f":"INDEX(datpol,4,10)","v":5.7170080990948069},{"$f":"INDEX(datpol,5,10)","v":6.0800540449248439},{"$f":"INDEX(datpol,6,10)","v":6.3593004769475359},{"$f":"INDEX(datpol,7,10)","v":6.6506558285608728},{"$f":"INDEX(datpol,8,10)","v":7.1371927042030139}]
[150,1E-3,{"$f":"INDEX(datpol,2,11)","v":3.7033227034255733},{"$f":"INDEX(datpol,3,11)","v":4.598875830352581},{"$f":"INDEX(datpol,4,11)","v":5.4013503375843959},{"$f":"INDEX(datpol,5,11)","v":5.8890888270898092},{"$f":"INDEX(datpol,6,11)","v":6.1823802163833079},{"$f":"INDEX(datpol,7,11)","v":6.4562410329985651},{"$f":"INDEX(datpol,8,11)","v":7.0011668611435232}]
[180,1E-3,{"$f":"INDEX(datpol,2,12)","v":3.2128514056224899},{"$f":"INDEX(datpol,3,12)","v":4.0853381752156146},{"$f":"INDEX(datpol,4,12)","v":4.8432665141934619},{"$f":"INDEX(datpol,5,12)","v":5.5104852288382062},{"$f":"INDEX(datpol,6,12)","v":5.9161873459326211},{"$f":"INDEX(datpol,7,12)","v":6.1823802163833079},{"$f":"INDEX(datpol,8,12)","v":6.6976744186046515}]

{"sheet":"Empty","index":9,"n_rows":1,"n_cols":1,"rows_kept":1,"cut":false,"hidden":true,"merged":[]}
["TWA"]

{"sheet":"View Polar","index":10,"n_rows":42,"n_cols":20,"rows_kept":42,"cut":false,"hidden":true,"merged":[[41,15,41,16],[41,19,41,20],[40,13,40,14],[40,15,40,16],[40,17,40,18],[40,19,40,20]]}
["TWA",0,{"$f":"'New polar'!C1","v":6},{"$f":"'New polar'!D1","v":8},{"$f":"'New polar'!E1","v":10},{"$f":"'New polar'!F1","v":12},{"$f":"'New polar'!G1","v":14},{"$f":"'New polar'!H1","v":16},{"$f":"'New polar'!I1","v":20}]
[0,0,0,0,0,0,0,0]
[{"$f":"'New polar'!A3","v":40.200000000000003},0,{"$f":"'New polar'!C3","v":2.9997088730860604},{"$f":"'New polar'!D3","v":3.7174016579680482},{"$f":"'New polar'!E3","v":4.2119238030426285},{"$f":"'New polar'!F3","v":4.6292503140931034},{"$f":"'New polar'!G3","v":5.0349670123588561},{"$f":"'New polar'!H3","v":5.3271984224615796},{"$f":"'New polar'!I3","v":5.4761243561704909}]
[{"$f":"'New polar'!A4","v":40.4},0,{"$f":"'New polar'!C4","v":2.9997088730860604},{"$f":"'New polar'!D4","v":3.7174016579680482},{"$f":"'New polar'!E4","v":4.2119238030426285},{"$f":"'New polar'!F4","v":4.6292503140931034},{"$f":"'New polar'!G4","v":5.0349670123588561},{"$f":"'New polar'!H4","v":5.3804617382690907},{"$f":"'New polar'!I4","v":5.4674480918327726}]
[{"$f":"'New polar'!A5","v":41.2},0,{"$f":"'New polar'!C5","v":3.0746784691531133},{"$f":"'New polar'!D5","v":3.8103140222263558},{"$f":"'New polar'!E5","v":4.3171995300118686},{"$f":"'New polar'!F5","v":4.7449594646741948},{"$f":"'New polar'!G5","v":5.185989798299274},{"$f":"'New polar'!H5","v":5.4054799546648251},{"$f":"'New polar'!I5","v":5.5108294135213587}]
[{"$f":"'New polar'!A6","v":41.3},0,{"$f":"'New polar'!C6","v":3.0746784691531133},{"$f":"'New polar'!D6","v":3.8103140222263558},{"$f":"'New polar'!E6","v":4.3487822481026397},{"$f":"'New polar'!F6","v":4.7449594646741948},{"$f":"'New polar'!G6","v":5.1765581024091736},{"$f":"'New polar'!H6","v":5.4054799546648251},{"$f":"'New polar'!I6","v":5.5108294135213587}]
[{"$f":"'New polar'!A7","v":41.5},0,{"$f":"'New polar'!C7","v":3.1496480652201666},{"$f":"'New polar'!D7","v":3.8567702043555112},{"$f":"'New polar'!E7","v":4.3842743480845474},{"$f":"'New polar'!F7","v":4.8606686152552872},{"$f":"'New polar'!G7","v":5.2237165818596578},{"$f":"'New polar'!H7","v":5.44717698199105},{"$f":"'New polar'!I7","v":5.5542107352099457}]
[{"$f":"'New polar'!A8","v":41.7},0,{"$f":"'New polar'!C8","v":3.1496480652201666},{"$f":"'New polar'!D8","v":3.8786396828665408},{"$f":"'New polar'!E8","v":4.3842743480845474},{"$f":"'New polar'!F8","v":4.8259558700809624},{"$f":"'New polar'!G8","v":5.2237165818596578},{"$f":"'New polar'!H8","v":5.44717698199105},{"$f":"'New polar'!I8","v":5.5542107352099457}]
[{"$f":"'New polar'!A9","v":43},1,{"$f":"'New polar'!C9","v":3.2246176612872213},{"$f":"'New polar'!D9","v":3.9223786398886027},{"$f":"'New polar'!E9","v":4.4349773480587018},{"$f":"'New polar'!F9","v":4.8976591568539112},{"$f":"'New polar'!G9","v":5.2708750613101421},{"$f":"'New polar'!H9","v":5.488874009317275},{"$f":"'New polar'!I9","v":5.5975920568985318}]
[{"$f":"'New polar'!A10","v":52},2,{"$f":"'New polar'!C10","v":3.5931729713544267},{"$f":"'New polar'!D10","v":4.3160292530871596},{"$f":"'New polar'!E10","v":4.8913043478260869},{"$f":"'New polar'!F10","v":5.3940665268204979},{"$f":"'New polar'!G10","v":5.6953013763644993},{"$f":"'New polar'!H10","v":5.8641472552532985},{"$f":"'New polar'!I10","v":5.9880239520958076}]
[{"$f":"'New polar'!A11","v":60},3,{"$f":"'New polar'!C11","v":3.7894736842105261},{"$f":"'New polar'!D11","v":4.523181304183943},{"$f":"'New polar'!E11","v":5.1494779001573452},{"$f":"'New polar'!F11","v":5.604857543204111},{"$f":"'New polar'!G11","v":5.8574682720468596},{"$f":"'New polar'!H11","v":6.0120240480961931},{"$f":"'New polar'!I11","v":6.1813186813186816}]
[{"$f":"'New polar'!A12","v":75},4,{"$f":"'New polar'!C12","v":3.9417496988941205},{"$f":"'New polar'!D12","v":4.7028086218158069},{"$f":"'New polar'!E12","v":5.3707295240936901},{"$f":"'New polar'!F12","v":5.7636887608069163},{"$f":"'New polar'!G12","v":5.9910134797803298},{"$f":"'New polar'!H12","v":6.1643835616438354},{"$f":"'New polar'!I12","v":6.4366172000715185}]
[{"$f":"'New polar'!A13","v":90},5,{"$f":"'New polar'!C13","v":4.0853381752156146},{"$f":"'New polar'!D13","v":5.0097411633732252},{"$f":"'New polar'!E13","v":5.7188244638602068},{"$f":"'New polar'!F13","v":6.0463553913335577},{"$f":"'New polar'!G13","v":6.2434963579604572},{"$f":"'New polar'!H13","v":6.3302268331281866},{"$f":"'New polar'!I13","v":6.4366172000715185}]
[{"$f":"'New polar'!A14","v":110},6,{"$f":"'New polar'!C14","v":4.1899441340782122},{"$f":"'New polar'!D14","v":5.1282051282051286},{"$f":"'New polar'!E14","v":5.7961680888745768},{"$f":"'New polar'!F14","v":6.1349693251533743},{"$f":"'New polar'!G14","v":6.41254007837549},{"$f":"'New polar'!H14","v":6.6765578635014835},{"$f":"'New polar'!I14","v":7.0066173608407949}]
[{"$f":"'New polar'!A15","v":135},7,{"$f":"'New polar'!C15","v":4.0733197556008145},{"$f":"'New polar'!D15","v":5},{"$f":"'New polar'!E15","v":5.7170080990948069},{"$f":"'New polar'!F15","v":6.0800540449248439},{"$f":"'New polar'!G15","v":6.3593004769475359},{"$f":"'New polar'!H15","v":6.6506558285608728},{"$f":"'New polar'!I15","v":7.1371927042030139}]
[{"$f":"'New polar'!A16","v":150},8,{"$f":"'New polar'!C16","v":3.7033227034255733},{"$f":"'New polar'!D16","v":4.598875830352581},{"$f":"'New polar'!E16","v":5.4013503375843959},{"$f":"'New polar'!F16","v":5.8890888270898092},{"$f":"'New polar'!G16","v":6.1823802163833079},{"$f":"'New polar'!H16","v":6.4562410329985651},{"$f":"'New polar'!I16","v":7.0011668611435232}]
[{"$f":"'New polar'!A17","v":180},9,{"$f":"'New polar'!C17","v":3.2128514056224899},{"$f":"'New polar'!D17","v":4.0853381752156146},{"$f":"'New polar'!E17","v":4.8432665141934619},{"$f":"'New polar'!F17","v":5.5104852288382062},{"$f":"'New polar'!G17","v":5.9161873459326211},{"$f":"'New polar'!H17","v":6.1823802163833079},{"$f":"'New polar'!I17","v":6.6976744186046515}]
[]
[]
[]
[]
[]
[]
[]
[null,17]
[null,18]
[null,19]
[null,20]
[null,21]
[null,22]
[null,23]
[null,24]
[]
[]
[null,null,null,null,null,null,null,null,null,null,null,{"$f":"C1","v":6},8,10,12,14,16,20]
[null,null,null,null,null,null,null,null,null,null,"VMG",{"$f":"'Polar 0-360'!G363","v":2.358336062888962},{"$f":"'Polar 0-360'!M363","v":2.8898920208864878},{"$f":"'Polar 0-360'!S363","v":3.2668461041908401},{"$f":"'Polar 0-360'!Y363","v":3.5986808851102392},{"$f":"'Polar 0-360'!AE363","v":3.8900653891035448},{"$f":"'Polar 0-360'!AK363","v":4.0748471355892129},{"$f":"'Polar 0-360'!AQ363","v":4.1740842118138266}]
[null,null,null,null,null,null,null,null,null,null,null,{"$f":"'Polar 0-360'!G364","v":-3.3402555955206545},{"$f":"'Polar 0-360'!M364","v":-4.1974607003868014},{"$f":"'Polar 0-360'!S364","v":-4.955784861715995},{"$f":"'Polar 0-360'!Y364","v":-5.557093267929555},{"$f":"'Polar 0-360'!AE364","v":-5.9378711213043518},{"$f":"'Polar 0-360'!AK364","v":-6.2043241754028831},{"$f":"'Polar 0-360'!AQ364","v":-6.7225773390533572}]
[null,null,null,null,null,null,null,null,null,null,"TWA",{"$f":"'Polar 0-360'!G365","v":43},{"$f":"'Polar 0-360'!M365","v":42},{"$f":"'Polar 0-360'!S365","v":42},{"$f":"'Polar 0-360'!Y365","v":42},{"$f":"'Polar 0-360'!AE365","v":42},{"$f":"'Polar 0-360'!AK365","v":41},{"$f":"'Polar 0-360'!AQ365","v":40}]
[null,null,null,null,null,null,null,null,null,null,null,{"$f":"'Polar 0-360'!G366","v":165},{"$f":"'Polar 0-360'!M366","v":167},{"$f":"'Polar 0-360'!S366","v":168},{"$f":"'Polar 0-360'!Y366","v":173},{"$f":"'Polar 0-360'!AE366","v":175},{"$f":"'Polar 0-360'!AK366","v":175},{"$f":"'Polar 0-360'!AQ366","v":175}]
[]
[null,null,null,null,null,null,null,null,null,null,null,"TWS",10,"TWS_INF/A",null,"STW_INF",null,"TWS_SUP/A",null,"STW_SUP"]
[null,null,null,null,null,null,null,null,null,null,null,"TWA",40,{"$f":"MATCH(M41,STW!$A$1:$AY$1)","v":5},{"$f":"INDEX(PolaireTitle,1,N42)","v":10},{"$f":"INDEX(PolaireTitle,M42,N42)","v":4.1456872120570676},null,{"$f":"N42+1","v":6},{"$f":"INDEX(PolaireTitle,1,R42)","v":12},{"$f":"INDEX(PolaireTitle,M42+1,R42)","v":4.6306370535124906}]

{"sheet":"Polar 0-360","index":11,"n_rows":366,"n_cols":43,"rows_kept":366,"cut":false,"hidden":true,"merged":[]}
[null,"XINF","XSUP","YINF","YSUP",{"$f":"INDEX(TWS,1,INT(((COLUMN()-2)/6)+3))","v":6},"VMG","XINF","XSUP","YINF","YSUP",{"$f":"INDEX(TWS,1,INT(((COLUMN()-2)/6)+3))","v":8},"VMG","XINF","XSUP","YINF","YSUP",{"$f":"INDEX(TWS,1,INT(((COLUMN()-2)/6)+3))","v":10},"VMG","XINF","XSUP","YINF","YSUP",{"$f":"INDEX(TWS,1,INT(((COLUMN()-2)/6)+3))","v":12},"VMG","XINF","XSUP","YINF","YSUP",{"$f":"INDEX(TWS,1,INT(((COLUMN()-2)/6)+3))","v":14},"VMG","XINF","XSUP","YINF","YSUP",{"$f":"INDEX(TWS,1,INT(((COLUMN()-2)/6)+3))","v":16},"VMG","XINF","XSUP","YINF","YSUP",{"$f":"INDEX(TWS,1,INT(((COLUMN()-2)/6)+3))","v":20},"VMG"]
[0,{"$f":"INDEX(PolaireBase,MATCH($A2,AngleBase),1)","v":0},{"$f":"INDEX(PolaireBase,MIN(MATCH($A2,AngleBase)+1, ROWS(AngleBase)),1)","v":40.200000000000003},{"$f":"INDEX(PolaireBase,MATCH($A2,AngleBase),INT((COLUMN()-2)/6)+3)","v":0},{"$f":"INDEX(PolaireBase,MIN(MATCH($A2,AngleBase)+1,ROWS(AngleBase)),INT((COLUMN()-2)/6)+3)","v":2.9997088730860604},{"$f":"IF(B2=C2, D2, TREND(D2:E2,B2:C2,$A2))","v":0},{"$f":"F2*COS!$B2","v":0},{"$f":"INDEX(PolaireBase,MATCH($A2,AngleBase),1)","v":0},{"$f":"INDEX(PolaireBase,MIN(MATCH($A2,AngleBase)+1, ROWS(AngleBase)),1)","v":40.200000000000003},{"$f":"INDEX(PolaireBase,MATCH($A2,AngleBase),INT((COLUMN()-2)/6)+3)","v":0},{"$f":"INDEX(PolaireBase,MIN(MATCH($A2,AngleBase)+1,ROWS(AngleBase)),INT((COLUMN()-2)/6)+3)","v":3.7174016579680482},{"$f":"IF(H2=I2, J2, TREND(J2:K2,H2:I2,$A2))","v":6.6613381477509392E-16},{"$f":"L2*COS!$B2","v":6.6613381477509392E-16},{"$f":"INDEX(PolaireBase,MATCH($A2,AngleBase),1)","v":0},{"$f":"INDEX(PolaireBase,MIN(MATCH($A2,AngleBase)+1, ROWS(AngleBase)),1)","v":40.200000000000003},{"$f":"INDEX(PolaireBase,MATCH($A2,AngleBase),INT((COLUMN()-2)/6)+3)","v":0},{"$f":"INDEX(PolaireBase,MIN(MATCH($A2,AngleBase)+1,ROWS(AngleBase)),INT((COLUMN()-2)/6)+3)","v":4.2119238030426285},{"$f":"IF(N2=O2, P2, TREND(P2:Q2,N2:O2,$A2))","v":8.8817841970012523E-16},{"$f":"R2*COS!$B2","v":8.8817841970012523E-16},{"$f":"INDEX(PolaireBase,MATCH($A2,AngleBase),1)","v":0},{"$f":"INDEX(PolaireBase,MIN(MATCH($A2,AngleBase)+1, ROWS(AngleBase)),1)","v":40.200000000000003},{"$f":"INDEX(PolaireBase,MATCH($A2,AngleBase),INT((COLUMN()-2)/6)+3)","v":0},{"$f":"INDEX(PolaireBase,MIN(MATCH($A2,AngleBase)+1,ROWS(AngleBase)),INT((COLUMN()-2)/6)+3)","v":4.6292503140931034},{"$f":"IF(T2=U2, V2, TREND(V2:W2,T2:U2,$A2))","v":0},{"$f":"X2*COS!$B2","v":0},{"$f":"INDEX(PolaireBase,MATCH($A2,AngleBase),1)","v":0},{"$f":"INDEX(PolaireBase,MIN(MATCH($A2,AngleBase)+1, ROWS(AngleBase)),1)","v":40.200000000000003},{"$f":"INDEX(PolaireBase,MATCH($A2,AngleBase),INT((COLUMN()-2)/6)+3)","v":0},{"$f":"INDEX(PolaireBase,MIN(MATCH($A2,AngleBase)+1,ROWS(AngleBase)),INT((COLUMN()-2)/6)+3)","v":5.0349670123588561},{"$f":"IF(Z2=AA2, AB2, TREND(AB2:AC2,Z2:AA2,$A2))","v":4.4408920985006262E-16},{"$f":"AD2*COS!$B2","v":4.4408920985006262E-16},{"$f":"INDEX(PolaireBase,MATCH($A2,AngleBase),1)","v":0},{"$f":"INDEX(PolaireBase,MIN(MATCH($A2,AngleBase)+1, ROWS(AngleBase)),1)","v":40.200000000000003},{"$f":"INDEX(PolaireBase,MATCH($A2,AngleBase),INT((COLUMN()-2)/6)+3)","v":0},{"$f":"INDEX(PolaireBase,MIN(MATCH($A2,AngleBase)+1,ROWS(AngleBase)),INT((COLUMN()-2)/6)+3)","v":5.3271984224615796},{"$f":"IF(AF2=AG2, AH2, TREND(AH2:AI2,AF2:AG2,$A2))","v":4.4408920985006262E-16},{"$f":"AJ2*COS!$B2","v":4.4408920985006262E-16},{"$f":"INDEX(PolaireBase,MATCH($A2,AngleBase),1)","v":0},{"$f":"INDEX(PolaireBase,MIN(MATCH($A2,AngleBase)+1, ROWS(AngleBase)),1)","v":40.200000000000003},{"$f":"INDEX(PolaireBase,MATCH($A2,AngleBase),INT((COLUMN()-2)/6)+3)","v":0},{"$f":"INDEX(PolaireBase,MIN(MATCH($A2,AngleBase)+1,ROWS(AngleBase)),INT((COLUMN()-2)/6)+3)","v":5.4761243561704909},{"$f":"IF(AL2=AM2, AN2, TREND(AN2:AO2,AL2:AM2,$A2))","v":0},{"$f":"AP2*COS!$B2","v":0}]
[1,0,40.200000000000003,0,2.9997088730860604,{"$f":"IF(B3=C3, D3, TREND(D3:E3,B3:C3,$A3))","v":7.461962370860846E-2},{"$f":"F3*COS!$B3","v":7.4608258778489381E-2},0,40.200000000000003,0,3.7174016579680482,9.2472678058907298E-2,{"$f":"L3*COS!$B3","v":9.245859402213745E-2},0,40.200000000000003,0,4.2119238030426285,0.10477422395628513,{"$f":"R3*COS!$B3","v":0.10475826633449124},0,40.200000000000003,0,4.6292503140931034,0.11515548045007719,{"$f":"X3*COS!$B3","v":0.11513794171263655},0,40.200000000000003,0,5.0349670123588561,0.12524793563081774,{"$f":"AD3*COS!$B3","v":0.12522885976356918},0,40.200000000000003,0,5.3271984224615796,0.13251737369307454,{"$f":"AJ3*COS!$B3","v":0.13249719065519877},0,40.200000000000003,0,5.4761243561704909,0.1362219989097137,{"$f":"AP3*COS!$B3","v":0.13620125163947369}]
[2,0,40.200000000000003,0,2.9997088730860604,0.14923924741721692,{"$f":"F4*COS!$B4","v":0.14914833489999987},0,40.200000000000003,0,3.7174016579680482,0.18494535611781393,{"$f":"L4*COS!$B4","v":0.18483269240392325},0,40.200000000000003,0,4.2119238030426285,0.20954844791256938,{"$f":"R4*COS!$B4","v":0.20942079665991062},0,40.200000000000003,0,4.6292503140931034,0.23031096090015438,{"$f":"X4*COS!$B4","v":0.23017066168556791},0,40.200000000000003,0,5.0349670123588561,0.25049587126163503,{"$f":"AD4*COS!$B4","v":0.25034327594503436},0,40.200000000000003,0,5.3271984224615796,0.26503474738614863,{"$f":"AJ4*COS!$B4","v":0.2648732953790402},0,40.200000000000003,0,5.4761243561704909,0.27244399781942741,{"$f":"AP4*COS!$B4","v":0.27227803229714626}]
[3,0,40.200000000000003,0,2.9997088730860604,0.22385887112582536,{"$f":"F5*COS!$B5","v":0.22355208032306709},0,40.200000000000003,0,3.7174016579680482,0.27741803417672056,{"$f":"L5*COS!$B5","v":0.2770378424024269},0,40.200000000000003,0,4.2119238030426285,0.31432267186885365,{"$f":"R5*COS!$B5","v":0.31389190357120789},0,40.200000000000003,0,4.6292503140931034,0.34546644135023158,{"$f":"X5*COS!$B5","v":0.34499299159890001},0,40.200000000000003,0,5.0349670123588561,0.37574380689245235,{"$f":"AD5*COS!$B5","v":0.37522886306392211},0,40.200000000000003,0,5.3271984224615796,0.39755212107922272,{"$f":"AJ5*COS!$B5","v":0.3970072897140382},0,40.200000000000003,0,5.4761243561704909,0.40866599672914111,{"$f":"AP5*COS!$B5","v":0.40810593418363639}]
[4,0,40.200000000000003,0,2.9997088730860604,0.29847849483443384,{"$f":"F6*COS!$B6","v":0.29775141622249385},0,40.200000000000003,0,3.7174016579680482,0.36989071223562719,{"$f":"L6*COS!$B6","v":0.3689896770512634},0,40.200000000000003,0,4.2119238030426285,0.41909689582513787,{"$f":"R6*COS!$B6","v":0.41807599685064412},0,40.200000000000003,0,4.6292503140931034,0.46062192180030875,{"$f":"X6*COS!$B6","v":0.45949986994958003},0,40.200000000000003,0,5.0349670123588561,0.50099174252326961,{"$f":"AD6*COS!$B6","v":0.49977135181823984},0,40.200000000000003,0,5.3271984224615796,0.53006949477229681,{"$f":"AJ6*COS!$B6","v":0.52877827212423112},0,40.200000000000003,0,5.4761243561704909,0.54488799563885482,{"$f":"AP6*COS!$B6","v":0.54356067586745338}]
[5,0,40.200000000000003,0,2.9997088730860604,0.37309811854304231,{"$f":"F7*COS!$B7","v":0.37167836756058431},0,40.200000000000003,0,3.7174016579680482,0.46236339029453383,{"$f":"L7*COS!$B7","v":0.46060395800313902},0,40.200000000000003,0,4.2119238030426285,0.52387111978142209,{"$f":"R7*COS!$B7","v":0.52187763200963844},0,40.200000000000003,0,4.6292503140931034,0.57577740225038598,{"$f":"X7*COS!$B7","v":0.57358639540287282},0,40.200000000000003,0,5.0349670123588561,0.62623967815408688,{"$f":"AD7*COS!$B7","v":0.62385664711178246},0,40.200000000000003,0,5.3271984224615796,0.66258686846537085,{"$f":"AJ7*COS!$B7","v":0.66006552539041519},0,40.200000000000003,0,5.4761243561704909,0.68110999454856858,{"$f":"AP7*COS!$B7","v":0.67851816538658172}]
[6,0,40.200000000000003,0,2.9997088730860604,0.44771774225165073,{"$f":"F8*COS!$B8","v":0.44526509761411576},0,40.200000000000003,0,3.7174016579680482,0.55483606835344046,{"$f":"L8*COS!$B8","v":0.55179661831754445},0,40.200000000000003,0,4.2119238030426285,0.62864534373770642,{"$f":"R8*COS!$B8","v":0.62520155876846351},0,40.200000000000003,0,4.6292503140931034,0.69093288270046316,{"$f":"X8*COS!$B8","v":0.68714788007552952},0,40.200000000000003,0,5.0349670123588561,0.75148761378490425,{"$f":"AD8*COS!$B8","v":0.74737088600714396},0,40.200000000000003,0,5.3271984224615796,0.795104242158445,{"$f":"AJ8*COS!$B8","v":0.79074857792677122},0,40.200000000000003,0,5.4761243561704909,0.81733199345828222,{"$f":"AP8*COS!$B8","v":0.81285456327925998}]
[7,0,40.200000000000003,0,2.9997088730860604,0.52233736596025926,{"$f":"F9*COS!$B9","v":0.51844394244232017},0,40.200000000000003,0,3.7174016579680482,0.64730874641234704,{"$f":"L9*COS!$B9","v":0.64248380517534343},0,40.200000000000003,0,4.2119238030426285,0.73341956769399064,{"$f":"R9*COS!$B9","v":0.72795276945311249},0,40.200000000000003,0,4.6292503140931034,0.80608836315054033,{"$f":"X9*COS!$B9","v":0.80007990272792118},0,40.200000000000003,0,5.0349670123588561,0.87673554941572152,{"$f":"AD9*COS!$B9","v":0.87020049557971446},0,40.200000000000003,0,5.3271984224615796,0.92762161585151914,{"$f":"AJ9*COS!$B9","v":0.92070726499273003},0,40.200000000000003,0,5.4761243561704909,0.95355399236799587,{"$f":"AP9*COS!$B9","v":0.94644634550707285}]
[8,0,40.200000000000003,0,2.9997088730860604,0.59695698966886768,{"$f":"F10*COS!$B10","v":0.59114744528117114},0,40.200000000000003,0,3.7174016579680482,0.73978142447125372,{"$f":"L10*COS!$B10","v":0.73258192250203635},0,40.200000000000003,0,4.2119238030426285,0.83819379165027486,{"$f":"R10*COS!$B10","v":0.83003654728869192},0,40.200000000000003,0,4.6292503140931034,0.92124384360061751,{"$f":"X10*COS!$B10","v":0.91227836184244482},0,40.200000000000003,0,5.0349670123588561,1.0019834850465388,{"$f":"AD10*COS!$B10","v":0.99223225064798415},0,40.200000000000003,0,5.3271984224615796,1.0601389895445932,{"$f":"AJ10*COS!$B10","v":1.0498217897739641},0,40.200000000000003,0,5.4761243561704909,1.0897759912777096,{"$f":"AP10*COS!$B10","v":1.0791703662435079}]
[9,0,40.200000000000003,0,2.9997088730860604,0.67157661337747609,{"$f":"F11*COS!$B11","v":0.66330839084930182},0,40.200000000000003,0,3.7174016579680482,0.83225410253016041,{"$f":"L11*COS!$B11","v":0.82200767348150983},0,40.200000000000003,0,4.2119238030426285,0.94296801560655907,{"$f":"R11*COS!$B11","v":0.93135851456873231},0,40.200000000000003,0,4.6292503140931034,1.0363993240506948,{"$f":"X11*COS!$B11","v":1.0236395285655533},0,40.200000000000003,0,5.0349670123588561,1.1272314206773562,{"$f":"AD11*COS!$B11","v":1.1133533313555175},0,40.200000000000003,0,5.3271984224615796,1.1926563632376672,{"$f":"AJ11*COS!$B11","v":1.1779727843064434},0,40.200000000000003,0,5.4761243561704909,1.2259979901874234,{"$f":"AP11*COS!$B11","v":1.2109039205011902}]
[10,0,40.200000000000003,0,2.9997088730860604,0.74619623708608462,{"$f":"F12*COS!$B12","v":0.73485983955091183},0,40.200000000000003,0,3.7174016579680482,0.92472678058906699,{"$f":"L12*COS!$B12","v":0.91067810294213214},0,40.200000000000003,0,4.2119238030426285,1.0477422395628433,{"$f":"R12*COS!$B12","v":1.0318246806798623},0,40.200000000000003,0,4.6292503140931034,1.151554804500772,{"$f":"X12*COS!$B12","v":1.1340600994908177},0,40.200000000000003,0,5.0349670123588561,1.2524793563081733,{"$f":"AD12*COS!$B12","v":1.2334513805800289},0,40.200000000000003,0,5.3271984224615796,1.3251737369307413,{"$f":"AJ12*COS!$B12","v":1.3050413702175541},0,40.200000000000003,0,5.4761243561704909,1.3622199890971372,{"$f":"AP12*COS!$B12","v":1.3415248065710661}]
[11,0,40.200000000000003,0,2.9997088730860604,0.82081586079469304,{"$f":"F13*COS!$B13","v":0.80573516156106439},0,40.200000000000003,0,3.7174016579680482,1.0171994586479736,{"$f":"L13*COS!$B13","v":0.99851063959709885},0,40.200000000000003,0,4.2119238030426285,1.1525164635191276,{"$f":"R13*COS!$B13","v":1.1313414899613436},0,40.200000000000003,0,4.6292503140931034,1.2667102849508491,{"$f":"X13*COS!$B13","v":1.2434372492604899},0,40.200000000000003,0,5.0349670123588561,1.3777272919389907,{"$f":"AD13*COS!$B13","v":1.3524145611450489},0,40.200000000000003,0,5.3271984224615796,1.4576911106238155,{"$f":"AJ13*COS!$B13","v":1.4309092192583532},0,40.200000000000003,0,5.4761243561704909,1.4984419880068507,{"$f":"AP13*COS!$B13","v":1.4709113882468832}]
[12,0,40.200000000000003,0,2.9997088730860604,0.89543548450330146,{"$f":"F14*COS!$B14","v":0.87586807077881712},0,40.200000000000003,0,3.7174016579680482,1.1096721367068803,{"$f":"L14*COS!$B14","v":1.0854231381209904},0,40.200000000000003,0,4.2119238030426285,1.2572906874754119,{"$f":"R14*COS!$B14","v":1.2298158693790313},0,40.200000000000003,0,4.6292503140931034,1.3818657654009263,{"$f":"X14*COS!$B14","v":1.3516686829631002},0,40.200000000000003,0,5.0349670123588561,1.5029752275698081,{"$f":"AD14*COS!$B14","v":1.4701316128097535},0,40.200000000000003,0,5.3271984224615796,1.5902084843168895,{"$f":"AJ14*COS!$B14","v":1.5554586136011073},0,40.200000000000003,0,5.4761243561704909,1.6346639869165644,{"$f":"AP14*COS!$B14","v":1.5989426568083946}]
[13,0,40.200000000000003,0,2.9997088730860604,0.97005510821190999,{"$f":"F15*COS!$B15","v":0.94519265863368718},0,40.200000000000003,0,3.7174016579680482,1.2021448147657869,{"$f":"L15*COS!$B15","v":1.1713339210445743},0,40.200000000000003,0,4.2119238030426285,1.3620649114316961,{"$f":"R15*COS!$B15","v":1.3271552759933973},0,40.200000000000003,0,4.6292503140931034,1.4970212458510035,{"$f":"X15*COS!$B15","v":1.4586526883047159},0,40.200000000000003,0,5.0349670123588561,1.6282231632006252,{"$f":"AD15*COS!$B15","v":1.5864919090126139},0,40.200000000000003,0,5.3271984224615796,1.7227258580099636,{"$f":"AJ15*COS!$B15","v":1.6785725058763683},0,40.200000000000003,0,5.4761243561704909,1.7708859858262782,{"$f":"AP15*COS!$B15","v":1.7254982927368159}]
[14,0,40.200000000000003,0,2.9997088730860604,1.0446747319205185,{"$f":"F16*COS!$B16","v":1.0136434277310014},0,40.200000000000003,0,3.7174016579680482,1.2946174928246934,{"$f":"L16*COS!$B16","v":1.2561618204499456},0,40.200000000000003,0,4.2119238030426285,1.4668391353879804,{"$f":"R16*COS!$B16","v":1.4232677442013351},0,40.200000000000003,0,4.6292503140931034,1.6121767263010807,{"$f":"X16*COS!$B16","v":1.5642881875315655},0,40.200000000000003,0,5.0349670123588561,1.7534710988314426,{"$f":"AD16*COS!$B16","v":1.7013855133446241},0,40.200000000000003,0,5.3271984224615796,1.8552432317030378,{"$f":"AJ16*COS!$B16","v":1.8001345789239258},0,40.200000000000003,0,5.4761243561704909,1.9071079847359917,{"$f":"AP16*COS!$B16","v":1.850458727136161}]
[15,0,40.200000000000003,0,2.9997088730860604,1.1192943556291268,{"$f":"F17*COS!$B17","v":1.0811553253217545},0,40.200000000000003,0,3.7174016579680482,1.3870901708836001,{"$f":"L17*COS!$B17","v":1.3398262194481865},0,40.200000000000003,0,4.2119238030426285,1.5716133593442645,{"$f":"R17*COS!$B17","v":1.5180619327315472},0,40.200000000000003,0,4.6292503140931034,1.7273322067511578,{"$f":"X17*COS!$B17","v":1.6684747890818319},0,40.200000000000003,0,5.0349670123588561,1.8787190344622597,{"$f":"AD17*COS!$B17","v":1.8147032357279589},0,40.200000000000003,0,5.3271984224615796,1.9877606053961119,{"$f":"AJ17*COS!$B17","v":1.920029305232098},0,40.200000000000003,0,5.4761243561704909,2.0433299836457057,{"$f":"AP17*COS!$B17","v":1.9737052028342068}]
[16,0,40.200000000000003,0,2.9997088730860604,1.1939139793377354,{"$f":"F18*COS!$B18","v":1.1476637765826585},0,40.200000000000003,0,3.7174016579680482,1.4795628489425068,{"$f":"L18*COS!$B18","v":1.4222470934218048},0,40.200000000000003,0,4.2119238030426285,1.6763875833005488,{"$f":"R18*COS!$B18","v":1.6114471713734253},0,40.200000000000003,0,4.6292503140931034,1.842487687201235,{"$f":"X18*COS!$B18","v":1.7711128389445301},0,40.200000000000003,0,5.0349670123588561,2.0039669700930771,{"$f":"AD18*COS!$B18","v":1.9263366882760458},0,40.200000000000003,0,5.3271984224615796,2.1202779790891859,{"$f":"AJ18*COS!$B18","v":2.0381420060399424},0,40.200000000000003,0,5.4761243561704909,2.1795519825554193,{"$f":"AP18*COS!$B18","v":2.0951198351369476}]
[17,0,40.200000000000003,0,2.9997088730860604,1.2685336030463439,{"$f":"F19*COS!$B19","v":1.2131047176921439},0,40.200000000000003,0,3.7174016579680482,1.5720355270014135,{"$f":"L19*COS!$B19","v":1.5033450510143085},0,40.200000000000003,0,4.2119238030426285,1.7811618072568332,{"$f":"R19*COS!$B19","v":1.7033335074194249},0,40.200000000000003,0,4.6292503140931034,1.9576431676513122,{"$f":"X19*COS!$B19","v":1.8721034717034917},0,40.200000000000003,0,5.0349670123588561,2.1292149057238943,{"$f":"AD19*COS!$B19","v":2.036178340811146},0,40.200000000000003,0,5.3271984224615796,2.2527953527822602,{"$f":"AJ19*COS!$B19","v":2.1543589100770997},0,40.200000000000003,0,5.4761243561704909,2.3157739814651328,{"$f":"AP19*COS!$B19","v":2.2145856722105606}]
[18,0,40.200000000000003,0,2.9997088730860604,1.3431532267549522,{"$f":"F20*COS!$B20","v":1.2774146286881591},0,40.200000000000003,0,3.7174016579680482,1.6645082050603202,{"$f":"L20*COS!$B20","v":1.583041374849367},0,40.200000000000003,0,4.2119238030426285,1.8859360312131173,{"$f":"R20*COS!$B20","v":1.7936317518010552},0,40.200000000000003,0,4.6292503140931034,2.0727986481013896,{"$f":"X20*COS!$B20","v":1.9713486612446114},0,40.200000000000003,0,5.0349670123588561,2.2544628413547119,{"$f":"AD20*COS!$B20","v":2.1441215760156855},0,40.200000000000003,0,5.3271984224615796,2.385312726475334,{"$f":"AJ20*COS!$B20","v":2.2685672119161255},0,40.200000000000003,0,5.4761243561704909,2.4519959803748468,{"$f":"AP20*COS!$B20","v":2.3319867550650213}]
[19,0,40.200000000000003,0,2.9997088730860604,1.4177728504635607,{"$f":"F21*COS!$B21","v":1.3405305660936893},0,40.200000000000003,0,3.7174016579680482,1.7569808831192266,{"$f":"L21*COS!$B21","v":1.6612580619621209},0,40.200000000000003,0,4.2119238030426285,1.9907102551694016,{"$f":"R21*COS!$B21","v":1.8822535248987251},0,40.200000000000003,0,4.6292503140931034,2.1879541285514668,{"$f":"X21*COS!$B21","v":2.0687512711046274},0,40.200000000000003,0,5.0349670123588561,2.379710776985529,{"$f":"AD21*COS!$B21","v":2.2500607441937008},0,40.200000000000003,0,5.3271984224615796,2.5178301001684082,{"$f":"AJ21*COS!$B21","v":2.3806551299123186},0,40.200000000000003,0,5.4761243561704909,2.5882179792845603,{"$f":"AP21*COS!$B21","v":2.4472081771136796}]
[20,0,40.200000000000003,0,2.9997088730860604,1.4923924741721692,{"$f":"F22*COS!$B22","v":1.4023901952960118},0,40.200000000000003,0,3.7174016579680482,1.8494535611781333,{"$f":"L22*COS!$B22","v":1.7379178639253114},0,40.200000000000003,0,4.2119238030426285,2.0954844791256857,{"$f":"R22*COS!$B22","v":1.9691113020058097},0,40.200000000000003,0,4.6292503140931034,2.3031096090015439,{"$f":"X22*COS!$B22","v":2.1642151044398696},0,40.200000000000003,0,5.0349670123588561,2.5049587126163462,{"$f":"AD22*COS!$B22","v":2.3538912176189495},0,40.200000000000003,0,5.3271984224615796,2.6503474738614821,{"$f":"AJ22*COS!$B22","v":2.4905119637062079},0,40.200000000000003,0,5.4761243561704909,2.7244399781942743,{"$f":"AP22*COS!$B22","v":2.5601361432832808}]
[21,0,40.200000000000003,0,2.9997088730860604,1.5670120978807776,{"$f":"F23*COS!$B23","v":1.4629318226658112},0,40.200000000000003,0,3.7174016579680482,1.94192623923704,{"$f":"L23*COS!$B23","v":1.8129443266530227},0,40.200000000000003,0,4.2119238030426285,2.2002587030819702,{"$f":"R23*COS!$B23","v":2.0541184584274457},0,40.200000000000003,0,4.6292503140931034,2.4182650894516211,{"$f":"X23*COS!$B23","v":2.2576449535935383},0,40.200000000000003,0,5.0349670123588561,2.6302066482471638,{"$f":"AD23*COS!$B23","v":2.4555094444463625},0,40.200000000000003,0,5.3271984224615796,2.7828648475545563,{"$f":"AJ23*COS!$B23","v":2.5980281512640531},0,40.200000000000003,0,5.4761243561704909,2.8606619771039878,{"$f":"AP23*COS!$B23","v":2.6706580286490693}]
[22,0,40.200000000000003,0,2.9997088730860604,1.6416317215893861,{"$f":"F24*COS!$B24","v":1.5220944274023582},0,40.200000000000003,0,3.7174016579680482,2.0343989172959462,{"$f":"L24*COS!$B24","v":1.8862618298649545},0,40.200000000000003,0,4.2119238030426285,2.3050329270382544,{"$f":"R24*COS!$B24","v":2.1371893141946932},0,40.200000000000003,0,4.6292503140931034,2.5334205699016983,{"$f":"X24*COS!$B24","v":2.348946649240244},0,40.200000000000003,0,5.0349670123588561,2.7554545838779809,{"$f":"AD24*COS!$B24","v":2.5548130021637094},0,40.200000000000003,0,5.3271984224615796,2.9153822212476306,{"$f":"AJ24*COS!$B24","v":2.7030953254318608},0,40.200000000000003,0,5.4761243561704909,2.9968839760137014,{"$f":"AP24*COS!$B24","v":2.7786624365698231}]
[23,0,40.200000000000003,0,2.9997088730860604,1.7162513452979946,{"$f":"F25*COS!$B25","v":1.5798176930910841},0,40.200000000000003,0,3.7174016579680482,2.1268715953548529,{"$f":"L25*COS!$B25","v":1.957795626194277},0,40.200000000000003,0,4.2119238030426285,2.4098071509945385,{"$f":"R25*COS!$B25","v":2.2182391783748705},0,40.200000000000003,0,4.6292503140931034,2.6485760503517755,{"$f":"X25*COS!$B25","v":2.4380271090867045},0,40.200000000000003,0,5.0349670123588561,2.8807025195087981,{"$f":"AD25*COS!$B25","v":2.6517006505605218},0,40.200000000000003,0,5.3271984224615796,3.0478995949407044,{"$f":"AJ25*COS!$B25","v":2.8056063699786455},0,40.200000000000003,0,5.4761243561704909,3.1331059749234154,{"$f":"AP25*COS!$B25","v":2.8840392562978439}]
[24,0,40.200000000000003,0,2.9997088730860604,1.7908709690066029,{"$f":"F26*COS!$B26","v":1.6360420389599852},0,40.200000000000003,0,3.7174016579680482,2.2193442734137596,{"$f":"L26*COS!$B26","v":2.0274718799222584},0,40.200000000000003,0,4.2119238030426285,2.514581374950823,{"$f":"R26*COS!$B26","v":2.2971843929590103},0,40.200000000000003,0,4.6292503140931034,2.7637315308018526,{"$f":"X26*COS!$B26","v":2.5247943861076645},0,40.200000000000003,0,5.0349670123588561,3.0059504551396157,{"$f":"AD26*COS!$B26","v":2.7460723841915047},0,40.200000000000003,0,5.3271984224615796,3.1804169686337787,{"$f":"AJ26*COS!$B26","v":2.9054554751048385},0,40.200000000000003,0,5.4761243561704909,3.2693279738331289,{"$f":"AP26*COS!$B26","v":2.9866797200391426}]
[25,0,40.200000000000003,0,2.9997088730860604,1.8654905927152114,{"$f":"F27*COS!$B27","v":1.6907086508214118},0,40.200000000000003,0,3.7174016579680482,2.3118169514726663,{"$f":"L27*COS!$B27","v":2.0952177053230066},0,40.200000000000003,0,4.2119238030426285,2.6193555989071071,{"$f":"R27*COS!$B27","v":2.3739423763075589},0,40.200000000000003,0,4.6292503140931034,2.8788870112519298,{"$f":"X27*COS!$B27","v":2.6091577162962918},0,40.200000000000003,0,5.0349670123588561,3.1311983907704328,{"$f":"AD27*COS!$B27","v":2.8378294843118703},0,40.200000000000003,0,5.3271984224615796,3.3129343423268529,{"$f":"AJ27*COS!$B27","v":3.0025381923919694},0,40.200000000000003,0,5.4761243561704909,3.4055499727428424,{"$f":"AP27*COS!$B27","v":3.0864764594392891}]
[26,0,40.200000000000003,0,2.9997088730860604,1.94011021642382,{"$f":"F28*COS!$B28","v":1.7437595116859179},0,40.200000000000003,0,3.7174016579680482,2.404289629531573,{"$f":"L28*COS!$B28","v":2.1609612046018079},0,40.200000000000003,0,4.2119238030426285,2.7241298228633912,{"$f":"R28*COS!$B28","v":2.4484316661356207},0,40.200000000000003,0,4.6292503140931034,2.994042491702007,{"$f":"X28*COS!$B28","v":2.6910275659084872},0,40.200000000000003,0,5.0349670123588561,3.25644632640125,{"$f":"AD28*COS!$B28","v":2.9268745702622376},0,40.200000000000003,0,5.3271984224615796,3.4454517160199267,{"$f":"AJ28*COS!$B28","v":3.0967514891699586},0,40.200000000000003,0,5.4761243561704909,3.5417719716525564,{"$f":"AP28*COS!$B28","v":3.1833235614705799}]
[27,0,40.200000000000003,0,2.9997088730860604,2.0147298401324285,{"$f":"F29*COS!$B29","v":1.7951374320349813},0,40.200000000000003,0,3.7174016579680482,2.4967623075904797,{"$f":"L29*COS!$B29","v":2.2246315054107222},0,40.200000000000003,0,4.2119238030426285,2.8289040468196753,{"$f":"R29*COS!$B29","v":2.5205719620192069},0,40.200000000000003,0,4.6292503140931034,3.1091979721520842,{"$f":"X29*COS!$B29","v":2.7703156781807503},0,40.200000000000003,0,5.0349670123588561,3.3816942620320671,{"$f":"AD29*COS!$B29","v":3.0131116502809401},0,40.200000000000003,0,5.3271984224615796,3.577969089713001,{"$f":"AJ29*COS!$B29","v":3.1879938022785996},0,40.200000000000003,0,5.4761243561704909,3.67799397056227,{"$f":"AP29*COS!$B29","v":3.2771166236964624}]
[28,0,40.200000000000003,0,2.9997088730860604,2.089349463841037,{"$f":"F30*COS!$B30","v":1.8447860797395335},0,40.200000000000003,0,3.7174016579680482,2.5892349856493864,{"$f":"L30*COS!$B30","v":2.286158797925244},0,40.200000000000003,0,4.2119238030426285,2.9336782707759599,{"$f":"R30*COS!$B30","v":2.5902841674041732},0,40.200000000000003,0,4.6292503140931034,3.2243534526021613,{"$f":"X30*COS!$B30","v":2.8469351195014485},0,40.200000000000003,0,5.0349670123588561,3.5069421976628847,{"$f":"AD30*COS!$B30","v":3.0964461717218392},0,40.200000000000003,0,5.3271984224615796,3.7104864634060752,{"$f":"AJ30*COS!$B30","v":3.2761650912000273},0,40.200000000000003,0,5.4761243561704909,3.8142159694719835,{"$f":"AP30*COS!$B30","v":3.3677528088893665}]
[29,0,40.200000000000003,0,2.9997088730860604,2.1639690875496451,{"$f":"F31*COS!$B31","v":1.8926500096113761},0,40.200000000000003,0,3.7174016579680482,2.6817076637082931,{"$f":"L31*COS!$B31","v":2.3454743714660204},0,40.200000000000003,0,4.2119238030426285,3.038452494732244,{"$f":"R31*COS!$B31","v":2.6574904310996814},0,40.200000000000003,0,4.6292503140931034,3.3395089330522385,{"$f":"X31*COS!$B31","v":2.920800325015545},0,40.200000000000003,0,5.0349670123588561,3.6321901332937019,{"$f":"AD31*COS!$B31","v":3.1767850706559404},0,40.200000000000003,0,5.3271984224615796,3.8430038370991491,{"$f":"AJ31*COS!$B31","v":3.361166890539232},0,40.200000000000003,0,5.4761243561704909,3.9504379683816975,{"$f":"AP31*COS!$B31","v":3.4551308989783496}]
[30,0,40.200000000000003,0,2.9997088730860604,2.2385887112582536,{"$f":"F32*COS!$B32","v":1.9386746925747154},0,40.200000000000003,0,3.7174016579680482,2.7741803417671997,{"$f":"L32*COS!$B32","v":2.4025106506497913},0,40.200000000000003,0,4.2119238030426285,3.1432267186885281,{"$f":"R32*COS!$B32","v":2.7221141882382689},0,40.200000000000003,0,4.6292503140931034,3.4546644135023157,{"$f":"X32*COS!$B32","v":2.9918271436430741},0,40.200000000000003,0,5.0349670123588561,3.757438068924519,{"$f":"AD32*COS!$B32","v":3.254036820835378},0,40.200000000000003,0,5.3271984224615796,3.9755212107922233,{"$f":"AJ32*COS!$B32","v":3.4429023618299359},0,40.200000000000003,0,5.4761243561704909,4.0866599672914115,{"$f":"AP32*COS!$B32","v":3.5391513483032457}]
[31,0,40.200000000000003,0,2.9997088730860604,2.3132083349668622,{"$f":"F33*COS!$B33","v":1.982806544445173},0,40.200000000000003,0,3.7174016579680482,2.8666530198261064,{"$f":"L33*COS!$B33","v":2.4572012310539026},0,40.200000000000003,0,4.2119238030426285,3.2480009426448126,{"$f":"R33*COS!$B33","v":2.7840802006847705},0,40.200000000000003,0,4.6292503140931034,3.5698198939523929,{"$f":"X33*COS!$B33","v":3.0599328824918737},0,40.200000000000003,0,5.0349670123588561,3.8826860045553366,{"$f":"AD33*COS!$B33","v":3.3281114819985675},0,40.200000000000003,0,5.3271984224615796,4.108038584485298,{"$f":"AJ33*COS!$B33","v":3.5212763446433892},0,40.200000000000003,0,5.4761243561704909,4.2228819662011245,{"$f":"AP33*COS!$B33","v":3.6197163361522469}]
[32,{"$f":"INDEX(PolaireBase,MATCH($A34,AngleBase),1)","v":0},{"$f":"INDEX(PolaireBase,MIN(MATCH($A34,AngleBase)+1, ROWS(AngleBase)),1)","v":40.200000000000003},{"$f":"INDEX(PolaireBase,MATCH($A34,AngleBase),INT((COLUMN()-2)/6)+3)","v":0},{"$f":"INDEX(PolaireBase,MIN(MATCH($A34,AngleBase)+1,ROWS(AngleBase)),INT((COLUMN()-2)/6)+3)","v":2.9997088730860604},{"$f":"IF(B34=C34, D34, TREND(D34:E34,B34:C34,$A34))","v":2.3878279586754707},{"$f":"F34*COS!$B34","v":2.0249929543038179},{"$f":"INDEX(PolaireBase,MATCH($A34,AngleBase),1)","v":0},{"$f":"INDEX(PolaireBase,MIN(MATCH($A34,AngleBase)+1, ROWS(AngleBase)),1)","v":40.200000000000003},{"$f":"INDEX(PolaireBase,MATCH($A34,AngleBase),INT((COLUMN()-2)/6)+3)","v":0},{"$f":"INDEX(PolaireBase,MIN(MATCH($A34,AngleBase)+1,ROWS(AngleBase)),INT((COLUMN()-2)/6)+3)","v":3.7174016579680482},{"$f":"IF(H34=I34, J34, TREND(J34:K34,H34:I34,$A34))","v":2.9591256978850131},{"$f":"L34*COS!$B34","v":2.5094809143789405},{"$f":"INDEX(PolaireBase,MATCH($A34,AngleBase),1)","v":0},{"$f":"INDEX(PolaireBase,MIN(MATCH($A34,AngleBase)+1, ROWS(AngleBase)),1)","v":40.200000000000003},{"$f":"INDEX(PolaireBase,MATCH($A34,AngleBase),INT((COLUMN()-2)/6)+3)","v":0},{"$f":"INDEX(PolaireBase,MIN(MATCH($A34,AngleBase)+1,ROWS(AngleBase)),INT((COLUMN()-2)/6)+3)","v":4.2119238030426285},{"$f":"IF(N34=O34, P34, TREND(P34:Q34,N34:O34,$A34))","v":3.3527751666010968},{"$f":"R34*COS!$B34","v":2.843314596876604},{"$f":"INDEX(PolaireBase,MATCH($A34,AngleBase),1)","v":0},{"$f":"INDEX(PolaireBase,MIN(MATCH($A34,AngleBase)+1, ROWS(AngleBase)),1)","v":40.200000000000003},{"$f":"INDEX(PolaireBase,MATCH($A34,AngleBase),INT((COLUMN()-2)/6)+3)","v":0},{"$f":"INDEX(PolaireBase,MIN(MATCH($A34,AngleBase)+1,ROWS(AngleBase)),INT((COLUMN()-2)/6)+3)","v":4.6292503140931034},{"$f":"IF(T34=U34, V34, TREND(V34:W34,T34:U34,$A34))","v":3.68497537440247},{"$f":"X34*COS!$B34","v":3.1250363506453276},{"$f":"INDEX(PolaireBase,MATCH($A34,AngleBase),1)","v":0},{"$f":"INDEX(PolaireBase,MIN(MATCH($A34,AngleBase)+1, ROWS(AngleBase)),1)","v":40.200000000000003},{"$f":"INDEX(PolaireBase,MATCH($A34,AngleBase),INT((COLUMN()-2)/6)+3)","v":0},{"$f":"INDEX(PolaireBase,MIN(MATCH($A34,AngleBase)+1,ROWS(AngleBase)),INT((COLUMN()-2)/6)+3)","v":5.0349670123588561},{"$f":"IF(Z34=AA34, AB34, TREND(AB34:AC34,Z34:AA34,$A34))","v":4.0079339401861542},{"$f":"AD34*COS!$B34","v":3.3989207474955907},{"$f":"INDEX(PolaireBase,MATCH($A34,AngleBase),1)","v":0},{"$f":"INDEX(PolaireBase,MIN(MATCH($A34,AngleBase)+1, ROWS(AngleBase)),1)","v":40.200000000000003},{"$f":"INDEX(PolaireBase,MATCH($A34,AngleBase),INT((COLUMN()-2)/6)+3)","v":0},{"$f":"INDEX(PolaireBase,MIN(MATCH($A34,AngleBase)+1,ROWS(AngleBase)),INT((COLUMN()-2)/6)+3)","v":5.3271984224615796},{"$f":"IF(AF34=AG34, AH34, TREND(AH34:AI34,AF34:AG34,$A34))","v":4.2405559581783709},{"$f":"AJ34*COS!$B34","v":3.596195406977956},{"$f":"INDEX(PolaireBase,MATCH($A34,AngleBase),1)","v":0},{"$f":"INDEX(PolaireBase,MIN(MATCH($A34,AngleBase)+1, ROWS(AngleBase)),1)","v":40.200000000000003},{"$f":"INDEX(PolaireBase,MATCH($A34,AngleBase),INT((COLUMN()-2)/6)+3)","v":0},{"$f":"INDEX(PolaireBase,MIN(MATCH($A34,AngleBase)+1,ROWS(AngleBase)),INT((COLUMN()-2)/6)+3)","v":5.4761243561704909},{"$f":"IF(AL34=AM34, AN34, TREND(AN34:AO34,AL34:AM34,$A34))","v":4.3591039651108385},{"$f":"AP34*COS!$B34","v":3.6967298185601742}]
[33,0,40.200000000000003,0,2.9997088730860604,2.4624475823840792,{"$f":"F35*COS!$B35","v":2.0651823124538922},0,40.200000000000003,0,3.7174016579680482,3.0515983759439198,{"$f":"L35*COS!$B35","v":2.5592857430942209},0,40.200000000000003,0,4.2119238030426285,3.4575493905573809,{"$f":"R35*COS!$B35","v":2.8997449110781135},0,40.200000000000003,0,4.6292503140931034,3.8001308548525472,{"$f":"X35*COS!$B35","v":3.1870579023061154},0,40.200000000000003,0,5.0349670123588561,4.1331818758169714,{"$f":"AD35*COS!$B35","v":3.4663779912131525},0,40.200000000000003,0,5.3271984224615796,4.3730733318714456,{"$f":"AJ35*COS!$B35","v":3.6675678949076134},0,40.200000000000003,0,5.4761243561704909,4.4953259640205525,{"$f":"AP35*COS!$B35","v":3.7700975793449278}]
[34,0,40.200000000000003,0,2.9997088730860604,2.5370672060926878,{"$f":"F36*COS!$B36","v":2.1033240379480835},0,40.200000000000003,0,3.7174016579680482,3.1440710540028265,{"$f":"L36*COS!$B36","v":2.6065530345510743},0,40.200000000000003,0,4.2119238030426285,3.5623236145136654,{"$f":"R36*COS!$B36","v":2.9533001220319108},0,40.200000000000003,0,4.6292503140931034,3.9152863353026244,{"$f":"X36*COS!$B36","v":3.2459194792772124},0,40.200000000000003,0,5.0349670123588561,4.2584298114477885,{"$f":"AD36*COS!$B36","v":3.5303983137786981},0,40.200000000000003,0,5.3271984224615796,4.5055907055645203,{"$f":"AJ36*COS!$B36","v":3.7353039814677671},0,40.200000000000003,0,5.4761243561704909,4.6315479629302656,{"$f":"AP36*COS!$B36","v":3.8397272803599551}]
[35,0,40.200000000000003,0,2.9997088730860604,2.6116868298012963,{"$f":"F37*COS!$B37","v":2.1393686056743682},0,40.200000000000003,0,3.7174016579680482,3.2365437320617332,{"$f":"L37*COS!$B37","v":2.6512214145490915},0,40.200000000000003,0,4.2119238030426285,3.6670978384699495,{"$f":"R37*COS!$B37","v":3.0039106909904021},0,40.200000000000003,0,4.6292503140931034,4.0304418157527016,{"$f":"X37*COS!$B37","v":3.3015446527616614},0,40.200000000000003,0,5.0349670123588561,4.3836777470786057,{"$f":"AD37*COS!$B37","v":3.590898588023602},0,40.200000000000003,0,5.3271984224615796,4.6381080792575933,{"$f":"AJ37*COS!$B37","v":3.7993157147571468},0,40.200000000000003,0,5.4761243561704909,4.7677699618399796,{"$f":"AP37*COS!$B37","v":3.9055285109408677}]
[36,0,40.200000000000003,0,2.9997088730860604,2.6863064535099044,{"$f":"F38*COS!$B38","v":2.1732675729886073},0,40.200000000000003,0,3.7174016579680482,3.3290164101206399,{"$f":"L38*COS!$B38","v":2.6932308503406777},0,40.200000000000003,0,4.2119238030426285,3.7718720624262336,{"$f":"R38*COS!$B38","v":3.0515085991109059},0,40.200000000000003,0,4.6292503140931034,4.1455972962027792,{"$f":"X38*COS!$B38","v":3.3538586644628809},0,40.200000000000003,0,5.0349670123588561,4.5089256827094228,{"$f":"AD38*COS!$B38","v":3.6477975036855854},0,40.200000000000003,0,5.3271984224615796,4.770625452950668,{"$f":"AJ38*COS!$B38","v":3.8595170652347717},0,40.200000000000003,0,5.4761243561704909,4.9039919607496936,{"$f":"AP38*COS!$B38","v":3.9674128365246224}]
[37,0,40.200000000000003,0,2.9997088730860604,2.7609260772185129,{"$f":"F39*COS!$B39","v":2.2049736058822784},0,40.200000000000003,0,3.7174016579680482,3.4214890881795457,{"$f":"L39*COS!$B39","v":2.7325226830595182},0,40.200000000000003,0,4.2119238030426285,3.8766462863825182,{"$f":"R39*COS!$B39","v":3.0960273841980461},0,40.200000000000003,0,4.6292503140931034,4.2607527766528559,{"$f":"X39*COS!$B39","v":3.4027884669675728},0,40.200000000000003,0,5.0349670123588561,4.63417361834024,{"$f":"AD39*COS!$B39","v":3.7010156113308663},0,40.200000000000003,0,5.3271984224615796,4.9031428266437427,{"$f":"AJ39*COS!$B39","v":3.9158239721913506},0,40.200000000000003,0,5.4761243561704909,5.0402139596594067,{"$f":"AP39*COS!$B39","v":4.0252938464200758}]
[38,0,40.200000000000003,0,2.9997088730860604,2.8355457009271214,{"$f":"F40*COS!$B40","v":2.2344405046738816},0,40.200000000000003,0,3.7174016579680482,3.5139617662384524,{"$f":"L40*COS!$B40","v":2.769039659558771},0,40.200000000000003,0,4.2119238030426285,3.9814205103388023,{"$f":"R40*COS!$B40","v":3.1374021767773392},0,40.200000000000003,0,4.6292503140931034,4.3759082571029335,{"$f":"X40*COS!$B40","v":3.4482627633935601},0,40.200000000000003,0,5.0349670123588561,4.7594215539710572,{"$f":"AD40*COS!$B40","v":3.7504753654768086},0,40.200000000000003,0,5.3271984224615796,5.0356602003368156,{"$f":"AJ40*COS!$B40","v":3.9681543893747908},0,40.200000000000003,0,5.4761243561704909,5.1764359585691206,{"$f":"AP40*COS!$B40","v":4.0790872007089876}]
[39,0,40.200000000000003,{"$f":"INDEX(PolaireBase,MATCH($A41,AngleBase),INT((COLUMN()-2)/6)+3)","v":0},2.9997088730860604,2.91016532463573,{"$f":"F41*COS!$B41","v":2.261623229212772},0,40.200000000000003,0,3.7174016579680482,3.606434444297359,{"$f":"L41*COS!$B41","v":2.8027259636450075},0,40.200000000000003,0,4.2119238030426285,4.0861947342950868,{"$f":"R41*COS!$B41","v":3.1755697354841672},0,40.200000000000003,0,4.6292503140931034,4.4910637375530102,{"$f":"X41*COS!$B41","v":3.4902120462851713},0,40.200000000000003,0,5.0349670123588561,4.8846694896018743,{"$f":"AD41*COS!$B41","v":3.7961011668961797},0,40.200000000000003,0,5.3271984224615796,5.1681775740298903,{"$f":"AJ41*COS!$B41","v":4.0164283297498145},0,40.200000000000003,0,5.4761243561704909,5.3126579574788346,{"$f":"AP41*COS!$B41","v":4.1287106762569161}]
[40,0,40.200000000000003,{"$f":"INDEX(PolaireBase,MATCH($A42,AngleBase),INT((COLUMN()-2)/6)+3)","v":0},2.9997088730860604,2.9847849483443385,{"$f":"F42*COS!$B42","v":2.2864779235843464},0,40.200000000000003,0,3.7174016579680482,3.6989071223562657,{"$f":"L42*COS!$B42","v":2.833527246694227},0,40.200000000000003,0,4.2119238030426285,4.1909689582513705,{"$f":"R42*COS!$B42","v":3.2104684817525944},0,40.200000000000003,0,4.6292503140931034,4.6062192180030879,{"$f":"X42*COS!$B42","v":3.5285686357391097},0,40.200000000000003,0,5.0349670123588561,5.0099174252326915,{"$f":"AD42*COS!$B42","v":3.8378194040844411},0,40.200000000000003,0,5.3271984224615796,5.3006949477229632,{"$f":"AJ42*COS!$B42","v":4.0605679093720175},0,40.200000000000003,0,5.4761243561704909,5.4488799563885486,{"$f":"AP42*COS!$B42","v":4.1740842118138266}]
[41,40.4,41.2,2.9997088730860604,3.0746784691531133,3.05593607013635,{"$f":"F43*COS!$B43","v":2.3063442286802327},40.4,41.2,3.7174016579680482,3.8103140222263558,3.7870859311617799,{"$f":"L43*COS!$B43","v":2.858150033374673},40.4,41.2,4.2119238030426285,4.3171995300118686,4.2908805982695588,{"$f":"R43*COS!$B43","v":3.2383686951060562},40.4,41.2,4.6292503140931034,4.7449594646741948,4.7160321770289224,{"$f":"X43*COS!$B43","v":3.5592346646425841},40.4,41.2,5.0349670123588561,5.185989798299274,5.14823410181417,{"$f":"AD43*COS!$B43","v":3.8854215978687323},40.4,41.2,5.3804617382690907,5.4054799546648251,5.399225400565892,{"$f":"AJ43*COS!$B43","v":4.0748471355892129},40.4,41.2,5.4674480918327726,5.5108294135213587,5.4999840830992124,{"$f":"AP43*COS!$B43","v":4.1508906785877349}]
[42,41.7,43,3.1496480652201666,3.2246176612872213,3.166948741235641,{"$f":"F44*COS!$B44","v":2.3535015696014137},41.7,43,3.8786396828665408,3.9223786398886027,3.8887332883331709,{"$f":"L44*COS!$B44","v":2.8898920208864878},41.7,43,4.3842743480845474,4.4349773480587018,4.3959750403862756,{"$f":"R44*COS!$B44","v":3.2668461041908401},41.7,43,4.8259558700809624,4.8976591568539112,4.842502782413181,{"$f":"X44*COS!$B44","v":3.5986808851102392},41.7,43,5.2237165818596578,5.2708750613101421,5.2345993078866924,{"$f":"AD44*COS!$B44","v":3.8900653891035448},41.7,43,5.44717698199105,5.488874009317275,5.456799372912486,{"$f":"AJ44*COS!$B44","v":4.0551922176482034},41.7,43,5.5542107352099457,5.5975920568985318,5.5642218094457725,{"$f":"AP44*COS!$B44","v":4.1350226454980898}]
[43,43,52,3.2246176612872213,3.5931729713544267,3.2246176612872213,{"$f":"F45*COS!$B45","v":2.358336062888962},43,52,3.9223786398886027,4.3160292530871596,3.9223786398886022,{"$f":"L45*COS!$B45","v":2.8686461374344967},43,52,4.4349773480587018,4.8913043478260869,4.4349773480587018,{"$f":"R45*COS!$B45","v":3.2435371000999043},43,52,4.8976591568539112,5.3940665268204979,4.8976591568539112,{"$f":"X45*COS!$B45","v":3.5819211536341338},43,52,5.2708750613101421,5.6953013763644993,5.2708750613101412,{"$f":"AD45*COS!$B45","v":3.8548739868613442},43,52,5.488874009317275,5.8641472552532985,5.488874009317275,{"$f":"AJ45*COS!$B45","v":4.0143083244354472},43,52,5.5975920568985318,5.9880239520958076,5.5975920568985318,{"$f":"AP45*COS!$B45","v":4.0938196709668082}]
[44,43,52,3.2246176612872213,3.5931729713544267,{"$f":"IF(B46=C46, D46, TREND(D46:E46,B46:C46,$A46))","v":3.2655682512946886},{"$f":"F46*COS!$B46","v":2.3490532138785598},43,52,3.9223786398886027,4.3160292530871596,3.9661175969106641,{"$f":"L46*COS!$B46","v":2.8529862402813282},43,52,4.4349773480587018,4.8913043478260869,4.4856803480328553,{"$f":"R46*COS!$B46","v":3.2267284059369654},43,52,4.8976591568539112,5.3940665268204979,4.9528155312946431,{"$f":"X46*COS!$B46","v":3.5627573353956592},43,52,5.2708750613101421,5.6953013763644993,5.3180335407606254,{"$f":"AD46*COS!$B46","v":3.8254731854049986},43,52,5.488874009317275,5.8641472552532985,5.5305710366434999,{"$f":"AJ46*COS!$B46","v":3.9783598652578624},43,52,5.5975920568985318,5.9880239520958076,5.6409733785871179,{"$f":"AP46*COS!$B46","v":4.0577766638685038}]
[45,43,52,3.2246176612872213,3.5931729713544267,3.3065188413021556,{"$f":"F47*COS!$B47","v":2.3380618948058403},43,52,3.9223786398886027,4.3160292530871596,4.0098565539327264,{"$f":"L47*COS!$B47","v":2.8353967608711521},43,52,4.4349773480587018,4.8913043478260869,4.5363833480070088,{"$f":"R47*COS!$B47","v":3.2077074274374899},43,52,4.8976591568539112,5.3940665268204979,5.0079719057353751,{"$f":"X47*COS!$B47","v":3.5411708945372014},43,52,5.2708750613101421,5.6953013763644993,5.3651920202111096,{"$f":"AD47*COS!$B47","v":3.7937636598592284},43,52,5.488874009317275,5.8641472552532985,5.5722680639697248,{"$f":"AJ47*COS!$B47","v":3.9401885346222274},43,52,5.5975920568985318,5.9880239520958076,5.684354700275704,{"$f":"AP47*COS!$B47","v":4.0194457552345755}]
[46,43,52,3.2246176612872213,3.5931729713544267,3.3474694313096229,{"$f":"F48*COS!$B48","v":2.3253476603148493},43,52,3.9223786398886027,4.3160292530871596,4.0535955109547874,{"$f":"L48*COS!$B48","v":2.8158640521397595},43,52,4.4349773480587018,4.8913043478260869,4.5870863479811632,{"$f":"R48*COS!$B48","v":3.1864579276433083},43,52,4.8976591568539112,5.3940665268204979,5.0631282801761071,{"$f":"X48*COS!$B48","v":3.5171444405320003},43,52,5.2708750613101421,5.6953013763644993,5.4123504996615939,{"$f":"AD48*COS!$B48","v":3.7597345784478629},43,52,5.488874009317275,5.8641472552532985,5.6139650912959498,{"$f":"AJ48*COS!$B48","v":3.8997878421333407},43,52,5.5975920568985318,5.9880239520958076,5.7277360219642901,{"$f":"AP48*COS!$B48","v":3.9788197714370135}]
[47,43,52,3.2246176612872213,3.5931729713544267,3.3884200213170903,{"$f":"F49*COS!$B49","v":2.3108968977411917},43,52,3.9223786398886027,4.3160292530871596,4.0973344679768502,{"$f":"L49*COS!$B49","v":2.7943753877877615},43,52,4.4349773480587018,4.8913043478260869,4.6377893479553176,{"$f":"R49*COS!$B49","v":3.1629647296208505},43,52,4.8976591568539112,5.3940665268204979,5.1182846546168381,{"$f":"X49*COS!$B49","v":3.4906617407817349},43,52,5.2708750613101421,5.6953013763644993,5.4595089791120781,{"$f":"AD49*COS!$B49","v":3.7233761705009227},43,52,5.488874009317275,5.8641472552532985,5.6556621186221747,{"$f":"AJ49*COS!$B49","v":3.8571522899679187},43,52,5.5975920568985318,5.9880239520958076,5.7711173436528771,{"$f":"AP49*COS!$B49","v":3.9358925640995048}]
[48,43,52,3.2246176612872213,3.5931729713544267,3.4293706113245577,{"$f":"F50*COS!$B50","v":2.2946968365848495},43,52,3.9223786398886027,4.3160292530871596,4.1410734249989112,{"$f":"L50*COS!$B50","v":2.7709189718460752},43,52,4.4349773480587018,4.8913043478260869,4.6884923479294711,{"$f":"R50*COS!$B50","v":3.137213727678914},43,52,4.8976591568539112,5.3940665268204979,5.173441029057571,{"$f":"X50*COS!$B50","v":3.4617077327350878},43,52,5.2708750613101421,5.6953013763644993,5.5066674585625623,{"$f":"AD50*COS!$B50","v":3.6846797355645604},43,52,5.488874009317275,5.8641472552532985,5.6973591459483997,{"$f":"AJ50*COS!$B50","v":3.8122773799726395},43,52,5.5975920568985318,5.9880239520958076,5.8144986653414623,{"$f":"AP50*COS!$B50","v":3.8906590176127045}]
[49,43,52,3.2246176612872213,3.5931729713544267,3.470321201332025,{"$f":"F51*COS!$B51","v":2.2767355576310591},43,52,3.9223786398886027,4.3160292530871596,4.1848123820209739,{"$f":"L51*COS!$B51","v":2.7454839478561319},43,52,4.4349773480587018,4.8913043478260869,4.7391953479036246,{"$f":"R51*COS!$B51","v":3.1091918981419813},43,52,4.8976591568539112,5.3940665268204979,5.228597403498302,{"$f":"X51*COS!$B51","v":3.4302685355213836},43,52,5.2708750613101421,5.6953013763644993,5.5538259380130466,{"$f":"AD51*COS!$B51","v":3.6436376520751326},43,52,5.488874009317275,5.8641472552532985,5.7390561732746246,{"$f":"AJ51*COS!$B51","v":3.7651596203605266},43,52,5.5975920568985318,5.9880239520958076,5.8578799870300493,{"$f":"AP51*COS!$B51","v":3.8431150562338594}]
[50,43,52,3.2246176612872213,3.5931729713544267,3.5112717913394924,{"$f":"F52*COS!$B52","v":2.2570020017148855},43,52,3.9223786398886027,4.3160292530871596,4.2285513390430349,{"$f":"L52*COS!$B52","v":2.7180604076602877},43,52,4.4349773480587018,4.8913043478260869,4.789898347877779,{"$f":"R52*COS!$B52","v":3.0788873096738616},43,52,4.8976591568539112,5.3940665268204979,5.2837537779390349,{"$f":"X52*COS!$B52","v":3.3963314610936544},43,52,5.2708750613101421,5.6953013763644993,5.6009844174635308,{"$f":"AD52*COS!$B52","v":3.600243385592937},43,52,5.488874009317275,5.8641472552532985,5.7807532006008486,{"$f":"AJ52*COS!$B52","v":3.7157965320020314},43,52,5.5975920568985318,5.9880239520958076,5.9012613087186345,{"$f":"AP52*COS!$B52","v":3.7932576507669102}]
[51,43,52,3.2246176612872213,3.5931729713544267,3.5522223813469598,{"$f":"F53*COS!$B53","v":2.2354859781252538},43,52,3.9223786398886027,4.3160292530871596,4.2722902960650977,{"$f":"L53*COS!$B53","v":2.6886393997981135},43,52,4.4349773480587018,4.8913043478260869,4.8406013478519325,{"$f":"R53*COS!$B53","v":3.0462891331465487},43,52,4.8976591568539112,5.3940665268204979,5.338910152379766,{"$f":"X53*COS!$B53","v":3.3598850248755818},43,52,5.2708750613101421,5.6953013763644993,5.6481428969140151,{"$f":"AD53*COS!$B53","v":3.5544914965912899},43,52,5.488874009317275,5.8641472552532985,5.8224502279270745,{"$f":"AJ53*COS!$B53","v":3.6641866543072821},43,52,5.5975920568985318,5.9880239520958076,5.9446426304072215,{"$f":"AP53*COS!$B53","v":3.7410848248194073}]
[52,52,60,3.5931729713544267,3.7894736842105261,3.5931729713544263,{"$f":"F54*COS!$B54","v":2.2121781726443452},52,60,4.3160292530871596,4.523181304183943,4.3160292530871587,{"$f":"L54*COS!$B54","v":2.657212937504339},52,60,4.8913043478260869,5.1494779001573452,4.8913043478260878,{"$f":"R54*COS!$B54","v":3.0113876510494162},52,60,5.3940665268204979,5.604857543204111,5.3940665268204979,{"$f":"X54*COS!$B54","v":3.3209189559070573},52,60,5.6953013763644993,5.8574682720468596,5.6953013763645002,{"$f":"AD54*COS!$B54","v":3.5063776477968203},52,60,5.8641472552532985,6.0120240480961931,5.8641472552532985,{"$f":"AJ54*COS!$B54","v":3.6103295506961555},52,60,5.9880239520958076,6.1813186813186816,5.9880239520958067,{"$f":"AP54*COS!$B54","v":3.6865956606326833}]
[53,52,60,3.5931729713544267,3.7894736842105261,3.6177105604614388,{"$f":"F55*COS!$B55","v":2.1771925647015107},52,60,4.3160292530871596,4.523181304183943,4.3419232594742567,{"$f":"L55*COS!$B55","v":2.613034646924917},52,60,4.8913043478260869,5.1494779001573452,4.923576041867495,{"$f":"R55*COS!$B55","v":2.963082029627357},52,60,5.3940665268204979,5.604857543204111,5.4204154038684491,{"$f":"X55*COS!$B55","v":3.2620874217728102},52,60,5.6953013763644993,5.8574682720468596,5.7155722383247944,{"$f":"AD55*COS!$B55","v":3.4397172389346413},52,60,5.8641472552532985,6.0120240480961931,5.8826318543586602,{"$f":"AJ55*COS!$B55","v":3.5402562256258343},52,60,5.9880239520958076,6.1813186813186816,6.0121857932486664,{"$f":"AP55*COS!$B55","v":3.6182237323583624}]
[54,52,60,3.5931729713544267,3.7894736842105261,3.6422481495684513,{"$f":"F56*COS!$B56","v":2.1408597475058855},52,60,4.3160292530871596,4.523181304183943,4.3678172658613548,{"$f":"L56*COS!$B56","v":2.5673385735817367},52,60,4.8913043478260869,5.1494779001573452,4.9558477359089022,{"$f":"R56*COS!$B56","v":2.9129742117742961},52,60,5.3940665268204979,5.604857543204111,5.4467642809164012,{"$f":"X56*COS!$B56","v":3.2015277170360781},52,60,5.6953013763644993,5.8574682720468596,5.7358431002850896,{"$f":"AD56*COS!$B56","v":3.3714439838111128},52,60,5.8641472552532985,6.0120240480961931,5.9011164534640219,{"$f":"AJ56*COS!$B56","v":3.4685892234066142},52,60,5.9880239520958076,6.1813186813186816,6.0363476344015261,{"$f":"AP56*COS!$B56","v":3.5480761172117745}]
[55,52,60,3.5931729713544267,3.7894736842105261,3.6667857386754639,{"$f":"F57*COS!$B57","v":2.1031818968523108},52,60,4.3160292530871596,4.523181304183943,4.3937112722484528,{"$f":"L57*COS!$B57","v":2.5201292538916888},52,60,4.8913043478260869,5.1494779001573452,4.9881194299503093,{"$f":"R57*COS!$B57","v":2.8610677667243101},52,60,5.3940665268204979,5.604857543204111,5.4731131579643524,{"$f":"X57*COS!$B57","v":3.1392487408912135},52,60,5.6953013763644993,5.8574682720468596,5.7561139622453847,{"$f":"AD57*COS!$B57","v":3.3015713336952079},52,60,5.8641472552532985,6.0120240480961931,5.9196010525693836,{"$f":"AJ57*COS!$B57","v":3.395343676352649},52,60,5.9880239520958076,6.1813186813186816,6.0605094755543849,{"$f":"AP57*COS!$B57","v":3.4761654274602316}]
[56,52,60,3.5931729713544267,3.7894736842105261,3.6913233277824764,{"$f":"F58*COS!$B58","v":2.0641618093119822},52,60,4.3160292530871596,4.523181304183943,4.4196052786355509,{"$f":"L58*COS!$B58","v":2.4714119079548524},52,60,4.8913043478260869,5.1494779001573452,5.0203911239917165,{"$f":"R58*COS!$B58","v":2.8073670891836939},52,60,5.3940665268204979,5.604857543204111,5.4994620350123045,{"$f":"X58*COS!$B58","v":3.0752601428856723},52,60,5.6953013763644993,5.8574682720468596,5.7763848242056799,{"$f":"AD58*COS!$B58","v":3.2301134014119333},52,60,5.8641472552532985,6.0120240480961931,5.9380856516747453,{"$f":"AJ58*COS!$B58","v":3.3205353566179823},52,60,5.9880239520958076,6.1813186813186816,6.0846713167072446,{"$f":"AP58*COS!$B58","v":3.4025050202546958}]
[57,52,60,3.5931729713544267,3.7894736842105261,3.7158609168894885,{"$f":"F59*COS!$B59","v":2.0238029040247452},52,60,4.3160292530871596,4.523181304183943,4.4454992850226489,{"$f":"L59*COS!$B59","v":2.4211924407547287},52,60,4.8913043478260869,5.1494779001573452,5.0526628180331237,{"$f":"R59*COS!$B59","v":2.7518774014698684},52,60,5.3940665268204979,5.604857543204111,5.5258109120602565,{"$f":"X59*COS!$B59","v":3.0095723228200053},52,60,5.6953013763644993,5.8574682720468596,5.796655686165975,{"$f":"AD59*COS!$B59","v":3.1570849592278072},52,60,5.8641472552532985,6.0120240480961931,5.956570250780107,{"$f":"AJ59*COS!$B59","v":3.2441806733840961},52,60,5.9880239520958076,6.1813186813186816,6.1088331578601034,{"$f":"AP59*COS!$B59","v":3.327108996164728}]
[58,52,60,3.5931729713544267,3.7894736842105261,3.740398505996501,{"$f":"F60*COS!$B60","v":1.9821092242366447},52,60,4.3160292530871596,4.523181304183943,4.471393291409747,{"$f":"L60*COS!$B60","v":2.3694774430811414},52,60,4.8913043478260869,5.1494779001573452,5.0849345120745308,{"$f":"R60*COS!$B60","v":2.6946047553125663},52,60,5.3940665268204979,5.604857543204111,5.5521597891082077,{"$f":"X60*COS!$B60","v":2.9421964303494077},52,60,5.6953013763644993,5.8574682720468596,5.8169265481262702,{"$f":"AD60*COS!$B60","v":3.0825014364816696},52,60,5.8641472552532985,6.0120240480961931,5.9750548498854688,{"$f":"AJ60*COS!$B60","v":3.1662966698043502},52,60,5.9880239520958076,6.1813186813186816,6.1329949990129631,{"$f":"AP60*COS!$B60","v":3.2499921974228747}]
[59,52,60,3.5931729713544267,3.7894736842105261,3.7649360951035131,{"$f":"F61*COS!$B61","v":1.9390854385814909},52,60,4.3160292530871596,4.523181304183943,4.4972872977968441,{"$f":"L61*COS!$B61","v":2.3162741921747272},52,60,4.8913043478260869,5.1494779001573452,5.117206206115938,{"$f":"R61*COS!$B61","v":2.6355560333157357},52,60,5.3940665268204979,5.604857543204111,5.5785086661561589,{"$f":"X61*COS!$B61","v":2.8731443642861234},52,60,5.6953013763644993,5.8574682720468596,5.8371974100865653,{"$f":"AD61*COS!$B61","v":3.0063789169609398},52,60,5.8641472552532985,6.0120240480961931,5.9935394489908305,{"$f":"AJ61*COS!$B61","v":3.0869010197057052},52,60,5.9880239520958076,6.1813186813186816,6.1571568401658219,{"$f":"AP61*COS!$B61","v":3.1711702058782785}]
[60,60,75,3.7894736842105261,3.9417496988941205,3.7894736842105261,{"$f":"F62*COS!$B62","v":1.8947368421052631},60,75,4.523181304183943,4.7028086218158069,4.523181304183943,{"$f":"L62*COS!$B62","v":2.2615906520919715},60,75,5.1494779001573452,5.3707295240936901,5.1494779001573452,{"$f":"R62*COS!$B62","v":2.5747389500786726},60,75,5.604857543204111,5.7636887608069163,5.604857543204111,{"$f":"X62*COS!$B62","v":2.8024287716020555},60,75,5.8574682720468596,5.9910134797803298,5.8574682720468605,{"$f":"AD62*COS!$B62","v":2.9287341360234302},60,75,6.0120240480961931,6.1643835616438354,6.0120240480961931,{"$f":"AJ62*COS!$B62","v":3.0060120240480965},60,75,6.1813186813186816,6.4366172000715185,6.1813186813186816,{"$f":"AP62*COS!$B62","v":3.0906593406593408}]
[61,60,75,3.7894736842105261,3.9417496988941205,3.7996254185227656,{"$f":"F63*COS!$B63","v":1.8420949562323516},60,75,4.523181304183943,4.7028086218158069,4.5351564586927342,{"$f":"L63*COS!$B63","v":2.1986874804965475},60,75,5.1494779001573452,5.3707295240936901,5.1642280084197676,{"$f":"R63*COS!$B63","v":2.5036674196274853},60,75,5.604857543204111,5.7636887608069163,5.6154462910442984,{"$f":"X63*COS!$B63","v":2.7224223838748887},60,75,5.8574682720468596,5.9910134797803298,5.8663712858957586,{"$f":"AD63*COS!$B63","v":2.8440732353391391},60,75,6.0120240480961931,6.1643835616438354,6.0221813489993687,{"$f":"AJ63*COS!$B63","v":2.919611452862958},60,75,6.1813186813186816,6.4366172000715185,6.198338582568871,{"$f":"AP63*COS!$B63","v":3.005014174373434}]
[62,60,75,3.7894736842105261,3.9417496988941205,3.8097771528350055,{"$f":"F64*COS!$B64","v":1.7885820338074319},60,75,4.523181304183943,4.7028086218158069,4.5471316132015245,{"$f":"L64*COS!$B64","v":2.1347489846428487},60,75,5.1494779001573452,5.3707295240936901,5.1789781166821909,{"$f":"R64*COS!$B64","v":2.431382950072718},60,75,5.604857543204111,5.7636887608069163,5.6260350388844849,{"$f":"X64*COS!$B64","v":2.6412634619932795},60,75,5.8574682720468596,5.9910134797803298,5.8752742997446568,{"$f":"AD64*COS!$B64","v":2.7582742072969046},60,75,6.0120240480961931,6.1643835616438354,6.0323386499025453,{"$f":"AJ64*COS!$B64","v":2.8320114532234788},60,75,6.1813186813186816,6.4366172000715185,6.2153584838190596,{"$f":"AP64*COS!$B64","v":2.9179340606730793}]
[63,60,75,3.7894736842105261,3.9417496988941205,3.819928887147245,{"$f":"F65*COS!$B65","v":1.7342114244455087},60,75,4.523181304183943,4.7028086218158069,4.5591067677103156,{"$f":"L65*COS!$B65","v":2.0697911598387559},60,75,5.1494779001573452,5.3707295240936901,5.1937282249446142,{"$f":"R65*COS!$B65","v":2.3579032723539948},60,75,5.604857543204111,5.7636887608069163,5.6366237867246722,{"$f":"X65*COS!$B65","v":2.5589736497789506},60,75,5.8574682720468596,5.9910134797803298,5.884177313593554,{"$f":"AD65*COS!$B65","v":2.6713605991544416},60,75,6.0120240480961931,6.1643835616438354,6.042495950805721,{"$f":"AJ65*COS!$B65","v":2.7432357563804772},60,75,6.1813186813186816,6.4366172000715185,6.2323783850692491,{"$f":"AP65*COS!$B65","v":2.8294405776035383}]
[64,{"$f":"INDEX(PolaireBase,MATCH($A66,AngleBase),1)","v":60},{"$f":"INDEX(PolaireBase,MIN(MATCH($A66,AngleBase)+1, ROWS(AngleBase)),1)","v":75},{"$f":"INDEX(PolaireBase,MATCH($A66,AngleBase),INT((COLUMN()-2)/6)+3)","v":3.7894736842105261},{"$f":"INDEX(PolaireBase,MIN(MATCH($A66,AngleBase)+1,ROWS(AngleBase)),INT((COLUMN()-2)/6)+3)","v":3.9417496988941205},{"$f":"IF(B66=C66, D66, TREND(D66:E66,B66:C66,$A66))","v":3.8300806214594845},{"$f":"F66*COS!$B66","v":1.6789968343238166},{"$f":"INDEX(PolaireBase,MATCH($A66,AngleBase),1)","v":60},{"$f":"INDEX(PolaireBase,MIN(MATCH($A66,AngleBase)+1, ROWS(AngleBase)),1)","v":75},{"$f":"INDEX(PolaireBase,MATCH($A66,AngleBase),INT((COLUMN()-2)/6)+3)","v":4.523181304183943},{"$f":"INDEX(PolaireBase,MIN(MATCH($A66,AngleBase)+1,ROWS(AngleBase)),INT((COLUMN()-2)/6)+3)","v":4.7028086218158069},{"$f":"IF(H66=I66, J66, TREND(J66:K66,H66:I66,$A66))","v":4.5710819222191068},{"$f":"L66*COS!$B66","v":2.0038304243100105},{"$f":"INDEX(PolaireBase,MATCH($A66,AngleBase),1)","v":60},{"$f":"INDEX(PolaireBase,MIN(MATCH($A66,AngleBase)+1, ROWS(AngleBase)),1)","v":75},{"$f":"INDEX(PolaireBase,MATCH($A66,AngleBase),INT((COLUMN()-2)/6)+3)","v":5.1494779001573452},{"$f":"INDEX(PolaireBase,MIN(MATCH($A66,AngleBase)+1,ROWS(AngleBase)),INT((COLUMN()-2)/6)+3)","v":5.3707295240936901},{"$f":"IF(N66=O66, P66, TREND(P66:Q66,N66:O66,$A66))","v":5.2084783332070366},{"$f":"R66*COS!$B66","v":2.2832466199540313},{"$f":"INDEX(PolaireBase,MATCH($A66,AngleBase),1)","v":60},{"$f":"INDEX(PolaireBase,MIN(MATCH($A66,AngleBase)+1, ROWS(AngleBase)),1)","v":75},{"$f":"INDEX(PolaireBase,MATCH($A66,AngleBase),INT((COLUMN()-2)/6)+3)","v":5.604857543204111},{"$f":"INDEX(PolaireBase,MIN(MATCH($A66,AngleBase)+1,ROWS(AngleBase)),INT((COLUMN()-2)/6)+3)","v":5.7636887608069163},{"$f":"IF(T66=U66, V66, TREND(V66:W66,T66:U66,$A66))","v":5.6472125345648587},{"$f":"X66*COS!$B66","v":2.4755750349388497},{"$f":"INDEX(PolaireBase,MATCH($A66,AngleBase),1)","v":60},{"$f":"INDEX(PolaireBase,MIN(MATCH($A66,AngleBase)+1, ROWS(AngleBase)),1)","v":75},{"$f":"INDEX(PolaireBase,MATCH($A66,AngleBase),INT((COLUMN()-2)/6)+3)","v":5.8574682720468596},{"$f":"INDEX(PolaireBase,MIN(MATCH($A66,AngleBase)+1,ROWS(AngleBase)),INT((COLUMN()-2)/6)+3)","v":5.9910134797803298},{"$f":"IF(Z66=AA66, AB66, TREND(AB66:AC66,Z66:AA66,$A66))","v":5.8930803274424521},{"$f":"AD66*COS!$B66","v":2.5833563812610998},{"$f":"INDEX(PolaireBase,MATCH($A66,AngleBase),1)","v":60},{"$f":"INDEX(PolaireBase,MIN(MATCH($A66,AngleBase)+1, ROWS(AngleBase)),1)","v":75},{"$f":"INDEX(PolaireBase,MATCH($A66,AngleBase),INT((COLUMN()-2)/6)+3)","v":6.0120240480961931},{"$f":"INDEX(PolaireBase,MIN(MATCH($A66,AngleBase)+1,ROWS(AngleBase)),INT((COLUMN()-2)/6)+3)","v":6.1643835616438354},{"$f":"IF(AF66=AG66, AH66, TREND(AH66:AI66,AF66:AG66,$A66))","v":6.0526532517088976},{"$f":"AJ66*COS!$B66","v":2.653308547068268},{"$f":"INDEX(PolaireBase,MATCH($A66,AngleBase),1)","v":60},{"$f":"INDEX(PolaireBase,MIN(MATCH($A66,AngleBase)+1, ROWS(AngleBase)),1)","v":75},{"$f":"INDEX(PolaireBase,MATCH($A66,AngleBase),INT((COLUMN()-2)/6)+3)","v":6.1813186813186816},{"$f":"INDEX(PolaireBase,MIN(MATCH($A66,AngleBase)+1,ROWS(AngleBase)),INT((COLUMN()-2)/6)+3)","v":6.4366172000715185},{"$f":"IF(AL66=AM66, AN66, TREND(AN66:AO66,AL66:AM66,$A66))","v":6.2493982863194377},{"$f":"AP66*COS!$B66","v":2.7395558935155475}]
[65,60,75,3.7894736842105261,3.9417496988941205,3.8402323557717244,{"$f":"F67*COS!$B67","v":1.6229523228766374},60,75,4.523181304183943,4.7028086218158069,4.583057076727898,{"$f":"L67*COS!$B67","v":1.9368836152251556},60,75,5.1494779001573452,5.3707295240936901,5.2232284414694599,{"$f":"R67*COS!$B67","v":2.2074317246084059},60,75,5.604857543204111,5.7636887608069163,5.6578012824050461,{"$f":"X67*COS!$B67","v":2.3910901432443206},60,75,5.8574682720468596,5.9910134797803298,5.9019833412913503,{"$f":"AD67*COS!$B67","v":2.4942859405191156},60,75,6.0120240480961931,6.1643835616438354,6.0628105526120732,{"$f":"AJ67*COS!$B67","v":2.5622544570080836},60,75,6.1813186813186816,6.4366172000715185,6.2664181875696272,{"$f":"AP67*COS!$B67","v":2.6483027617709802}]
[66,60,75,3.7894736842105261,3.9417496988941205,3.8503840900839639,{"$f":"F68*COS!$B68","v":1.5660922993532209},60,75,4.523181304183943,4.7028086218158069,4.5950322312366882,{"$f":"L68*COS!$B68","v":1.8689679845583147},60,75,5.1494779001573452,5.3707295240936901,5.2379785497318831,{"$f":"R68*COS!$B68","v":2.1304778118209944},60,75,5.604857543204111,5.7636887608069163,5.6683900302452326,{"$f":"X68*COS!$B68","v":2.3055419325462796},60,75,5.8574682720468596,5.9910134797803298,5.9108863551402484,{"$f":"AD68*COS!$B68","v":2.404174073692297},60,75,6.0120240480961931,6.1643835616438354,6.0729678535152498,{"$f":"AJ68*COS!$B68","v":2.4700985582460406},60,75,6.1813186813186816,6.4366172000715185,6.2834380888198158,{"$f":"AP68*COS!$B68","v":2.5557045152211937}]
[67,60,75,3.7894736842105261,3.9417496988941205,3.8605358243962034,{"$f":"F69*COS!$B69","v":1.5084315192395981},60,75,4.523181304183943,4.7028086218158069,4.6070073857454794,{"$f":"L69*COS!$B69","v":1.800101194790751},60,75,5.1494779001573452,5.3707295240936901,5.2527286579943056,{"$f":"R69*COS!$B69","v":2.0524045961860646},60,75,5.604857543204111,5.7636887608069163,5.67897877808542,{"$f":"X69*COS!$B69","v":2.2189537866279543},60,75,5.8574682720468596,5.9910134797803298,5.9197893689891465,{"$f":"AD69*COS!$B69","v":2.3130459805639361},60,75,6.0120240480961931,6.1643835616438354,6.0831251544184255,{"$f":"AJ69*COS!$B69","v":2.3768663563274002},60,75,6.1813186813186816,6.4366172000715185,6.3004579900700053,{"$f":"AP69*COS!$B69","v":2.4617850604593157}]
[68,60,75,3.7894736842105261,3.9417496988941205,3.8706875587084433,{"$f":"F70*COS!$B70","v":1.4499850805451227},60,75,4.523181304183943,4.7028086218158069,4.6189825402542706,{"$f":"L70*COS!$B70","v":1.7303013144522277},60,75,5.1494779001573452,5.3707295240936901,5.2674787662567288,{"$f":"R70*COS!$B70","v":1.9732322765180839},60,75,5.604857543204111,5.7636887608069163,5.6895675259256073,{"$f":"X70*COS!$B70","v":2.1313495088967902},60,75,5.8574682720468596,5.9910134797803298,5.9286923828380447,{"$f":"AD70*COS!$B70","v":2.2209272569458256},60,75,6.0120240480961931,6.1643835616438354,6.0932824553216021,{"$f":"AJ70*COS!$B70","v":2.282583783308969},60,75,6.1813186813186816,6.4366172000715185,6.3174778913201948,{"$f":"AP70*COS!$B70","v":2.3665688718477971}]
[69,60,75,3.7894736842105261,3.9417496988941205,3.8808392930206828,{"$f":"F71*COS!$B71","v":1.3907684199546553},60,75,4.523181304183943,4.7028086218158069,4.6309576947630617,{"$f":"L71*COS!$B71","v":1.6595868135032694},60,75,5.1494779001573452,5.3707295240936901,5.2822288745191521,{"$f":"R71*COS!$B71","v":1.8929815307904083},60,75,5.604857543204111,5.7636887608069163,5.7001562737657938,{"$f":"X71*COS!$B71","v":2.0427533159172273},60,75,5.8574682720468596,5.9910134797803298,5.9375953966869428,{"$f":"AD71*COS!$B71","v":2.1278438875403141},60,75,6.0120240480961931,6.1643835616438354,6.1034397562247786,{"$f":"AJ71*COS!$B71","v":2.187277190611542},60,75,6.1813186813186816,6.4366172000715185,6.3344977925703834,{"$f":"AP71*COS!$B71","v":2.27008098532268}]
[70,60,75,3.7894736842105261,3.9417496988941205,3.8909910273329222,{"$f":"F72*COS!$B72","v":1.3307973088472975},60,75,4.523181304183943,4.7028086218158069,4.642932849271852,{"$f":"L72*COS!$B72","v":1.5879765585594148},60,75,5.1494779001573452,5.3707295240936901,5.2969789827815745,{"$f":"R72*COS!$B72","v":1.8116735108840096},60,75,5.604857543204111,5.7636887608069163,5.7107450216059812,{"$f":"X72*COS!$B72","v":1.9531898307860274},60,75,5.8574682720468596,5.9910134797803298,5.9464984105358409,{"$f":"AD72*COS!$B72","v":2.0338222386573301},60,75,6.0120240480961931,6.1643835616438354,6.1135970571279543,{"$f":"AJ72*COS!$B72","v":2.0909733417142902},60,75,6.1813186813186816,6.4366172000715185,6.3515176938205729,{"$f":"AP72*COS!$B72","v":2.1723469919760339}]
[71,60,75,3.7894736842105261,3.9417496988941205,3.9011427616451622,{"$f":"F73*COS!$B73","v":1.2700878491827112},60,75,4.523181304183943,4.7028086218158069,4.6549080037806432,{"$f":"L73*COS!$B73","v":1.5154898079587116},60,75,5.1494779001573452,5.3707295240936901,5.3117290910439978,{"$f":"R73*COS!$B73","v":1.7293298371475851},60,75,5.604857543204111,5.7636887608069163,5.7213337694461677,{"$f":"X73*COS!$B73","v":1.8626840763519967},60,75,5.8574682720468596,5.9910134797803298,5.9554014243847382,{"$f":"AD73*COS!$B73","v":1.9388890507884617},60,75,6.0120240480961931,6.1643835616438354,6.1237543580311309,{"$f":"AJ73*COS!$B73","v":1.993699404693166},60,75,6.1813186813186816,6.4366172000715185,6.3685375950707623,{"$f":"AP73*COS!$B73","v":2.0733930314182074}]
[72,60,75,3.7894736842105261,3.9417496988941205,3.9112944959574016,{"$f":"F74*COS!$B74","v":1.2086564692560313},60,75,4.523181304183943,4.7028086218158069,4.6668831582894343,{"$f":"L74*COS!$B74","v":1.4421462066736632},60,75,5.1494779001573452,5.3707295240936901,5.3264791993064211,{"$f":"R74*COS!$B74","v":1.645972592770347},60,75,5.604857543204111,5.7636887608069163,5.731922517286355,{"$f":"X74*COS!$B74","v":1.7712614682819121},60,75,5.8574682720468596,5.9910134797803298,5.9643044382336363,{"$f":"AD74*COS!$B74","v":1.8430714310401177},60,75,6.0120240480961931,6.1643835616438354,6.1339116589343066,{"$f":"AJ74*COS!$B74","v":1.8954829446053272},60,75,6.1813186813186816,6.4366172000715185,6.3855574963209509,{"$f":"AP74*COS!$B74","v":1.9732457849215148}]
[73,60,75,3.7894736842105261,3.9417496988941205,3.9214462302696411,{"$f":"F75*COS!$B75","v":1.1465199193224846},60,75,4.523181304183943,4.7028086218158069,4.6788583127982246,{"$f":"L75*COS!$B75","v":1.3679657810689649},60,75,5.1494779001573452,5.3707295240936901,5.3412293075688435,{"$f":"R75*COS!$B75","v":1.5616243179689457},60,75,5.604857543204111,5.7636887608069163,5.7425112651265424,{"$f":"X75*COS!$B75","v":1.678947807974567},60,75,5.8574682720468596,5.9910134797803298,5.9732074520825345,{"$f":"AD75*COS!$B75","v":1.7463968454279255},60,75,6.0120240480961931,6.1643835616438354,6.1440689598374831,{"$f":"AJ75*COS!$B75","v":1.7963519157217371},60,75,6.1813186813186816,6.4366172000715185,6.4025773975711404,{"$f":"AP75*COS!$B75","v":1.8719324683471379}]
[74,60,75,3.7894736842105261,3.9417496988941205,3.931597964581881,{"$f":"F76*COS!$B76","v":1.0836952670928457},60,75,4.523181304183943,4.7028086218158069,4.6908334673070158,{"$f":"L76*COS!$B76","v":1.2929689335063919},60,75,5.1494779001573452,5.3707295240936901,5.3559794158312668,{"$f":"R76*COS!$B76","v":1.4763080039900063},60,75,5.604857543204111,5.7636887608069163,5.7531000129667289,{"$f":"X76*COS!$B76","v":1.5857692753248926},60,75,5.8574682720468596,5.9910134797803298,5.9821104659314326,{"$f":"AD76*COS!$B76","v":1.6488931110345368},60,75,6.0120240480961931,6.1643835616438354,6.1542262607406588,{"$f":"AJ76*COS!$B76","v":1.6963346536100932},60,75,6.1813186813186816,6.4366172000715185,6.419597298821329,{"$f":"AP76*COS!$B76","v":1.7694808248570613}]
[75,75,90,3.9417496988941205,4.0853381752156146,3.941749698894121,{"$f":"F77*COS!$B77","v":1.0201998931009251},75,90,4.7028086218158069,5.0097411633732252,4.7028086218158078,{"$f":"L77*COS!$B77","v":1.2171764367982689},75,90,5.3707295240936901,5.7188244638602068,5.3707295240936901,{"$f":"R77*COS!$B77","v":1.3900470869298445},75,90,5.7636887608069163,6.0463553913335577,5.7636887608069163,{"$f":"X77*COS!$B77","v":1.4917524213401772},75,90,5.9910134797803298,6.2434963579604572,5.9910134797803298,{"$f":"AD77*COS!$B77","v":1.5505883880330749},75,90,6.1643835616438354,6.3302268331281866,6.1643835616438345,{"$f":"AJ77*COS!$B77","v":1.595459867070333},75,90,6.4366172000715185,6.4366172000715185,6.4366172000715185,{"$f":"AP77*COS!$B77","v":1.6659191174129711}]
[76,75,90,3.9417496988941205,4.0853381752156146,3.9513222639822203,{"$f":"F78*COS!$B78","v":0.95591137222775013},75,90,4.7028086218158069,5.0097411633732252,4.7232707912529683,{"$f":"L78*COS!$B78","v":1.1426626232504613},75,90,5.3707295240936901,5.7188244638602068,5.3939358534114579,{"$f":"R78*COS!$B78","v":1.3049111864003122},75,90,5.7636887608069163,6.0463553913335577,5.7825332028420258,{"$f":"X78*COS!$B78","v":1.3989213937995617},75,90,5.9910134797803298,6.2434963579604572,6.0078456716590054,{"$f":"AD78*COS!$B78","v":1.4534294133580066},75,90,6.1643835616438354,6.3302268331281866,6.1754397797427911,{"$f":"AJ78*COS!$B78","v":1.4939740976769715},75,90,6.4366172000715185,6.4366172000715185,6.4366172000715185,{"$f":"AP78*COS!$B78","v":1.5571586342907286}]
[77,75,90,3.9417496988941205,4.0853381752156146,3.9608948290703201,{"$f":"F79*COS!$B79","v":0.89100746794453112},75,90,4.7028086218158069,5.0097411633732252,4.7437329606901297,{"$f":"L79*COS!$B79","v":1.0671077310329886},75,90,5.3707295240936901,5.7188244638602068,5.4171421827292257,{"$f":"R79*COS!$B79","v":1.2185918455355651},75,90,5.7636887608069163,6.0463553913335577,5.8013776448771353,{"$f":"X79*COS!$B79","v":1.3050260178620396},75,90,5.9910134797803298,6.2434963579604572,6.0246778635376801,{"$f":"AD79*COS!$B79","v":1.3552576374849448},75,90,6.1643835616438354,6.3302268331281866,6.1864959978417478,{"$f":"AJ79*COS!$B79","v":1.3916587974086019},75,90,6.4366172000715185,6.4366172000715185,6.4366172000715185,{"$f":"AP79*COS!$B79","v":1.4479238255639437}]
[78,75,90,3.9417496988941205,4.0853381752156146,3.9704673941584199,{"$f":"F80*COS!$B80","v":0.82550658925626041},75,90,4.7028086218158069,5.0097411633732252,4.7641951301272911,{"$f":"L80*COS!$B80","v":0.9905318648905006},75,90,5.3707295240936901,5.7188244638602068,5.4403485120469934,{"$f":"R80*COS!$B80","v":1.1311120577775722},75,90,5.7636887608069163,6.0463553913335577,5.8202220869122439,{"$f":"X80*COS!$B80","v":1.210092215024793},75,90,5.9910134797803298,6.2434963579604572,6.0415100554163557,{"$f":"AD80*COS!$B80","v":1.2561005707141102},75,90,6.1643835616438354,6.3302268331281866,6.1975522159407053,{"$f":"AJ80*COS!$B80","v":1.2885435601475839},75,90,6.4366172000715185,6.4366172000715185,6.4366172000715185,{"$f":"AP80*COS!$B80","v":1.3382479652135422}]
[79,75,90,3.9417496988941205,4.0853381752156146,3.9800399592465192,{"$f":"F81*COS!$B81","v":0.75942742618233305},75,90,4.7028086218158069,5.0097411633732252,4.7846572995644525,{"$f":"L81*COS!$B81","v":0.91295565255094546},75,90,5.3707295240936901,5.7188244638602068,5.4635548413647612,{"$f":"R81*COS!$B81","v":1.0424954104654682},75,90,5.7636887608069163,6.0463553913335577,5.8390665289473542,{"$f":"X81*COS!$B81","v":1.1141464183252539},75,90,5.9910134797803298,6.2434963579604572,6.0583422472950303,{"$f":"AD81*COS!$B81","v":1.1559861978536441},75,90,6.1643835616438354,6.3302268331281866,6.2086084340396619,{"$f":"AJ81*COS!$B81","v":1.1846583379854516},75,90,6.4366172000715185,6.4366172000715185,6.4366172000715185,{"$f":"AP81*COS!$B81","v":1.2281644615690359}]
[80,75,90,3.9417496988941205,4.0853381752156146,3.989612524334619,{"$f":"F82*COS!$B82","v":0.69278894444786865},75,90,4.7028086218158069,5.0097411633732252,4.8051194690016139,{"$f":"L82*COS!$B82","v":0.83440023926401863},75,90,5.3707295240936901,5.7188244638602068,5.486761170682529,{"$f":"R82*COS!$B82","v":0.95276607858269491},75,90,5.7636887608069163,6.0463553913335577,5.8579109709824628,{"$f":"X82*COS!$B82","v":1.0172155650462236},75,90,5.9910134797803298,6.2434963579604572,6.0751744391737059,{"$f":"AD82*COS!$B82","v":1.0549429703712301},75,90,6.1643835616438354,6.3302268331281866,6.2196646521386185,{"$f":"AJ82*COS!$B82","v":1.0800334325432939},75,90,6.4366172000715185,6.4366172000715185,6.4366172000715185,{"$f":"AP82*COS!$B82","v":1.1177068471320393}]
[81,75,90,3.9417496988941205,4.0853381752156146,3.9991850894227188,{"$f":"F83*COS!$B83","v":0.62561038006071112},75,90,4.7028086218158069,5.0097411633732252,4.8255816384387753,{"$f":"L83*COS!$B83","v":0.75488728211713085},75,90,5.3707295240936901,5.7188244638602068,5.5099675000002968,{"$f":"R83*COS!$B83","v":0.86194881825160496},75,90,5.7636887608069163,6.0463553913335577,5.8767554130175723,{"$f":"X83*COS!$B83","v":0.91932708920768524},75,90,5.9910134797803298,6.2434963579604572,6.0920066310523815,{"$f":"AD83*COS!$B83","v":0.95299979835021875},75,90,6.1643835616438354,6.3302268331281866,6.2307208702375751,{"$f":"AJ83*COS!$B83","v":0.97469948615061719},75,90,6.4366172000715185,6.4366172000715185,6.4366172000715185,{"$f":"AP83*COS!$B83","v":1.0069087683619371}]
[82,75,90,3.9417496988941205,4.0853381752156146,4.0087576545108181,{"$f":"F84*COS!$B84","v":0.5579112337756702},75,90,4.7028086218158069,5.0097411633732252,4.8460438078759358,{"$f":"L84*COS!$B84","v":0.67443894413041883},75,90,5.3707295240936901,5.7188244638602068,5.5331738293180646,{"$f":"R84*COS!$B84","v":0.77006895997727631},75,90,5.7636887608069163,6.0463553913335577,5.8955998550526818,{"$f":"X84*COS!$B84","v":0.82050891384739555},75,90,5.9910134797803298,6.2434963579604572,6.1088388229310562,{"$f":"AD84*COS!$B84","v":0.85018604225255268},75,90,6.1643835616438354,6.3302268331281866,6.2417770883365318,{"$f":"AJ84*COS!$B84","v":0.86868747288528503},75,90,6.4366172000715185,6.4366172000715185,6.4366172000715185,{"$f":"AP84*COS!$B84","v":0.89580397542684875}]
[83,75,90,3.9417496988941205,4.0853381752156146,4.0183302195989175,{"$f":"F85*COS!$B85","v":0.4897112654475822},75,90,4.7028086218158069,5.0097411633732252,4.8665059773130972,{"$f":"L85*COS!$B85","v":0.59307788813237272},75,90,5.3707295240936901,5.7188244638602068,5.5563801586358323,{"$f":"R85*COS!$B85","v":0.67715240164233814},75,90,5.7636887608069163,6.0463553913335577,5.9144442970877913,{"$f":"X85*COS!$B85","v":0.72078944309240822},75,90,5.9910134797803298,6.2434963579604572,6.1256710148097309,{"$f":"AD85*COS!$B85","v":0.74653150449080541},75,90,6.1643835616438354,6.3302268331281866,6.2528333064354884,{"$f":"AJ85*COS!$B85","v":0.76202868947713032},75,90,6.4366172000715185,6.4366172000715185,6.4366172000715185,{"$f":"AP85*COS!$B85","v":0.78442631192299483}]
[84,75,90,3.9417496988941205,4.0853381752156146,4.0279027846870177,{"$f":"F86*COS!$B86","v":0.42103048827483602},75,90,4.7028086218158069,5.0097411633732252,4.8869681467502586,{"$f":"L86*COS!$B86","v":0.51082727041777687},75,90,5.3707295240936901,5.7188244638602068,5.5795864879536001,{"$f":"R86*COS!$B86","v":0.58322560125475342},75,90,5.7636887608069163,6.0463553913335577,5.9332887391229008,{"$f":"X86*COS!$B86","v":0.62019755402379007},75,90,5.9910134797803298,6.2434963579604572,6.1425032066884064,{"$f":"AD86*COS!$B86","v":0.64206642081177268},75,90,6.1643835616438354,6.3302268331281866,6.263889524534445,{"$f":"AJ86*COS!$B86","v":0.65475474607793804},75,90,6.4366172000715185,6.4366172000715185,6.4366172000715185,{"$f":"AP86*COS!$B86","v":0.67280970456562217}]
[85,75,90,3.9417496988941205,4.0853381752156146,4.037475349775117,{"$f":"F87*COS!$B87","v":0.35188916293501116},75,90,4.7028086218158069,5.0097411633732252,4.90743031618742,{"$f":"L87*COS!$B87","v":0.42771073418968941},75,90,5.3707295240936901,5.7188244638602068,5.6027928172713679,{"$f":"R87*COS!$B87","v":0.48831556945053012},75,90,5.7636887608069163,6.0463553913335577,5.9521331811580103,{"$f":"X87*COS!$B87","v":0.51876258833680766},75,90,5.9910134797803298,6.2434963579604572,6.159335398567082,{"$f":"AD87*COS!$B87","v":0.53682145149405702},75,90,6.1643835616438354,6.3302268331281866,6.2749457426334025,{"$f":"AJ87*COS!$B87","v":0.54689755690046948},75,90,6.4366172000715185,6.4366172000715185,6.4366172000715185,{"$f":"AP87*COS!$B87","v":0.56098815285458492}]
[86,75,90,3.9417496988941205,4.0853381752156146,4.0470479148632164,{"$f":"F88*COS!$B88","v":0.28230779161437364},75,90,4.7028086218158069,5.0097411633732252,4.9278924856245805,{"$f":"L88*COS!$B88","v":0.3437524027873442},75,90,5.3707295240936901,5.7188244638602068,5.6259991465891357,{"$f":"R88*COS!$B88","v":0.39244986175351726},75,90,5.7636887608069163,6.0463553913335577,5.9709776231931198,{"$f":"X88*COS!$B88","v":0.41651434379903146},75,90,5.9910134797803298,6.2434963579604572,6.1761675904457567,{"$f":"AD88*COS!$B88","v":0.430827672362248},75,90,6.1643835616438354,6.3302268331281866,6.2860019607323592,{"$f":"AJ88*COS!$B88","v":0.43848933072934793},75,90,6.4366172000715185,6.4366172000715185,6.4366172000715185,{"$f":"AP88*COS!$B88","v":0.44899571871777516}]
[87,75,90,3.9417496988941205,4.0853381752156146,4.0566204799513166,{"$f":"F89*COS!$B89","v":0.21230711193296245},75,90,4.7028086218158069,5.0097411633732252,4.9483546550617419,{"$f":"L89*COS!$B89","v":0.25897687270187941},75,90,5.3707295240936901,5.7188244638602068,5.6492054759069035,{"$f":"R89*COS!$B89","v":0.29565657059446315},75,90,5.7636887608069163,6.0463553913335577,5.9898220652282292,{"$f":"X89*COS!$B89","v":0.31348306550880489},75,90,5.9910134797803298,6.2434963579604572,6.1929997823244314,{"$f":"AD89*COS!$B89","v":0.32411656562029295},75,90,6.1643835616438354,6.3302268331281866,6.2970581788313158,{"$f":"AJ89*COS!$B89","v":0.32956256130658818},75,90,6.4366172000715185,6.4366172000715185,6.4366172000715185,{"$f":"AP89*COS!$B89","v":0.33686651613552349}]
[88,75,90,3.9417496988941205,4.0853381752156146,4.0661930450394159,{"$f":"F90*COS!$B90","v":0.14190809076708591},75,90,4.7028086218158069,5.0097411633732252,4.9688168244989033,{"$f":"L90*COS!$B90","v":0.17340920638193136},75,90,5.3707295240936901,5.7188244638602068,5.6724118052246713,{"$f":"R90*COS!$B90","v":0.19796431709166662},75,90,5.7636887608069163,6.0463553913335577,6.0086665072633387,{"$f":"X90*COS!$B90","v":0.20969943695666557},75,90,5.9910134797803298,6.2434963579604572,6.209831974203107,{"$f":"AD90*COS!$B90","v":0.2167200105067871},75,90,6.1643835616438354,6.3302268331281866,6.3081143969302724,{"$f":"AJ90*COS!$B90","v":0.22015001759466762},75,90,6.4366172000715185,6.4366172000715185,6.4366172000715185,{"$f":"AP90*COS!$B90","v":0.2246347007491577}]
[89,75,90,3.9417496988941205,4.0853381752156146,4.0757656101275153,{"$f":"F91*COS!$B91","v":7.1131917971047662E-2},75,90,4.7028086218158069,5.0097411633732252,4.9892789939360647,{"$f":"L91*COS!$B91","v":8.7074924831172504E-2},75,90,5.3707295240936901,5.7188244638602068,5.695618134542439,{"$f":"R91*COS!$B91","v":9.9402242595596393E-2},75,90,5.7636887608069163,6.0463553913335577,6.0275109492984482,{"$f":"X91*COS!$B91","v":0.10519457089233228},75,90,5.9910134797803298,6.2434963579604572,6.2266641660817825,{"$f":"AD91*COS!$B91","v":0.10867027377492743},75,90,6.1643835616438354,6.3302268331281866,6.3191706150292291,{"$f":"AJ91*COS!$B91","v":0.11028473392002806},75,90,6.4366172000715185,6.4366172000715185,6.4366172000715185,{"$f":"AP91*COS!$B91","v":0.11233445945685708}]
[90,90,110,4.0853381752156146,4.1899441340782122,4.0853381752156146,{"$f":"F92*COS!$B92","v":2.5025728765723057E-16},90,110,5.0097411633732252,5.1282051282051286,5.0097411633732252,{"$f":"L92*COS!$B92","v":3.0688383228994095E-16},90,110,5.7188244638602068,5.7961680888745768,5.7188244638602068,{"$f":"R92*COS!$B92","v":3.503204477895975E-16},90,110,6.0463553913335577,6.1349693251533743,6.0463553913335577,{"$f":"X92*COS!$B92","v":3.7038414827603561E-16},90,110,6.2434963579604572,6.41254007837549,6.2434963579604572,{"$f":"AD92*COS!$B92","v":3.8246049580914253E-16},90,110,6.3302268331281866,6.6765578635014835,6.3302268331281866,{"$f":"AJ92*COS!$B92","v":3.8777338119140422E-16},90,110,6.4366172000715185,7.0066173608407949,6.4366172000715185,{"$f":"AP92*COS!$B92","v":3.9429058087529342E-16}]
[91,90,110,4.0853381752156146,4.1899441340782122,4.0905684731587444,{"$f":"F93*COS!$B93","v":-7.1390263553104516E-2},90,110,5.0097411633732252,5.1282051282051286,5.01566436161482,{"$f":"L93*COS!$B93","v":-8.7535412991899805E-2},90,110,5.7188244638602068,5.7961680888745768,5.7226916451109249,{"$f":"R93*COS!$B93","v":-9.9874740505722273E-2},90,110,6.0463553913335577,6.1349693251533743,6.0507860880245481,{"$f":"X93*COS!$B93","v":-0.10560077807326493},90,110,6.2434963579604572,6.41254007837549,6.251948543981209,{"$f":"AD93*COS!$B93","v":-0.10911154701454272},90,110,6.3302268331281866,6.6765578635014835,6.3475433846468512,{"$f":"AJ93*COS!$B93","v":-0.11077990702714685},90,110,6.4366172000715185,7.0066173608407949,6.4651172081099819,{"$f":"AP93*COS!$B93","v":-0.11283185318061083}]
[92,90,110,4.0853381752156146,4.1899441340782122,4.0957987711018742,{"$f":"F94*COS!$B94","v":-0.14294131570617641},90,110,5.0097411633732252,5.1282051282051286,5.0215875598564157,{"$f":"L94*COS!$B94","v":-0.17525087848652768},90,110,5.7188244638602068,5.7961680888745768,5.7265588263616438,{"$f":"R94*COS!$B94","v":-0.19985402087728465},90,110,6.0463553913335577,6.1349693251533743,6.0552167847155394,{"$f":"X94*COS!$B94","v":-0.21132401821110705},90,110,6.2434963579604572,6.41254007837549,6.26040073000196,{"$f":"AD94*COS!$B94","v":-0.21848483463303658},90,110,6.3302268331281866,6.6765578635014835,6.3648599361655158,{"$f":"AJ94*COS!$B94","v":-0.22213040835408746},90,110,6.4366172000715185,7.0066173608407949,6.4936172161484453,{"$f":"AP94*COS!$B94","v":-0.22662397262227466}]
[93,90,110,4.0853381752156146,4.1899441340782122,4.101029069045004,{"$f":"F95*COS!$B95","v":-0.21463127790857914},90,110,5.0097411633732252,5.1282051282051286,5.0275107580980105,{"$f":"L95*COS!$B95","v":-0.26311958304674576},90,110,5.7188244638602068,5.7961680888745768,5.7304260076123619,{"$f":"R95*COS!$B95","v":-0.29990732478782667},90,110,6.0463553913335577,6.1349693251533743,6.0596474814065298,{"$f":"X95*COS!$B95","v":-0.31713744543455563},90,110,6.2434963579604572,6.41254007837549,6.2688529160227118,{"$f":"AD95*COS!$B95","v":-0.32808641190641413},90,110,6.3302268331281866,6.6765578635014835,6.3821764876841804,{"$f":"AJ95*COS!$B95","v":-0.33401730939418289},90,110,6.4366172000715185,7.0066173608407949,6.5221172241869088,{"$f":"AP95*COS!$B95","v":-0.34134124165639496}]
[94,90,110,4.0853381752156146,4.1899441340782122,4.1062593669881338,{"$f":"F96*COS!$B96","v":-0.28643817371987645},90,110,5.0097411633732252,5.1282051282051286,5.0334339563396053,{"$f":"L96*COS!$B96","v":-0.35111460361819258},90,110,5.7188244638602068,5.7961680888745768,5.7342931888630808,{"$f":"R96*COS!$B96","v":-0.4000040722700442},90,110,6.0463553913335577,6.1349693251533743,6.064078178097521,{"$f":"X96*COS!$B96","v":-0.42300871021278308},90,110,6.2434963579604572,6.41254007837549,6.2773051020434636,{"$f":"AD96*COS!$B96","v":-0.43788266853455887},90,110,6.3302268331281866,6.6765578635014835,6.399493039202846,{"$f":"AJ96*COS!$B96","v":-0.44640606816486611},90,110,6.4366172000715185,7.0066173608407949,6.5506172322253731,{"$f":"AP96*COS!$B96","v":-0.4569479589675442}]
[95,90,110,4.0853381752156146,4.1899441340782122,4.1114896649312636,{"$f":"F97*COS!$B97","v":-0.35833993554640475},90,110,5.0097411633732252,5.1282051282051286,5.039357154581201,{"$f":"L97*COS!$B97","v":-0.43920891577825016},90,110,5.7188244638602068,5.7961680888745768,5.7381603701137989,{"$f":"R97*COS!$B97","v":-0.50011362906244561},90,110,6.0463553913335577,6.1349693251533743,6.0685088747885114,{"$f":"X97*COS!$B97","v":-0.52890539835294847},90,110,6.2434963579604572,6.41254007837549,6.2857572880642154,{"$f":"AD97*COS!$B97","v":-0.54783984517274265},90,110,6.3302268331281866,6.6765578635014835,6.4168095907215106,{"$f":"AJ97*COS!$B97","v":-0.55926180594963015},90,110,6.4366172000715185,7.0066173608407949,6.5791172402638374,{"$f":"AP97*COS!$B97","v":-0.57340784969911818}]
[96,{"$f":"INDEX(PolaireBase,MATCH($A98,AngleBase),1)","v":90},{"$f":"INDEX(PolaireBase,MIN(MATCH($A98,AngleBase)+1, ROWS(AngleBase)),1)","v":110},{"$f":"INDEX(PolaireBase,MATCH($A98,AngleBase),INT((COLUMN()-2)/6)+3)","v":4.0853381752156146},{"$f":"INDEX(PolaireBase,MIN(MATCH($A98,AngleBase)+1,ROWS(AngleBase)),INT((COLUMN()-2)/6)+3)","v":4.1899441340782122},{"$f":"IF(B98=C98, D98, TREND(D98:E98,B98:C98,$A98))","v":4.1167199628743933},{"$f":"F98*COS!$B98","v":-0.43031441142253124},{"$f":"INDEX(PolaireBase,MATCH($A98,AngleBase),1)","v":90},{"$f":"INDEX(PolaireBase,MIN(MATCH($A98,AngleBase)+1, ROWS(AngleBase)),1)","v":110},{"$f":"INDEX(PolaireBase,MATCH($A98,AngleBase),INT((COLUMN()-2)/6)+3)","v":5.0097411633732252},{"$f":"INDEX(PolaireBase,MIN(MATCH($A98,AngleBase)+1,ROWS(AngleBase)),INT((COLUMN()-2)/6)+3)","v":5.1282051282051286},{"$f":"IF(H98=I98, J98, TREND(J98:K98,H98:I98,$A98))","v":5.0452803528227959},{"$f":"L98*COS!$B98","v":-0.52737540203505062},{"$f":"INDEX(PolaireBase,MATCH($A98,AngleBase),1)","v":90},{"$f":"INDEX(PolaireBase,MIN(MATCH($A98,AngleBase)+1, ROWS(AngleBase)),1)","v":110},{"$f":"INDEX(PolaireBase,MATCH($A98,AngleBase),INT((COLUMN()-2)/6)+3)","v":5.7188244638602068},{"$f":"INDEX(PolaireBase,MIN(MATCH($A98,AngleBase)+1,ROWS(AngleBase)),INT((COLUMN()-2)/6)+3)","v":5.7961680888745768},{"$f":"IF(N98=O98, P98, TREND(P98:Q98,N98:O98,$A98))","v":5.7420275513645178},{"$f":"R98*COS!$B98","v":-0.60020531598465943},{"$f":"INDEX(PolaireBase,MATCH($A98,AngleBase),1)","v":90},{"$f":"INDEX(PolaireBase,MIN(MATCH($A98,AngleBase)+1, ROWS(AngleBase)),1)","v":110},{"$f":"INDEX(PolaireBase,MATCH($A98,AngleBase),INT((COLUMN()-2)/6)+3)","v":6.0463553913335577},{"$f":"INDEX(PolaireBase,MIN(MATCH($A98,AngleBase)+1,ROWS(AngleBase)),INT((COLUMN()-2)/6)+3)","v":6.1349693251533743},{"$f":"IF(T98=U98, V98, TREND(V98:W98,T98:U98,$A98))","v":6.0729395714795027},{"$f":"X98*COS!$B98","v":-0.63479504092407357},{"$f":"INDEX(PolaireBase,MATCH($A98,AngleBase),1)","v":90},{"$f":"INDEX(PolaireBase,MIN(MATCH($A98,AngleBase)+1, ROWS(AngleBase)),1)","v":110},{"$f":"INDEX(PolaireBase,MATCH($A98,AngleBase),INT((COLUMN()-2)/6)+3)","v":6.2434963579604572},{"$f":"INDEX(PolaireBase,MIN(MATCH($A98,AngleBase)+1,ROWS(AngleBase)),INT((COLUMN()-2)/6)+3)","v":6.41254007837549},{"$f":"IF(Z98=AA98, AB98, TREND(AB98:AC98,Z98:AA98,$A98))","v":6.2942094740849672},{"$f":"AD98*COS!$B98","v":-0.65792404381080605},{"$f":"INDEX(PolaireBase,MATCH($A98,AngleBase),1)","v":90},{"$f":"INDEX(PolaireBase,MIN(MATCH($A98,AngleBase)+1, ROWS(AngleBase)),1)","v":110},{"$f":"INDEX(PolaireBase,MATCH($A98,AngleBase),INT((COLUMN()-2)/6)+3)","v":6.3302268331281866},{"$f":"INDEX(PolaireBase,MIN(MATCH($A98,AngleBase)+1,ROWS(AngleBase)),INT((COLUMN()-2)/6)+3)","v":6.6765578635014835},{"$f":"IF(AF98=AG98, AH98, TREND(AH98:AI98,AF98:AG98,$A98))","v":6.4341261422401752},{"$f":"AJ98*COS!$B98","v":-0.67254931811860019},{"$f":"INDEX(PolaireBase,MATCH($A98,AngleBase),1)","v":90},{"$f":"INDEX(PolaireBase,MIN(MATCH($A98,AngleBase)+1, ROWS(AngleBase)),1)","v":110},{"$f":"INDEX(PolaireBase,MATCH($A98,AngleBase),INT((COLUMN()-2)/6)+3)","v":6.4366172000715185},{"$f":"INDEX(PolaireBase,MIN(MATCH($A98,AngleBase)+1,ROWS(AngleBase)),INT((COLUMN()-2)/6)+3)","v":7.0066173608407949},{"$f":"IF(AL98=AM98, AN98, TREND(AN98:AO98,AL98:AM98,$A98))","v":6.6076172483023008},{"$f":"AP98*COS!$B98","v":-0.69068407682587962}]
[97,90,110,4.0853381752156146,4.1899441340782122,4.121950260817524,{"$f":"F99*COS!$B99","v":-0.50233937183450761},90,110,5.0097411633732252,5.1282051282051286,5.0512035510643916,{"$f":"L99*COS!$B99","v":-0.61558686017396613},90,110,5.7188244638602068,5.7961680888745768,5.7458947326152359,{"$f":"R99*COS!$B99","v":-0.7002484183389136},90,110,6.0463553913335577,6.1349693251533743,6.0773702681704931,{"$f":"X99*COS!$B99","v":-0.74064512421190232},90,110,6.2434963579604572,6.41254007837549,6.3026616601057182,{"$f":"AD99*COS!$B99","v":-0.76810123822187992},90,110,6.3302268331281866,6.6765578635014835,6.4514426937588407,{"$f":"AJ99*COS!$B99","v":-0.7862330851043251},90,110,6.4366172000715185,7.0066173608407949,6.6361172563407642,{"$f":"AP99*COS!$B99","v":-0.80873925278981695}]
[98,90,110,4.0853381752156146,4.1899441340782122,4.1271805587606538,{"$f":"F100*COS!$B100","v":-0.57439251658481538},90,110,5.0097411633732252,5.1282051282051286,5.0571267493059864,{"$f":"L100*COS!$B100","v":-0.7038160116490092},90,110,5.7188244638602068,5.7961680888745768,5.7497619138659548,{"$f":"R100*COS!$B100","v":-0.80021219533480514},90,110,6.0463553913335577,6.1349693251533743,6.0818009648614844,{"$f":"X100*COS!$B100","v":-0.84642309970169027},90,110,6.2434963579604572,6.41254007837549,6.31111384612647,{"$f":"AD100*COS!$B100","v":-0.87833728447742554},90,110,6.3302268331281866,6.6765578635014835,6.4687592452775053,{"$f":"AJ100*COS!$B100","v":-0.90027728352936243},90,110,6.4366172000715185,7.0066173608407949,6.6646172643792285,{"$f":"AP100*COS!$B100","v":-0.92753545139564497}]
[99,90,110,4.0853381752156146,4.1899441340782122,4.1324108567037836,{"$f":"F101*COS!$B101","v":-0.64645148169489919},90,110,5.0097411633732252,5.1282051282051286,5.0630499475475812,{"$f":"L101*COS!$B101","v":-0.79203551001657568},90,110,5.7188244638602068,5.7961680888745768,5.7536290951166729,{"$f":"R101*COS!$B101","v":-0.9000658895344853},90,110,6.0463553913335577,6.1349693251533743,6.0862316615524747,{"$f":"X101*COS!$B101","v":-0.95209639408587787},90,110,6.2434963579604572,6.41254007837549,6.3195660321472218,{"$f":"AD101*COS!$B101","v":-0.98859793152536612},90,110,6.3302268331281866,6.6765578635014835,6.48607579679617,{"$f":"AJ101*COS!$B101","v":-1.0146457974821992},90,110,6.4366172000715185,7.0066173608407949,6.6931172724176928,{"$f":"AP101*COS!$B101","v":-1.047034219962192}]
[100,90,110,4.0853381752156146,4.1899441340782122,4.1376411546469134,{"$f":"F102*COS!$B102","v":-0.71849384634412983},90,110,5.0097411633732252,5.1282051282051286,5.0689731457891769,{"$f":"L102*COS!$B102","v":-0.88021794940889764},90,110,5.7188244638602068,5.7961680888745768,5.7574962763673918,{"$f":"R102*COS!$B102","v":-0.99977873631533454},90,110,6.0463553913335577,6.1349693251533743,6.090662358243466,{"$f":"X102*COS!$B102","v":-1.057632419293546},90,110,6.2434963579604572,6.41254007837549,6.3280182181679736,{"$f":"AD102*COS!$B102","v":-1.0988488318280041},90,110,6.3302268331281866,6.6765578635014835,6.5033923483148346,{"$f":"AJ102*COS!$B102","v":-1.1293022299379294},90,110,6.4366172000715185,7.0066173608407949,6.7216172804561563,{"$f":"AP102*COS!$B102","v":-1.1671965917257596}]
[101,90,110,4.0853381752156146,4.1899441340782122,4.1428714525900432,{"$f":"F103*COS!$B103","v":-0.79049713984287295},90,110,5.0097411633732252,5.1282051282051286,5.0748963440307717,{"$f":"L103*COS!$B103","v":-0.96833587304461166},90,110,5.7188244638602068,5.7961680888745768,5.7613634576181099,{"$f":"R103*COS!$B103","v":-1.0993199733472481},90,110,6.0463553913335577,6.1349693251533743,6.0950930549344564,{"$f":"X103*COS!$B103","v":-1.1629985825385991},90,110,6.2434963579604572,6.41254007837549,6.3364704041887254,{"$f":"AD103*COS!$B103","v":-1.2090555520564594},90,110,6.3302268331281866,6.6765578635014835,6.5207088998334992,{"$f":"AJ103*COS!$B103","v":-1.2442099143201246},90,110,6.4366172000715185,7.0066173608407949,6.7501172884946197,{"$f":"AP103*COS!$B103","v":-1.2879830984915051}]
[102,90,110,4.0853381752156146,4.1899441340782122,4.148101750533173,{"$f":"F104*COS!$B104","v":-0.86243884863745846},90,110,5.0097411633732252,5.1282051282051286,5.0808195422723674,{"$f":"L104*COS!$B104","v":-1.0563617817737609},90,110,5.7188244638602068,5.7961680888745768,5.7652306388688288,{"$f":"R104*COS!$B104","v":-1.1986588500815678},90,110,6.0463553913335577,6.1349693251533743,6.0995237516254477,{"$f":"X104*COS!$B104","v":-1.2681622963835282},90,110,6.2434963579604572,6.41254007837549,6.3449225902094764,{"$f":"AD104*COS!$B104","v":-1.319183583838248},90,110,6.3302268331281866,6.6765578635014835,6.5380254513521647,{"$f":"AJ104*COS!$B104","v":-1.3593319262001713},90,110,6.4366172000715185,7.0066173608407949,6.7786172965330831,{"$f":"AP104*COS!$B104","v":-1.4093537835287007}]
[103,90,110,4.0853381752156146,4.1899441340782122,4.1533320484763028,{"$f":"F105*COS!$B105","v":-0.93429642334490814},90,110,5.0097411633732252,5.1282051282051286,5.0867427405139622,{"$f":"L105*COS!$B105","v":-1.1442681426546162},90,110,5.7188244638602068,5.7961680888745768,5.7690978201195469,{"$f":"R105*COS!$B105","v":-1.2977646372487841},90,110,6.0463553913335577,6.1349693251533743,6.1039544483164381,{"$f":"X105*COS!$B105","v":-1.3730909888157063},90,110,6.2434963579604572,6.41254007837549,6.3533747762302282,{"$f":"AD105*COS!$B105","v":-1.429198354554706},90,110,6.3302268331281866,6.6765578635014835,6.5553420028708294,{"$f":"AJ105*COS!$B105","v":-1.4746310951304156},90,110,6.4366172000715185,7.0066173608407949,6.8071173045715474,{"$f":"AP105*COS!$B105","v":-1.5312682147057366}]
[104,90,110,4.0853381752156146,4.1899441340782122,4.1585623464194326,{"$f":"F106*COS!$B106","v":-1.0060472858151914},90,110,5.0097411633732252,5.1282051282051286,5.0926659387555571,{"$f":"L106*COS!$B106","v":-1.2320273975596061},90,110,5.7188244638602068,5.7961680888745768,5.7729650013702658,{"$f":"R106*COS!$B106","v":-1.3966066363620335},90,110,6.0463553913335577,6.1349693251533743,6.1083851450074294,{"$f":"X106*COS!$B106","v":-1.4777521133330489},90,110,6.2434963579604572,6.41254007837549,6.36182696225098,{"$f":"AD106*COS!$B106","v":-1.5390652381848333},90,110,6.3302268331281866,6.6765578635014835,6.572658554389494,{"$f":"AJ106*COS!$B106","v":-1.5900700166072785},90,110,6.4366172000715185,7.0066173608407949,6.8356173126100117,{"$f":"AP106*COS!$B106","v":-1.6536854978605209}]
[105,90,110,4.0853381752156146,4.1899441340782122,4.1637926443625624,{"$f":"F107*COS!$B107","v":-1.0776688362188185},90,110,5.0097411633732252,5.1282051282051286,5.0985891369971528,{"$f":"L107*COS!$B107","v":-1.3196119718076889},90,110,5.7188244638602068,5.7961680888745768,5.7768321826209839,{"$f":"R107*COS!$B107","v":-1.4951541892234743},90,110,6.0463553913335577,6.1349693251533743,6.1128158416984197,{"$f":"X107*COS!$B107","v":-1.5821131590359472},90,110,6.2434963579604572,6.41254007837549,6.3702791482717318,{"$f":"AD107*COS!$B107","v":-1.6487495661921894},90,110,6.3302268331281866,6.6765578635014835,6.5899751059081595,{"$f":"AJ107*COS!$B107","v":-1.7056110641605335},90,110,6.4366172000715185,7.0066173608407949,6.8641173206484751,{"$f":"AP107*COS!$B107","v":-1.7765642904019123}]
[106,90,110,4.0853381752156146,4.1899441340782122,4.169022942305693,{"$f":"F108*COS!$B108","v":-1.1491384601575467},90,110,5.0097411633732252,5.1282051282051286,5.1045123352387476,{"$f":"L108*COS!$B108","v":-1.4069942828204633},90,110,5.7188244638602068,5.7961680888745768,5.7806993638717028,{"$f":"R108*COS!$B108","v":-1.5933766874306046},90,110,6.0463553913335577,6.1349693251533743,6.117246538389411,{"$f":"X108*COS!$B108","v":-1.6861416607223478},90,110,6.2434963579604572,6.41254007837549,6.3787313342924836,{"$f":"AD108*COS!$B108","v":-1.7582166384514184},90,110,6.3302268331281866,6.6765578635014835,6.6072916574268241,{"$f":"AJ108*COS!$B108","v":-1.8212164015648469},90,110,6.4366172000715185,7.0066173608407949,6.8926173286869385,{"$f":"AP108*COS!$B108","v":-1.8998628151376953}]
[107,90,110,4.0853381752156146,4.1899441340782122,4.1742532402488228,{"$f":"F109*COS!$B109","v":-1.2204335357959555},90,110,5.0097411633732252,5.1282051282051286,5.1104355334803433,{"$f":"L109*COS!$B109","v":-1.4941467487992961},90,110,5.7188244638602068,5.7961680888745768,5.7845665451224209,{"$f":"R109*COS!$B109","v":-1.6912435818795533},90,110,6.0463553913335577,6.1349693251533743,6.1216772350804014,{"$f":"X109*COS!$B109","v":-1.789805208982826},90,110,6.2434963579604572,6.41254007837549,6.3871835203132346,{"$f":"AD109*COS!$B109","v":-1.8674317342109508},90,110,6.3302268331281866,6.6765578635014835,6.6246082089454887,{"$f":"AJ109*COS!$B109","v":-1.9368479951696278},90,110,6.4366172000715185,7.0066173608407949,6.9211173367254029,{"$f":"AP109*COS!$B109","v":-2.0235388743244931}]
[108,90,110,4.0853381752156146,4.1899441340782122,4.1794835381919526,{"$f":"F110*COS!$B110","v":-1.2915314410116476},90,110,5.0097411633732252,5.1282051282051286,5.1163587317219381,{"$f":"L110*COS!$B110","v":-1.5810417974207309},90,110,5.7188244638602068,5.7961680888745768,5.7884337263731398,{"$f":"R110*COS!$B110","v":-1.7887243922624041},90,110,6.0463553913335577,6.1349693251533743,6.1261079317713927,{"$f":"X110*COS!$B110","v":-1.8930714602925207},90,110,6.2434963579604572,6.41254007837549,6.3956357063339864,{"$f":"AD110*COS!$B110","v":-1.9763601230884218},90,110,6.3302268331281866,6.6765578635014835,6.6419247604641534,{"$f":"AJ110*COS!$B110","v":-2.0524676263431747},90,110,6.4366172000715185,7.0066173608407949,6.9496173447638663,{"$f":"AP110*COS!$B110","v":-2.1475498639349322}]
[109,90,110,4.0853381752156146,4.1899441340782122,4.1847138361350824,{"$f":"F111*COS!$B111","v":-1.362409560561826},90,110,5.0097411633732252,5.1282051282051286,5.1222819299635329,{"$f":"L111*COS!$B111","v":-1.6676518745474689},90,110,5.7188244638602068,5.7961680888745768,5.7923009076238579,{"$f":"R111*COS!$B111","v":-1.8857887165556115},90,110,6.0463553913335577,6.1349693251533743,6.1305386284623831,{"$f":"X111*COS!$B111","v":-1.995908147096805},90,110,6.2434963579604572,6.41254007837549,6.4040878923547382,{"$f":"AD111*COS!$B111","v":-2.0849670760953529},90,110,6.3302268331281866,6.6765578635014835,6.659241311982818,{"$f":"AJ111*COS!$B111","v":-2.1680369040270993},90,110,6.4366172000715185,7.0066173608407949,6.9781173528023306,{"$f":"AP111*COS!$B111","v":-2.2718527881373127}]
[110,110,135,4.1899441340782122,4.0733197556008145,4.1899441340782122,{"$f":"F112*COS!$B112","v":-1.433045293263975},110,135,5.1282051282051286,5,5.1282051282051286,{"$f":"L112*COS!$B112","v":-1.7539494529521473},110,135,5.7961680888745768,5.7170080990948069,5.7961680888745768,{"$f":"R112*COS!$B112","v":-1.9824062404965501},110,135,6.1349693251533743,6.0800540449248439,6.1349693251533735,{"$f":"X112*COS!$B112","v":-2.098283087887538},110,135,6.41254007837549,6.3593004769475359,6.41254007837549,{"$f":"AD112*COS!$B112","v":-2.1932178766875801},110,135,6.6765578635014835,6.6506558285608728,6.6765578635014835,{"$f":"AJ112*COS!$B112","v":-2.2835172773968977},110,135,7.0066173608407949,7.1371927042030139,7.0066173608407949,{"$f":"AP112*COS!$B112","v":-2.3964042739828875}]
[111,110,135,4.1899441340782122,4.0733197556008145,4.1852791589391165,{"$f":"F113*COS!$B113","v":-1.4998699104636901},110,135,5.1282051282051286,5,5.1230769230769226,{"$f":"L113*COS!$B113","v":-1.8359465722859227},110,135,5.7961680888745768,5.7170080990948069,5.7930016892833853,{"$f":"R113*COS!$B113","v":-2.0760261371009476},110,135,6.1349693251533743,6.0800540449248439,6.1327727139442327,{"$f":"X113*COS!$B113","v":-2.1977891825235609},110,135,6.41254007837549,6.3593004769475359,6.4104104943183717,{"$f":"AD113*COS!$B113","v":-2.2972856645925495},110,135,6.6765578635014835,6.6506558285608728,6.6755217821038588,{"$f":"AJ113*COS!$B113","v":-2.3922930531975486},110,135,7.0066173608407949,7.1371927042030139,7.011840374575284,{"$f":"AP113*COS!$B113","v":-2.5128188575754948}]
[112,110,135,4.1899441340782122,4.0733197556008145,4.1806141838000208,{"$f":"F114*COS!$B114","v":-1.5660856377795696},110,135,5.1282051282051286,5,5.1179487179487175,{"$f":"L114*COS!$B114","v":-1.9172173345081036},110,135,5.7961680888745768,5.7170080990948069,5.7898352896921947,{"$f":"R114*COS!$B114","v":-2.1689104743108234},110,135,6.1349693251533743,6.0800540449248439,6.1305761027350911,{"$f":"X114*COS!$B114","v":-2.2965542295225911},110,135,6.41254007837549,6.3593004769475359,6.4082809102612535,{"$f":"AD114*COS!$B114","v":-2.4005842814451883},110,135,6.6765578635014835,6.6506558285608728,6.6744857007062341,{"$f":"AJ114*COS!$B114","v":-2.5003063511447792},110,135,7.0066173608407949,7.1371927042030139,7.0170633883097731,{"$f":"AP114*COS!$B114","v":-2.6286382116782416}]
[113,110,135,4.1899441340782122,4.0733197556008145,4.1759492086609251,{"$f":"F115*COS!$B115","v":-1.6316733468139724},110,135,5.1282051282051286,5,5.1128205128205124,{"$f":"L115*COS!$B115","v":-1.9977381287374654},110,135,5.7961680888745768,5.7170080990948069,5.7866688901010042,{"$f":"R115*COS!$B115","v":-2.2610316656229377},110,135,6.1349693251533743,6.0800540449248439,6.1283794915259504,{"$f":"X115*COS!$B115","v":-2.3945486345344555},110,135,6.41254007837549,6.3593004769475359,6.4061513262041361,{"$f":"AD115*COS!$B115","v":-2.5030827369607986},110,135,6.6765578635014835,6.6506558285608728,6.6734496193086104,{"$f":"AJ115*COS!$B115","v":-2.6075245006687666},110,135,7.0066173608407949,7.1371927042030139,7.0222864020442612,{"$f":"AP115*COS!$B115","v":-2.7438258904456352}]
[114,110,135,4.1899441340782122,4.0733197556008145,4.1712842335218294,{"$f":"F116*COS!$B116","v":-1.6966141464576805},110,135,5.1282051282051286,5,5.1076923076923073,{"$f":"L116*COS!$B116","v":-2.0774856230948555},110,135,5.7961680888745768,5.7170080990948069,5.7835024905098136,{"$f":"R116*COS!$B116","v":-2.3523623882104907},110,135,6.1349693251533743,6.0800540449248439,6.1261828803168088,{"$f":"X116*COS!$B116","v":-2.4917430596084946},110,135,6.41254007837549,6.3593004769475359,6.4040217421470178,{"$f":"AD116*COS!$B116","v":-2.604750305585315},110,135,6.6765578635014835,6.6506558285608728,6.6724135379109857,{"$f":"AJ116*COS!$B116","v":-2.7139150836234367},110,135,7.0066173608407949,7.1371927042030139,7.0275094157787503,{"$f":"AP116*COS!$B116","v":-2.8583455889574259}]
[115,110,135,4.1899441340782122,4.0733197556008145,4.1666192583827328,{"$f":"F117*COS!$B117","v":-1.7608893883130323},110,135,5.1282051282051286,5,5.1025641025641022,{"$f":"L117*COS!$B117","v":-2.1564367714461321},110,135,5.7961680888745768,5.7170080990948069,5.7803360909186221,{"$f":"R117*COS!$B117","v":-2.4428755910210569},110,135,6.1349693251533743,6.0800540449248439,6.1239862691076681,{"$f":"X117*COS!$B117","v":-2.5881084319741934},110,135,6.41254007837549,6.3593004769475359,6.4018921580898995,{"$f":"AD117*COS!$B117","v":-2.7055565357033675},110,135,6.6765578635014835,6.6506558285608728,6.671377456513361,{"$f":"AJ117*COS!$B117","v":-2.8194459440877644},110,135,7.0066173608407949,7.1371927042030139,7.0327324295132385,{"$f":"AP117*COS!$B117","v":-2.97216115464833}]
[116,110,135,4.1899441340782122,4.0733197556008145,4.1619542832436371,{"$f":"F118*COS!$B118","v":-1.8244806720292264},110,135,5.1282051282051286,5,5.0974358974358971,{"$f":"L118*COS!$B118","v":-2.2345688200427847},110,135,5.7961680888745768,5.7170080990948069,5.7771696913274315,{"$f":"R118*COS!$B118","v":-2.532544502782307},110,135,6.1349693251533743,6.0800540449248439,6.1217896578985265,{"$f":"X118*COS!$B118","v":-2.6836159527344914},110,135,6.41254007837549,6.3593004769475359,6.3997625740327813,{"$f":"AD118*COS!$B118","v":-2.8054712587565689},110,135,6.6765578635014835,6.6506558285608728,6.6703413751157363,{"$f":"AJ118*COS!$B118","v":-2.9240851980841178},110,135,7.0066173608407949,7.1371927042030139,7.0379554432477276,{"$f":"AP118*COS!$B118","v":-3.0852365987069366}]
[117,110,135,4.1899441340782122,4.0733197556008145,4.1572893081045414,{"$f":"F119*COS!$B119","v":-1.887369850548255},110,135,5.1282051282051286,5,5.092307692307692,{"$f":"L119*COS!$B119","v":-2.311859314058307},110,135,5.7961680888745768,5.7170080990948069,5.7740032917362409,{"$f":"R119*COS!$B119","v":-2.6213426399131237},110,135,6.1349693251533743,6.0800540449248439,6.1195930466893849,{"$f":"X119*COS!$B119","v":-2.7782371054691688},110,135,6.41254007837549,6.3593004769475359,6.397632989975663,{"$f":"AD119*COS!$B119","v":-2.9044645982692616},110,135,6.6765578635014835,6.6506558285608728,6.6693052937181125,{"$f":"AJ119*COS!$B119","v":-3.02780124321069},110,135,7.0066173608407949,7.1371927042030139,7.0431784569822167,{"$f":"AP119*COS!$B119","v":-3.197536107440166}]
[118,110,135,4.1899441340782122,4.0733197556008145,4.1526243329654449,{"$f":"F120*COS!$B120","v":-1.9495390352600037},110,135,5.1282051282051286,5,5.0871794871794869,{"$f":"L120*COS!$B120","v":-2.3882861040184786},110,135,5.7961680888745768,5.7170080990948069,5.7708368921450504,{"$f":"R120*COS!$B120","v":-2.7092438143378086},110,135,6.1349693251533743,6.0800540449248439,6.1173964354802441,{"$f":"X120*COS!$B120","v":-2.8719436647457464},110,135,6.41254007837549,6.3593004769475359,6.3955034059185447,{"$f":"AD120*COS!$B120","v":-3.0025069787790648},110,135,6.6765578635014835,6.6506558285608728,6.6682692123204879,{"$f":"AJ120*COS!$B120","v":-3.1305627681851389},110,135,7.0066173608407949,7.1371927042030139,7.0484014707167049,{"$f":"AP120*COS!$B120","v":-3.3090240535997406}]
[119,110,135,4.1899441340782122,4.0733197556008145,4.1479593578263492,{"$f":"F121*COS!$B121","v":-2.0109706010650323},110,135,5.1282051282051286,5,5.0820512820512818,{"$f":"L121*COS!$B121","v":-2.4638273521236922},110,135,5.7961680888745768,5.7170080990948069,5.7676704925538589,{"$f":"R121*COS!$B121","v":-2.79622214120104},110,135,6.1349693251533743,6.0800540449248439,6.1151998242711025,{"$f":"X121*COS!$B121","v":-2.96470770453534},110,135,6.41254007837549,6.3593004769475359,6.3933738218614264,{"$f":"AD121*COS!$B121","v":-3.0995691346695105},110,135,6.6765578635014835,6.6506558285608728,6.6672331309228632,{"$f":"AJ121*COS!$B121","v":-3.2323387622965098},110,135,7.0066173608407949,7.1371927042030139,7.0536244844511939,{"$f":"AP121*COS!$B121","v":-3.4196650076670481}]
[120,110,135,4.1899441340782122,4.0733197556008145,4.1432943826872535,{"$f":"F122*COS!$B122","v":-2.0716471913436267},110,135,5.1282051282051286,5,5.0769230769230766,{"$f":"L122*COS!$B122","v":-2.5384615384615383},110,135,5.7961680888745768,5.7170080990948069,5.7645040929626683,{"$f":"R122*COS!$B122","v":-2.8822520464813342},110,135,6.1349693251533743,6.0800540449248439,6.1130032130619618,{"$f":"X122*COS!$B122","v":-3.0565016065309809},110,135,6.41254007837549,6.3593004769475359,6.3912442378043082,{"$f":"AD122*COS!$B122","v":-3.1956221189021541},110,135,6.6765578635014835,6.6506558285608728,6.6661970495252394,{"$f":"AJ122*COS!$B122","v":-3.3330985247626197},110,135,7.0066173608407949,7.1371927042030139,7.058847498185683,{"$f":"AP122*COS!$B122","v":-3.5294237490928415}]
[121,110,135,4.1899441340782122,4.0733197556008145,4.1386294075481578,{"$f":"F123*COS!$B123","v":-2.1315517228297418},110,135,5.1282051282051286,5,5.0717948717948715,{"$f":"L123*COS!$B123","v":-2.6121674671079163},110,135,5.7961680888745768,5.7170080990948069,5.7613376933714777,{"$f":"R123*COS!$B123","v":-2.9673082745007786},110,135,6.1349693251533743,6.0800540449248439,6.1108066018528202,{"$f":"X123*COS!$B123","v":-3.1472980683659268},110,135,6.41254007837549,6.3593004769475359,6.3891146537471908,{"$f":"AD123*COS!$B123","v":-3.2906373116455709},110,135,6.6765578635014835,6.6506558285608728,6.6651609681276147,{"$f":"AJ123*COS!$B123","v":-3.4328116739900802},110,135,7.0066173608407949,7.1371927042030139,7.0640705119201712,{"$f":"AP123*COS!$B123","v":-3.6382652774882467}]
[122,110,135,4.1899441340782122,4.0733197556008145,4.1339644324090621,{"$f":"F124*COS!$B124","v":-2.1906673903884482},110,135,5.1282051282051286,5,5.0666666666666664,{"$f":"L124*COS!$B124","v":-2.684924272114904},110,135,5.7961680888745768,5.7170080990948069,5.7581712937802871,{"$f":"R124*COS!$B124","v":-3.0513658953288108},110,135,6.1349693251533743,6.0800540449248439,6.1086099906436795,{"$f":"X124*COS!$B124","v":-3.2370701117295027},110,135,6.41254007837549,6.3593004769475359,6.3869850696900725,{"$f":"AD124*COS!$B124","v":-3.3845864287986274},110,135,6.6765578635014835,6.6506558285608728,6.66412488672999,{"$f":"AJ124*COS!$B124","v":-3.5314481567341454},110,135,7.0066173608407949,7.1371927042030139,7.0692935256546603,{"$f":"AP124*COS!$B124","v":-3.7461548237634759}]
[123,110,135,4.1899441340782122,4.0733197556008145,4.1292994572699655,{"$f":"F125*COS!$B125","v":-2.2489776716955889},110,135,5.1282051282051286,5,5.0615384615384613,{"$f":"L125*COS!$B125","v":-2.7567114233837522},110,135,5.7961680888745768,5.7170080990948069,5.7550048941890957,{"$f":"R125*COS!$B125","v":-3.1344003120779069},110,135,6.1349693251533743,6.0800540449248439,6.1064133794345379,{"$f":"X125*COS!$B125","v":-3.3257910903780772},110,135,6.41254007837549,6.3593004769475359,6.3848554856329542,{"$f":"AD125*COS!$B125","v":-3.4774415304055344},110,135,6.6765578635014835,6.6506558285608728,6.6630888053323654,{"$f":"AJ125*COS!$B125","v":-3.6289782571556493},110,135,7.0066173608407949,7.1371927042030139,7.0745165393891494,{"$f":"AP125*COS!$B125","v":-3.8530578612107553}]
[124,110,135,4.1899441340782122,4.0733197556008145,4.1246344821308698,{"$f":"F126*COS!$B126","v":-2.3064663318183207},110,135,5.1282051282051286,5,5.0564102564102562,{"$f":"L126*COS!$B126","v":-2.8275087324213137},110,135,5.7961680888745768,5.7170080990948069,5.7518384945979051,{"$f":"R126*COS!$B126","v":-3.2163872680890111},110,135,6.1349693251533743,6.0800540449248439,6.1042167682253963,{"$f":"X126*COS!$B126","v":-3.4134346980387771},110,135,6.41254007837549,6.3593004769475359,6.382725901575836,{"$f":"AD126*COS!$B126","v":-3.5691750289601312},110,135,6.6765578635014835,6.6506558285608728,6.6620527239347416,{"$f":"AJ126*COS!$B126","v":-3.7253726057722649},110,135,7.0066173608407949,7.1371927042030139,7.0797395531236376,{"$f":"AP126*COS!$B126","v":-3.9589401165278937}]
[125,110,135,4.1899441340782122,4.0733197556008145,4.1199695069917741,{"$f":"F127*COS!$B127","v":-2.3631174276953169},110,135,5.1282051282051286,5,5.0512820512820511,{"$f":"L127*COS!$B127","v":-2.8972963579783597},110,135,5.7961680888745768,5.7170080990948069,5.7486720950067145,{"$f":"R127*COS!$B127","v":-3.2973028540046521},110,135,6.1349693251533743,6.0800540449248439,6.1020201570162556,{"$f":"X127*COS!$B127","v":-3.499974976203633},110,135,6.41254007837549,6.3593004769475359,6.3805963175187177,{"$f":"AD127*COS!$B127","v":-3.6597596975969924},110,135,6.6765578635014835,6.6506558285608728,6.6610166425371169,{"$f":"AJ127*COS!$B127","v":-3.8206021883014474},110,135,7.0066173608407949,7.1371927042030139,7.0849625668581266,{"$f":"AP127*COS!$B127","v":-4.0637675807790421}]
[126,110,135,4.1899441340782122,4.0733197556008145,4.1153045318526784,{"$f":"F128*COS!$B128","v":-2.4189153125153844},110,135,5.1282051282051286,5,5.046153846153846,{"$f":"L128*COS!$B128","v":-2.9660548115681715},110,135,5.7961680888745768,5.7170080990948069,5.7455056954155239,{"$f":"R128*COS!$B128","v":-3.3771235147276544},110,135,6.1349693251533743,6.0800540449248439,6.0998235458071139,{"$f":"X128*COS!$B128","v":-3.5853863218118018},110,135,6.41254007837549,6.3593004769475359,6.3784667334615994,{"$f":"AD128*COS!$B128","v":-3.7491686781668725},110,135,6.6765578635014835,6.6506558285608728,6.6599805611394922,{"$f":"AJ128*COS!$B128","v":-3.9146383543923426},110,135,7.0066173608407949,7.1371927042030139,7.0901855805926157,{"$f":"AP128*COS!$B128","v":-4.1675065202890851}]
[127,110,135,4.1899441340782122,4.0733197556008145,4.1106395567135818,{"$f":"F129*COS!$B129","v":-2.4738446399933101},110,135,5.1282051282051286,5,5.0410256410256409,{"$f":"L129*COS!$B129","v":-3.0337649628639154},110,135,5.7961680888745768,5.7170080990948069,5.7423392958243333,{"$f":"R129*COS!$B129","v":-3.4558260562634384},110,135,6.1349693251533743,6.0800540449248439,6.0976269345979732,{"$f":"X129*COS!$B129","v":-3.6696434948176329},110,135,6.41254007837549,6.3593004769475359,6.3763371494044812,{"$f":"AD129*COS!$B129","v":-3.8373754891941241},110,135,6.6765578635014835,6.6506558285608728,6.6589444797418684,{"$f":"AJ129*COS!$B129","v":-4.007452826244057},110,135,7.0066173608407949,7.1371927042030139,7.0954085943271039,{"$f":"AP129*COS!$B129","v":-4.2701234874682088}]
[128,{"$f":"INDEX(PolaireBase,MATCH($A130,AngleBase),1)","v":110},{"$f":"INDEX(PolaireBase,MIN(MATCH($A130,AngleBase)+1, ROWS(AngleBase)),1)","v":135},{"$f":"INDEX(PolaireBase,MATCH($A130,AngleBase),INT((COLUMN()-2)/6)+3)","v":4.1899441340782122},{"$f":"INDEX(PolaireBase,MIN(MATCH($A130,AngleBase)+1,ROWS(AngleBase)),INT((COLUMN()-2)/6)+3)","v":4.0733197556008145},{"$f":"IF(B130=C130, D130, TREND(D130:E130,B130:C130,$A130))","v":4.1059745815744861},{"$f":"F130*COS!$B130","v":-2.5278903685418008},{"$f":"INDEX(PolaireBase,MATCH($A130,AngleBase),1)","v":110},{"$f":"INDEX(PolaireBase,MIN(MATCH($A130,AngleBase)+1, ROWS(AngleBase)),1)","v":135},{"$f":"INDEX(PolaireBase,MATCH($A130,AngleBase),INT((COLUMN()-2)/6)+3)","v":5.1282051282051286},{"$f":"INDEX(PolaireBase,MIN(MATCH($A130,AngleBase)+1,ROWS(AngleBase)),INT((COLUMN()-2)/6)+3)","v":5},{"$f":"IF(H130=I130, J130, TREND(J130:K130,H130:I130,$A130))","v":5.0358974358974358},{"$f":"L130*COS!$B130","v":-3.1004080449733151},{"$f":"INDEX(PolaireBase,MATCH($A130,AngleBase),1)","v":110},{"$f":"INDEX(PolaireBase,MIN(MATCH($A130,AngleBase)+1, ROWS(AngleBase)),1)","v":135},{"$f":"INDEX(PolaireBase,MATCH($A130,AngleBase),INT((COLUMN()-2)/6)+3)","v":5.7961680888745768},{"$f":"INDEX(PolaireBase,MIN(MATCH($A130,AngleBase)+1,ROWS(AngleBase)),INT((COLUMN()-2)/6)+3)","v":5.7170080990948069},{"$f":"IF(N130=O130, P130, TREND(P130:Q130,N130:O130,$A130))","v":5.7391728962331419},{"$f":"R130*COS!$B130","v":-3.5333876524439272},{"$f":"INDEX(PolaireBase,MATCH($A130,AngleBase),1)","v":110},{"$f":"INDEX(PolaireBase,MIN(MATCH($A130,AngleBase)+1, ROWS(AngleBase)),1)","v":135},{"$f":"INDEX(PolaireBase,MATCH($A130,AngleBase),INT((COLUMN()-2)/6)+3)","v":6.1349693251533743},{"$f":"INDEX(PolaireBase,MIN(MATCH($A130,AngleBase)+1,ROWS(AngleBase)),INT((COLUMN()-2)/6)+3)","v":6.0800540449248439},{"$f":"IF(T130=U130, V130, TREND(V130:W130,T130:U130,$A130))","v":6.0954303233888316},{"$f":"X130*COS!$B130","v":-3.7527216256423226},{"$f":"INDEX(PolaireBase,MATCH($A130,AngleBase),1)","v":110},{"$f":"INDEX(PolaireBase,MIN(MATCH($A130,AngleBase)+1, ROWS(AngleBase)),1)","v":135},{"$f":"INDEX(PolaireBase,MATCH($A130,AngleBase),INT((COLUMN()-2)/6)+3)","v":6.41254007837549},{"$f":"INDEX(PolaireBase,MIN(MATCH($A130,AngleBase)+1,ROWS(AngleBase)),INT((COLUMN()-2)/6)+3)","v":6.3593004769475359},{"$f":"IF(Z130=AA130, AB130, TREND(AB130:AC130,Z130:AA130,$A130))","v":6.3742075653473629},{"$f":"AD130*COS!$B130","v":-3.9243540337137297},{"$f":"INDEX(PolaireBase,MATCH($A130,AngleBase),1)","v":110},{"$f":"INDEX(PolaireBase,MIN(MATCH($A130,AngleBase)+1, ROWS(AngleBase)),1)","v":135},{"$f":"INDEX(PolaireBase,MATCH($A130,AngleBase),INT((COLUMN()-2)/6)+3)","v":6.6765578635014835},{"$f":"INDEX(PolaireBase,MIN(MATCH($A130,AngleBase)+1,ROWS(AngleBase)),INT((COLUMN()-2)/6)+3)","v":6.6506558285608728},{"$f":"IF(AF130=AG130, AH130, TREND(AH130:AI130,AF130:AG130,$A130))","v":6.6579083983442437},{"$f":"AJ130*COS!$B130","v":-4.0990177071077074},{"$f":"INDEX(PolaireBase,MATCH($A130,AngleBase),1)","v":110},{"$f":"INDEX(PolaireBase,MIN(MATCH($A130,AngleBase)+1, ROWS(AngleBase)),1)","v":135},{"$f":"INDEX(PolaireBase,MATCH($A130,AngleBase),INT((COLUMN()-2)/6)+3)","v":7.0066173608407949},{"$f":"INDEX(PolaireBase,MIN(MATCH($A130,AngleBase)+1,ROWS(AngleBase)),INT((COLUMN()-2)/6)+3)","v":7.1371927042030139},{"$f":"IF(AL130=AM130, AN130, TREND(AN130:AO130,AL130:AM130,$A130))","v":7.100631608061593},{"$f":"AP130*COS!$B130","v":-4.3715853315632014}]
[129,110,135,4.1899441340782122,4.0733197556008145,4.1013096064353904,{"$f":"F131*COS!$B131","v":-2.5810377653383743},110,135,5.1282051282051286,5,5.0307692307692307,{"$f":"L131*COS!$B131","v":-3.1659656595891814},110,135,5.7961680888745768,5.7170080990948069,5.7360064966419513,{"$f":"R131*COS!$B131","v":-3.6097858515311199},110,135,6.1349693251533743,6.0800540449248439,6.0932337121796909,{"$f":"X131*COS!$B131","v":-3.8345962225069745},110,135,6.41254007837549,6.3593004769475359,6.3720779812902446,{"$f":"AD131*COS!$B131","v":-4.0100786069856342},110,135,6.6765578635014835,6.6506558285608728,6.6568723169466191,{"$f":"AJ131*COS!$B131","v":-4.1893054896696826},110,135,7.0066173608407949,7.1371927042030139,7.1058546217960821,{"$f":"AP131*COS!$B131","v":-4.4718592093320035}]
[130,110,135,4.1899441340782122,4.0733197556008145,4.0966446312962947,{"$f":"F132*COS!$B132","v":-2.6332724102861396},110,135,5.1282051282051286,5,5.0256410256410255,{"$f":"L132*COS!$B132","v":-3.2304197820144029},110,135,5.7961680888745768,5.7170080990948069,5.7328400970507607,{"$f":"R132*COS!$B132","v":-3.6849985826984066},110,135,6.1349693251533743,6.0800540449248439,6.0910371009705493,{"$f":"X132*COS!$B132","v":-3.9152431786448876},110,135,6.41254007837549,6.3593004769475359,6.3699483972331272,{"$f":"AD132*COS!$B132","v":-4.0945239040840846},110,135,6.6765578635014835,6.6506558285608728,6.6558362355489944,{"$f":"AJ132*COS!$B132","v":-4.2782890643135927},110,135,7.0066173608407949,7.1371927042030139,7.1110776355305703,{"$f":"AP132*COS!$B132","v":-4.5709125956381031}]
[131,110,135,4.1899441340782122,4.0733197556008145,4.0919796561571982,{"$f":"F133*COS!$B133","v":-2.6845801998674022},110,135,5.1282051282051286,5,5.0205128205128204,{"$f":"L133*COS!$B133","v":-3.293752766060035},110,135,5.7961680888745768,5.7170080990948069,5.7296736974595692,{"$f":"R133*COS!$B133","v":-3.7590041623877757},110,135,6.1349693251533743,6.0800540449248439,6.0888404897614077,{"$f":"X133*COS!$B133","v":-3.994638779390955},110,135,6.41254007837549,6.3593004769475359,6.367818813176009,{"$f":"AD133*COS!$B133","v":-4.1776650273597387},110,135,6.6765578635014835,6.6506558285608728,6.6548001541513706,{"$f":"AJ133*COS!$B133","v":-4.365941727258428},110,135,7.0066173608407949,7.1371927042030139,7.1163006492650593,{"$f":"AP133*COS!$B133","v":-4.6687132939613525}]
[132,110,135,4.1899441340782122,4.0733197556008145,4.0873146810181025,{"$f":"F134*COS!$B134","v":-2.7349473508891062},110,135,5.1282051282051286,5,5.0153846153846153,{"$f":"L134*COS!$B134","v":-3.3559473488151967},110,135,5.7961680888745768,5.7170080990948069,5.7265072978683786,{"$f":"R134*COS!$B134","v":-3.831781300541095},110,135,6.1349693251533743,6.0800540449248439,6.086643878552267,{"$f":"X134*COS!$B134","v":-4.0727597091461112},110,135,6.41254007837549,6.3593004769475359,6.3656892291188907,{"$f":"AD134*COS!$B134","v":-4.2594774937723763},110,135,6.6765578635014835,6.6506558285608728,6.6537640727537459,{"$f":"AJ134*COS!$B134","v":-4.4522371885704999},110,135,7.0066173608407949,7.1371927042030139,7.1215236629995475,{"$f":"AP134*COS!$B134","v":-4.7652294468218441}]
[133,110,135,4.1899441340782122,4.0733197556008145,4.0826497058790068,{"$f":"F135*COS!$B135","v":-2.7843604041191239},110,135,5.1282051282051286,5,5.0102564102564102,{"$f":"L135*COS!$B135","v":-3.4169866552874919},110,135,5.7961680888745768,5.7170080990948069,5.7233408982771881,{"$f":"R135*COS!$B135","v":-3.9033091067036687},110,135,6.1349693251533743,6.0800540449248439,6.0844472673431254,{"$f":"X135*COS!$B135","v":-4.1495830582147608},110,135,6.41254007837549,6.3593004769475359,6.3635596450617724,{"$f":"AD135*COS!$B135","v":-4.3399372420920228},110,135,6.6765578635014835,6.6506558285608728,6.6527279913561213,{"$f":"AJ135*COS!$B135","v":-4.5371495800467532},110,135,7.0066173608407949,7.1371927042030139,7.1267466767340366,{"$f":"AP135*COS!$B135","v":-4.8604295461134734}]
[134,110,135,4.1899441340782122,4.0733197556008145,4.0779847307399111,{"$f":"F136*COS!$B136","v":-2.8328062278124584},110,135,5.1282051282051286,5,5.0051282051282051,{"$f":"L136*COS!$B136","v":-3.4768542029127234},110,135,5.7961680888745768,5.7170080990948069,5.7201744986859975,{"$f":"R136*COS!$B136","v":-3.9735670959983254},110,135,6.1349693251533743,6.0800540449248439,6.0822506561339846,{"$f":"X136*COS!$B136","v":-4.2250863295131991},110,135,6.41254007837549,6.3593004769475359,6.3614300610046541,{"$f":"AD136*COS!$B136","v":-4.4190206399663712},110,135,6.6765578635014835,6.6506558285608728,6.6516919099584975,{"$f":"AJ136*COS!$B136","v":-4.6206534629670637},110,135,7.0066173608407949,7.1371927042030139,7.1319696904685257,{"$f":"AP136*COS!$B136","v":-4.9542824433438239}]
[135,135,150,4.0733197556008145,3.7033227034255733,4.0733197556008136,{"$f":"F137*COS!$B137","v":-2.8802720211264656},135,150,5,4.598875830352581,5,{"$f":"L137*COS!$B137","v":-3.5355339059327373},135,150,5.7170080990948069,5.4013503375843959,5.717008099094806,{"$f":"R137*COS!$B137","v":-4.0425351949683508},135,150,6.0800540449248439,5.8890888270898092,6.0800540449248439,{"$f":"X137*COS!$B137","v":-4.2992474451470546},135,150,6.3593004769475359,6.1823802163833079,6.3593004769475359,{"$f":"AD137*COS!$B137","v":-4.4967044908524478},135,150,6.6506558285608728,6.4562410329985651,6.6506558285608719,{"$f":"AJ137*COS!$B137","v":-4.7027238357132291},135,150,7.1371927042030139,7.0011668611435232,7.137192704203013,{"$f":"AP137*COS!$B137","v":-5.0467573597771027}]
[136,135,150,4.0733197556008145,3.7033227034255733,4.0486532854557984,{"$f":"F138*COS!$B138","v":-2.9123574460001982},135,150,5,4.598875830352581,4.9732583886901711,{"$f":"L138*COS!$B138","v":-3.5774626963529097},135,150,5.7170080990948069,5.4013503375843959,5.6959642483274449,{"$f":"R138*COS!$B138","v":-4.0973337851279599},135,150,6.0800540449248439,5.8890888270898092,6.0673230304025081,{"$f":"X138*COS!$B138","v":-4.3644669372798406},135,150,6.3593004769475359,6.1823802163833079,6.3475057929099208,{"$f":"AD138*COS!$B138","v":-4.5660135497202541},135,150,6.6506558285608728,6.4562410329985651,6.6376948421900517,{"$f":"AJ138*COS!$B138","v":-4.7747580824898863},135,150,7.1371927042030139,7.0011668611435232,7.1281243146657136,{"$f":"AP138*COS!$B138","v":-5.1275435213007192}]
[137,135,150,4.0733197556008145,3.7033227034255733,4.0239868153107823,{"$f":"F139*COS!$B139","v":-2.942957652644278},135,150,5,4.598875830352581,4.946516777380344,{"$f":"L139*COS!$B139","v":-3.6176533552584447},135,150,5.7170080990948069,5.4013503375843959,5.6749203975600846,{"$f":"R139*COS!$B139","v":-4.1503740391497024},135,150,6.0800540449248439,5.8890888270898092,6.0545920158801723,{"$f":"X139*COS!$B139","v":-4.4280482826078389},135,150,6.3593004769475359,6.1823802163833079,6.3357111088723057,{"$f":"AD139*COS!$B139","v":-4.6336457718634598},135,150,6.6506558285608728,6.4562410329985651,6.6247338558192315,{"$f":"AJ139*COS!$B139","v":-4.8450236276952348},135,150,7.1371927042030139,7.0011668611435232,7.1190559251284142,{"$f":"AP139*COS!$B139","v":-5.2065479028765536}]
[138,135,150,4.0733197556008145,3.7033227034255733,3.9993203451657662,{"$f":"F140*COS!$B140","v":-2.9720742199364047},135,150,5,4.598875830352581,4.919775166070516,{"$f":"L140*COS!$B140","v":-3.6561054571774907},135,150,5.7170080990948069,5.4013503375843959,5.6538765467927234,{"$f":"R140*COS!$B140","v":-4.2016490996370095},135,150,6.0800540449248439,5.8890888270898092,6.0418610013578373,{"$f":"X140*COS!$B140","v":-4.4899777394127431},135,150,6.3593004769475359,6.1823802163833079,6.3239164248346906,{"$f":"AD140*COS!$B140","v":-4.6995857678674016},135,150,6.6506558285608728,6.4562410329985651,6.6117728694484104,{"$f":"AJ140*COS!$B140","v":-4.9135047951624076},135,150,7.1371927042030139,7.0011668611435232,7.1099875355911148,{"$f":"AP140*COS!$B140","v":-5.2837504462833058}]
[139,135,150,4.0733197556008145,3.7033227034255733,3.9746538750207501,{"$f":"F141*COS!$B141","v":-2.9997093575477245},135,150,5,4.598875830352581,4.893033554760688,{"$f":"L141*COS!$B141","v":-3.692819300129377},135,150,5.7170080990948069,5.4013503375843959,5.6328326960253623,{"$f":"R141*COS!$B141","v":-4.2511527994824068},135,150,6.0800540449248439,5.8890888270898092,6.0291299868355015,{"$f":"X141*COS!$B141","v":-4.5502421614731485},135,150,6.3593004769475359,6.1823802163833079,6.3121217407970747,{"$f":"AD141*COS!$B141","v":-4.7638187493119935},135,150,6.6506558285608728,6.4562410329985651,6.5988118830775901,{"$f":"AJ141*COS!$B141","v":-4.9801865462465278},135,150,7.1371927042030139,7.0011668611435232,7.1009191460538155,{"$f":"AP141*COS!$B141","v":-5.3591317079141199}]
[140,135,150,4.0733197556008145,3.7033227034255733,3.949987404875734,{"$f":"F142*COS!$B142","v":-3.0258659018950085},135,150,5,4.598875830352581,4.86629194345086,{"$f":"L142*COS!$B142","v":-3.7277959018751829},135,150,5.7170080990948069,5.4013503375843959,5.611788845258002,{"$f":"R142*COS!$B142","v":-4.2988796608669579},135,150,6.0800540449248439,5.8890888270898092,6.0163989723131657,{"$f":"X142*COS!$B142","v":-4.6088290003272299},135,150,6.3593004769475359,6.1823802163833079,6.3003270567594605,{"$f":"AD142*COS!$B142","v":-4.8263305316627303},135,150,6.6506558285608728,6.4562410329985651,6.5858508967067699,{"$f":"AJ142*COS!$B142","v":-5.0450544826323585},135,150,7.1371927042030139,7.0011668611435232,7.0918507565165161,{"$f":"AP142*COS!$B142","v":-5.4326728634585963}]
[141,135,150,4.0733197556008145,3.7033227034255733,3.9253209347307179,{"$f":"F143*COS!$B143","v":-3.0505473118484785},135,150,5,4.598875830352581,4.839550332141032,{"$f":"L143*COS!$B143","v":-3.761036995891144},135,150,5.7170080990948069,5.4013503375843959,5.5907449944906418,{"$f":"R143*COS!$B143","v":-4.3448248940041765},135,150,6.0800540449248439,5.8890888270898092,6.0036679577908298,{"$f":"X143*COS!$B143","v":-4.6657263073257624},135,150,6.3593004769475359,6.1823802163833079,6.2885323727218445,{"$f":"AD143*COS!$B143","v":-4.887107536952203},135,150,6.6506558285608728,6.4562410329985651,6.5728899103359488,{"$f":"AJ143*COS!$B143","v":-5.1080948489188529},135,150,7.1371927042030139,7.0011668611435232,7.0827823669792167,{"$f":"AP143*COS!$B143","v":-5.5043557123765421}]
[142,135,150,4.0733197556008145,3.7033227034255733,3.9006544645857018,{"$f":"F144*COS!$B144","v":-3.0737576641976032},135,150,5,4.598875830352581,4.812808720831204,{"$f":"L144*COS!$B144","v":-3.7925450270672005},135,150,5.7170080990948069,5.4013503375843959,5.5697011437232806,{"$f":"R144*COS!$B144","v":-4.3889843956296035},135,150,6.0800540449248439,5.8890888270898092,5.990936943268494,{"$f":"X144*COS!$B144","v":-4.7209227354753569},135,150,6.3593004769475359,6.1823802163833079,6.2767376886842294,{"$f":"AD144*COS!$B144","v":-4.946136796251773},135,150,6.6506558285608728,6.4562410329985651,6.5599289239651286,{"$f":"AJ144*COS!$B144","v":-5.1692945349802937},135,150,7.1371927042030139,7.0011668611435232,7.0737139774419173,{"$f":"AP144*COS!$B144","v":-5.5741626821624077}]
[143,135,150,4.0733197556008145,3.7033227034255733,3.8759879944406856,{"$f":"F145*COS!$B145","v":-3.0955016488773208},135,150,5,4.598875830352581,4.786067109521376,{"$f":"L145*COS!$B145","v":-3.8223231471331771},135,150,5.7170080990948069,5.4013503375843959,5.5486572929559195,{"$f":"R145*COS!$B145","v":-4.4313547472374823},135,150,6.0800540449248439,5.8890888270898092,5.9782059287461582,{"$f":"X145*COS!$B145","v":-4.7744075410719384},135,150,6.3593004769475359,6.1823802163833079,6.2649430046466144,{"$f":"AD145*COS!$B145","v":-5.0034059519331686},135,150,6.6506558285608728,6.4562410329985651,6.5469679375943084,{"$f":"AJ145*COS!$B145","v":-5.2286410781039043},135,150,7.1371927042030139,7.0011668611435232,7.0646455879046179,{"$f":"AP145*COS!$B145","v":-5.642076832399562}]
[144,135,150,4.0733197556008145,3.7033227034255733,3.8513215242956695,{"$f":"F146*COS!$B146","v":-3.1157845639572233},135,150,5,4.598875830352581,4.759325498211548,{"$f":"L146*COS!$B146","v":-3.8503752098151556},135,150,5.7170080990948069,5.4013503375843959,5.5276134421885592,{"$f":"R146*COS!$B146","v":-4.4719332130659453},135,150,6.0800540449248439,5.8890888270898092,5.9654749142238233,{"$f":"X146*COS!$B146","v":-4.8261705851245047},135,150,6.3593004769475359,6.1823802163833079,6.2531483206089993,{"$f":"AD146*COS!$B146","v":-5.058903259719842},135,150,6.6506558285608728,6.4562410329985651,6.5340069512234873,{"$f":"AJ146*COS!$B146","v":-5.2861226649038384},135,150,7.1371927042030139,7.0011668611435232,7.0555771983673186,{"$f":"AP146*COS!$B146","v":-5.7080818586035393}]
[145,135,150,4.0733197556008145,3.7033227034255733,3.8266550541506534,{"$f":"F147*COS!$B147","v":-3.1346123103963097},135,150,5,4.598875830352581,4.73258388690172,{"$f":"L147*COS!$B147","v":-3.8767057657246857},135,150,5.7170080990948069,5.4013503375843959,5.506569591421199,{"$f":"R147*COS!$B147","v":-4.5107177378322723},135,150,6.0800540449248439,5.8890888270898092,5.9527438997014874,{"$f":"X147*COS!$B147","v":-4.8762023345692969},135,150,6.3593004769475359,6.1823802163833079,6.2413536365713842,{"$f":"AD147*COS!$B147","v":-5.1126175905279814},135,150,6.6506558285608728,6.4562410329985651,6.5210459648526671,{"$f":"AJ147*COS!$B147","v":-5.341728133011542},135,150,7.1371927042030139,7.0011668611435232,7.0465088088300192,{"$f":"AP147*COS!$B147","v":-5.7721620958534974}]
[146,135,150,4.0733197556008145,3.7033227034255733,3.8019885840056373,{"$f":"F148*COS!$B148","v":-3.1519913865660136},135,150,5,4.598875830352581,4.7058422755918929,{"$f":"L148*COS!$B148","v":-3.9013200569835962},135,150,5.7170080990948069,5.4013503375843959,5.4855257406538378,{"$f":"R148*COS!$B148","v":-4.5477069442198541},135,150,6.0800540449248439,5.8890888270898092,5.9400128851791516,{"$f":"X148*COS!$B148","v":-4.9244938632745932},135,150,6.3593004769475359,6.1823802163833079,6.2295589525337682,{"$f":"AD148*COS!$B148","v":-5.1645384320971228},135,150,6.6506558285608728,6.4562410329985651,6.5080849784818469,{"$f":"AJ148*COS!$B148","v":-5.3954469725425209},135,150,7.1371927042030139,7.0011668611435232,7.0374404192927198,{"$f":"AP148*COS!$B148","v":-5.8343025222111704}]
[147,135,150,4.0733197556008145,3.7033227034255733,3.7773221138606212,{"$f":"F149*COS!$B149","v":-3.1679288825442975},135,150,5,4.598875830352581,4.6791006642820641,{"$f":"L149*COS!$B149","v":-3.92422401158725},135,150,5.7170080990948069,5.4013503375843959,5.4644818898864767,{"$f":"R149*COS!$B149","v":-4.5829001301185759},135,150,6.0800540449248439,5.8890888270898092,5.9272818706568158,{"$f":"X149*COS!$B149","v":-4.9710368528363675},135,150,6.3593004769475359,6.1823802163833079,6.217764268496154,{"$f":"AD149*COS!$B149","v":-5.2146558904104348},135,150,6.6506558285608728,6.4562410329985651,6.4951239921110258,{"$f":"AJ149*COS!$B149","v":-5.447269327339705},135,150,7.1371927042030139,7.0011668611435232,7.0283720297554204,{"$f":"AP149*COS!$B149","v":-5.8944887619267119}]
[148,135,150,4.0733197556008145,3.7033227034255733,3.7526556437156051,{"$f":"F150*COS!$B150","v":-3.182432474183686},135,150,5,4.598875830352581,4.652359052972237,{"$f":"L150*COS!$B150","v":-3.9454242375092186},135,150,5.7170080990948069,5.4013503375843959,5.4434380391191164,{"$f":"R150*COS!$B150","v":-4.6162972656204353},135,150,6.0800540449248439,5.8890888270898092,5.9145508561344808,{"$f":"X150*COS!$B150","v":-5.015823593165206},135,150,6.3593004769475359,6.1823802163833079,6.2059695844585381,{"$f":"AD150*COS!$B150","v":-5.2629606909047491},135,150,6.6506558285608728,6.4562410329985651,6.4821630057402055,{"$f":"AJ150*COS!$B150","v":-5.4971859959935969},135,150,7.1371927042030139,7.0011668611435232,7.019303640218121,{"$f":"AP150*COS!$B150","v":-5.9527070884308477}]
[149,135,150,4.0733197556008145,3.7033227034255733,3.727989173570589,{"$f":"F151*COS!$B151","v":-3.1955104169561999},135,150,5,4.598875830352581,4.6256174416624081,{"$f":"L151*COS!$B151","v":-3.9649280165503762},135,150,5.7170080990948069,5.4013503375843959,5.4223941883517561,{"$f":"R151*COS!$B151","v":-4.6478989897722958},135,150,6.0800540449248439,5.8890888270898092,5.901819841612145,{"$f":"X151*COS!$B151","v":-5.0588469828648499},135,150,6.3593004769475359,6.1823802163833079,6.194174900420923,{"$f":"AD151*COS!$B151","v":-5.3094441794705771},135,150,6.6506558285608728,6.4562410329985651,6.4692020193693853,{"$f":"AJ151*COS!$B151","v":-5.5451884326395096},135,150,7.1371927042030139,7.0011668611435232,7.0102352506808217,{"$f":"AP151*COS!$B151","v":-6.0089444271128745}]
[150,150,180,3.7033227034255733,3.2128514056224899,3.7033227034255725,{"$f":"F152*COS!$B152","v":-3.2071715395782103},150,180,4.598875830352581,4.0853381752156146,4.598875830352581,{"$f":"L152*COS!$B152","v":-3.9827432979355897},150,180,5.4013503375843959,4.8432665141934619,5.4013503375843968,{"$f":"R152*COS!$B152","v":-4.6777066070877416},150,180,5.8890888270898092,5.5104852288382062,5.8890888270898092,{"$f":"X152*COS!$B152","v":-5.1001005294028783},150,180,6.1823802163833079,5.9161873459326211,6.182380216383307,{"$f":"AD152*COS!$B152","v":-5.3540983232422787},150,180,6.4562410329985651,6.1823802163833079,6.456241032998566,{"$f":"AJ152*COS!$B152","v":-5.5912687475322445},150,180,7.0011668611435232,6.6976744186046515,7.0011668611435223,{"$f":"AP152*COS!$B152","v":-6.0631883578840506}]
[151,150,180,3.7033227034255733,3.2128514056224899,3.6869736601654699,{"$f":"F153*COS!$B153","v":-3.2246998228845891},150,180,4.598875830352581,4.0853381752156146,4.5817579085146818,{"$f":"L153*COS!$B153","v":-4.0072957601287209},150,180,5.4013503375843959,4.8432665141934619,5.3827475434713659,{"$f":"R153*COS!$B153","v":-4.7078570800762281},150,180,5.8890888270898092,5.5104852288382062,5.8764687071480886,{"$f":"X153*COS!$B153","v":-5.1396753396596848},150,180,6.1823802163833079,5.9161873459326211,6.1735071207016174,{"$f":"AD153*COS!$B153","v":-5.3994709899310225},150,180,6.4562410329985651,6.1823802163833079,6.4471123391113903,{"$f":"AJ153*COS!$B153","v":-5.6387715059283892},150,180,7.0011668611435232,6.6976744186046515,6.9910504463922267,{"$f":"AP153*COS!$B153","v":-6.114510494020311}]
[152,150,180,3.7033227034255733,3.2128514056224899,3.6706246169053669,{"$f":"F154*COS!$B154","v":-3.240969169785314},150,180,4.598875830352581,4.0853381752156146,4.5646399866767826,{"$f":"L154*COS!$B154","v":-4.030337888503869},150,180,5.4013503375843959,4.8432665141934619,5.364144749358335,{"$f":"R154*COS!$B154","v":-4.7362586941927933},150,180,5.8890888270898092,5.5104852288382062,5.8638485872063688,{"$f":"X154*COS!$B154","v":-5.1774709949630822},150,180,6.1823802163833079,5.9161873459326211,6.1646340250199279,{"$f":"AD154*COS!$B154","v":-5.4430487732475825},150,180,6.4562410329985651,6.1823802163833079,6.4379836452242154,{"$f":"AJ154*COS!$B154","v":-5.6844021624158598},150,180,7.0011668611435232,6.6976744186046515,6.9809340316409312,{"$f":"AP154*COS!$B154","v":-6.1637988991443233}]
[153,150,180,3.7033227034255733,3.2128514056224899,3.6542755736452643,{"$f":"F155*COS!$B155","v":-3.255983377300121},150,180,4.598875830352581,4.0853381752156146,4.5475220648388843,{"$f":"L155*COS!$B155","v":-4.0518718286620032},150,180,5.4013503375843959,4.8432665141934619,5.3455419552453041,{"$f":"R155*COS!$B155","v":-4.7629127574462098},150,180,5.8890888270898092,5.5104852288382062,5.8512284672646491,{"$f":"X155*COS!$B155","v":-5.213482738849506},150,180,6.1823802163833079,5.9161873459326211,6.1557609293382383,{"$f":"AD155*COS!$B155","v":-5.4848231493842201},150,180,6.4562410329985651,6.1823802163833079,6.4288549513370397,{"$f":"AJ155*COS!$B155","v":-5.7281517047019941},150,180,7.0011668611435232,6.6976744186046515,6.9708176168896347,{"$f":"AP155*COS!$B155","v":-6.2110439755758744}]
[154,150,180,3.7033227034255733,3.2128514056224899,3.6379265303851613,{"$f":"F156*COS!$B156","v":-3.2697467063839687},150,180,4.598875830352581,4.0853381752156146,4.530404143000986,{"$f":"L156*COS!$B156","v":-4.0719002710583663},150,180,5.4013503375843959,4.8432665141934619,5.3269391611322723,{"$f":"R156*COS!$B156","v":-4.7878212030235652},150,180,5.8890888270898092,5.5104852288382062,5.8386083473229284,{"$f":"X156*COS!$B156","v":-5.247706421246467},150,180,6.1823802163833079,5.9161873459326211,6.1468878336565487,{"$f":"AD156*COS!$B156","v":-5.5247861881592906},150,180,6.4562410329985651,6.1823802163833079,6.4197262574498648,{"$f":"AJ156*COS!$B156","v":-5.7700117390663719},150,180,7.0011668611435232,6.6976744186046515,6.9607012021383392,{"$f":"AP156*COS!$B156","v":-6.2562367985493941}]
[155,150,180,3.7033227034255733,3.2128514056224899,3.6215774871250588,{"$f":"F157*COS!$B157","v":-3.2822638779380635},150,180,4.598875830352581,4.0853381752156146,4.5132862211630869,{"$f":"L157*COS!$B157","v":-4.0904264473653216},150,180,5.4013503375843959,4.8432665141934619,5.3083363670192414,{"$f":"R157*COS!$B157","v":-4.8109865856393785},150,180,5.8890888270898092,5.5104852288382062,5.8259882273812087,{"$f":"X157*COS!$B157","v":-5.2801384976594381},150,180,6.1823802163833079,5.9161873459326211,6.1380147379748591,{"$f":"AD157*COS!$B157","v":-5.562930553972337},150,180,6.4562410329985651,6.1823802163833079,6.4105975635626891,{"$f":"AJ157*COS!$B157","v":-5.8099744914150406},150,180,7.0011668611435232,6.6976744186046515,6.9505847873870437,{"$f":"AP157*COS!$B157","v":-6.2993691172673554}]
[156,150,180,3.7033227034255733,3.2128514056224899,3.6052284438649558,{"$f":"F158*COS!$B158","v":-3.2935400686567324},150,180,4.598875830352581,4.0853381752156146,4.4961682993251877,{"$f":"L158*COS!$B158","v":-4.1074541266451829},150,180,5.4013503375843959,4.8432665141934619,5.2897335729062096,{"$f":"R158*COS!$B158","v":-4.8324120776680326},150,180,5.8890888270898092,5.5104852288382062,5.813368107439489,{"$f":"X158*COS!$B158","v":-5.3107760281557077},150,180,6.1823802163833079,5.9161873459326211,6.1291416422931695,{"$f":"AD158*COS!$B158","v":-5.5992495065650347},150,180,6.4562410329985651,6.1823802163833079,6.4014688696755142,{"$f":"AJ158*COS!$B158","v":-5.8480328081325794},150,180,7.0011668611435232,6.6976744186046515,6.9404683726357481,{"$f":"AP158*COS!$B158","v":-6.3404333557335208}]
[157,150,180,3.7033227034255733,3.2128514056224899,3.5888794006048532,{"$f":"F159*COS!$B159","v":-3.3035809067122517},150,180,4.598875830352581,4.0853381752156146,4.4790503774872885,{"$f":"L159*COS!$B159","v":-4.1229876113350334},150,180,5.4013503375843959,4.8432665141934619,5.2711307787931787,{"$f":"R159*COS!$B159","v":-4.8521014650616614},150,180,5.8890888270898092,5.5104852288382062,5.8007479874977683,{"$f":"X159*COS!$B159","v":-5.3396166761461705},150,180,6.1823802163833079,5.9161873459326211,6.1202685466114799,{"$f":"AD159*COS!$B159","v":-5.6337369015881791},150,180,6.4562410329985651,6.1823802163833079,6.3923401757883394,{"$f":"AJ159*COS!$B159","v":-5.8841801567321905},150,180,7.0011668611435232,6.6976744186046515,6.9303519578844526,{"$f":"AP159*COS!$B159","v":-6.3794226133662599}]
[158,150,180,3.7033227034255733,3.2128514056224899,3.5725303573447502,{"$f":"F160*COS!$B160","v":-3.3123924672797678},150,180,4.598875830352581,4.0853381752156146,4.4619324556493893,{"$f":"L160*COS!$B160","v":-4.1370317330456512},150,180,5.4013503375843959,4.8432665141934619,5.2525279846801478,{"$f":"R160*COS!$B160","v":-4.8700591430556583},150,180,5.8890888270898092,5.5104852288382062,5.7881278675560486,{"$f":"X160*COS!$B160","v":-5.3666587069660565},150,180,6.1823802163833079,5.9161873459326211,6.1113954509297903,{"$f":"AD160*COS!$B160","v":-5.6663871909750121},150,180,6.4562410329985651,6.1823802163833079,6.3832114819011636,{"$f":"AJ160*COS!$B160","v":-5.9184106263040954},150,180,7.0011668611435232,6.6976744186046515,6.9202355431331561,{"$f":"AP160*COS!$B160","v":-6.4163306653922847}]
[159,150,180,3.7033227034255733,3.2128514056224899,3.5561813140846477,{"$f":"F161*COS!$B161","v":-3.3199812679045246},150,180,4.598875830352581,4.0853381752156146,4.4448145338114911,{"$f":"L161*COS!$B161","v":-4.1495918481766925},150,180,5.4013503375843959,4.8432665141934619,5.2339251905671169,{"$f":"R161*COS!$B161","v":-4.8862901116640973},150,180,5.8890888270898092,5.5104852288382062,5.7755077476143288,{"$f":"X161*COS!$B161","v":-5.3919009862556777},150,180,6.1823802163833079,5.9161873459326211,6.1025223552481007,{"$f":"AD161*COS!$B161","v":-5.6971954231212303},150,180,6.4562410329985651,6.1823802163833079,6.3740827880139888,{"$f":"AJ161*COS!$B161","v":-5.9507189277625727},150,180,7.0011668611435232,6.6976744186046515,6.9101191283818606,{"$f":"AP161*COS!$B161","v":-6.4511519630212097}]
[160,{"$f":"INDEX(PolaireBase,MATCH($A162,AngleBase),1)","v":150},{"$f":"INDEX(PolaireBase,MIN(MATCH($A162,AngleBase)+1, ROWS(AngleBase)),1)","v":180},{"$f":"INDEX(PolaireBase,MATCH($A162,AngleBase),INT((COLUMN()-2)/6)+3)","v":3.7033227034255733},{"$f":"INDEX(PolaireBase,MIN(MATCH($A162,AngleBase)+1,ROWS(AngleBase)),INT((COLUMN()-2)/6)+3)","v":3.2128514056224899},{"$f":"IF(B162=C162, D162, TREND(D162:E162,B162:C162,$A162))","v":3.5398322708245447},{"$f":"F162*COS!$B162","v":-3.3263542637136494},{"$f":"INDEX(PolaireBase,MATCH($A162,AngleBase),1)","v":150},{"$f":"INDEX(PolaireBase,MIN(MATCH($A162,AngleBase)+1, ROWS(AngleBase)),1)","v":180},{"$f":"INDEX(PolaireBase,MATCH($A162,AngleBase),INT((COLUMN()-2)/6)+3)","v":4.598875830352581},{"$f":"INDEX(PolaireBase,MIN(MATCH($A162,AngleBase)+1,ROWS(AngleBase)),INT((COLUMN()-2)/6)+3)","v":4.0853381752156146},{"$f":"IF(H162=I162, J162, TREND(J162:K162,H162:I162,$A162))","v":4.4276966119735928},{"$f":"L162*COS!$B162","v":-4.1606738333503523},{"$f":"INDEX(PolaireBase,MATCH($A162,AngleBase),1)","v":150},{"$f":"INDEX(PolaireBase,MIN(MATCH($A162,AngleBase)+1, ROWS(AngleBase)),1)","v":180},{"$f":"INDEX(PolaireBase,MATCH($A162,AngleBase),INT((COLUMN()-2)/6)+3)","v":5.4013503375843959},{"$f":"INDEX(PolaireBase,MIN(MATCH($A162,AngleBase)+1,ROWS(AngleBase)),INT((COLUMN()-2)/6)+3)","v":4.8432665141934619},{"$f":"IF(N162=O162, P162, TREND(P162:Q162,N162:O162,$A162))","v":5.215322396454086},{"$f":"R162*COS!$B162","v":-4.900799970967384},{"$f":"INDEX(PolaireBase,MATCH($A162,AngleBase),1)","v":150},{"$f":"INDEX(PolaireBase,MIN(MATCH($A162,AngleBase)+1, ROWS(AngleBase)),1)","v":180},{"$f":"INDEX(PolaireBase,MATCH($A162,AngleBase),INT((COLUMN()-2)/6)+3)","v":5.8890888270898092},{"$f":"INDEX(PolaireBase,MIN(MATCH($A162,AngleBase)+1,ROWS(AngleBase)),INT((COLUMN()-2)/6)+3)","v":5.5104852288382062},{"$f":"IF(T162=U162, V162, TREND(V162:W162,T162:U162,$A162))","v":5.7628876276726082},{"$f":"X162*COS!$B162","v":-5.415342978142359},{"$f":"INDEX(PolaireBase,MATCH($A162,AngleBase),1)","v":150},{"$f":"INDEX(PolaireBase,MIN(MATCH($A162,AngleBase)+1, ROWS(AngleBase)),1)","v":180},{"$f":"INDEX(PolaireBase,MATCH($A162,AngleBase),INT((COLUMN()-2)/6)+3)","v":6.1823802163833079},{"$f":"INDEX(PolaireBase,MIN(MATCH($A162,AngleBase)+1,ROWS(AngleBase)),INT((COLUMN()-2)/6)+3)","v":5.9161873459326211},{"$f":"IF(Z162=AA162, AB162, TREND(AB162:AC162,Z162:AA162,$A162))","v":6.0936492595664111},{"$f":"AD162*COS!$B162","v":-5.7261572428720706},{"$f":"INDEX(PolaireBase,MATCH($A162,AngleBase),1)","v":150},{"$f":"INDEX(PolaireBase,MIN(MATCH($A162,AngleBase)+1, ROWS(AngleBase)),1)","v":180},{"$f":"INDEX(PolaireBase,MATCH($A162,AngleBase),INT((COLUMN()-2)/6)+3)","v":6.4562410329985651},{"$f":"INDEX(PolaireBase,MIN(MATCH($A162,AngleBase)+1,ROWS(AngleBase)),INT((COLUMN()-2)/6)+3)","v":6.1823802163833079},{"$f":"IF(AF162=AG162, AH162, TREND(AH162:AI162,AF162:AG162,$A162))","v":6.364954094126813},{"$f":"AJ162*COS!$B162","v":-5.9811003938920217},{"$f":"INDEX(PolaireBase,MATCH($A162,AngleBase),1)","v":150},{"$f":"INDEX(PolaireBase,MIN(MATCH($A162,AngleBase)+1, ROWS(AngleBase)),1)","v":180},{"$f":"INDEX(PolaireBase,MATCH($A162,AngleBase),INT((COLUMN()-2)/6)+3)","v":7.0011668611435232},{"$f":"INDEX(PolaireBase,MIN(MATCH($A162,AngleBase)+1,ROWS(AngleBase)),INT((COLUMN()-2)/6)+3)","v":6.6976744186046515},{"$f":"IF(AL162=AM162, AN162, TREND(AN162:AO162,AL162:AM162,$A162))","v":6.9000027136305651},{"$f":"AP162*COS!$B162","v":-6.4838816334013849}]
[161,150,180,3.7033227034255733,3.2128514056224899,3.5234832275644421,{"$f":"F163*COS!$B163","v":-3.3315188424748143},150,180,4.598875830352581,4.0853381752156146,4.4105786901356936,{"$f":"L163*COS!$B163","v":-4.1702840806658008},150,180,5.4013503375843959,4.8432665141934619,5.1967196023410542,{"$f":"R163*COS!$B163","v":-4.9135949161945609},150,180,5.8890888270898092,5.5104852288382062,5.7502675077308876,{"$f":"X163*COS!$B163","v":-5.436984743224742},150,180,6.1823802163833079,5.9161873459326211,6.0847761638847215,{"$f":"AD163*COS!$B163","v":-5.7532688913169565},150,180,6.4562410329985651,6.1823802163833079,6.3558254002396382,{"$f":"AJ163*COS!$B163","v":-6.0095509791925394},150,180,7.0011668611435232,6.6976744186046515,6.8898862988792695,{"$f":"AP163*COS!$B163","v":-6.5145154793575752}]
[162,150,180,3.7033227034255733,3.2128514056224899,3.5071341843043395,{"$f":"F164*COS!$B164","v":-3.3354828195041302},150,180,4.598875830352581,4.0853381752156146,4.3934607682977944,{"$f":"L164*COS!$B164","v":-4.1784294927767291},150,180,5.4013503375843959,4.8432665141934619,5.1781168082280233,{"$f":"R164*COS!$B164","v":-4.9246817326027239},150,180,5.8890888270898092,5.5104852288382062,5.7376473877891678,{"$f":"X164*COS!$B164","v":-5.4568269363607538},150,180,6.1823802163833079,5.9161873459326211,6.0759030682030328,{"$f":"AD164*COS!$B164","v":-5.7785272053922112},150,180,6.4562410329985651,6.1823802163833079,6.3466967063524624,{"$f":"AJ164*COS!$B164","v":-6.0360672595254981},150,180,7.0011668611435232,6.6976744186046515,6.879769884127974,{"$f":"AP164*COS!$B164","v":-6.5430499789110632}]
[163,150,180,3.7033227034255733,3.2128514056224899,3.4907851410442365,{"$f":"F165*COS!$B165","v":-3.3382544324256989},150,180,4.598875830352581,4.0853381752156146,4.3763428464598952,{"$f":"L165*COS!$B165","v":-4.1851174777944058},150,180,5.4013503375843959,4.8432665141934619,5.1595140141149916,{"$f":"R165*COS!$B165","v":-4.9340677901560985},150,180,5.8890888270898092,5.5104852288382062,5.7250272678474481,{"$f":"X165*COS!$B165","v":-5.4748708042605774},150,180,6.1823802163833079,5.9161873459326211,6.0670299725213432,{"$f":"AD165*COS!$B165","v":-5.8019296172924451},150,180,6.4562410329985651,6.1823802163833079,6.3375680124652876,{"$f":"AJ165*COS!$B165","v":-6.0606464315597561},150,180,7.0011668611435232,6.6976744186046515,6.8696534693766775,{"$f":"AP165*COS!$B165","v":-6.5694822845828833}]
[164,150,180,3.7033227034255733,3.2128514056224899,3.474436097784134,{"$f":"F166*COS!$B166","v":-3.3398423357852907},150,180,4.598875830352581,4.0853381752156146,4.3592249246219961,{"$f":"L166*COS!$B166","v":-4.1903559440187292},150,180,5.4013503375843959,4.8432665141934619,5.1409112200019607,{"$f":"R166*COS!$B166","v":-4.9417610380074155},150,180,5.8890888270898092,5.5104852288382062,5.7124071479057275,{"$f":"X166*COS!$B166","v":-5.4911181828860336},150,180,6.1823802163833079,5.9161873459326211,6.0581568768396536,{"$f":"AD166*COS!$B166","v":-5.8234741536912731},150,180,6.4562410329985651,6.1823802163833079,6.3284393185781127,{"$f":"AJ166*COS!$B166","v":-6.0832863120191343},150,180,7.0011668611435232,6.6976744186046515,6.859537054625382,{"$f":"AP166*COS!$B166","v":-6.5938102224809336}]
[165,150,180,3.7033227034255733,3.2128514056224899,3.458087054524031,{"$f":"F167*COS!$B167","v":-3.3402555955206545},150,180,4.598875830352581,4.0853381752156146,4.3421070027840978,{"$f":"L167*COS!$B167","v":-4.1941532944997792},150,180,5.4013503375843959,4.8432665141934619,5.1223084258889298,{"$f":"R167*COS!$B167","v":-4.9477699987842207},150,180,5.8890888270898092,5.5104852288382062,5.6997870279640077,{"$f":"X167*COS!$B167","v":-5.505571494657846},150,180,6.1823802163833079,5.9161873459326211,6.0492837811579641,{"$f":"AD167*COS!$B167","v":-5.8431594347720655},150,180,6.4562410329985651,6.1823802163833079,6.319310624690937,{"$f":"AJ167*COS!$B167","v":-6.1039853367318813},150,180,7.0011668611435232,6.6976744186046515,6.8494206398740864,{"$f":"AP167*COS!$B167","v":-6.6160322911717753}]
[166,150,180,3.7033227034255733,3.2128514056224899,3.4417380112639284,{"$f":"F168*COS!$B168","v":-3.3395036832910372},150,180,4.598875830352581,4.0853381752156146,4.3249890809461995,{"$f":"L168*COS!$B168","v":-4.1965184214324474},150,180,5.4013503375843959,4.8432665141934619,5.1037056317758989,{"$f":"R168*COS!$B168","v":-4.9521037626828894},150,180,5.8890888270898092,5.5104852288382062,5.687166908022288,{"$f":"X168*COS!$B168","v":-5.5182337454722994},150,180,6.1823802163833079,5.9161873459326211,6.0404106854762745,{"$f":"AD168*COS!$B168","v":-5.860984673069491},150,180,6.4562410329985651,6.1823802163833079,6.3101819308037621,{"$f":"AJ168*COS!$B168","v":-6.1227425594829059},150,180,7.0011668611435232,6.6976744186046515,6.8393042251227909,{"$f":"AP168*COS!$B168","v":-6.6361476603380094}]
[167,150,180,3.7033227034255733,3.2128514056224899,3.4253889680038254,{"$f":"F169*COS!$B169","v":-3.3375964706685175},150,180,4.598875830352581,4.0853381752156146,4.3078711591083003,{"$f":"L169*COS!$B169","v":-4.1974607003868014},150,180,5.4013503375843959,4.8432665141934619,5.085102837662868,{"$f":"R169*COS!$B169","v":-4.9547719813731526},150,180,5.8890888270898092,5.5104852288382062,5.6745467880805673,{"$f":"X169*COS!$B169","v":-5.5291085215289106},150,180,6.1823802163833079,5.9161873459326211,6.0315375897945849,{"$f":"AD169*COS!$B169","v":-5.8769496721227314},150,180,6.4562410329985651,6.1823802163833079,6.3010532369165864,{"$f":"AJ169*COS!$B169","v":-6.1395576506696301},150,180,7.0011668611435232,6.6976744186046515,6.8291878103714954,{"$f":"AP169*COS!$B169","v":-6.6541561692222126}]
[168,150,180,3.7033227034255733,3.2128514056224899,3.4090399247437229,{"$f":"F170*COS!$B170","v":-3.3345442231938258},150,180,4.598875830352581,4.0853381752156146,4.2907532372704011,{"$f":"L170*COS!$B170","v":-4.1969899843768523},150,180,5.4013503375843959,4.8432665141934619,5.0665000435498371,{"$f":"R170*COS!$B170","v":-4.955784861715995},150,180,5.8890888270898092,5.5104852288382062,5.6619266681388467,{"$f":"X170*COS!$B170","v":-5.5381999859707634},150,180,6.1823802163833079,5.9161873459326211,6.0226644941128953,{"$f":"AD170*COS!$B170","v":-5.8910548249412082},150,180,6.4562410329985651,6.1823802163833079,6.2919245430294115,{"$f":"AJ170*COS!$B170","v":-6.1544308957623652},150,180,7.0011668611435232,6.6976744186046515,6.8190713956201989,{"$f":"AP170*COS!$B170","v":-6.6700583248584211}]
[169,150,180,3.7033227034255733,3.2128514056224899,3.3926908814836199,{"$f":"F171*COS!$B171","v":-3.330357594299338},150,180,4.598875830352581,4.0853381752156146,4.273635315432502,{"$f":"L171*COS!$B171","v":-4.1951165977704763},150,180,5.4013503375843959,4.8432665141934619,5.0478972494368053,{"$f":"R171*COS!$B171","v":-4.9551531592978613},150,180,5.8890888270898092,5.5104852288382062,5.6493065481971279,{"$f":"X171*COS!$B171","v":-5.5455128753391918},150,180,6.1823802163833079,5.9161873459326211,6.0137913984312057,{"$f":"AD171*COS!$B171","v":-5.9033011122838133},150,180,6.4562410329985651,6.1823802163833079,6.2827958491422358,{"$f":"AJ171*COS!$B171","v":-6.1673631935701669},150,180,7.0011668611435232,6.6976744186046515,6.8089549808689034,{"$f":"AP171*COS!$B171","v":-6.6838553000922847}]
[170,150,180,3.7033227034255733,3.2128514056224899,3.3763418382235173,{"$f":"F172*COS!$B172","v":-3.3250476191020102},150,180,4.598875830352581,4.0853381752156146,4.2565173935946037,{"$f":"L172*COS!$B172","v":-4.1918513300432823},150,180,5.4013503375843959,4.8432665141934619,5.0292944553237744,{"$f":"R172*COS!$B172","v":-4.9528881717841626},150,180,5.8890888270898092,5.5104852288382062,5.6366864282554072,{"$f":"X172*COS!$B172","v":-5.5510524958446164},150,180,6.1823802163833079,5.9161873459326211,6.0049183027495161,{"$f":"AD172*COS!$B172","v":-5.9136901007526328},150,180,6.4562410329985651,6.1823802163833079,6.2736671552550609,{"$f":"AJ172*COS!$B172","v":-6.1783560543132277},150,180,7.0011668611435232,6.6976744186046515,6.7988385661176078,{"$f":"AP172*COS!$B172","v":-6.6955489313910235}]
[171,150,180,3.7033227034255733,3.2128514056224899,3.3599927949634143,{"$f":"F173*COS!$B173","v":-3.3186257080690331},150,180,4.598875830352581,4.0853381752156146,4.2393994717567045,{"$f":"L173*COS!$B173","v":-4.1872054293792829},150,180,5.4013503375843959,4.8432665141934619,5.0106916612107426,{"$f":"R173*COS!$B173","v":-4.9490017320951321},150,180,5.8890888270898092,5.5104852288382062,5.6240663083136866,{"$f":"X173*COS!$B173","v":-5.5548247194553673},150,180,6.1823802163833079,5.9161873459326211,5.9960452070678265,{"$f":"AD173*COS!$B173","v":-5.9222239407022501},150,180,6.4562410329985651,6.1823802163833079,6.2645384613678861,{"$f":"AJ173*COS!$B173","v":-6.1874115975028641},150,180,7.0011668611435232,6.6976744186046515,6.7887221513663123,{"$f":"AP173*COS!$B173","v":-6.7051417164444462}]
[172,150,180,3.7033227034255733,3.2128514056224899,3.3436437517033117,{"$f":"F174*COS!$B174","v":-3.311103640559057},150,180,4.598875830352581,4.0853381752156146,4.2222815499188062,{"$f":"L174*COS!$B174","v":-4.1811905961212599},150,180,5.4013503375843959,4.8432665141934619,4.9920888670977117,{"$f":"R174*COS!$B174","v":-4.9435062014071445},150,180,5.8890888270898092,5.5104852288382062,5.6114461883719668,{"$f":"X174*COS!$B174","v":-5.5568359798063529},150,180,6.1823802163833079,5.9161873459326211,5.9871721113861369,{"$f":"AD174*COS!$B174","v":-5.9289053639657396},150,180,6.4562410329985651,6.1823802163833079,6.2554097674807103,{"$f":"AJ174*COS!$B174","v":-6.1945325496302779},150,180,7.0011668611435232,6.6976744186046515,6.7786057366150168,{"$f":"AP174*COS!$B174","v":-6.7126368115582817}]
[173,150,180,3.7033227034255733,3.2128514056224899,3.3272947084432087,{"$f":"F175*COS!$B175","v":-3.3024935582418413},150,180,4.598875830352581,4.0853381752156146,4.205163628080907,{"$f":"L175*COS!$B175","v":-4.1738189760737638},150,180,5.4013503375843959,4.8432665141934619,4.9734860729846808,{"$f":"R175*COS!$B175","v":-4.9364144619826558},150,180,5.8890888270898092,5.5104852288382062,5.5988260684302471,{"$f":"X175*COS!$B175","v":-5.557093267929555},150,180,6.1823802163833079,5.9161873459326211,5.9782990157044473,{"$f":"AD175*COS!$B175","v":-5.9337376813985525},150,180,6.4562410329985651,6.1823802163833079,6.2462810735935355,{"$f":"AJ175*COS!$B175","v":-6.1997222416652891},150,180,7.0011668611435232,6.6976744186046515,6.7684893218637203,{"$f":"AP175*COS!$B175","v":-6.7180380288412165}]
[174,150,180,3.7033227034255733,3.2128514056224899,3.3109456651831062,{"$f":"F176*COS!$B176","v":-3.2928079583992713},150,180,4.598875830352581,4.0853381752156146,4.1880457062430079,{"$f":"L176*COS!$B176","v":-4.1651031536617547},150,180,5.4013503375843959,4.8432665141934619,4.9548832788716499,{"$f":"R176*COS!$B176","v":-4.9277399098319981},150,180,5.8890888270898092,5.5104852288382062,5.5862059484885265,{"$f":"X176*COS!$B176","v":-5.5556041278083326},150,180,6.1823802163833079,5.9161873459326211,5.9694259200227577,{"$f":"AD176*COS!$B176","v":-5.9367247802415317},150,180,6.4562410329985651,6.1823802163833079,6.2371523797063597,{"$f":"AJ176*COS!$B176","v":-6.2029846063663054},150,180,7.0011668611435232,6.6976744186046515,6.7583729071124248,{"$f":"AP176*COS!$B176","v":-6.7213498331870358}]
[175,150,180,3.7033227034255733,3.2128514056224899,3.2945966219230032,{"$f":"F177*COS!$B177","v":-3.2820596871106709},150,180,4.598875830352581,4.0853381752156146,4.1709277844051087,{"$f":"L177*COS!$B177","v":-4.1550561449479204},150,180,5.4013503375843959,4.8432665141934619,4.936280484758619,{"$f":"R177*COS!$B177","v":-4.9174964472102882},150,180,5.8890888270898092,5.5104852288382062,5.5735858285468067,{"$f":"X177*COS!$B177","v":-5.5523766517576174},150,180,6.1823802163833079,5.9161873459326211,5.9605528243410681,{"$f":"AD177*COS!$B177","v":-5.9378711213043518},150,180,6.4562410329985651,6.1823802163833079,6.2280236858191849,{"$f":"AJ177*COS!$B177","v":-6.2043241754028831},150,180,7.0011668611435232,6.6976744186046515,6.7482564923611292,{"$f":"AP177*COS!$B177","v":-6.7225773390533572}]
[176,150,180,3.7033227034255733,3.2128514056224899,3.2782475786629006,{"$f":"F178*COS!$B178","v":-3.2702619323254249},150,180,4.598875830352581,4.0853381752156146,4.1538098625672104,{"$f":"L178*COS!$B178","v":-4.1436913905117505},150,180,5.4013503375843959,4.8432665141934619,4.9176776906455872,{"$f":"R178*COS!$B178","v":-4.905698474952791},150,180,5.8890888270898092,5.5104852288382062,5.560965708605087,{"$f":"X178*COS!$B178","v":-5.5474194756320836},150,180,6.1823802163833079,5.9161873459326211,5.9516797286593786,{"$f":"AD178*COS!$B178","v":-5.9371817359707411},150,180,6.4562410329985651,6.1823802163833079,6.2188949919320091,{"$f":"AJ178*COS!$B178","v":-6.2037460762922318},150,180,7.0011668611435232,6.6976744186046515,6.7381400776098337,{"$f":"AP178*COS!$B178","v":-6.7217263070385123}]
[177,150,180,3.7033227034255733,3.2128514056224899,3.2618985354027976,{"$f":"F179*COS!$B179","v":-3.2574282168259217},150,180,4.598875830352581,4.0853381752156146,4.1366919407293112,{"$f":"L179*COS!$B179","v":-4.1310227481935069},150,180,5.4013503375843959,4.8432665141934619,4.8990748965325563,{"$f":"R179*COS!$B179","v":-4.8923608846521187},150,180,5.8890888270898092,5.5104852288382062,5.5483455886633664,{"$f":"X179*COS!$B179","v":-5.5407417738644895},150,180,6.1823802163833079,5.9161873459326211,5.942806632977689,{"$f":"AD179*COS!$B179","v":-5.9346622230269048},150,180,6.4562410329985651,6.1823802163833079,6.2097662980448343,{"$f":"AJ179*COS!$B179","v":-6.2012560291511454},150,180,7.0011668611435232,6.6976744186046515,6.7280236628585381,{"$f":"AP179*COS!$B179","v":-6.7188031402581858}]
[178,150,180,3.7033227034255733,3.2128514056224899,3.2455494921426951,{"$f":"F180*COS!$B180","v":-3.2435723910838941},150,180,4.598875830352581,4.0853381752156146,4.1195740188914129,{"$f":"L180*COS!$B180","v":-4.117064485706269},150,180,5.4013503375843959,4.8432665141934619,4.8804721024195246,{"$f":"R180*COS!$B180","v":-4.8774990506806732},150,180,5.8890888270898092,5.5104852288382062,5.5357254687216466,{"$f":"X180*COS!$B180","v":-5.5323532543363978},150,180,6.1823802163833079,5.9161873459326211,5.9339335372959994,{"$f":"AD180*COS!$B180","v":-5.9303187453145974},150,180,6.4562410329985651,6.1823802163833079,6.2006376041576594,{"$f":"AJ180*COS!$B180","v":-6.1968603432648282},150,180,7.0011668611435232,6.6976744186046515,6.7179072481072417,{"$f":"AP180*COS!$B180","v":-6.7138148805234739}]
[179,150,180,3.7033227034255733,3.2128514056224899,3.2292004488825921,{"$f":"F181*COS!$B181","v":-3.2287086260132436},150,180,4.598875830352581,4.0853381752156146,4.1024560970535138,{"$f":"L181*COS!$B181","v":-4.1018312731192408},150,180,5.4013503375843959,4.8432665141934619,4.8618693083064937,{"$f":"R181*COS!$B181","v":-4.861128822061846},150,180,5.8890888270898092,5.5104852288382062,5.5231053487799269,{"$f":"X181*COS!$B181","v":-5.5222641530835466},150,180,6.1823802163833079,5.9161873459326211,5.9250604416143098,{"$f":"AD181*COS!$B181","v":-5.9241580262103772},150,180,6.4562410329985651,6.1823802163833079,6.1915089102704837,{"$f":"AJ181*COS!$B181","v":-6.1905659134742033},150,180,7.0011668611435232,6.6976744186046515,6.7077908333559462,{"$f":"AP181*COS!$B181","v":-6.7067692043221117}]
[180,180,0,3.2128514056224899,0,3.2128514056224891,{"$f":"F182*COS!$B182","v":-3.2128514056224891},180,0,4.0853381752156146,0,4.0853381752156137,{"$f":"L182*COS!$B182","v":-4.0853381752156137},180,0,4.8432665141934619,0,4.843266514193461,{"$f":"R182*COS!$B182","v":-4.843266514193461},180,0,5.5104852288382062,0,5.5104852288382062,{"$f":"X182*COS!$B182","v":-5.5104852288382062},180,0,5.9161873459326211,0,5.9161873459326202,{"$f":"AD182*COS!$B182","v":-5.9161873459326202},180,0,6.1823802163833079,0,6.1823802163833079,{"$f":"AJ182*COS!$B182","v":-6.1823802163833079},180,0,6.6976744186046515,0,6.6976744186046506,{"$f":"AP182*COS!$B182","v":-6.6976744186046506}]
[181,null,null,null,null,{"$f":"INDEX($1:$370,364-ROW(),COLUMN())","v":3.2292004488825921},-3.2287086260132436,null,null,null,null,{"$f":"INDEX($1:$370,364-ROW(),COLUMN())","v":4.1024560970535138},-4.1018312731192408,null,null,null,null,{"$f":"INDEX($1:$370,364-ROW(),COLUMN())","v":4.8618693083064937},-4.861128822061846,null,null,null,null,{"$f":"INDEX($1:$370,364-ROW(),COLUMN())","v":5.5231053487799269},-5.5222641530835466,null,null,null,null,{"$f":"INDEX($1:$370,364-ROW(),COLUMN())","v":5.9250604416143098},-5.9241580262103772,null,null,null,null,{"$f":"INDEX($1:$370,364-ROW(),COLUMN())","v":6.1915089102704837},-6.1905659134742033,null,null,null,null,{"$f":"INDEX($1:$370,364-ROW(),COLUMN())","v":6.7077908333559462},-6.7067692043221117]
[182,null,null,null,null,3.2455494921426951,-3.2435723910838941,null,null,null,null,4.1195740188914129,-4.117064485706269,null,null,null,null,4.8804721024195246,-4.8774990506806732,null,null,null,null,5.5357254687216466,-5.5323532543363978,null,null,null,null,5.9339335372959994,-5.9303187453145974,null,null,null,null,6.2006376041576594,-6.1968603432648282,null,null,null,null,6.7179072481072417,-6.7138148805234739]
[183,null,null,null,null,3.2618985354027976,-3.2574282168259217,null,null,null,null,4.1366919407293112,-4.1310227481935069,null,null,null,null,4.8990748965325563,-4.8923608846521187,null,null,null,null,5.5483455886633664,-5.5407417738644895,null,null,null,null,5.942806632977689,-5.9346622230269048,null,null,null,null,6.2097662980448343,-6.2012560291511454,null,null,null,null,6.7280236628585381,-6.7188031402581858]
[184,null,null,null,null,3.2782475786629006,-3.2702619323254249,null,null,null,null,4.1538098625672104,-4.1436913905117505,null,null,null,null,4.9176776906455872,-4.905698474952791,null,null,null,null,5.560965708605087,-5.5474194756320836,null,null,null,null,5.9516797286593786,-5.9371817359707411,null,null,null,null,6.2188949919320091,-6.2037460762922318,null,null,null,null,6.7381400776098337,-6.7217263070385123]
[185,null,null,null,null,3.2945966219230032,-3.2820596871106709,null,null,null,null,4.1709277844051087,-4.1550561449479204,null,null,null,null,4.936280484758619,-4.9174964472102882,null,null,null,null,5.5735858285468067,-5.5523766517576174,null,null,null,null,5.9605528243410681,-5.9378711213043518,null,null,null,null,6.2280236858191849,-6.2043241754028831,null,null,null,null,6.7482564923611292,-6.7225773390533572]
[186,null,null,null,null,3.3109456651831062,-3.2928079583992713,null,null,null,null,4.1880457062430079,-4.1651031536617547,null,null,null,null,4.9548832788716499,-4.9277399098319981,null,null,null,null,5.5862059484885265,-5.5556041278083326,null,null,null,null,5.9694259200227577,-5.9367247802415317,null,null,null,null,6.2371523797063597,-6.2029846063663054,null,null,null,null,6.7583729071124248,-6.7213498331870358]
[187,null,null,null,null,3.3272947084432087,-3.3024935582418413,null,null,null,null,4.205163628080907,-4.1738189760737638,null,null,null,null,4.9734860729846808,-4.9364144619826558,null,null,null,null,5.5988260684302471,-5.557093267929555,null,null,null,null,5.9782990157044473,-5.9337376813985525,null,null,null,null,6.2462810735935355,-6.1997222416652891,null,null,null,null,6.7684893218637203,-6.7180380288412165]
[188,null,null,null,null,3.3436437517033117,-3.311103640559057,null,null,null,null,4.2222815499188062,-4.1811905961212599,null,null,null,null,4.9920888670977117,-4.9435062014071445,null,null,null,null,5.6114461883719668,-5.5568359798063529,null,null,null,null,5.9871721113861369,-5.9289053639657396,null,null,null,null,6.2554097674807103,-6.1945325496302779,null,null,null,null,6.7786057366150168,-6.7126368115582817]
[189,null,null,null,null,3.3599927949634143,-3.3186257080690331,null,null,null,null,4.2393994717567045,-4.1872054293792829,null,null,null,null,5.0106916612107426,-4.9490017320951321,null,null,null,null,5.6240663083136866,-5.5548247194553673,null,null,null,null,5.9960452070678265,-5.9222239407022501,null,null,null,null,6.2645384613678861,-6.1874115975028641,null,null,null,null,6.7887221513663123,-6.7051417164444462]
[190,null,null,null,null,3.3763418382235173,-3.3250476191020102,null,null,null,null,4.2565173935946037,-4.1918513300432823,null,null,null,null,5.0292944553237744,-4.9528881717841626,null,null,null,null,5.6366864282554072,-5.5510524958446164,null,null,null,null,6.0049183027495161,-5.9136901007526328,null,null,null,null,6.2736671552550609,-6.1783560543132277,null,null,null,null,6.7988385661176078,-6.6955489313910235]
[191,null,null,null,null,3.3926908814836199,-3.330357594299338,null,null,null,null,4.273635315432502,-4.1951165977704763,null,null,null,null,5.0478972494368053,-4.9551531592978613,null,null,null,null,5.6493065481971279,-5.5455128753391918,null,null,null,null,6.0137913984312057,-5.9033011122838133,null,null,null,null,6.2827958491422358,-6.1673631935701669,null,null,null,null,6.8089549808689034,-6.6838553000922847]
[192,null,null,null,null,3.4090399247437229,-3.3345442231938258,null,null,null,null,4.2907532372704011,-4.1969899843768523,null,null,null,null,5.0665000435498371,-4.955784861715995,null,null,null,null,5.6619266681388467,-5.5381999859707634,null,null,null,null,6.0226644941128953,-5.8910548249412082,null,null,null,null,6.2919245430294115,-6.1544308957623652,null,null,null,null,6.8190713956201989,-6.6700583248584211]
[193,null,null,null,null,3.4253889680038254,-3.3375964706685175,null,null,null,null,4.3078711591083003,-4.1974607003868014,null,null,null,null,5.085102837662868,-4.9547719813731526,null,null,null,null,5.6745467880805673,-5.5291085215289106,null,null,null,null,6.0315375897945849,-5.8769496721227314,null,null,null,null,6.3010532369165864,-6.1395576506696301,null,null,null,null,6.8291878103714954,-6.6541561692222126]
[194,null,null,null,null,3.4417380112639284,-3.3395036832910372,null,null,null,null,4.3249890809461995,-4.1965184214324474,null,null,null,null,5.1037056317758989,-4.9521037626828894,null,null,null,null,5.687166908022288,-5.5182337454722994,null,null,null,null,6.0404106854762745,-5.860984673069491,null,null,null,null,6.3101819308037621,-6.1227425594829059,null,null,null,null,6.8393042251227909,-6.6361476603380094]
[195,null,null,null,null,3.458087054524031,-3.3402555955206545,null,null,null,null,4.3421070027840978,-4.1941532944997792,null,null,null,null,5.1223084258889298,-4.9477699987842207,null,null,null,null,5.6997870279640077,-5.505571494657846,null,null,null,null,6.0492837811579641,-5.8431594347720655,null,null,null,null,6.319310624690937,-6.1039853367318813,null,null,null,null,6.8494206398740864,-6.6160322911717753]
[196,null,null,null,null,3.474436097784134,-3.3398423357852907,null,null,null,null,4.3592249246219961,-4.1903559440187292,null,null,null,null,5.1409112200019607,-4.9417610380074155,null,null,null,null,5.7124071479057275,-5.4911181828860336,null,null,null,null,6.0581568768396536,-5.8234741536912731,null,null,null,null,6.3284393185781127,-6.0832863120191343,null,null,null,null,6.859537054625382,-6.5938102224809336]
[197,null,null,null,null,3.4907851410442365,-3.3382544324256989,null,null,null,null,4.3763428464598952,-4.1851174777944058,null,null,null,null,5.1595140141149916,-4.9340677901560985,null,null,null,null,5.7250272678474481,-5.4748708042605774,null,null,null,null,6.0670299725213432,-5.8019296172924451,null,null,null,null,6.3375680124652876,-6.0606464315597561,null,null,null,null,6.8696534693766775,-6.5694822845828833]
[198,null,null,null,null,3.5071341843043395,-3.3354828195041302,null,null,null,null,4.3934607682977944,-4.1784294927767291,null,null,null,null,5.1781168082280233,-4.9246817326027239,null,null,null,null,5.7376473877891678,-5.4568269363607538,null,null,null,null,6.0759030682030328,-5.7785272053922112,null,null,null,null,6.3466967063524624,-6.0360672595254981,null,null,null,null,6.879769884127974,-6.5430499789110632]
[199,null,null,null,null,3.5234832275644421,-3.3315188424748143,null,null,null,null,4.4105786901356936,-4.1702840806658008,null,null,null,null,5.1967196023410542,-4.9135949161945609,null,null,null,null,5.7502675077308876,-5.436984743224742,null,null,null,null,6.0847761638847215,-5.7532688913169565,null,null,null,null,6.3558254002396382,-6.0095509791925394,null,null,null,null,6.8898862988792695,-6.5145154793575752]
[200,null,null,null,null,3.5398322708245447,-3.3263542637136494,null,null,null,null,4.4276966119735928,-4.1606738333503523,null,null,null,null,5.215322396454086,-4.900799970967384,null,null,null,null,5.7628876276726082,-5.415342978142359,null,null,null,null,6.0936492595664111,-5.7261572428720706,null,null,null,null,6.364954094126813,-5.9811003938920217,null,null,null,null,6.9000027136305651,-6.4838816334013849]
[201,null,null,null,null,{"$f":"INDEX($1:$370,364-ROW(),COLUMN())","v":3.5561813140846477},-3.3199812679045246,null,null,null,null,{"$f":"INDEX($1:$370,364-ROW(),COLUMN())","v":4.4448145338114911},-4.1495918481766925,null,null,null,null,{"$f":"INDEX($1:$370,364-ROW(),COLUMN())","v":5.2339251905671169},-4.8862901116640973,null,null,null,null,{"$f":"INDEX($1:$370,364-ROW(),COLUMN())","v":5.7755077476143288},-5.3919009862556777,null,null,null,null,{"$f":"INDEX($1:$370,364-ROW(),COLUMN())","v":6.1025223552481007},-5.6971954231212303,null,null,null,null,{"$f":"INDEX($1:$370,364-ROW(),COLUMN())","v":6.3740827880139888},-5.9507189277625727,null,null,null,null,{"$f":"INDEX($1:$370,364-ROW(),COLUMN())","v":6.9101191283818606},-6.4511519630212097]
[202,null,null,null,null,3.5725303573447502,-3.3123924672797678,null,null,null,null,4.4619324556493893,-4.1370317330456512,null,null,null,null,5.2525279846801478,-4.8700591430556583,null,null,null,null,5.7881278675560486,-5.3666587069660565,null,null,null,null,6.1113954509297903,-5.6663871909750121,null,null,null,null,6.3832114819011636,-5.9184106263040954,null,null,null,null,6.9202355431331561,-6.4163306653922847]
[203,null,null,null,null,3.5888794006048532,-3.3035809067122517,null,null,null,null,4.4790503774872885,-4.1229876113350334,null,null,null,null,5.2711307787931787,-4.8521014650616614,null,null,null,null,5.8007479874977683,-5.3396166761461705,null,null,null,null,6.1202685466114799,-5.6337369015881791,null,null,null,null,6.3923401757883394,-5.8841801567321905,null,null,null,null,6.9303519578844526,-6.3794226133662599]
[204,null,null,null,null,3.6052284438649558,-3.2935400686567324,null,null,null,null,4.4961682993251877,-4.1074541266451829,null,null,null,null,5.2897335729062096,-4.8324120776680326,null,null,null,null,5.813368107439489,-5.3107760281557077,null,null,null,null,6.1291416422931695,-5.5992495065650347,null,null,null,null,6.4014688696755142,-5.8480328081325794,null,null,null,null,6.9404683726357481,-6.3404333557335208]
[205,null,null,null,null,3.6215774871250588,-3.2822638779380635,null,null,null,null,4.5132862211630869,-4.0904264473653216,null,null,null,null,5.3083363670192414,-4.8109865856393785,null,null,null,null,5.8259882273812087,-5.2801384976594381,null,null,null,null,6.1380147379748591,-5.562930553972337,null,null,null,null,6.4105975635626891,-5.8099744914150406,null,null,null,null,6.9505847873870437,-6.2993691172673554]
[206,null,null,null,null,3.6379265303851613,-3.2697467063839687,null,null,null,null,4.530404143000986,-4.0719002710583663,null,null,null,null,5.3269391611322723,-4.7878212030235652,null,null,null,null,5.8386083473229284,-5.247706421246467,null,null,null,null,6.1468878336565487,-5.5247861881592906,null,null,null,null,6.4197262574498648,-5.7700117390663719,null,null,null,null,6.9607012021383392,-6.2562367985493941]
[207,null,null,null,null,3.6542755736452643,-3.255983377300121,null,null,null,null,4.5475220648388843,-4.0518718286620032,null,null,null,null,5.3455419552453041,-4.7629127574462098,null,null,null,null,5.8512284672646491,-5.213482738849506,null,null,null,null,6.1557609293382383,-5.4848231493842201,null,null,null,null,6.4288549513370397,-5.7281517047019941,null,null,null,null,6.9708176168896347,-6.2110439755758744]
[208,null,null,null,null,3.6706246169053669,-3.240969169785314,null,null,null,null,4.5646399866767826,-4.030337888503869,null,null,null,null,5.364144749358335,-4.7362586941927933,null,null,null,null,5.8638485872063688,-5.1774709949630822,null,null,null,null,6.1646340250199279,-5.4430487732475825,null,null,null,null,6.4379836452242154,-5.6844021624158598,null,null,null,null,6.9809340316409312,-6.1637988991443233]
[209,null,null,null,null,3.6869736601654699,-3.2246998228845891,null,null,null,null,4.5817579085146818,-4.0072957601287209,null,null,null,null,5.3827475434713659,-4.7078570800762281,null,null,null,null,5.8764687071480886,-5.1396753396596848,null,null,null,null,6.1735071207016174,-5.3994709899310225,null,null,null,null,6.4471123391113903,-5.6387715059283892,null,null,null,null,6.9910504463922267,-6.114510494020311]
[210,null,null,null,null,3.7033227034255725,-3.2071715395782103,null,null,null,null,4.598875830352581,-3.9827432979355897,null,null,null,null,5.4013503375843968,-4.6777066070877416,null,null,null,null,5.8890888270898092,-5.1001005294028783,null,null,null,null,6.182380216383307,-5.3540983232422787,null,null,null,null,6.456241032998566,-5.5912687475322445,null,null,null,null,7.0011668611435223,-6.0631883578840506]
[211,null,null,null,null,3.727989173570589,-3.1955104169561999,null,null,null,null,4.6256174416624081,-3.9649280165503762,null,null,null,null,5.4223941883517561,-4.6478989897722958,null,null,null,null,5.901819841612145,-5.0588469828648499,null,null,null,null,6.194174900420923,-5.3094441794705771,null,null,null,null,6.4692020193693853,-5.5451884326395096,null,null,null,null,7.0102352506808217,-6.0089444271128745]
[212,null,null,null,null,3.7526556437156051,-3.182432474183686,null,null,null,null,4.652359052972237,-3.9454242375092186,null,null,null,null,5.4434380391191164,-4.6162972656204353,null,null,null,null,5.9145508561344808,-5.015823593165206,null,null,null,null,6.2059695844585381,-5.2629606909047491,null,null,null,null,6.4821630057402055,-5.4971859959935969,null,null,null,null,7.019303640218121,-5.9527070884308477]
[213,null,null,null,null,3.7773221138606212,-3.1679288825442975,null,null,null,null,4.6791006642820641,-3.92422401158725,null,null,null,null,5.4644818898864767,-4.5829001301185759,null,null,null,null,5.9272818706568158,-4.9710368528363675,null,null,null,null,6.217764268496154,-5.2146558904104348,null,null,null,null,6.4951239921110258,-5.447269327339705,null,null,null,null,7.0283720297554204,-5.8944887619267119]
[214,null,null,null,null,3.8019885840056373,-3.1519913865660136,null,null,null,null,4.7058422755918929,-3.9013200569835962,null,null,null,null,5.4855257406538378,-4.5477069442198541,null,null,null,null,5.9400128851791516,-4.9244938632745932,null,null,null,null,6.2295589525337682,-5.1645384320971228,null,null,null,null,6.5080849784818469,-5.3954469725425209,null,null,null,null,7.0374404192927198,-5.8343025222111704]
[215,null,null,null,null,3.8266550541506534,-3.1346123103963097,null,null,null,null,4.73258388690172,-3.8767057657246857,null,null,null,null,5.506569591421199,-4.5107177378322723,null,null,null,null,5.9527438997014874,-4.8762023345692969,null,null,null,null,6.2413536365713842,-5.1126175905279814,null,null,null,null,6.5210459648526671,-5.341728133011542,null,null,null,null,7.0465088088300192,-5.7721620958534974]
[216,null,null,null,null,3.8513215242956695,-3.1157845639572233,null,null,null,null,4.759325498211548,-3.8503752098151556,null,null,null,null,5.5276134421885592,-4.4719332130659453,null,null,null,null,5.9654749142238233,-4.8261705851245047,null,null,null,null,6.2531483206089993,-5.058903259719842,null,null,null,null,6.5340069512234873,-5.2861226649038384,null,null,null,null,7.0555771983673186,-5.7080818586035393]
[217,null,null,null,null,3.8759879944406856,-3.0955016488773208,null,null,null,null,4.786067109521376,-3.8223231471331771,null,null,null,null,5.5486572929559195,-4.4313547472374823,null,null,null,null,5.9782059287461582,-4.7744075410719384,null,null,null,null,6.2649430046466144,-5.0034059519331686,null,null,null,null,6.5469679375943084,-5.2286410781039043,null,null,null,null,7.0646455879046179,-5.642076832399562]
[218,null,null,null,null,3.9006544645857018,-3.0737576641976032,null,null,null,null,4.812808720831204,-3.7925450270672005,null,null,null,null,5.5697011437232806,-4.3889843956296035,null,null,null,null,5.990936943268494,-4.7209227354753569,null,null,null,null,6.2767376886842294,-4.946136796251773,null,null,null,null,6.5599289239651286,-5.1692945349802937,null,null,null,null,7.0737139774419173,-5.5741626821624077]
[219,null,null,null,null,3.9253209347307179,-3.0505473118484785,null,null,null,null,4.839550332141032,-3.761036995891144,null,null,null,null,5.5907449944906418,-4.3448248940041765,null,null,null,null,6.0036679577908298,-4.6657263073257624,null,null,null,null,6.2885323727218445,-4.887107536952203,null,null,null,null,6.5728899103359488,-5.1080948489188529,null,null,null,null,7.0827823669792167,-5.5043557123765421]
[220,null,null,null,null,3.949987404875734,-3.0258659018950085,null,null,null,null,4.86629194345086,-3.7277959018751829,null,null,null,null,5.611788845258002,-4.2988796608669579,null,null,null,null,6.0163989723131657,-4.6088290003272299,null,null,null,null,6.3003270567594605,-4.8263305316627303,null,null,null,null,6.5858508967067699,-5.0450544826323585,null,null,null,null,7.0918507565165161,-5.4326728634585963]
[221,null,null,null,null,{"$f":"INDEX($1:$370,364-ROW(),COLUMN())","v":3.9746538750207501},-2.9997093575477245,null,null,null,null,{"$f":"INDEX($1:$370,364-ROW(),COLUMN())","v":4.893033554760688},-3.692819300129377,null,null,null,null,{"$f":"INDEX($1:$370,364-ROW(),COLUMN())","v":5.6328326960253623},-4.2511527994824068,null,null,null,null,{"$f":"INDEX($1:$370,364-ROW(),COLUMN())","v":6.0291299868355015},-4.5502421614731485,null,null,null,null,{"$f":"INDEX($1:$370,364-ROW(),COLUMN())","v":6.3121217407970747},-4.7638187493119935,null,null,null,null,{"$f":"INDEX($1:$370,364-ROW(),COLUMN())","v":6.5988118830775901},-4.9801865462465278,null,null,null,null,{"$f":"INDEX($1:$370,364-ROW(),COLUMN())","v":7.1009191460538155},-5.3591317079141199]
[222,null,null,null,null,3.9993203451657662,-2.9720742199364047,null,null,null,null,4.919775166070516,-3.6561054571774907,null,null,null,null,5.6538765467927234,-4.2016490996370095,null,null,null,null,6.0418610013578373,-4.4899777394127431,null,null,null,null,6.3239164248346906,-4.6995857678674016,null,null,null,null,6.6117728694484104,-4.9135047951624076,null,null,null,null,7.1099875355911148,-5.2837504462833058]
[223,null,null,null,null,4.0239868153107823,-2.942957652644278,null,null,null,null,4.946516777380344,-3.6176533552584447,null,null,null,null,5.6749203975600846,-4.1503740391497024,null,null,null,null,6.0545920158801723,-4.4280482826078389,null,null,null,null,6.3357111088723057,-4.6336457718634598,null,null,null,null,6.6247338558192315,-4.8450236276952348,null,null,null,null,7.1190559251284142,-5.2065479028765536]
[224,null,null,null,null,4.0486532854557984,-2.9123574460001982,null,null,null,null,4.9732583886901711,-3.5774626963529097,null,null,null,null,5.6959642483274449,-4.0973337851279599,null,null,null,null,6.0673230304025081,-4.3644669372798406,null,null,null,null,6.3475057929099208,-4.5660135497202541,null,null,null,null,6.6376948421900517,-4.7747580824898863,null,null,null,null,7.1281243146657136,-5.1275435213007192]
[225,null,null,null,null,4.0733197556008136,-2.8802720211264656,null,null,null,null,5,-3.5355339059327373,null,null,null,null,5.717008099094806,-4.0425351949683508,null,null,null,null,6.0800540449248439,-4.2992474451470546,null,null,null,null,6.3593004769475359,-4.4967044908524478,null,null,null,null,6.6506558285608719,-4.7027238357132291,null,null,null,null,7.137192704203013,-5.0467573597771027]
[226,null,null,null,null,4.0779847307399111,-2.8328062278124584,null,null,null,null,5.0051282051282051,-3.4768542029127234,null,null,null,null,5.7201744986859975,-3.9735670959983254,null,null,null,null,6.0822506561339846,-4.2250863295131991,null,null,null,null,6.3614300610046541,-4.4190206399663712,null,null,null,null,6.6516919099584975,-4.6206534629670637,null,null,null,null,7.1319696904685257,-4.9542824433438239]
[227,null,null,null,null,4.0826497058790068,-2.7843604041191239,null,null,null,null,5.0102564102564102,-3.4169866552874919,null,null,null,null,5.7233408982771881,-3.9033091067036687,null,null,null,null,6.0844472673431254,-4.1495830582147608,null,null,null,null,6.3635596450617724,-4.3399372420920228,null,null,null,null,6.6527279913561213,-4.5371495800467532,null,null,null,null,7.1267466767340366,-4.8604295461134734]
[228,null,null,null,null,4.0873146810181025,-2.7349473508891062,null,null,null,null,5.0153846153846153,-3.3559473488151967,null,null,null,null,5.7265072978683786,-3.831781300541095,null,null,null,null,6.086643878552267,-4.0727597091461112,null,null,null,null,6.3656892291188907,-4.2594774937723763,null,null,null,null,6.6537640727537459,-4.4522371885704999,null,null,null,null,7.1215236629995475,-4.7652294468218441]
[229,null,null,null,null,4.0919796561571982,-2.6845801998674022,null,null,null,null,5.0205128205128204,-3.293752766060035,null,null,null,null,5.7296736974595692,-3.7590041623877757,null,null,null,null,6.0888404897614077,-3.994638779390955,null,null,null,null,6.367818813176009,-4.1776650273597387,null,null,null,null,6.6548001541513706,-4.365941727258428,null,null,null,null,7.1163006492650593,-4.6687132939613525]
[230,null,null,null,null,4.0966446312962947,-2.6332724102861396,null,null,null,null,5.0256410256410255,-3.2304197820144029,null,null,null,null,5.7328400970507607,-3.6849985826984066,null,null,null,null,6.0910371009705493,-3.9152431786448876,null,null,null,null,6.3699483972331272,-4.0945239040840846,null,null,null,null,6.6558362355489944,-4.2782890643135927,null,null,null,null,7.1110776355305703,-4.5709125956381031]
[231,null,null,null,null,4.1013096064353904,-2.5810377653383743,null,null,null,null,5.0307692307692307,-3.1659656595891814,null,null,null,null,5.7360064966419513,-3.6097858515311199,null,null,null,null,6.0932337121796909,-3.8345962225069745,null,null,null,null,6.3720779812902446,-4.0100786069856342,null,null,null,null,6.6568723169466191,-4.1893054896696826,null,null,null,null,7.1058546217960821,-4.4718592093320035]
[232,null,null,null,null,4.1059745815744861,-2.5278903685418008,null,null,null,null,5.0358974358974358,-3.1004080449733151,null,null,null,null,5.7391728962331419,-3.5333876524439272,null,null,null,null,6.0954303233888316,-3.7527216256423226,null,null,null,null,6.3742075653473629,-3.9243540337137297,null,null,null,null,6.6579083983442437,-4.0990177071077074,null,null,null,null,7.100631608061593,-4.3715853315632014]
[233,null,null,null,null,4.1106395567135818,-2.4738446399933101,null,null,null,null,5.0410256410256409,-3.0337649628639154,null,null,null,null,5.7423392958243333,-3.4558260562634384,null,null,null,null,6.0976269345979732,-3.6696434948176329,null,null,null,null,6.3763371494044812,-3.8373754891941241,null,null,null,null,6.6589444797418684,-4.007452826244057,null,null,null,null,7.0954085943271039,-4.2701234874682088]
[234,null,null,null,null,4.1153045318526784,-2.4189153125153844,null,null,null,null,5.046153846153846,-2.9660548115681715,null,null,null,null,5.7455056954155239,-3.3771235147276544,null,null,null,null,6.0998235458071139,-3.5853863218118018,null,null,null,null,6.3784667334615994,-3.7491686781668725,null,null,null,null,6.6599805611394922,-3.9146383543923426,null,null,null,null,7.0901855805926157,-4.1675065202890851]
[235,null,null,null,null,4.1199695069917741,-2.3631174276953169,null,null,null,null,5.0512820512820511,-2.8972963579783597,null,null,null,null,5.7486720950067145,-3.2973028540046521,null,null,null,null,6.1020201570162556,-3.499974976203633,null,null,null,null,6.3805963175187177,-3.6597596975969924,null,null,null,null,6.6610166425371169,-3.8206021883014474,null,null,null,null,7.0849625668581266,-4.0637675807790421]
[236,null,null,null,null,4.1246344821308698,-2.3064663318183207,null,null,null,null,5.0564102564102562,-2.8275087324213137,null,null,null,null,5.7518384945979051,-3.2163872680890111,null,null,null,null,6.1042167682253963,-3.4134346980387771,null,null,null,null,6.382725901575836,-3.5691750289601312,null,null,null,null,6.6620527239347416,-3.7253726057722649,null,null,null,null,7.0797395531236376,-3.9589401165278937]
[237,null,null,null,null,4.1292994572699655,-2.2489776716955889,null,null,null,null,5.0615384615384613,-2.7567114233837522,null,null,null,null,5.7550048941890957,-3.1344003120779069,null,null,null,null,6.1064133794345379,-3.3257910903780772,null,null,null,null,6.3848554856329542,-3.4774415304055344,null,null,null,null,6.6630888053323654,-3.6289782571556493,null,null,null,null,7.0745165393891494,-3.8530578612107553]
[238,null,null,null,null,4.1339644324090621,-2.1906673903884482,null,null,null,null,5.0666666666666664,-2.684924272114904,null,null,null,null,5.7581712937802871,-3.0513658953288108,null,null,null,null,6.1086099906436795,-3.2370701117295027,null,null,null,null,6.3869850696900725,-3.3845864287986274,null,null,null,null,6.66412488672999,-3.5314481567341454,null,null,null,null,7.0692935256546603,-3.7461548237634759]
[239,null,null,null,null,4.1386294075481578,-2.1315517228297418,null,null,null,null,5.0717948717948715,-2.6121674671079163,null,null,null,null,5.7613376933714777,-2.9673082745007786,null,null,null,null,6.1108066018528202,-3.1472980683659268,null,null,null,null,6.3891146537471908,-3.2906373116455709,null,null,null,null,6.6651609681276147,-3.4328116739900802,null,null,null,null,7.0640705119201712,-3.6382652774882467]
[240,null,null,null,null,4.1432943826872535,-2.0716471913436267,null,null,null,null,5.0769230769230766,-2.5384615384615383,null,null,null,null,5.7645040929626683,-2.8822520464813342,null,null,null,null,6.1130032130619618,-3.0565016065309809,null,null,null,null,6.3912442378043082,-3.1956221189021541,null,null,null,null,6.6661970495252394,-3.3330985247626197,null,null,null,null,7.058847498185683,-3.5294237490928415]
[241,null,null,null,null,{"$f":"INDEX($1:$370,364-ROW(),COLUMN())","v":4.1479593578263492},-2.0109706010650323,null,null,null,null,{"$f":"INDEX($1:$370,364-ROW(),COLUMN())","v":5.0820512820512818},-2.4638273521236922,null,null,null,null,{"$f":"INDEX($1:$370,364-ROW(),COLUMN())","v":5.7676704925538589},-2.79622214120104,null,null,null,null,{"$f":"INDEX($1:$370,364-ROW(),COLUMN())","v":6.1151998242711025},-2.96470770453534,null,null,null,null,{"$f":"INDEX($1:$370,364-ROW(),COLUMN())","v":6.3933738218614264},-3.0995691346695105,null,null,null,null,{"$f":"INDEX($1:$370,364-ROW(),COLUMN())","v":6.6672331309228632},-3.2323387622965098,null,null,null,null,{"$f":"INDEX($1:$370,364-ROW(),COLUMN())","v":7.0536244844511939},-3.4196650076670481]
[242,null,null,null,null,4.1526243329654449,-1.9495390352600037,null,null,null,null,5.0871794871794869,-2.3882861040184786,null,null,null,null,5.7708368921450504,-2.7092438143378086,null,null,null,null,6.1173964354802441,-2.8719436647457464,null,null,null,null,6.3955034059185447,-3.0025069787790648,null,null,null,null,6.6682692123204879,-3.1305627681851389,null,null,null,null,7.0484014707167049,-3.3090240535997406]
[243,null,null,null,null,4.1572893081045414,-1.887369850548255,null,null,null,null,5.092307692307692,-2.311859314058307,null,null,null,null,5.7740032917362409,-2.6213426399131237,null,null,null,null,6.1195930466893849,-2.7782371054691688,null,null,null,null,6.397632989975663,-2.9044645982692616,null,null,null,null,6.6693052937181125,-3.02780124321069,null,null,null,null,7.0431784569822167,-3.197536107440166]
[244,null,null,null,null,4.1619542832436371,-1.8244806720292264,null,null,null,null,5.0974358974358971,-2.2345688200427847,null,null,null,null,5.7771696913274315,-2.532544502782307,null,null,null,null,6.1217896578985265,-2.6836159527344914,null,null,null,null,6.3997625740327813,-2.8054712587565689,null,null,null,null,6.6703413751157363,-2.9240851980841178,null,null,null,null,7.0379554432477276,-3.0852365987069366]
[245,null,null,null,null,4.1666192583827328,-1.7608893883130323,null,null,null,null,5.1025641025641022,-2.1564367714461321,null,null,null,null,5.7803360909186221,-2.4428755910210569,null,null,null,null,6.1239862691076681,-2.5881084319741934,null,null,null,null,6.4018921580898995,-2.7055565357033675,null,null,null,null,6.671377456513361,-2.8194459440877644,null,null,null,null,7.0327324295132385,-2.97216115464833]
[246,null,null,null,null,4.1712842335218294,-1.6966141464576805,null,null,null,null,5.1076923076923073,-2.0774856230948555,null,null,null,null,5.7835024905098136,-2.3523623882104907,null,null,null,null,6.1261828803168088,-2.4917430596084946,null,null,null,null,6.4040217421470178,-2.604750305585315,null,null,null,null,6.6724135379109857,-2.7139150836234367,null,null,null,null,7.0275094157787503,-2.8583455889574259]
[247,null,null,null,null,4.1759492086609251,-1.6316733468139724,null,null,null,null,5.1128205128205124,-1.9977381287374654,null,null,null,null,5.7866688901010042,-2.2610316656229377,null,null,null,null,6.1283794915259504,-2.3945486345344555,null,null,null,null,6.4061513262041361,-2.5030827369607986,null,null,null,null,6.6734496193086104,-2.6075245006687666,null,null,null,null,7.0222864020442612,-2.7438258904456352]
[248,null,null,null,null,4.1806141838000208,-1.5660856377795696,null,null,null,null,5.1179487179487175,-1.9172173345081036,null,null,null,null,5.7898352896921947,-2.1689104743108234,null,null,null,null,6.1305761027350911,-2.2965542295225911,null,null,null,null,6.4082809102612535,-2.4005842814451883,null,null,null,null,6.6744857007062341,-2.5003063511447792,null,null,null,null,7.0170633883097731,-2.6286382116782416]
[249,null,null,null,null,4.1852791589391165,-1.4998699104636901,null,null,null,null,5.1230769230769226,-1.8359465722859227,null,null,null,null,5.7930016892833853,-2.0760261371009476,null,null,null,null,6.1327727139442327,-2.1977891825235609,null,null,null,null,6.4104104943183717,-2.2972856645925495,null,null,null,null,6.6755217821038588,-2.3922930531975486,null,null,null,null,7.011840374575284,-2.5128188575754948]
[250,null,null,null,null,4.1899441340782122,-1.433045293263975,null,null,null,null,5.1282051282051286,-1.7539494529521473,null,null,null,null,5.7961680888745768,-1.9824062404965501,null,null,null,null,6.1349693251533735,-2.098283087887538,null,null,null,null,6.41254007837549,-2.1932178766875801,null,null,null,null,6.6765578635014835,-2.2835172773968977,null,null,null,null,7.0066173608407949,-2.3964042739828875]
[251,null,null,null,null,4.1847138361350824,-1.362409560561826,null,null,null,null,5.1222819299635329,-1.6676518745474689,null,null,null,null,5.7923009076238579,-1.8857887165556115,null,null,null,null,6.1305386284623831,-1.995908147096805,null,null,null,null,6.4040878923547382,-2.0849670760953529,null,null,null,null,6.659241311982818,-2.1680369040270993,null,null,null,null,6.9781173528023306,-2.2718527881373127]
[252,null,null,null,null,4.1794835381919526,-1.2915314410116476,null,null,null,null,5.1163587317219381,-1.5810417974207309,null,null,null,null,5.7884337263731398,-1.7887243922624041,null,null,null,null,6.1261079317713927,-1.8930714602925207,null,null,null,null,6.3956357063339864,-1.9763601230884218,null,null,null,null,6.6419247604641534,-2.0524676263431747,null,null,null,null,6.9496173447638663,-2.1475498639349322]
[253,null,null,null,null,4.1742532402488228,-1.2204335357959555,null,null,null,null,5.1104355334803433,-1.4941467487992961,null,null,null,null,5.7845665451224209,-1.6912435818795533,null,null,null,null,6.1216772350804014,-1.789805208982826,null,null,null,null,6.3871835203132346,-1.8674317342109508,null,null,null,null,6.6246082089454887,-1.9368479951696278,null,null,null,null,6.9211173367254029,-2.0235388743244931]
[254,null,null,null,null,4.169022942305693,-1.1491384601575467,null,null,null,null,5.1045123352387476,-1.4069942828204633,null,null,null,null,5.7806993638717028,-1.5933766874306046,null,null,null,null,6.117246538389411,-1.6861416607223478,null,null,null,null,6.3787313342924836,-1.7582166384514184,null,null,null,null,6.6072916574268241,-1.8212164015648469,null,null,null,null,6.8926173286869385,-1.8998628151376953]
[255,null,null,null,null,4.1637926443625624,-1.0776688362188185,null,null,null,null,5.0985891369971528,-1.3196119718076889,null,null,null,null,5.7768321826209839,-1.4951541892234743,null,null,null,null,6.1128158416984197,-1.5821131590359472,null,null,null,null,6.3702791482717318,-1.6487495661921894,null,null,null,null,6.5899751059081595,-1.7056110641605335,null,null,null,null,6.8641173206484751,-1.7765642904019123]
[256,null,null,null,null,4.1585623464194326,-1.0060472858151914,null,null,null,null,5.0926659387555571,-1.2320273975596061,null,null,null,null,5.7729650013702658,-1.3966066363620335,null,null,null,null,6.1083851450074294,-1.4777521133330489,null,null,null,null,6.36182696225098,-1.5390652381848333,null,null,null,null,6.572658554389494,-1.5900700166072785,null,null,null,null,6.8356173126100117,-1.6536854978605209]
[257,null,null,null,null,4.1533320484763028,-0.93429642334490814,null,null,null,null,5.0867427405139622,-1.1442681426546162,null,null,null,null,5.7690978201195469,-1.2977646372487841,null,null,null,null,6.1039544483164381,-1.3730909888157063,null,null,null,null,6.3533747762302282,-1.429198354554706,null,null,null,null,6.5553420028708294,-1.4746310951304156,null,null,null,null,6.8071173045715474,-1.5312682147057366]
[258,null,null,null,null,4.148101750533173,-0.86243884863745846,null,null,null,null,5.0808195422723674,-1.0563617817737609,null,null,null,null,5.7652306388688288,-1.1986588500815678,null,null,null,null,6.0995237516254477,-1.2681622963835282,null,null,null,null,6.3449225902094764,-1.319183583838248,null,null,null,null,6.5380254513521647,-1.3593319262001713,null,null,null,null,6.7786172965330831,-1.4093537835287007]
[259,null,null,null,null,4.1428714525900432,-0.79049713984287295,null,null,null,null,5.0748963440307717,-0.96833587304461166,null,null,null,null,5.7613634576181099,-1.0993199733472481,null,null,null,null,6.0950930549344564,-1.1629985825385991,null,null,null,null,6.3364704041887254,-1.2090555520564594,null,null,null,null,6.5207088998334992,-1.2442099143201246,null,null,null,null,6.7501172884946197,-1.2879830984915051]
[260,null,null,null,null,4.1376411546469134,-0.71849384634412983,null,null,null,null,5.0689731457891769,-0.88021794940889764,null,null,null,null,5.7574962763673918,-0.99977873631533454,null,null,null,null,6.090662358243466,-1.057632419293546,null,null,null,null,6.3280182181679736,-1.0988488318280041,null,null,null,null,6.5033923483148346,-1.1293022299379294,null,null,null,null,6.7216172804561563,-1.1671965917257596]
[261,null,null,null,null,{"$f":"INDEX($1:$370,364-ROW(),COLUMN())","v":4.1324108567037836},-0.64645148169489919,null,null,null,null,{"$f":"INDEX($1:$370,364-ROW(),COLUMN())","v":5.0630499475475812},-0.79203551001657568,null,null,null,null,{"$f":"INDEX($1:$370,364-ROW(),COLUMN())","v":5.7536290951166729},-0.9000658895344853,null,null,null,null,{"$f":"INDEX($1:$370,364-ROW(),COLUMN())","v":6.0862316615524747},-0.95209639408587787,null,null,null,null,{"$f":"INDEX($1:$370,364-ROW(),COLUMN())","v":6.3195660321472218},-0.98859793152536612,null,null,null,null,{"$f":"INDEX($1:$370,364-ROW(),COLUMN())","v":6.48607579679617},-1.0146457974821992,null,null,null,null,{"$f":"INDEX($1:$370,364-ROW(),COLUMN())","v":6.6931172724176928},-1.047034219962192]
[262,null,null,null,null,4.1271805587606538,-0.57439251658481538,null,null,null,null,5.0571267493059864,-0.7038160116490092,null,null,null,null,5.7497619138659548,-0.80021219533480514,null,null,null,null,6.0818009648614844,-0.84642309970169027,null,null,null,null,6.31111384612647,-0.87833728447742554,null,null,null,null,6.4687592452775053,-0.90027728352936243,null,null,null,null,6.6646172643792285,-0.92753545139564497]
[263,null,null,null,null,4.121950260817524,-0.50233937183450761,null,null,null,null,5.0512035510643916,-0.61558686017396613,null,null,null,null,5.7458947326152359,-0.7002484183389136,null,null,null,null,6.0773702681704931,-0.74064512421190232,null,null,null,null,6.3026616601057182,-0.76810123822187992,null,null,null,null,6.4514426937588407,-0.7862330851043251,null,null,null,null,6.6361172563407642,-0.80873925278981695]
[264,null,null,null,null,4.1167199628743933,-0.43031441142253124,null,null,null,null,5.0452803528227959,-0.52737540203505062,null,null,null,null,5.7420275513645178,-0.60020531598465943,null,null,null,null,6.0729395714795027,-0.63479504092407357,null,null,null,null,6.2942094740849672,-0.65792404381080605,null,null,null,null,6.4341261422401752,-0.67254931811860019,null,null,null,null,6.6076172483023008,-0.69068407682587962]
[265,null,null,null,null,4.1114896649312636,-0.35833993554640475,null,null,null,null,5.039357154581201,-0.43920891577825016,null,null,null,null,5.7381603701137989,-0.50011362906244561,null,null,null,null,6.0685088747885114,-0.52890539835294847,null,null,null,null,6.2857572880642154,-0.54783984517274265,null,null,null,null,6.4168095907215106,-0.55926180594963015,null,null,null,null,6.5791172402638374,-0.57340784969911818]
[266,null,null,null,null,4.1062593669881338,-0.28643817371987645,null,null,null,null,5.0334339563396053,-0.35111460361819258,null,null,null,null,5.7342931888630808,-0.4000040722700442,null,null,null,null,6.064078178097521,-0.42300871021278308,null,null,null,null,6.2773051020434636,-0.43788266853455887,null,null,null,null,6.399493039202846,-0.44640606816486611,null,null,null,null,6.5506172322253731,-0.4569479589675442]
[267,null,null,null,null,4.101029069045004,-0.21463127790857914,null,null,null,null,5.0275107580980105,-0.26311958304674576,null,null,null,null,5.7304260076123619,-0.29990732478782667,null,null,null,null,6.0596474814065298,-0.31713744543455563,null,null,null,null,6.2688529160227118,-0.32808641190641413,null,null,null,null,6.3821764876841804,-0.33401730939418289,null,null,null,null,6.5221172241869088,-0.34134124165639496]
[268,null,null,null,null,4.0957987711018742,-0.14294131570617641,null,null,null,null,5.0215875598564157,-0.17525087848652768,null,null,null,null,5.7265588263616438,-0.19985402087728465,null,null,null,null,6.0552167847155394,-0.21132401821110705,null,null,null,null,6.26040073000196,-0.21848483463303658,null,null,null,null,6.3648599361655158,-0.22213040835408746,null,null,null,null,6.4936172161484453,-0.22662397262227466]
[269,null,null,null,null,4.0905684731587444,-7.1390263553104516E-2,null,null,null,null,5.01566436161482,-8.7535412991899805E-2,null,null,null,null,5.7226916451109249,-9.9874740505722273E-2,null,null,null,null,6.0507860880245481,-0.10560077807326493,null,null,null,null,6.251948543981209,-0.10911154701454272,null,null,null,null,6.3475433846468512,-0.11077990702714685,null,null,null,null,6.4651172081099819,-0.11283185318061083]
[270,null,null,null,null,4.0853381752156146,2.5025728765723057E-16,null,null,null,null,5.0097411633732252,3.0688383228994095E-16,null,null,null,null,5.7188244638602068,3.503204477895975E-16,null,null,null,null,6.0463553913335577,3.7038414827603561E-16,null,null,null,null,6.2434963579604572,3.8246049580914253E-16,null,null,null,null,6.3302268331281866,3.8777338119140422E-16,null,null,null,null,6.4366172000715185,3.9429058087529342E-16]
[271,null,null,null,null,4.0757656101275153,7.1131917971047662E-2,null,null,null,null,4.9892789939360647,8.7074924831172504E-2,null,null,null,null,5.695618134542439,9.9402242595596393E-2,null,null,null,null,6.0275109492984482,0.10519457089233228,null,null,null,null,6.2266641660817825,0.10867027377492743,null,null,null,null,6.3191706150292291,0.11028473392002806,null,null,null,null,6.4366172000715185,0.11233445945685708]
[272,null,null,null,null,4.0661930450394159,0.14190809076708591,null,null,null,null,4.9688168244989033,0.17340920638193136,null,null,null,null,5.6724118052246713,0.19796431709166662,null,null,null,null,6.0086665072633387,0.20969943695666557,null,null,null,null,6.209831974203107,0.2167200105067871,null,null,null,null,6.3081143969302724,0.22015001759466762,null,null,null,null,6.4366172000715185,0.2246347007491577]
[273,null,null,null,null,4.0566204799513166,0.21230711193296245,null,null,null,null,4.9483546550617419,0.25897687270187941,null,null,null,null,5.6492054759069035,0.29565657059446315,null,null,null,null,5.9898220652282292,0.31348306550880489,null,null,null,null,6.1929997823244314,0.32411656562029295,null,null,null,null,6.2970581788313158,0.32956256130658818,null,null,null,null,6.4366172000715185,0.33686651613552349]
[274,null,null,null,null,4.0470479148632164,0.28230779161437364,null,null,null,null,4.9278924856245805,0.3437524027873442,null,null,null,null,5.6259991465891357,0.39244986175351726,null,null,null,null,5.9709776231931198,0.41651434379903146,null,null,null,null,6.1761675904457567,0.430827672362248,null,null,null,null,6.2860019607323592,0.43848933072934793,null,null,null,null,6.4366172000715185,0.44899571871777516]
[275,null,null,null,null,4.037475349775117,0.35188916293501116,null,null,null,null,4.90743031618742,0.42771073418968941,null,null,null,null,5.6027928172713679,0.48831556945053012,null,null,null,null,5.9521331811580103,0.51876258833680766,null,null,null,null,6.159335398567082,0.53682145149405702,null,null,null,null,6.2749457426334025,0.54689755690046948,null,null,null,null,6.4366172000715185,0.56098815285458492]
[276,null,null,null,null,4.0279027846870177,0.42103048827483602,null,null,null,null,4.8869681467502586,0.51082727041777687,null,null,null,null,5.5795864879536001,0.58322560125475342,null,null,null,null,5.9332887391229008,0.62019755402379007,null,null,null,null,6.1425032066884064,0.64206642081177268,null,null,null,null,6.263889524534445,0.65475474607793804,null,null,null,null,6.4366172000715185,0.67280970456562217]
[277,null,null,null,null,4.0183302195989175,0.4897112654475822,null,null,null,null,4.8665059773130972,0.59307788813237272,null,null,null,null,5.5563801586358323,0.67715240164233814,null,null,null,null,5.9144442970877913,0.72078944309240822,null,null,null,null,6.1256710148097309,0.74653150449080541,null,null,null,null,6.2528333064354884,0.76202868947713032,null,null,null,null,6.4366172000715185,0.78442631192299483]
[278,null,null,null,null,4.0087576545108181,0.5579112337756702,null,null,null,null,4.8460438078759358,0.67443894413041883,null,null,null,null,5.5331738293180646,0.77006895997727631,null,null,null,null,5.8955998550526818,0.82050891384739555,null,null,null,null,6.1088388229310562,0.85018604225255268,null,null,null,null,6.2417770883365318,0.86868747288528503,null,null,null,null,6.4366172000715185,0.89580397542684875]
[279,null,null,null,null,3.9991850894227188,0.62561038006071112,null,null,null,null,4.8255816384387753,0.75488728211713085,null,null,null,null,5.5099675000002968,0.86194881825160496,null,null,null,null,5.8767554130175723,0.91932708920768524,null,null,null,null,6.0920066310523815,0.95299979835021875,null,null,null,null,6.2307208702375751,0.97469948615061719,null,null,null,null,6.4366172000715185,1.0069087683619371]
[280,null,null,null,null,3.989612524334619,0.69278894444786865,null,null,null,null,4.8051194690016139,0.83440023926401863,null,null,null,null,5.486761170682529,0.95276607858269491,null,null,null,null,5.8579109709824628,1.0172155650462236,null,null,null,null,6.0751744391737059,1.0549429703712301,null,null,null,null,6.2196646521386185,1.0800334325432939,null,null,null,null,6.4366172000715185,1.1177068471320393]
[281,null,null,null,null,{"$f":"INDEX($1:$370,364-ROW(),COLUMN())","v":3.9800399592465192},0.75942742618233305,null,null,null,null,{"$f":"INDEX($1:$370,364-ROW(),COLUMN())","v":4.7846572995644525},0.91295565255094546,null,null,null,null,{"$f":"INDEX($1:$370,364-ROW(),COLUMN())","v":5.4635548413647612},1.0424954104654682,null,null,null,null,{"$f":"INDEX($1:$370,364-ROW(),COLUMN())","v":5.8390665289473542},1.1141464183252539,null,null,null,null,{"$f":"INDEX($1:$370,364-ROW(),COLUMN())","v":6.0583422472950303},1.1559861978536441,null,null,null,null,{"$f":"INDEX($1:$370,364-ROW(),COLUMN())","v":6.2086084340396619},1.1846583379854516,null,null,null,null,{"$f":"INDEX($1:$370,364-ROW(),COLUMN())","v":6.4366172000715185},1.2281644615690359]
[282,null,null,null,null,3.9704673941584199,0.82550658925626041,null,null,null,null,4.7641951301272911,0.9905318648905006,null,null,null,null,5.4403485120469934,1.1311120577775722,null,null,null,null,5.8202220869122439,1.210092215024793,null,null,null,null,6.0415100554163557,1.2561005707141102,null,null,null,null,6.1975522159407053,1.2885435601475839,null,null,null,null,6.4366172000715185,1.3382479652135422]
[283,null,null,null,null,3.9608948290703201,0.89100746794453112,null,null,null,null,4.7437329606901297,1.0671077310329886,null,null,null,null,5.4171421827292257,1.2185918455355651,null,null,null,null,5.8013776448771353,1.3050260178620396,null,null,null,null,6.0246778635376801,1.3552576374849448,null,null,null,null,6.1864959978417478,1.3916587974086019,null,null,null,null,6.4366172000715185,1.4479238255639437]
[284,null,null,null,null,3.9513222639822203,0.95591137222775013,null,null,null,null,4.7232707912529683,1.1426626232504613,null,null,null,null,5.3939358534114579,1.3049111864003122,null,null,null,null,5.7825332028420258,1.3989213937995617,null,null,null,null,6.0078456716590054,1.4534294133580066,null,null,null,null,6.1754397797427911,1.4939740976769715,null,null,null,null,6.4366172000715185,1.5571586342907286]
[285,null,null,null,null,3.941749698894121,1.0201998931009251,null,null,null,null,4.7028086218158078,1.2171764367982689,null,null,null,null,5.3707295240936901,1.3900470869298445,null,null,null,null,5.7636887608069163,1.4917524213401772,null,null,null,null,5.9910134797803298,1.5505883880330749,null,null,null,null,6.1643835616438345,1.595459867070333,null,null,null,null,6.4366172000715185,1.6659191174129711]
[286,null,null,null,null,3.931597964581881,1.0836952670928457,null,null,null,null,4.6908334673070158,1.2929689335063919,null,null,null,null,5.3559794158312668,1.4763080039900063,null,null,null,null,5.7531000129667289,1.5857692753248926,null,null,null,null,5.9821104659314326,1.6488931110345368,null,null,null,null,6.1542262607406588,1.6963346536100932,null,null,null,null,6.419597298821329,1.7694808248570613]
[287,null,null,null,null,3.9214462302696411,1.1465199193224846,null,null,null,null,4.6788583127982246,1.3679657810689649,null,null,null,null,5.3412293075688435,1.5616243179689457,null,null,null,null,5.7425112651265424,1.678947807974567,null,null,null,null,5.9732074520825345,1.7463968454279255,null,null,null,null,6.1440689598374831,1.7963519157217371,null,null,null,null,6.4025773975711404,1.8719324683471379]
[288,null,null,null,null,3.9112944959574016,1.2086564692560313,null,null,null,null,4.6668831582894343,1.4421462066736632,null,null,null,null,5.3264791993064211,1.645972592770347,null,null,null,null,5.731922517286355,1.7712614682819121,null,null,null,null,5.9643044382336363,1.8430714310401177,null,null,null,null,6.1339116589343066,1.8954829446053272,null,null,null,null,6.3855574963209509,1.9732457849215148]
[289,null,null,null,null,3.9011427616451622,1.2700878491827112,null,null,null,null,4.6549080037806432,1.5154898079587116,null,null,null,null,5.3117290910439978,1.7293298371475851,null,null,null,null,5.7213337694461677,1.8626840763519967,null,null,null,null,5.9554014243847382,1.9388890507884617,null,null,null,null,6.1237543580311309,1.993699404693166,null,null,null,null,6.3685375950707623,2.0733930314182074]
[290,null,null,null,null,3.8909910273329222,1.3307973088472975,null,null,null,null,4.642932849271852,1.5879765585594148,null,null,null,null,5.2969789827815745,1.8116735108840096,null,null,null,null,5.7107450216059812,1.9531898307860274,null,null,null,null,5.9464984105358409,2.0338222386573301,null,null,null,null,6.1135970571279543,2.0909733417142902,null,null,null,null,6.3515176938205729,2.1723469919760339]
[291,null,null,null,null,3.8808392930206828,1.3907684199546553,null,null,null,null,4.6309576947630617,1.6595868135032694,null,null,null,null,5.2822288745191521,1.8929815307904083,null,null,null,null,5.7001562737657938,2.0427533159172273,null,null,null,null,5.9375953966869428,2.1278438875403141,null,null,null,null,6.1034397562247786,2.187277190611542,null,null,null,null,6.3344977925703834,2.27008098532268]
[292,null,null,null,null,3.8706875587084433,1.4499850805451227,null,null,null,null,4.6189825402542706,1.7303013144522277,null,null,null,null,5.2674787662567288,1.9732322765180839,null,null,null,null,5.6895675259256073,2.1313495088967902,null,null,null,null,5.9286923828380447,2.2209272569458256,null,null,null,null,6.0932824553216021,2.282583783308969,null,null,null,null,6.3174778913201948,2.3665688718477971]
[293,null,null,null,null,3.8605358243962034,1.5084315192395981,null,null,null,null,4.6070073857454794,1.800101194790751,null,null,null,null,5.2527286579943056,2.0524045961860646,null,null,null,null,5.67897877808542,2.2189537866279543,null,null,null,null,5.9197893689891465,2.3130459805639361,null,null,null,null,6.0831251544184255,2.3768663563274002,null,null,null,null,6.3004579900700053,2.4617850604593157]
[294,null,null,null,null,3.8503840900839639,1.5660922993532209,null,null,null,null,4.5950322312366882,1.8689679845583147,null,null,null,null,5.2379785497318831,2.1304778118209944,null,null,null,null,5.6683900302452326,2.3055419325462796,null,null,null,null,5.9108863551402484,2.404174073692297,null,null,null,null,6.0729678535152498,2.4700985582460406,null,null,null,null,6.2834380888198158,2.5557045152211937]
[295,null,null,null,null,3.8402323557717244,1.6229523228766374,null,null,null,null,4.583057076727898,1.9368836152251556,null,null,null,null,5.2232284414694599,2.2074317246084059,null,null,null,null,5.6578012824050461,2.3910901432443206,null,null,null,null,5.9019833412913503,2.4942859405191156,null,null,null,null,6.0628105526120732,2.5622544570080836,null,null,null,null,6.2664181875696272,2.6483027617709802]
[296,null,null,null,null,3.8300806214594845,1.6789968343238166,null,null,null,null,4.5710819222191068,2.0038304243100105,null,null,null,null,5.2084783332070366,2.2832466199540313,null,null,null,null,5.6472125345648587,2.4755750349388497,null,null,null,null,5.8930803274424521,2.5833563812610998,null,null,null,null,6.0526532517088976,2.653308547068268,null,null,null,null,6.2493982863194377,2.7395558935155475]
[297,null,null,null,null,3.819928887147245,1.7342114244455087,null,null,null,null,4.5591067677103156,2.0697911598387559,null,null,null,null,5.1937282249446142,2.3579032723539948,null,null,null,null,5.6366237867246722,2.5589736497789506,null,null,null,null,5.884177313593554,2.6713605991544416,null,null,null,null,6.042495950805721,2.7432357563804772,null,null,null,null,6.2323783850692491,2.8294405776035383]
[298,null,null,null,null,3.8097771528350055,1.7885820338074319,null,null,null,null,4.5471316132015245,2.1347489846428487,null,null,null,null,5.1789781166821909,2.431382950072718,null,null,null,null,5.6260350388844849,2.6412634619932795,null,null,null,null,5.8752742997446568,2.7582742072969046,null,null,null,null,6.0323386499025453,2.8320114532234788,null,null,null,null,6.2153584838190596,2.9179340606730793]
[299,null,null,null,null,3.7996254185227656,1.8420949562323516,null,null,null,null,4.5351564586927342,2.1986874804965475,null,null,null,null,5.1642280084197676,2.5036674196274853,null,null,null,null,5.6154462910442984,2.7224223838748887,null,null,null,null,5.8663712858957586,2.8440732353391391,null,null,null,null,6.0221813489993687,2.919611452862958,null,null,null,null,6.198338582568871,3.005014174373434]
[300,null,null,null,null,3.7894736842105261,1.8947368421052631,null,null,null,null,4.523181304183943,2.2615906520919715,null,null,null,null,5.1494779001573452,2.5747389500786726,null,null,null,null,5.604857543204111,2.8024287716020555,null,null,null,null,5.8574682720468605,2.9287341360234302,null,null,null,null,6.0120240480961931,3.0060120240480965,null,null,null,null,6.1813186813186816,3.0906593406593408]
[301,null,null,null,null,{"$f":"INDEX($1:$370,364-ROW(),COLUMN())","v":3.7649360951035131},1.9390854385814909,null,null,null,null,{"$f":"INDEX($1:$370,364-ROW(),COLUMN())","v":4.4972872977968441},2.3162741921747272,null,null,null,null,{"$f":"INDEX($1:$370,364-ROW(),COLUMN())","v":5.117206206115938},2.6355560333157357,null,null,null,null,{"$f":"INDEX($1:$370,364-ROW(),COLUMN())","v":5.5785086661561589},2.8731443642861234,null,null,null,null,{"$f":"INDEX($1:$370,364-ROW(),COLUMN())","v":5.8371974100865653},3.0063789169609398,null,null,null,null,{"$f":"INDEX($1:$370,364-ROW(),COLUMN())","v":5.9935394489908305},3.0869010197057052,null,null,null,null,{"$f":"INDEX($1:$370,364-ROW(),COLUMN())","v":6.1571568401658219},3.1711702058782785]
[302,null,null,null,null,3.740398505996501,1.9821092242366447,null,null,null,null,4.471393291409747,2.3694774430811414,null,null,null,null,5.0849345120745308,2.6946047553125663,null,null,null,null,5.5521597891082077,2.9421964303494077,null,null,null,null,5.8169265481262702,3.0825014364816696,null,null,null,null,5.9750548498854688,3.1662966698043502,null,null,null,null,6.1329949990129631,3.2499921974228747]
[303,null,null,null,null,3.7158609168894885,2.0238029040247452,null,null,null,null,4.4454992850226489,2.4211924407547287,null,null,null,null,5.0526628180331237,2.7518774014698684,null,null,null,null,5.5258109120602565,3.0095723228200053,null,null,null,null,5.796655686165975,3.1570849592278072,null,null,null,null,5.956570250780107,3.2441806733840961,null,null,null,null,6.1088331578601034,3.327108996164728]
[304,null,null,null,null,3.6913233277824764,2.0641618093119822,null,null,null,null,4.4196052786355509,2.4714119079548524,null,null,null,null,5.0203911239917165,2.8073670891836939,null,null,null,null,5.4994620350123045,3.0752601428856723,null,null,null,null,5.7763848242056799,3.2301134014119333,null,null,null,null,5.9380856516747453,3.3205353566179823,null,null,null,null,6.0846713167072446,3.4025050202546958]
[305,null,null,null,null,3.6667857386754639,2.1031818968523108,null,null,null,null,4.3937112722484528,2.5201292538916888,null,null,null,null,4.9881194299503093,2.8610677667243101,null,null,null,null,5.4731131579643524,3.1392487408912135,null,null,null,null,5.7561139622453847,3.3015713336952079,null,null,null,null,5.9196010525693836,3.395343676352649,null,null,null,null,6.0605094755543849,3.4761654274602316]
[306,null,null,null,null,3.6422481495684513,2.1408597475058855,null,null,null,null,4.3678172658613548,2.5673385735817367,null,null,null,null,4.9558477359089022,2.9129742117742961,null,null,null,null,5.4467642809164012,3.2015277170360781,null,null,null,null,5.7358431002850896,3.3714439838111128,null,null,null,null,5.9011164534640219,3.4685892234066142,null,null,null,null,6.0363476344015261,3.5480761172117745]
[307,null,null,null,null,3.6177105604614388,2.1771925647015107,null,null,null,null,4.3419232594742567,2.613034646924917,null,null,null,null,4.923576041867495,2.963082029627357,null,null,null,null,5.4204154038684491,3.2620874217728102,null,null,null,null,5.7155722383247944,3.4397172389346413,null,null,null,null,5.8826318543586602,3.5402562256258343,null,null,null,null,6.0121857932486664,3.6182237323583624]
[308,null,null,null,null,3.5931729713544263,2.2121781726443452,null,null,null,null,4.3160292530871587,2.657212937504339,null,null,null,null,4.8913043478260878,3.0113876510494162,null,null,null,null,5.3940665268204979,3.3209189559070573,null,null,null,null,5.6953013763645002,3.5063776477968203,null,null,null,null,5.8641472552532985,3.6103295506961555,null,null,null,null,5.9880239520958067,3.6865956606326833]
[309,null,null,null,null,3.5522223813469598,2.2354859781252538,null,null,null,null,4.2722902960650977,2.6886393997981135,null,null,null,null,4.8406013478519325,3.0462891331465487,null,null,null,null,5.338910152379766,3.3598850248755818,null,null,null,null,5.6481428969140151,3.5544914965912899,null,null,null,null,5.8224502279270745,3.6641866543072821,null,null,null,null,5.9446426304072215,3.7410848248194073]
[310,null,null,null,null,3.5112717913394924,2.2570020017148855,null,null,null,null,4.2285513390430349,2.7180604076602877,null,null,null,null,4.789898347877779,3.0788873096738616,null,null,null,null,5.2837537779390349,3.3963314610936544,null,null,null,null,5.6009844174635308,3.600243385592937,null,null,null,null,5.7807532006008486,3.7157965320020314,null,null,null,null,5.9012613087186345,3.7932576507669102]
[311,null,null,null,null,3.470321201332025,2.2767355576310591,null,null,null,null,4.1848123820209739,2.7454839478561319,null,null,null,null,4.7391953479036246,3.1091918981419813,null,null,null,null,5.228597403498302,3.4302685355213836,null,null,null,null,5.5538259380130466,3.6436376520751326,null,null,null,null,5.7390561732746246,3.7651596203605266,null,null,null,null,5.8578799870300493,3.8431150562338594]
[312,null,null,null,null,3.4293706113245577,2.2946968365848495,null,null,null,null,4.1410734249989112,2.7709189718460752,null,null,null,null,4.6884923479294711,3.137213727678914,null,null,null,null,5.173441029057571,3.4617077327350878,null,null,null,null,5.5066674585625623,3.6846797355645604,null,null,null,null,5.6973591459483997,3.8122773799726395,null,null,null,null,5.8144986653414623,3.8906590176127045]
[313,null,null,null,null,3.3884200213170903,2.3108968977411917,null,null,null,null,4.0973344679768502,2.7943753877877615,null,null,null,null,4.6377893479553176,3.1629647296208505,null,null,null,null,5.1182846546168381,3.4906617407817349,null,null,null,null,5.4595089791120781,3.7233761705009227,null,null,null,null,5.6556621186221747,3.8571522899679187,null,null,null,null,5.7711173436528771,3.9358925640995048]
[314,null,null,null,null,3.3474694313096229,2.3253476603148493,null,null,null,null,4.0535955109547874,2.8158640521397595,null,null,null,null,4.5870863479811632,3.1864579276433083,null,null,null,null,5.0631282801761071,3.5171444405320003,null,null,null,null,5.4123504996615939,3.7597345784478629,null,null,null,null,5.6139650912959498,3.8997878421333407,null,null,null,null,5.7277360219642901,3.9788197714370135]
[315,null,null,null,null,3.3065188413021556,2.3380618948058403,null,null,null,null,4.0098565539327264,2.8353967608711521,null,null,null,null,4.5363833480070088,3.2077074274374899,null,null,null,null,5.0079719057353751,3.5411708945372014,null,null,null,null,5.3651920202111096,3.7937636598592284,null,null,null,null,5.5722680639697248,3.9401885346222274,null,null,null,null,5.684354700275704,4.0194457552345755]
[316,null,null,null,null,3.2655682512946886,2.3490532138785598,null,null,null,null,3.9661175969106641,2.8529862402813282,null,null,null,null,4.4856803480328553,3.2267284059369654,null,null,null,null,4.9528155312946431,3.5627573353956592,null,null,null,null,5.3180335407606254,3.8254731854049986,null,null,null,null,5.5305710366434999,3.9783598652578624,null,null,null,null,5.6409733785871179,4.0577766638685038]
[317,null,null,null,null,3.2246176612872213,2.358336062888962,null,null,null,null,3.9223786398886022,2.8686461374344967,null,null,null,null,4.4349773480587018,3.2435371000999043,null,null,null,null,4.8976591568539112,3.5819211536341338,null,null,null,null,5.2708750613101412,3.8548739868613442,null,null,null,null,5.488874009317275,4.0143083244354472,null,null,null,null,5.5975920568985318,4.0938196709668082]
[318,null,null,null,null,3.166948741235641,2.3535015696014137,null,null,null,null,3.8887332883331709,2.8898920208864878,null,null,null,null,4.3959750403862756,3.2668461041908401,null,null,null,null,4.842502782413181,3.5986808851102392,null,null,null,null,5.2345993078866924,3.8900653891035448,null,null,null,null,5.456799372912486,4.0551922176482034,null,null,null,null,5.5642218094457725,4.1350226454980898]
[319,null,null,null,null,3.05593607013635,2.3063442286802327,null,null,null,null,3.7870859311617799,2.858150033374673,null,null,null,null,4.2908805982695588,3.2383686951060562,null,null,null,null,4.7160321770289224,3.5592346646425841,null,null,null,null,5.14823410181417,3.8854215978687323,null,null,null,null,5.399225400565892,4.0748471355892129,null,null,null,null,5.4999840830992124,4.1508906785877349]
[320,null,null,null,null,2.9847849483443385,2.2864779235843464,null,null,null,null,3.6989071223562657,2.833527246694227,null,null,null,null,4.1909689582513705,3.2104684817525944,null,null,null,null,4.6062192180030879,3.5285686357391097,null,null,null,null,5.0099174252326915,3.8378194040844411,null,null,null,null,5.3006949477229632,4.0605679093720175,null,null,null,null,5.4488799563885486,4.1740842118138266]
[321,null,null,null,null,{"$f":"INDEX($1:$370,364-ROW(),COLUMN())","v":2.91016532463573},2.261623229212772,null,null,null,null,{"$f":"INDEX($1:$370,364-ROW(),COLUMN())","v":3.606434444297359},2.8027259636450075,null,null,null,null,{"$f":"INDEX($1:$370,364-ROW(),COLUMN())","v":4.0861947342950868},3.1755697354841672,null,null,null,null,{"$f":"INDEX($1:$370,364-ROW(),COLUMN())","v":4.4910637375530102},3.4902120462851713,null,null,null,null,{"$f":"INDEX($1:$370,364-ROW(),COLUMN())","v":4.8846694896018743},3.7961011668961797,null,null,null,null,{"$f":"INDEX($1:$370,364-ROW(),COLUMN())","v":5.1681775740298903},4.0164283297498145,null,null,null,null,{"$f":"INDEX($1:$370,364-ROW(),COLUMN())","v":5.3126579574788346},4.1287106762569161]
[322,null,null,null,null,2.8355457009271214,2.2344405046738816,null,null,null,null,3.5139617662384524,2.769039659558771,null,null,null,null,3.9814205103388023,3.1374021767773392,null,null,null,null,4.3759082571029335,3.4482627633935601,null,null,null,null,4.7594215539710572,3.7504753654768086,null,null,null,null,5.0356602003368156,3.9681543893747908,null,null,null,null,5.1764359585691206,4.0790872007089876]
[323,null,null,null,null,2.7609260772185129,2.2049736058822784,null,null,null,null,3.4214890881795457,2.7325226830595182,null,null,null,null,3.8766462863825182,3.0960273841980461,null,null,null,null,4.2607527766528559,3.4027884669675728,null,null,null,null,4.63417361834024,3.7010156113308663,null,null,null,null,4.9031428266437427,3.9158239721913506,null,null,null,null,5.0402139596594067,4.0252938464200758]
[324,null,null,null,null,2.6863064535099044,2.1732675729886073,null,null,null,null,3.3290164101206399,2.6932308503406777,null,null,null,null,3.7718720624262336,3.0515085991109059,null,null,null,null,4.1455972962027792,3.3538586644628809,null,null,null,null,4.5089256827094228,3.6477975036855854,null,null,null,null,4.770625452950668,3.8595170652347717,null,null,null,null,4.9039919607496936,3.9674128365246224]
[325,null,null,null,null,2.6116868298012963,2.1393686056743682,null,null,null,null,3.2365437320617332,2.6512214145490915,null,null,null,null,3.6670978384699495,3.0039106909904021,null,null,null,null,4.0304418157527016,3.3015446527616614,null,null,null,null,4.3836777470786057,3.590898588023602,null,null,null,null,4.6381080792575933,3.7993157147571468,null,null,null,null,4.7677699618399796,3.9055285109408677]
[326,null,null,null,null,2.5370672060926878,2.1033240379480835,null,null,null,null,3.1440710540028265,2.6065530345510743,null,null,null,null,3.5623236145136654,2.9533001220319108,null,null,null,null,3.9152863353026244,3.2459194792772124,null,null,null,null,4.2584298114477885,3.5303983137786981,null,null,null,null,4.5055907055645203,3.7353039814677671,null,null,null,null,4.6315479629302656,3.8397272803599551]
[327,null,null,null,null,2.4624475823840792,2.0651823124538922,null,null,null,null,3.0515983759439198,2.5592857430942209,null,null,null,null,3.4575493905573809,2.8997449110781135,null,null,null,null,3.8001308548525472,3.1870579023061154,null,null,null,null,4.1331818758169714,3.4663779912131525,null,null,null,null,4.3730733318714456,3.6675678949076134,null,null,null,null,4.4953259640205525,3.7700975793449278]
[328,null,null,null,null,2.3878279586754707,2.0249929543038179,null,null,null,null,2.9591256978850131,2.5094809143789405,null,null,null,null,3.3527751666010968,2.843314596876604,null,null,null,null,3.68497537440247,3.1250363506453276,null,null,null,null,4.0079339401861542,3.3989207474955907,null,null,null,null,4.2405559581783709,3.596195406977956,null,null,null,null,4.3591039651108385,3.6967298185601742]
[329,null,null,null,null,2.3132083349668622,1.982806544445173,null,null,null,null,2.8666530198261064,2.4572012310539026,null,null,null,null,3.2480009426448126,2.7840802006847705,null,null,null,null,3.5698198939523929,3.0599328824918737,null,null,null,null,3.8826860045553366,3.3281114819985675,null,null,null,null,4.108038584485298,3.5212763446433892,null,null,null,null,4.2228819662011245,3.6197163361522469]
[330,null,null,null,null,2.2385887112582536,1.9386746925747154,null,null,null,null,2.7741803417671997,2.4025106506497913,null,null,null,null,3.1432267186885281,2.7221141882382689,null,null,null,null,3.4546644135023157,2.9918271436430741,null,null,null,null,3.757438068924519,3.254036820835378,null,null,null,null,3.9755212107922233,3.4429023618299359,null,null,null,null,4.0866599672914115,3.5391513483032457]
[331,null,null,null,null,2.1639690875496451,1.8926500096113761,null,null,null,null,2.6817076637082931,2.3454743714660204,null,null,null,null,3.038452494732244,2.6574904310996814,null,null,null,null,3.3395089330522385,2.920800325015545,null,null,null,null,3.6321901332937019,3.1767850706559404,null,null,null,null,3.8430038370991491,3.361166890539232,null,null,null,null,3.9504379683816975,3.4551308989783496]
[332,null,null,null,null,2.089349463841037,1.8447860797395335,null,null,null,null,2.5892349856493864,2.286158797925244,null,null,null,null,2.9336782707759599,2.5902841674041732,null,null,null,null,3.2243534526021613,2.8469351195014485,null,null,null,null,3.5069421976628847,3.0964461717218392,null,null,null,null,3.7104864634060752,3.2761650912000273,null,null,null,null,3.8142159694719835,3.3677528088893665]
[333,null,null,null,null,2.0147298401324285,1.7951374320349813,null,null,null,null,2.4967623075904797,2.2246315054107222,null,null,null,null,2.8289040468196753,2.5205719620192069,null,null,null,null,3.1091979721520842,2.7703156781807503,null,null,null,null,3.3816942620320671,3.0131116502809401,null,null,null,null,3.577969089713001,3.1879938022785996,null,null,null,null,3.67799397056227,3.2771166236964624]
[334,null,null,null,null,1.94011021642382,1.7437595116859179,null,null,null,null,2.404289629531573,2.1609612046018079,null,null,null,null,2.7241298228633912,2.4484316661356207,null,null,null,null,2.994042491702007,2.6910275659084872,null,null,null,null,3.25644632640125,2.9268745702622376,null,null,null,null,3.4454517160199267,3.0967514891699586,null,null,null,null,3.5417719716525564,3.1833235614705799]
[335,null,null,null,null,1.8654905927152114,1.6907086508214118,null,null,null,null,2.3118169514726663,2.0952177053230066,null,null,null,null,2.6193555989071071,2.3739423763075589,null,null,null,null,2.8788870112519298,2.6091577162962918,null,null,null,null,3.1311983907704328,2.8378294843118703,null,null,null,null,3.3129343423268529,3.0025381923919694,null,null,null,null,3.4055499727428424,3.0864764594392891]
[336,null,null,null,null,1.7908709690066029,1.6360420389599852,null,null,null,null,2.2193442734137596,2.0274718799222584,null,null,null,null,2.514581374950823,2.2971843929590103,null,null,null,null,2.7637315308018526,2.5247943861076645,null,null,null,null,3.0059504551396157,2.7460723841915047,null,null,null,null,3.1804169686337787,2.9054554751048385,null,null,null,null,3.2693279738331289,2.9866797200391426]
[337,null,null,null,null,1.7162513452979946,1.5798176930910841,null,null,null,null,2.1268715953548529,1.957795626194277,null,null,null,null,2.4098071509945385,2.2182391783748705,null,null,null,null,2.6485760503517755,2.4380271090867045,null,null,null,null,2.8807025195087981,2.6517006505605218,null,null,null,null,3.0478995949407044,2.8056063699786455,null,null,null,null,3.1331059749234154,2.8840392562978439]
[338,null,null,null,null,1.6416317215893861,1.5220944274023582,null,null,null,null,2.0343989172959462,1.8862618298649545,null,null,null,null,2.3050329270382544,2.1371893141946932,null,null,null,null,2.5334205699016983,2.348946649240244,null,null,null,null,2.7554545838779809,2.5548130021637094,null,null,null,null,2.9153822212476306,2.7030953254318608,null,null,null,null,2.9968839760137014,2.7786624365698231]
[339,null,null,null,null,1.5670120978807776,1.4629318226658112,null,null,null,null,1.94192623923704,1.8129443266530227,null,null,null,null,2.2002587030819702,2.0541184584274457,null,null,null,null,2.4182650894516211,2.2576449535935383,null,null,null,null,2.6302066482471638,2.4555094444463625,null,null,null,null,2.7828648475545563,2.5980281512640531,null,null,null,null,2.8606619771039878,2.6706580286490693]
[340,null,null,null,null,1.4923924741721692,1.4023901952960118,null,null,null,null,1.8494535611781333,1.7379178639253114,null,null,null,null,2.0954844791256857,1.9691113020058097,null,null,null,null,2.3031096090015439,2.1642151044398696,null,null,null,null,2.5049587126163462,2.3538912176189495,null,null,null,null,2.6503474738614821,2.4905119637062079,null,null,null,null,2.7244399781942743,2.5601361432832808]
[341,null,null,null,null,{"$f":"INDEX($1:$370,364-ROW(),COLUMN())","v":1.4177728504635607},1.3405305660936893,null,null,null,null,{"$f":"INDEX($1:$370,364-ROW(),COLUMN())","v":1.7569808831192266},1.6612580619621209,null,null,null,null,{"$f":"INDEX($1:$370,364-ROW(),COLUMN())","v":1.9907102551694016},1.8822535248987251,null,null,null,null,{"$f":"INDEX($1:$370,364-ROW(),COLUMN())","v":2.1879541285514668},2.0687512711046274,null,null,null,null,{"$f":"INDEX($1:$370,364-ROW(),COLUMN())","v":2.379710776985529},2.2500607441937008,null,null,null,null,{"$f":"INDEX($1:$370,364-ROW(),COLUMN())","v":2.5178301001684082},2.3806551299123186,null,null,null,null,{"$f":"INDEX($1:$370,364-ROW(),COLUMN())","v":2.5882179792845603},2.4472081771136796]
[342,null,null,null,null,1.3431532267549522,1.2774146286881591,null,null,null,null,1.6645082050603202,1.583041374849367,null,null,null,null,1.8859360312131173,1.7936317518010552,null,null,null,null,2.0727986481013896,1.9713486612446114,null,null,null,null,2.2544628413547119,2.1441215760156855,null,null,null,null,2.385312726475334,2.2685672119161255,null,null,null,null,2.4519959803748468,2.3319867550650213]
[343,null,null,null,null,1.2685336030463439,1.2131047176921439,null,null,null,null,1.5720355270014135,1.5033450510143085,null,null,null,null,1.7811618072568332,1.7033335074194249,null,null,null,null,1.9576431676513122,1.8721034717034917,null,null,null,null,2.1292149057238943,2.036178340811146,null,null,null,null,2.2527953527822602,2.1543589100770997,null,null,null,null,2.3157739814651328,2.2145856722105606]
[344,null,null,null,null,1.1939139793377354,1.1476637765826585,null,null,null,null,1.4795628489425068,1.4222470934218048,null,null,null,null,1.6763875833005488,1.6114471713734253,null,null,null,null,1.842487687201235,1.7711128389445301,null,null,null,null,2.0039669700930771,1.9263366882760458,null,null,null,null,2.1202779790891859,2.0381420060399424,null,null,null,null,2.1795519825554193,2.0951198351369476]
[345,null,null,null,null,1.1192943556291268,1.0811553253217545,null,null,null,null,1.3870901708836001,1.3398262194481865,null,null,null,null,1.5716133593442645,1.5180619327315472,null,null,null,null,1.7273322067511578,1.6684747890818319,null,null,null,null,1.8787190344622597,1.8147032357279589,null,null,null,null,1.9877606053961119,1.920029305232098,null,null,null,null,2.0433299836457057,1.9737052028342068]
[346,null,null,null,null,1.0446747319205185,1.0136434277310014,null,null,null,null,1.2946174928246934,1.2561618204499456,null,null,null,null,1.4668391353879804,1.4232677442013351,null,null,null,null,1.6121767263010807,1.5642881875315655,null,null,null,null,1.7534710988314426,1.7013855133446241,null,null,null,null,1.8552432317030378,1.8001345789239258,null,null,null,null,1.9071079847359917,1.850458727136161]
[347,null,null,null,null,0.97005510821190999,0.94519265863368718,null,null,null,null,1.2021448147657869,1.1713339210445743,null,null,null,null,1.3620649114316961,1.3271552759933973,null,null,null,null,1.4970212458510035,1.4586526883047159,null,null,null,null,1.6282231632006252,1.5864919090126139,null,null,null,null,1.7227258580099636,1.6785725058763683,null,null,null,null,1.7708859858262782,1.7254982927368159]
[348,null,null,null,null,0.89543548450330146,0.87586807077881712,null,null,null,null,1.1096721367068803,1.0854231381209904,null,null,null,null,1.2572906874754119,1.2298158693790313,null,null,null,null,1.3818657654009263,1.3516686829631002,null,null,null,null,1.5029752275698081,1.4701316128097535,null,null,null,null,1.5902084843168895,1.5554586136011073,null,null,null,null,1.6346639869165644,1.5989426568083946]
[349,null,null,null,null,0.82081586079469304,0.80573516156106439,null,null,null,null,1.0171994586479736,0.99851063959709885,null,null,null,null,1.1525164635191276,1.1313414899613436,null,null,null,null,1.2667102849508491,1.2434372492604899,null,null,null,null,1.3777272919389907,1.3524145611450489,null,null,null,null,1.4576911106238155,1.4309092192583532,null,null,null,null,1.4984419880068507,1.4709113882468832]
[350,null,null,null,null,0.74619623708608462,0.73485983955091183,null,null,null,null,0.92472678058906699,0.91067810294213214,null,null,null,null,1.0477422395628433,1.0318246806798623,null,null,null,null,1.151554804500772,1.1340600994908177,null,null,null,null,1.2524793563081733,1.2334513805800289,null,null,null,null,1.3251737369307413,1.3050413702175541,null,null,null,null,1.3622199890971372,1.3415248065710661]
[351,null,null,null,null,0.67157661337747609,0.66330839084930182,null,null,null,null,0.83225410253016041,0.82200767348150983,null,null,null,null,0.94296801560655907,0.93135851456873231,null,null,null,null,1.0363993240506948,1.0236395285655533,null,null,null,null,1.1272314206773562,1.1133533313555175,null,null,null,null,1.1926563632376672,1.1779727843064434,null,null,null,null,1.2259979901874234,1.2109039205011902]
[352,null,null,null,null,0.59695698966886768,0.59114744528117114,null,null,null,null,0.73978142447125372,0.73258192250203635,null,null,null,null,0.83819379165027486,0.83003654728869192,null,null,null,null,0.92124384360061751,0.91227836184244482,null,null,null,null,1.0019834850465388,0.99223225064798415,null,null,null,null,1.0601389895445932,1.0498217897739641,null,null,null,null,1.0897759912777096,1.0791703662435079]
[353,null,null,null,null,0.52233736596025926,0.51844394244232017,null,null,null,null,0.64730874641234704,0.64248380517534343,null,null,null,null,0.73341956769399064,0.72795276945311249,null,null,null,null,0.80608836315054033,0.80007990272792118,null,null,null,null,0.87673554941572152,0.87020049557971446,null,null,null,null,0.92762161585151914,0.92070726499273003,null,null,null,null,0.95355399236799587,0.94644634550707285]
[354,null,null,null,null,0.44771774225165073,0.44526509761411576,null,null,null,null,0.55483606835344046,0.55179661831754445,null,null,null,null,0.62864534373770642,0.62520155876846351,null,null,null,null,0.69093288270046316,0.68714788007552952,null,null,null,null,0.75148761378490425,0.74737088600714396,null,null,null,null,0.795104242158445,0.79074857792677122,null,null,null,null,0.81733199345828222,0.81285456327925998]
[355,null,null,null,null,0.37309811854304231,0.37167836756058431,null,null,null,null,0.46236339029453383,0.46060395800313902,null,null,null,null,0.52387111978142209,0.52187763200963844,null,null,null,null,0.57577740225038598,0.57358639540287282,null,null,null,null,0.62623967815408688,0.62385664711178246,null,null,null,null,0.66258686846537085,0.66006552539041519,null,null,null,null,0.68110999454856858,0.67851816538658172]
[356,null,null,null,null,0.29847849483443384,0.29775141622249385,null,null,null,null,0.36989071223562719,0.3689896770512634,null,null,null,null,0.41909689582513787,0.41807599685064412,null,null,null,null,0.46062192180030875,0.45949986994958003,null,null,null,null,0.50099174252326961,0.49977135181823984,null,null,null,null,0.53006949477229681,0.52877827212423112,null,null,null,null,0.54488799563885482,0.54356067586745338]
[357,null,null,null,null,0.22385887112582536,0.22355208032306709,null,null,null,null,0.27741803417672056,0.2770378424024269,null,null,null,null,0.31432267186885365,0.31389190357120789,null,null,null,null,0.34546644135023158,0.34499299159890001,null,null,null,null,0.37574380689245235,0.37522886306392211,null,null,null,null,0.39755212107922272,0.3970072897140382,null,null,null,null,0.40866599672914111,0.40810593418363639]
[358,null,null,null,null,0.14923924741721692,0.14914833489999987,null,null,null,null,0.18494535611781393,0.18483269240392325,null,null,null,null,0.20954844791256938,0.20942079665991062,null,null,null,null,0.23031096090015438,0.23017066168556791,null,null,null,null,0.25049587126163503,0.25034327594503436,null,null,null,null,0.26503474738614863,0.2648732953790402,null,null,null,null,0.27244399781942741,0.27227803229714626]
[359,null,null,null,null,7.461962370860846E-2,7.4608258778489381E-2,null,null,null,null,9.2472678058907298E-2,9.245859402213745E-2,null,null,null,null,0.10477422395628513,0.10475826633449124,null,null,null,null,0.11515548045007719,0.11513794171263655,null,null,null,null,0.12524793563081774,0.12522885976356918,null,null,null,null,0.13251737369307454,0.13249719065519877,null,null,null,null,0.1362219989097137,0.13620125163947369]
[]
[null,null,null,null,null,"VMAX",{"$f":"MAX(G2:G361)","v":2.358336062888962},null,null,null,null,"VMAX",{"$f":"MAX(M2:M361)","v":2.8898920208864878},null,null,null,null,"VMAX",{"$f":"MAX(S2:S361)","v":3.2668461041908401},null,null,null,null,"VMAX",{"$f":"MAX(Y2:Y361)","v":3.5986808851102392},null,null,null,null,"VMAX",{"$f":"MAX(AE2:AE361)","v":3.8900653891035448},null,null,null,null,"VMAX",{"$f":"MAX(AK2:AK361)","v":4.0748471355892129},null,null,null,null,"VMAX",{"$f":"MAX(AQ2:AQ361)","v":4.1740842118138266}]
[null,null,null,null,null,"VMIN",{"$f":"MIN(G2:G361)","v":-3.3402555955206545},null,null,null,null,"VMIN",{"$f":"MIN(M2:M361)","v":-4.1974607003868014},null,null,null,null,"VMIN",{"$f":"MIN(S2:S361)","v":-4.955784861715995},null,null,null,null,"VMIN",{"$f":"MIN(Y2:Y361)","v":-5.557093267929555},null,null,null,null,"VMIN",{"$f":"MIN(AE2:AE361)","v":-5.9378711213043518},null,null,null,null,"VMIN",{"$f":"MIN(AK2:AK361)","v":-6.2043241754028831},null,null,null,null,"VMIN",{"$f":"MIN(AQ2:AQ361)","v":-6.7225773390533572}]
[null,null,null,null,{"$f":"MATCH(G363,G$2:G$361,0)","v":44},"AMAX",{"$f":"INDEX($A$2:$A$361, IF(E365>180, 360-E365, E365 ), 1 )","v":43},null,null,null,{"$f":"MATCH(M363,M$2:M$361,0)","v":43},"AMAX",{"$f":"INDEX($A$2:$A$361, IF(K365>180, 360-K365, K365 ), 1 )","v":42},null,null,null,{"$f":"MATCH(S363,S$2:S$361,0)","v":43},"AMAX",{"$f":"INDEX($A$2:$A$361, IF(Q365>180, 360-Q365, Q365 ), 1 )","v":42},null,null,null,{"$f":"MATCH(Y363,Y$2:Y$361,0)","v":43},"AMAX",{"$f":"INDEX($A$2:$A$361, IF(W365>180, 360-W365, W365 ), 1 )","v":42},null,null,null,{"$f":"MATCH(AE363,AE$2:AE$361,0)","v":43},"AMAX",{"$f":"INDEX($A$2:$A$361, IF(AC365>180, 360-AC365, AC365 ), 1 )","v":42},null,null,null,{"$f":"MATCH(AK363,AK$2:AK$361,0)","v":42},"AMAX",{"$f":"INDEX($A$2:$A$361, IF(AI365>180, 360-AI365, AI365 ), 1 )","v":41},null,null,null,{"$f":"MATCH(AQ363,AQ$2:AQ$361,0)","v":41},"AMAX",{"$f":"INDEX($A$2:$A$361, IF(AO365>180, 360-AO365, AO365 ), 1 )","v":40}]
[null,null,null,null,{"$f":"MATCH(G364,G$2:G$361,-1)","v":166},"AMIN",{"$f":"INDEX($A$2:$A$361, IF(E366>180, 360-E366, E366 ), 1 )","v":165},null,null,null,{"$f":"MATCH(M364,M$2:M$361,-1)","v":168},"AMIN",{"$f":"INDEX($A$2:$A$361, IF(K366>180, 360-K366, K366 ), 1 )","v":167},null,null,null,{"$f":"MATCH(S364,S$2:S$361,-1)","v":169},"AMIN",{"$f":"INDEX($A$2:$A$361, IF(Q366>180, 360-Q366, Q366 ), 1 )","v":168},null,null,null,{"$f":"MATCH(Y364,Y$2:Y$361,-1)","v":174},"AMIN",{"$f":"INDEX($A$2:$A$361, IF(W366>180, 360-W366, W366 ), 1 )","v":173},null,null,null,{"$f":"MATCH(AE364,AE$2:AE$361,-1)","v":176},"AMIN",{"$f":"INDEX($A$2:$A$361, IF(AC366>180, 360-AC366, AC366 ), 1 )","v":175},null,null,null,{"$f":"MATCH(AK364,AK$2:AK$361,-1)","v":176},"AMIN",{"$f":"INDEX($A$2:$A$361, IF(AI366>180, 360-AI366, AI366 ), 1 )","v":175},null,null,null,{"$f":"MATCH(AQ364,AQ$2:AQ$361,-1)","v":176},"AMIN",{"$f":"INDEX($A$2:$A$361, IF(AO366>180, 360-AO366, AO366 ), 1 )","v":175}]

{"sheet":"STW","index":12,"n_rows":361,"n_cols":9,"rows_kept":361,"cut":false,"hidden":true,"merged":[]}
[null,0,{"$f":"'Polar 0-360'!F1","v":6},{"$f":"'Polar 0-360'!L1","v":8},{"$f":"'Polar 0-360'!R1","v":10},{"$f":"'Polar 0-360'!X1","v":12},{"$f":"'Polar 0-360'!AD1","v":14},{"$f":"'Polar 0-360'!AJ1","v":16},{"$f":"'Polar 0-360'!AP1","v":20}]
[{"$f":"'Polar 0-360'!A2","v":0},0,{"$f":" IF( $A2 < 'Polar 0-360'!G$365, 'Polar 0-360'!G$363 / COS!$B2,'Polar 0-360'!F2 )","v":2.358336062888962},{"$f":" IF( $A2 < 'Polar 0-360'!M$365, 'Polar 0-360'!M$363 / COS!$B2,'Polar 0-360'!L2 )","v":2.8898920208864878},{"$f":" IF( $A2 < 'Polar 0-360'!S$365, 'Polar 0-360'!S$363 / COS!$B2,'Polar 0-360'!R2 )","v":3.2668461041908401},{"$f":" IF( $A2 < 'Polar 0-360'!Y$365, 'Polar 0-360'!Y$363 / COS!$B2,'Polar 0-360'!X2 )","v":3.5986808851102392},{"$f":" IF( $A2 < 'Polar 0-360'!AE$365, 'Polar 0-360'!AE$363 / COS!$B2,'Polar 0-360'!AD2 )","v":3.8900653891035448},{"$f":" IF( $A2 < 'Polar 0-360'!AK$365, 'Polar 0-360'!AK$363 / COS!$B2,'Polar 0-360'!AJ2 )","v":4.0748471355892129},{"$f":" IF( $A2 < 'Polar 0-360'!AQ$365, 'Polar 0-360'!AQ$363 / COS!$B2,'Polar 0-360'!AP2 )","v":4.1740842118138266}]
[{"$f":"'Polar 0-360'!A3","v":1},0,{"$f":" IF( $A3 < 'Polar 0-360'!G$365, 'Polar 0-360'!G$363 / COS!$B3,'Polar 0-360'!F3 )","v":2.3586953036082989},{"$f":" IF( $A3 < 'Polar 0-360'!M$365, 'Polar 0-360'!M$363 / COS!$B3,'Polar 0-360'!L3 )","v":2.8903322324851337},{"$f":" IF( $A3 < 'Polar 0-360'!S$365, 'Polar 0-360'!S$363 / COS!$B3,'Polar 0-360'!R3 )","v":3.2673437364676388},{"$f":" IF( $A3 < 'Polar 0-360'!Y$365, 'Polar 0-360'!Y$363 / COS!$B3,'Polar 0-360'!X3 )","v":3.5992290651301158},{"$f":" IF( $A3 < 'Polar 0-360'!AE$365, 'Polar 0-360'!AE$363 / COS!$B3,'Polar 0-360'!AD3 )","v":3.8906579551549396},{"$f":" IF( $A3 < 'Polar 0-360'!AK$365, 'Polar 0-360'!AK$363 / COS!$B3,'Polar 0-360'!AJ3 )","v":4.0754678490825995},{"$f":" IF( $A3 < 'Polar 0-360'!AQ$365, 'Polar 0-360'!AQ$363 / COS!$B3,'Polar 0-360'!AP3 )","v":4.1747200418969177}]
[{"$f":"'Polar 0-360'!A4","v":2},0,{"$f":" IF( $A4 < 'Polar 0-360'!G$365, 'Polar 0-360'!G$363 / COS!$B4,'Polar 0-360'!F4 )","v":2.3597735731908016},{"$f":" IF( $A4 < 'Polar 0-360'!M$365, 'Polar 0-360'!M$363 / COS!$B4,'Polar 0-360'!L4 )","v":2.8916535380920294},{"$f":" IF( $A4 < 'Polar 0-360'!S$365, 'Polar 0-360'!S$363 / COS!$B4,'Polar 0-360'!R4 )","v":3.2688373916087778},{"$f":" IF( $A4 < 'Polar 0-360'!Y$365, 'Polar 0-360'!Y$363 / COS!$B4,'Polar 0-360'!X4 )","v":3.6008744405270368},{"$f":" IF( $A4 < 'Polar 0-360'!AE$365, 'Polar 0-360'!AE$363 / COS!$B4,'Polar 0-360'!AD4 )","v":3.8924365562835166},{"$f":" IF( $A4 < 'Polar 0-360'!AK$365, 'Polar 0-360'!AK$363 / COS!$B4,'Polar 0-360'!AJ4 )","v":4.0773309354292815},{"$f":" IF( $A4 < 'Polar 0-360'!AQ$365, 'Polar 0-360'!AQ$363 / COS!$B4,'Polar 0-360'!AP4 )","v":4.1766285010479391}]
[{"$f":"'Polar 0-360'!A5","v":3},0,{"$f":" IF( $A5 < 'Polar 0-360'!G$365, 'Polar 0-360'!G$363 / COS!$B5,'Polar 0-360'!F5 )","v":2.3615725159466203},{"$f":" IF( $A5 < 'Polar 0-360'!M$365, 'Polar 0-360'!M$363 / COS!$B5,'Polar 0-360'!L5 )","v":2.8938579526357753},{"$f":" IF( $A5 < 'Polar 0-360'!S$365, 'Polar 0-360'!S$363 / COS!$B5,'Polar 0-360'!R5 )","v":3.2713293473677503},{"$f":" IF( $A5 < 'Polar 0-360'!Y$365, 'Polar 0-360'!Y$363 / COS!$B5,'Polar 0-360'!X5 )","v":3.6036195204207151},{"$f":" IF( $A5 < 'Polar 0-360'!AE$365, 'Polar 0-360'!AE$363 / COS!$B5,'Polar 0-360'!AD5 )","v":3.895403904771932},{"$f":" IF( $A5 < 'Polar 0-360'!AK$365, 'Polar 0-360'!AK$363 / COS!$B5,'Polar 0-360'!AJ5 )","v":4.0804392357478783},{"$f":" IF( $A5 < 'Polar 0-360'!AQ$365, 'Polar 0-360'!AQ$363 / COS!$B5,'Polar 0-360'!AP5 )","v":4.1798124995768946}]
[{"$f":"'Polar 0-360'!A6","v":4},0,{"$f":" IF( $A6 < 'Polar 0-360'!G$365, 'Polar 0-360'!G$363 / COS!$B6,'Polar 0-360'!F6 )","v":2.3640948791956897},{"$f":" IF( $A6 < 'Polar 0-360'!M$365, 'Polar 0-360'!M$363 / COS!$B6,'Polar 0-360'!L6 )","v":2.8969488426670851},{"$f":" IF( $A6 < 'Polar 0-360'!S$365, 'Polar 0-360'!S$363 / COS!$B6,'Polar 0-360'!R6 )","v":3.2748234094241484},{"$f":" IF( $A6 < 'Polar 0-360'!Y$365, 'Polar 0-360'!Y$363 / COS!$B6,'Polar 0-360'!X6 )","v":3.6074684970583411},{"$f":" IF( $A6 < 'Polar 0-360'!AE$365, 'Polar 0-360'!AE$363 / COS!$B6,'Polar 0-360'!AD6 )","v":3.899564532312831},{"$f":" IF( $A6 < 'Polar 0-360'!AK$365, 'Polar 0-360'!AK$363 / COS!$B6,'Polar 0-360'!AJ6 )","v":4.084797496990678},{"$f":" IF( $A6 < 'Polar 0-360'!AQ$365, 'Polar 0-360'!AQ$363 / COS!$B6,'Polar 0-360'!AP6 )","v":4.184276900041306}]
[{"$f":"'Polar 0-360'!A7","v":5},0,{"$f":" IF( $A7 < 'Polar 0-360'!G$365, 'Polar 0-360'!G$363 / COS!$B7,'Polar 0-360'!F7 )","v":2.3673445235218153},{"$f":" IF( $A7 < 'Polar 0-360'!M$365, 'Polar 0-360'!M$363 / COS!$B7,'Polar 0-360'!L7 )","v":2.9009309389240898},{"$f":" IF( $A7 < 'Polar 0-360'!S$365, 'Polar 0-360'!S$363 / COS!$B7,'Polar 0-360'!R7 )","v":3.2793249255879662},{"$f":" IF( $A7 < 'Polar 0-360'!Y$365, 'Polar 0-360'!Y$363 / COS!$B7,'Polar 0-360'!X7 )","v":3.6124272614617099},{"$f":" IF( $A7 < 'Polar 0-360'!AE$365, 'Polar 0-360'!AE$363 / COS!$B7,'Polar 0-360'!AD7 )","v":3.9049248069229185},{"$f":" IF( $A7 < 'Polar 0-360'!AK$365, 'Polar 0-360'!AK$363 / COS!$B7,'Polar 0-360'!AJ7 )","v":4.0904123896611377},{"$f":" IF( $A7 < 'Polar 0-360'!AQ$365, 'Polar 0-360'!AQ$363 / COS!$B7,'Polar 0-360'!AP7 )","v":4.1900285353952063}]
[{"$f":"'Polar 0-360'!A8","v":6},0,{"$f":" IF( $A8 < 'Polar 0-360'!G$365, 'Polar 0-360'!G$363 / COS!$B8,'Polar 0-360'!F8 )","v":2.3713264372280771},{"$f":" IF( $A8 < 'Polar 0-360'!M$365, 'Polar 0-360'!M$363 / COS!$B8,'Polar 0-360'!L8 )","v":2.9058103540459062},{"$f":" IF( $A8 < 'Polar 0-360'!S$365, 'Polar 0-360'!S$363 / COS!$B8,'Polar 0-360'!R8 )","v":3.2848408058237077},{"$f":" IF( $A8 < 'Polar 0-360'!Y$365, 'Polar 0-360'!Y$363 / COS!$B8,'Polar 0-360'!X8 )","v":3.6185034254853092},{"$f":" IF( $A8 < 'Polar 0-360'!AE$365, 'Polar 0-360'!AE$363 / COS!$B8,'Polar 0-360'!AD8 )","v":3.9114929567870864},{"$f":" IF( $A8 < 'Polar 0-360'!AK$365, 'Polar 0-360'!AK$363 / COS!$B8,'Polar 0-360'!AJ8 )","v":4.0972925327906324},{"$f":" IF( $A8 < 'Polar 0-360'!AQ$365, 'Polar 0-360'!AQ$363 / COS!$B8,'Polar 0-360'!AP8 )","v":4.1970762345741575}]
[{"$f":"'Polar 0-360'!A9","v":7},0,{"$f":" IF( $A9 < 'Polar 0-360'!G$365, 'Polar 0-360'!G$363 / COS!$B9,'Polar 0-360'!F9 )","v":2.3760467550945661},{"$f":" IF( $A9 < 'Polar 0-360'!M$365, 'Polar 0-360'!M$363 / COS!$B9,'Polar 0-360'!L9 )","v":2.911594605558264},{"$f":" IF( $A9 < 'Polar 0-360'!S$365, 'Polar 0-360'!S$363 / COS!$B9,'Polar 0-360'!R9 )","v":3.2913795482342323},{"$f":" IF( $A9 < 'Polar 0-360'!Y$365, 'Polar 0-360'!Y$363 / COS!$B9,'Polar 0-360'!X9 )","v":3.6257063504395113},{"$f":" IF( $A9 < 'Polar 0-360'!AE$365, 'Polar 0-360'!AE$363 / COS!$B9,'Polar 0-360'!AD9 )","v":3.9192791011992196},{"$f":" IF( $A9 < 'Polar 0-360'!AK$365, 'Polar 0-360'!AK$363 / COS!$B9,'Polar 0-360'!AJ9 )","v":4.1054485263489759},{"$f":" IF( $A9 < 'Polar 0-360'!AQ$365, 'Polar 0-360'!AQ$363 / COS!$B9,'Polar 0-360'!AP9 )","v":4.2054308556950835}]
[{"$f":"'Polar 0-360'!A10","v":8},0,{"$f":" IF( $A10 < 'Polar 0-360'!G$365, 'Polar 0-360'!G$363 / COS!$B10,'Polar 0-360'!F10 )","v":2.3815127815702755},{"$f":" IF( $A10 < 'Polar 0-360'!M$365, 'Polar 0-360'!M$363 / COS!$B10,'Polar 0-360'!L10 )","v":2.9182926442927255},{"$f":" IF( $A10 < 'Polar 0-360'!S$365, 'Polar 0-360'!S$363 / COS!$B10,'Polar 0-360'!R10 )","v":3.2989512711869406},{"$f":" IF( $A10 < 'Polar 0-360'!Y$365, 'Polar 0-360'!Y$363 / COS!$B10,'Polar 0-360'!X10 )","v":3.6340471824800247},{"$f":" IF( $A10 < 'Polar 0-360'!AE$365, 'Polar 0-360'!AE$363 / COS!$B10,'Polar 0-360'!AD10 )","v":3.9282952888171261},{"$f":" IF( $A10 < 'Polar 0-360'!AK$365, 'Polar 0-360'!AK$363 / COS!$B10,'Polar 0-360'!AJ10 )","v":4.1148929913164993},{"$f":" IF( $A10 < 'Polar 0-360'!AQ$365, 'Polar 0-360'!AQ$363 / COS!$B10,'Polar 0-360'!AP10 )","v":4.2151053271042453}]
[{"$f":"'Polar 0-360'!A11","v":9},0,{"$f":" IF( $A11 < 'Polar 0-360'!G$365, 'Polar 0-360'!G$363 / COS!$B11,'Polar 0-360'!F11 )","v":2.3877330185632566},{"$f":" IF( $A11 < 'Polar 0-360'!M$365, 'Polar 0-360'!M$363 / COS!$B11,'Polar 0-360'!L11 )","v":2.9259148884405839},{"$f":" IF( $A11 < 'Polar 0-360'!S$365, 'Polar 0-360'!S$363 / COS!$B11,'Polar 0-360'!R11 )","v":3.3075677518096263},{"$f":" IF( $A11 < 'Polar 0-360'!Y$365, 'Polar 0-360'!Y$363 / COS!$B11,'Polar 0-360'!X11 )","v":3.6435388950140197},{"$f":" IF( $A11 < 'Polar 0-360'!AE$365, 'Polar 0-360'!AE$363 / COS!$B11,'Polar 0-360'!AD11 )","v":3.938555543502277},{"$f":" IF( $A11 < 'Polar 0-360'!AK$365, 'Polar 0-360'!AK$363 / COS!$B11,'Polar 0-360'!AJ11 )","v":4.1256406177012153},{"$f":" IF( $A11 < 'Polar 0-360'!AQ$365, 'Polar 0-360'!AQ$363 / COS!$B11,'Polar 0-360'!AP11 )","v":4.226114696563803}]
[{"$f":"'Polar 0-360'!A12","v":10},0,{"$f":" IF( $A12 < 'Polar 0-360'!G$365, 'Polar 0-360'!G$363 / COS!$B12,'Polar 0-360'!F12 )","v":2.3947171980273061},{"$f":" IF( $A12 < 'Polar 0-360'!M$365, 'Polar 0-360'!M$363 / COS!$B12,'Polar 0-360'!L12 )","v":2.9344732634844148},{"$f":" IF( $A12 < 'Polar 0-360'!S$365, 'Polar 0-360'!S$363 / COS!$B12,'Polar 0-360'!R12 )","v":3.3172424711306503},{"$f":" IF( $A12 < 'Polar 0-360'!Y$365, 'Polar 0-360'!Y$363 / COS!$B12,'Polar 0-360'!X12 )","v":3.6541963384254843},{"$f":" IF( $A12 < 'Polar 0-360'!AE$365, 'Polar 0-360'!AE$363 / COS!$B12,'Polar 0-360'!AD12 )","v":3.9500759180714149},{"$f":" IF( $A12 < 'Polar 0-360'!AK$365, 'Polar 0-360'!AK$363 / COS!$B12,'Polar 0-360'!AJ12 )","v":4.1377082208436873},{"$f":" IF( $A12 < 'Polar 0-360'!AQ$365, 'Polar 0-360'!AQ$363 / COS!$B12,'Polar 0-360'!AP12 )","v":4.2384761889278941}]
[{"$f":"'Polar 0-360'!A13","v":11},0,{"$f":" IF( $A13 < 'Polar 0-360'!G$365, 'Polar 0-360'!G$363 / COS!$B13,'Polar 0-360'!F13 )","v":2.4024763195799355},{"$f":" IF( $A13 < 'Polar 0-360'!M$365, 'Polar 0-360'!M$363 / COS!$B13,'Polar 0-360'!L13 )","v":2.9439812482949277},{"$f":" IF( $A13 < 'Polar 0-360'!S$365, 'Polar 0-360'!S$363 / COS!$B13,'Polar 0-360'!R13 )","v":3.3279906661886098},{"$f":" IF( $A13 < 'Polar 0-360'!Y$365, 'Polar 0-360'!Y$363 / COS!$B13,'Polar 0-360'!X13 )","v":3.6660362974780076},{"$f":" IF( $A13 < 'Polar 0-360'!AE$365, 'Polar 0-360'!AE$363 / COS!$B13,'Polar 0-360'!AD13 )","v":3.9628745563472325},{"$f":" IF( $A13 < 'Polar 0-360'!AK$365, 'Polar 0-360'!AK$363 / COS!$B13,'Polar 0-360'!AJ13 )","v":4.1511148064151646},{"$f":" IF( $A13 < 'Polar 0-360'!AQ$365, 'Polar 0-360'!AQ$363 / COS!$B13,'Polar 0-360'!AP13 )","v":4.2522092727237215}]
[{"$f":"'Polar 0-360'!A14","v":12},0,{"$f":" IF( $A14 < 'Polar 0-360'!G$365, 'Polar 0-360'!G$363 / COS!$B14,'Polar 0-360'!F14 )","v":2.4110226934255525},{"$f":" IF( $A14 < 'Polar 0-360'!M$365, 'Polar 0-360'!M$363 / COS!$B14,'Polar 0-360'!L14 )","v":2.9544539277287933},{"$f":" IF( $A14 < 'Polar 0-360'!S$365, 'Polar 0-360'!S$363 / COS!$B14,'Polar 0-360'!R14 )","v":3.3398293894909665},{"$f":" IF( $A14 < 'Polar 0-360'!Y$365, 'Polar 0-360'!Y$363 / COS!$B14,'Polar 0-360'!X14 )","v":3.6790775568130116},{"$f":" IF( $A14 < 'Polar 0-360'!AE$365, 'Polar 0-360'!AE$363 / COS!$B14,'Polar 0-360'!AD14 )","v":3.9769717639599795},{"$f":" IF( $A14 < 'Polar 0-360'!AK$365, 'Polar 0-360'!AK$363 / COS!$B14,'Polar 0-360'!AJ14 )","v":4.1658816445823366},{"$f":" IF( $A14 < 'Polar 0-360'!AQ$365, 'Polar 0-360'!AQ$363 / COS!$B14,'Polar 0-360'!AP14 )","v":4.2673357361224742}]
[{"$f":"'Polar 0-360'!A15","v":13},0,{"$f":" IF( $A15 < 'Polar 0-360'!G$365, 'Polar 0-360'!G$363 / COS!$B15,'Polar 0-360'!F15 )","v":2.4203699889002359},{"$f":" IF( $A15 < 'Polar 0-360'!M$365, 'Polar 0-360'!M$363 / COS!$B15,'Polar 0-360'!L15 )","v":2.965908052115148},{"$f":" IF( $A15 < 'Polar 0-360'!S$365, 'Polar 0-360'!S$363 / COS!$B15,'Polar 0-360'!R15 )","v":3.3527775762598973},{"$f":" IF( $A15 < 'Polar 0-360'!Y$365, 'Polar 0-360'!Y$363 / COS!$B15,'Polar 0-360'!X15 )","v":3.6933409750261967},{"$f":" IF( $A15 < 'Polar 0-360'!AE$365, 'Polar 0-360'!AE$363 / COS!$B15,'Polar 0-360'!AD15 )","v":3.9923900884218662},{"$f":" IF( $A15 < 'Polar 0-360'!AK$365, 'Polar 0-360'!AK$363 / COS!$B15,'Polar 0-360'!AJ15 )","v":4.1820323538853446},{"$f":" IF( $A15 < 'Polar 0-360'!AQ$365, 'Polar 0-360'!AQ$363 / COS!$B15,'Polar 0-360'!AP15 )","v":4.2838797728600717}]
[{"$f":"'Polar 0-360'!A16","v":14},0,{"$f":" IF( $A16 < 'Polar 0-360'!G$365, 'Polar 0-360'!G$363 / COS!$B16,'Polar 0-360'!F16 )","v":2.4305332890007425},{"$f":" IF( $A16 < 'Polar 0-360'!M$365, 'Polar 0-360'!M$363 / COS!$B16,'Polar 0-360'!L16 )","v":2.9783621040751345},{"$f":" IF( $A16 < 'Polar 0-360'!S$365, 'Polar 0-360'!S$363 / COS!$B16,'Polar 0-360'!R16 )","v":3.366856119967697},{"$f":" IF( $A16 < 'Polar 0-360'!Y$365, 'Polar 0-360'!Y$363 / COS!$B16,'Polar 0-360'!X16 )","v":3.7088495678755673},{"$f":" IF( $A16 < 'Polar 0-360'!AE$365, 'Polar 0-360'!AE$363 / COS!$B16,'Polar 0-360'!AD16 )","v":4.009154409072428},{"$f":" IF( $A16 < 'Polar 0-360'!AK$365, 'Polar 0-360'!AK$363 / COS!$B16,'Polar 0-360'!AJ16 )","v":4.1995929954556352},{"$f":" IF( $A16 < 'Polar 0-360'!AQ$365, 'Polar 0-360'!AQ$363 / COS!$B16,'Polar 0-360'!AP16 )","v":4.3018680787495569}]
[{"$f":"'Polar 0-360'!A17","v":15},0,{"$f":" IF( $A17 < 'Polar 0-360'!G$365, 'Polar 0-360'!G$363 / COS!$B17,'Polar 0-360'!F17 )","v":2.441529151311038},{"$f":" IF( $A17 < 'Polar 0-360'!M$365, 'Polar 0-360'!M$363 / COS!$B17,'Polar 0-360'!L17 )","v":2.9918363731809388},{"$f":" IF( $A17 < 'Polar 0-360'!S$365, 'Polar 0-360'!S$363 / COS!$B17,'Polar 0-360'!R17 )","v":3.382087956734253},{"$f":" IF( $A17 < 'Polar 0-360'!Y$365, 'Polar 0-360'!Y$363 / COS!$B17,'Polar 0-360'!X17 )","v":3.7256286012517053},{"$f":" IF( $A17 < 'Polar 0-360'!AE$365, 'Polar 0-360'!AE$363 / COS!$B17,'Polar 0-360'!AD17 )","v":4.0272920375765811},{"$f":" IF( $A17 < 'Polar 0-360'!AK$365, 'Polar 0-360'!AK$363 / COS!$B17,'Polar 0-360'!AJ17 )","v":4.2185921782877678},{"$f":" IF( $A17 < 'Polar 0-360'!AQ$365, 'Polar 0-360'!AQ$363 / COS!$B17,'Polar 0-360'!AP17 )","v":4.3213299595166506}]
[{"$f":"'Polar 0-360'!A18","v":16},0,{"$f":" IF( $A18 < 'Polar 0-360'!G$365, 'Polar 0-360'!G$363 / COS!$B18,'Polar 0-360'!F18 )","v":2.453375675795459},{"$f":" IF( $A18 < 'Polar 0-360'!M$365, 'Polar 0-360'!M$363 / COS!$B18,'Polar 0-360'!L18 )","v":3.0063530390291584},{"$f":" IF( $A18 < 'Polar 0-360'!S$365, 'Polar 0-360'!S$363 / COS!$B18,'Polar 0-360'!R18 )","v":3.3984981592364036},{"$f":" IF( $A18 < 'Polar 0-360'!Y$365, 'Polar 0-360'!Y$363 / COS!$B18,'Polar 0-360'!X18 )","v":3.7437056946261125},{"$f":" IF( $A18 < 'Polar 0-360'!AE$365, 'Polar 0-360'!AE$363 / COS!$B18,'Polar 0-360'!AD18 )","v":4.0468328297491611},{"$f":" IF( $A18 < 'Polar 0-360'!AK$365, 'Polar 0-360'!AK$363 / COS!$B18,'Polar 0-360'!AJ18 )","v":4.2390611763757233},{"$f":" IF( $A18 < 'Polar 0-360'!AQ$365, 'Polar 0-360'!AQ$363 / COS!$B18,'Polar 0-360'!AP18 )","v":4.3422974507887435}]
[{"$f":"'Polar 0-360'!A19","v":17},0,{"$f":" IF( $A19 < 'Polar 0-360'!G$365, 'Polar 0-360'!G$363 / COS!$B19,'Polar 0-360'!F19 )","v":2.4660925799893438},{"$f":" IF( $A19 < 'Polar 0-360'!M$365, 'Polar 0-360'!M$363 / COS!$B19,'Polar 0-360'!L19 )","v":3.0219362633789855},{"$f":" IF( $A19 < 'Polar 0-360'!S$365, 'Polar 0-360'!S$363 / COS!$B19,'Polar 0-360'!R19 )","v":3.4161140408645161},{"$f":" IF( $A19 < 'Polar 0-360'!Y$365, 'Polar 0-360'!Y$363 / COS!$B19,'Polar 0-360'!X19 )","v":3.7631109357876507},{"$f":" IF( $A19 < 'Polar 0-360'!AE$365, 'Polar 0-360'!AE$363 / COS!$B19,'Polar 0-360'!AD19 )","v":4.0678093095815466},{"$f":" IF( $A19 < 'Polar 0-360'!AK$365, 'Polar 0-360'!AK$363 / COS!$B19,'Polar 0-360'!AJ19 )","v":4.2610340586309077},{"$f":" IF( $A19 < 'Polar 0-360'!AQ$365, 'Polar 0-360'!AQ$363 / COS!$B19,'Polar 0-360'!AP19 )","v":4.3648054511768732}]
[{"$f":"'Polar 0-360'!A20","v":18},0,{"$f":" IF( $A20 < 'Polar 0-360'!G$365, 'Polar 0-360'!G$363 / COS!$B20,'Polar 0-360'!F20 )","v":2.4797012821865461},{"$f":" IF( $A20 < 'Polar 0-360'!M$365, 'Polar 0-360'!M$363 / COS!$B20,'Polar 0-360'!L20 )","v":3.0386122920897276},{"$f":" IF( $A20 < 'Polar 0-360'!S$365, 'Polar 0-360'!S$363 / COS!$B20,'Polar 0-360'!R20 )","v":3.434965270956619},{"$f":" IF( $A20 < 'Polar 0-360'!Y$365, 'Polar 0-360'!Y$363 / COS!$B20,'Polar 0-360'!X20 )","v":3.7838770077817485},{"$f":" IF( $A20 < 'Polar 0-360'!AE$365, 'Polar 0-360'!AE$363 / COS!$B20,'Polar 0-360'!AD20 )","v":4.0902568064591138},{"$f":" IF( $A20 < 'Polar 0-360'!AK$365, 'Polar 0-360'!AK$363 / COS!$B20,'Polar 0-360'!AJ20 )","v":4.2845478326175659},{"$f":" IF( $A20 < 'Polar 0-360'!AQ$365, 'Polar 0-360'!AQ$363 / COS!$B20,'Polar 0-360'!AP20 )","v":4.3888918695116006}]
[{"$f":"'Polar 0-360'!A21","v":19},0,{"$f":" IF( $A21 < 'Polar 0-360'!G$365, 'Polar 0-360'!G$363 / COS!$B21,'Polar 0-360'!F21 )","v":2.4942249932997149},{"$f":" IF( $A21 < 'Polar 0-360'!M$365, 'Polar 0-360'!M$363 / COS!$B21,'Polar 0-360'!L21 )","v":3.0564095676858916},{"$f":" IF( $A21 < 'Polar 0-360'!S$365, 'Polar 0-360'!S$363 / COS!$B21,'Polar 0-360'!R21 )","v":3.4550840020463376},{"$f":" IF( $A21 < 'Polar 0-360'!Y$365, 'Polar 0-360'!Y$363 / COS!$B21,'Polar 0-360'!X21 )","v":3.8060393290837418},{"$f":" IF( $A21 < 'Polar 0-360'!AE$365, 'Polar 0-360'!AE$363 / COS!$B21,'Polar 0-360'!AD21 )","v":4.1142136066843822},{"$f":" IF( $A21 < 'Polar 0-360'!AK$365, 'Polar 0-360'!AK$363 / COS!$B21,'Polar 0-360'!AJ21 )","v":4.3096426032734172},{"$f":" IF( $A21 < 'Polar 0-360'!AQ$365, 'Polar 0-360'!AQ$363 / COS!$B21,'Polar 0-360'!AP21 )","v":4.4145977874290665}]
[{"$f":"'Polar 0-360'!A22","v":20},0,{"$f":" IF( $A22 < 'Polar 0-360'!G$365, 'Polar 0-360'!G$363 / COS!$B22,'Polar 0-360'!F22 )","v":2.5096888181547881},{"$f":" IF( $A22 < 'Polar 0-360'!M$365, 'Polar 0-360'!M$363 / COS!$B22,'Polar 0-360'!L22 )","v":3.0753588534828946},{"$f":" IF( $A22 < 'Polar 0-360'!S$365, 'Polar 0-360'!S$363 / COS!$B22,'Polar 0-360'!R22 )","v":3.4765050101794195},{"$f":" IF( $A22 < 'Polar 0-360'!Y$365, 'Polar 0-360'!Y$363 / COS!$B22,'Polar 0-360'!X22 )","v":3.829636208168258},{"$f":" IF( $A22 < 'Polar 0-360'!AE$365, 'Polar 0-360'!AE$363 / COS!$B22,'Polar 0-360'!AD22 )","v":4.1397211205618527},{"$f":" IF( $A22 < 'Polar 0-360'!AK$365, 'Polar 0-360'!AK$363 / COS!$B22,'Polar 0-360'!AJ22 )","v":4.3363617479311793},{"$f":" IF( $A22 < 'Polar 0-360'!AQ$365, 'Polar 0-360'!AQ$363 / COS!$B22,'Polar 0-360'!AP22 )","v":4.4419676386549112}]
[{"$f":"'Polar 0-360'!A23","v":21},0,{"$f":" IF( $A23 < 'Polar 0-360'!G$365, 'Polar 0-360'!G$363 / COS!$B23,'Polar 0-360'!F23 )","v":2.5261198670771732},{"$f":" IF( $A23 < 'Polar 0-360'!M$365, 'Polar 0-360'!M$363 / COS!$B23,'Polar 0-360'!L23 )","v":3.0954933703241578},{"$f":" IF( $A23 < 'Polar 0-360'!S$365, 'Polar 0-360'!S$363 / COS!$B23,'Polar 0-360'!R23 )","v":3.4992658494866506},{"$f":" IF( $A23 < 'Polar 0-360'!Y$365, 'Polar 0-360'!Y$363 / COS!$B23,'Polar 0-360'!X23 )","v":3.854709013783105},{"$f":" IF( $A23 < 'Polar 0-360'!AE$365, 'Polar 0-360'!AE$363 / COS!$B23,'Polar 0-360'!AD23 )","v":4.1668240664589433},{"$f":" IF( $A23 < 'Polar 0-360'!AK$365, 'Polar 0-360'!AK$363 / COS!$B23,'Polar 0-360'!AJ23 )","v":4.3647521091225734},{"$f":" IF( $A23 < 'Polar 0-360'!AQ$365, 'Polar 0-360'!AQ$363 / COS!$B23,'Polar 0-360'!AP23 )","v":4.4710494065037443}]
[{"$f":"'Polar 0-360'!A24","v":22},0,{"$f":" IF( $A24 < 'Polar 0-360'!G$365, 'Polar 0-360'!G$363 / COS!$B24,'Polar 0-360'!F24 )","v":2.5435473787352119},{"$f":" IF( $A24 < 'Polar 0-360'!M$365, 'Polar 0-360'!M$363 / COS!$B24,'Polar 0-360'!L24 )","v":3.1168489471128096},{"$f":" IF( $A24 < 'Polar 0-360'!S$365, 'Polar 0-360'!S$363 / COS!$B24,'Polar 0-360'!R24 )","v":3.5234070223507334},{"$f":" IF( $A24 < 'Polar 0-360'!Y$365, 'Polar 0-360'!Y$363 / COS!$B24,'Polar 0-360'!X24 )","v":3.8813023624011098},{"$f":" IF( $A24 < 'Polar 0-360'!AE$365, 'Polar 0-360'!AE$363 / COS!$B24,'Polar 0-360'!AD24 )","v":4.195570673435765},{"$f":" IF( $A24 < 'Polar 0-360'!AK$365, 'Polar 0-360'!AK$363 / COS!$B24,'Polar 0-360'!AJ24 )","v":4.3948642068331996},{"$f":" IF( $A24 < 'Polar 0-360'!AQ$365, 'Polar 0-360'!AQ$363 / COS!$B24,'Polar 0-360'!AP24 )","v":4.501894841303189}]
[{"$f":"'Polar 0-360'!A25","v":23},0,{"$f":" IF( $A25 < 'Polar 0-360'!G$365, 'Polar 0-360'!G$363 / COS!$B25,'Polar 0-360'!F25 )","v":2.562002855328573},{"$f":" IF( $A25 < 'Polar 0-360'!M$365, 'Polar 0-360'!M$363 / COS!$B25,'Polar 0-360'!L25 )","v":3.1394641864707991},{"$f":" IF( $A25 < 'Polar 0-360'!S$365, 'Polar 0-360'!S$363 / COS!$B25,'Polar 0-360'!R25 )","v":3.5489721666737828},{"$f":" IF( $A25 < 'Polar 0-360'!Y$365, 'Polar 0-360'!Y$363 / COS!$B25,'Polar 0-360'!X25 )","v":3.9094643245095848},{"$f":" IF( $A25 < 'Polar 0-360'!AE$365, 'Polar 0-360'!AE$363 / COS!$B25,'Polar 0-360'!AD25 )","v":4.2260129042378072},{"$f":" IF( $A25 < 'Polar 0-360'!AK$365, 'Polar 0-360'!AK$363 / COS!$B25,'Polar 0-360'!AJ25 )","v":4.4267524720875873},{"$f":" IF( $A25 < 'Polar 0-360'!AQ$365, 'Polar 0-360'!AQ$363 / COS!$B25,'Polar 0-360'!AP25 )","v":4.5345596996675575}]
[{"$f":"'Polar 0-360'!A26","v":24},0,{"$f":" IF( $A26 < 'Polar 0-360'!G$365, 'Polar 0-360'!G$363 / COS!$B26,'Polar 0-360'!F26 )","v":2.5815202113473759},{"$f":" IF( $A26 < 'Polar 0-360'!M$365, 'Polar 0-360'!M$363 / COS!$B26,'Polar 0-360'!L26 )","v":3.1633806470275037},{"$f":" IF( $A26 < 'Polar 0-360'!S$365, 'Polar 0-360'!S$363 / COS!$B26,'Polar 0-360'!R26 )","v":3.5760082619434383},{"$f":" IF( $A26 < 'Polar 0-360'!Y$365, 'Polar 0-360'!Y$363 / COS!$B26,'Polar 0-360'!X26 )","v":3.9392466516079185},{"$f":" IF( $A26 < 'Polar 0-360'!AE$365, 'Polar 0-360'!AE$363 / COS!$B26,'Polar 0-360'!AD26 )","v":4.2582067006734814},{"$f":" IF( $A26 < 'Polar 0-360'!AK$365, 'Polar 0-360'!AK$363 / COS!$B26,'Polar 0-360'!AJ26 )","v":4.4604755039824004},{"$f":" IF( $A26 < 'Polar 0-360'!AQ$365, 'Polar 0-360'!AQ$363 / COS!$B26,'Polar 0-360'!AP26 )","v":4.5691040077907328}]
[{"$f":"'Polar 0-360'!A27","v":25},0,{"$f":" IF( $A27 < 'Polar 0-360'!G$365, 'Polar 0-360'!G$363 / COS!$B27,'Polar 0-360'!F27 )","v":2.6021359372846189},{"$f":" IF( $A27 < 'Polar 0-360'!M$365, 'Polar 0-360'!M$363 / COS!$B27,'Polar 0-360'!L27 )","v":3.1886430440320428},{"$f":" IF( $A27 < 'Polar 0-360'!S$365, 'Polar 0-360'!S$363 / COS!$B27,'Polar 0-360'!R27 )","v":3.6045658560128127},{"$f":" IF( $A27 < 'Polar 0-360'!Y$365, 'Polar 0-360'!Y$363 / COS!$B27,'Polar 0-360'!X27 )","v":3.9707050260230337},{"$f":" IF( $A27 < 'Polar 0-360'!AE$365, 'Polar 0-360'!AE$363 / COS!$B27,'Polar 0-360'!AD27 )","v":4.2922122536570848},{"$f":" IF( $A27 < 'Polar 0-360'!AK$365, 'Polar 0-360'!AK$363 / COS!$B27,'Polar 0-360'!AJ27 )","v":4.4960963525566964},{"$f":" IF( $A27 < 'Polar 0-360'!AQ$365, 'Polar 0-360'!AQ$363 / COS!$B27,'Polar 0-360'!AP27 )","v":4.6055923512053329}]
[{"$f":"'Polar 0-360'!A28","v":26},0,{"$f":" IF( $A28 < 'Polar 0-360'!G$365, 'Polar 0-360'!G$363 / COS!$B28,'Polar 0-360'!F28 )","v":2.6238892798628761},{"$f":" IF( $A28 < 'Polar 0-360'!M$365, 'Polar 0-360'!M$363 / COS!$B28,'Polar 0-360'!L28 )","v":3.2152994702020714},{"$f":" IF( $A28 < 'Polar 0-360'!S$365, 'Polar 0-360'!S$363 / COS!$B28,'Polar 0-360'!R28 )","v":3.6346993147565398},{"$f":" IF( $A28 < 'Polar 0-360'!Y$365, 'Polar 0-360'!Y$363 / COS!$B28,'Polar 0-360'!X28 )","v":4.003899335924622},{"$f":" IF( $A28 < 'Polar 0-360'!AE$365, 'Polar 0-360'!AE$363 / COS!$B28,'Polar 0-360'!AD28 )","v":4.3280943004919745},{"$f":" IF( $A28 < 'Polar 0-360'!AK$365, 'Polar 0-360'!AK$363 / COS!$B28,'Polar 0-360'!AJ28 )","v":4.533682830196323},{"$f":" IF( $A28 < 'Polar 0-360'!AQ$365, 'Polar 0-360'!AQ$363 / COS!$B28,'Polar 0-360'!AP28 )","v":4.644094193770913}]
[{"$f":"'Polar 0-360'!A29","v":27},0,{"$f":" IF( $A29 < 'Polar 0-360'!G$365, 'Polar 0-360'!G$363 / COS!$B29,'Polar 0-360'!F29 )","v":2.6468224405396001},{"$f":" IF( $A29 < 'Polar 0-360'!M$365, 'Polar 0-360'!M$363 / COS!$B29,'Polar 0-360'!L29 )","v":3.2434016389710911},{"$f":" IF( $A29 < 'Polar 0-360'!S$365, 'Polar 0-360'!S$363 / COS!$B29,'Polar 0-360'!R29 )","v":3.6664670970469744},{"$f":" IF( $A29 < 'Polar 0-360'!Y$365, 'Polar 0-360'!Y$363 / COS!$B29,'Polar 0-360'!X29 )","v":4.0388939782324664},{"$f":" IF( $A29 < 'Polar 0-360'!AE$365, 'Polar 0-360'!AE$363 / COS!$B29,'Polar 0-360'!AD29 )","v":4.3659224523042273},{"$f":" IF( $A29 < 'Polar 0-360'!AK$365, 'Polar 0-360'!AK$363 / COS!$B29,'Polar 0-360'!AJ29 )","v":4.5733078546209933},{"$f":" IF( $A29 < 'Polar 0-360'!AQ$365, 'Polar 0-360'!AQ$363 / COS!$B29,'Polar 0-360'!AP29 )","v":4.6846842290139978}]
[{"$f":"'Polar 0-360'!A30","v":28},0,{"$f":" IF( $A30 < 'Polar 0-360'!G$365, 'Polar 0-360'!G$363 / COS!$B30,'Polar 0-360'!F30 )","v":2.6709807942879404},{"$f":" IF( $A30 < 'Polar 0-360'!M$365, 'Polar 0-360'!M$363 / COS!$B30,'Polar 0-360'!L30 )","v":3.2730051525812591},{"$f":" IF( $A30 < 'Polar 0-360'!S$365, 'Polar 0-360'!S$363 / COS!$B30,'Polar 0-360'!R30 )","v":3.6999320578167096},{"$f":" IF( $A30 < 'Polar 0-360'!Y$365, 'Polar 0-360'!Y$363 / COS!$B30,'Polar 0-360'!X30 )","v":4.0757581924629793},{"$f":" IF( $A30 < 'Polar 0-360'!AE$365, 'Polar 0-360'!AE$363 / COS!$B30,'Polar 0-360'!AD30 )","v":4.405771554920678},{"$f":" IF( $A30 < 'Polar 0-360'!AK$365, 'Polar 0-360'!AK$363 / COS!$B30,'Polar 0-360'!AJ30 )","v":4.6150498269043609},{"$f":" IF( $A30 < 'Polar 0-360'!AQ$365, 'Polar 0-360'!AQ$363 / COS!$B30,'Polar 0-360'!AP30 )","v":4.7274427673543036}]
[{"$f":"'Polar 0-360'!A31","v":29},0,{"$f":" IF( $A31 < 'Polar 0-360'!G$365, 'Polar 0-360'!G$363 / COS!$B31,'Polar 0-360'!F31 )","v":2.6964131309164445},{"$f":" IF( $A31 < 'Polar 0-360'!M$365, 'Polar 0-360'!M$363 / COS!$B31,'Polar 0-360'!L31 )","v":3.3041697977952156},{"$f":" IF( $A31 < 'Polar 0-360'!S$365, 'Polar 0-360'!S$363 / COS!$B31,'Polar 0-360'!R31 )","v":3.735161782342705},{"$f":" IF( $A31 < 'Polar 0-360'!Y$365, 'Polar 0-360'!Y$363 / COS!$B31,'Polar 0-360'!X31 )","v":4.114566428968752},{"$f":" IF( $A31 < 'Polar 0-360'!AE$365, 'Polar 0-360'!AE$363 / COS!$B31,'Polar 0-360'!AD31 )","v":4.447722086924748},{"$f":" IF( $A31 < 'Polar 0-360'!AK$365, 'Polar 0-360'!AK$363 / COS!$B31,'Polar 0-360'!AJ31 )","v":4.658993048437873},{"$f":" IF( $A31 < 'Polar 0-360'!AQ$365, 'Polar 0-360'!AQ$363 / COS!$B31,'Polar 0-360'!AP31 )","v":4.7724561632231399}]
[{"$f":"'Polar 0-360'!A32","v":30},0,{"$f":" IF( $A32 < 'Polar 0-360'!G$365, 'Polar 0-360'!G$363 / COS!$B32,'Polar 0-360'!F32 )","v":2.7231719214970886},{"$f":" IF( $A32 < 'Polar 0-360'!M$365, 'Polar 0-360'!M$363 / COS!$B32,'Polar 0-360'!L32 )","v":3.3369598723755303},{"$f":" IF( $A32 < 'Polar 0-360'!S$365, 'Polar 0-360'!S$363 / COS!$B32,'Polar 0-360'!R32 )","v":3.7722289553113231},{"$f":" IF( $A32 < 'Polar 0-360'!Y$365, 'Polar 0-360'!Y$363 / COS!$B32,'Polar 0-360'!X32 )","v":4.1553987554919143},{"$f":" IF( $A32 < 'Polar 0-360'!AE$365, 'Polar 0-360'!AE$363 / COS!$B32,'Polar 0-360'!AD32 )","v":4.4918605991283558},{"$f":" IF( $A32 < 'Polar 0-360'!AK$365, 'Polar 0-360'!AK$363 / COS!$B32,'Polar 0-360'!AJ32 )","v":4.7052281812780148},{"$f":" IF( $A32 < 'Polar 0-360'!AQ$365, 'Polar 0-360'!AQ$363 / COS!$B32,'Polar 0-360'!AP32 )","v":4.8198172866217588}]
[{"$f":"'Polar 0-360'!A33","v":31},0,{"$f":" IF( $A33 < 'Polar 0-360'!G$365, 'Polar 0-360'!G$363 / COS!$B33,'Polar 0-360'!F33 )","v":2.7513136128235769},{"$f":" IF( $A33 < 'Polar 0-360'!M$365, 'Polar 0-360'!M$363 / COS!$B33,'Polar 0-360'!L33 )","v":3.3714445459122797},{"$f":" IF( $A33 < 'Polar 0-360'!S$365, 'Polar 0-360'!S$363 / COS!$B33,'Polar 0-360'!R33 )","v":3.8112117687118272},{"$f":" IF( $A33 < 'Polar 0-360'!Y$365, 'Polar 0-360'!Y$363 / COS!$B33,'Polar 0-360'!X33 )","v":4.1983413064900308},{"$f":" IF( $A33 < 'Polar 0-360'!AE$365, 'Polar 0-360'!AE$363 / COS!$B33,'Polar 0-360'!AD33 )","v":4.5382802002796447},{"$f":" IF( $A33 < 'Polar 0-360'!AK$365, 'Polar 0-360'!AK$363 / COS!$B33,'Polar 0-360'!AJ33 )","v":4.7538527569256015},{"$f":" IF( $A33 < 'Polar 0-360'!AQ$365, 'Polar 0-360'!AQ$363 / COS!$B33,'Polar 0-360'!AP33 )","v":4.8696260442912394}]
[{"$f":"'Polar 0-360'!A34","v":32},0,{"$f":" IF( $A34 < 'Polar 0-360'!G$365, 'Polar 0-360'!G$363 / COS!$B34,'Polar 0-360'!F34 )","v":2.7808989532286588},{"$f":" IF( $A34 < 'Polar 0-360'!M$365, 'Polar 0-360'!M$363 / COS!$B34,'Polar 0-360'!L34 )","v":3.4076982590777911},{"$f":" IF( $A34 < 'Polar 0-360'!S$365, 'Polar 0-360'!S$363 / COS!$B34,'Polar 0-360'!R34 )","v":3.8521943731694397},{"$f":" IF( $A34 < 'Polar 0-360'!Y$365, 'Polar 0-360'!Y$363 / COS!$B34,'Polar 0-360'!X34 )","v":4.2434867803139875},{"$f":" IF( $A34 < 'Polar 0-360'!AE$365, 'Polar 0-360'!AE$363 / COS!$B34,'Polar 0-360'!AD34 )","v":4.5870810944972709},{"$f":" IF( $A34 < 'Polar 0-360'!AK$365, 'Polar 0-360'!AK$363 / COS!$B34,'Polar 0-360'!AJ34 )","v":4.8049717392887006},{"$f":" IF( $A34 < 'Polar 0-360'!AQ$365, 'Polar 0-360'!AQ$363 / COS!$B34,'Polar 0-360'!AP34 )","v":4.9219899563855627}]
[{"$f":"'Polar 0-360'!A35","v":33},0,{"$f":" IF( $A35 < 'Polar 0-360'!G$365, 'Polar 0-360'!G$363 / COS!$B35,'Polar 0-360'!F35 )","v":2.8119933535600468},{"$f":" IF( $A35 < 'Polar 0-360'!M$365, 'Polar 0-360'!M$363 / COS!$B35,'Polar 0-360'!L35 )","v":3.4458011659645433},{"$f":" IF( $A35 < 'Polar 0-360'!S$365, 'Polar 0-360'!S$363 / COS!$B35,'Polar 0-360'!R35 )","v":3.8952673779812765},{"$f":" IF( $A35 < 'Polar 0-360'!Y$365, 'Polar 0-360'!Y$363 / COS!$B35,'Polar 0-360'!X35 )","v":4.2909349900358267},{"$f":" IF( $A35 < 'Polar 0-360'!AE$365, 'Polar 0-360'!AE$363 / COS!$B35,'Polar 0-360'!AD35 )","v":4.6383711766986542},{"$f":" IF( $A35 < 'Polar 0-360'!AK$365, 'Polar 0-360'!AK$363 / COS!$B35,'Polar 0-360'!AJ35 )","v":4.8586981483942822},{"$f":" IF( $A35 < 'Polar 0-360'!AQ$365, 'Polar 0-360'!AQ$363 / COS!$B35,'Polar 0-360'!AP35 )","v":4.9770247953728743}]
[{"$f":"'Polar 0-360'!A36","v":34},0,{"$f":" IF( $A36 < 'Polar 0-360'!G$365, 'Polar 0-360'!G$363 / COS!$B36,'Polar 0-360'!F36 )","v":2.8446672876607013},{"$f":" IF( $A36 < 'Polar 0-360'!M$365, 'Polar 0-360'!M$363 / COS!$B36,'Polar 0-360'!L36 )","v":3.4858396248315047},{"$f":" IF( $A36 < 'Polar 0-360'!S$365, 'Polar 0-360'!S$363 / COS!$B36,'Polar 0-360'!R36 )","v":3.9405284058750509},{"$f":" IF( $A36 < 'Polar 0-360'!Y$365, 'Polar 0-360'!Y$363 / COS!$B36,'Polar 0-360'!X36 )","v":4.3407934745578913},{"$f":" IF( $A36 < 'Polar 0-360'!AE$365, 'Polar 0-360'!AE$363 / COS!$B36,'Polar 0-360'!AD36 )","v":4.6922666931905246},{"$f":" IF( $A36 < 'Polar 0-360'!AK$365, 'Polar 0-360'!AK$363 / COS!$B36,'Polar 0-360'!AJ36 )","v":4.915153752357436},{"$f":" IF( $A36 < 'Polar 0-360'!AQ$365, 'Polar 0-360'!AQ$363 / COS!$B36,'Polar 0-360'!AP36 )","v":5.034855294856615}]
[{"$f":"'Polar 0-360'!A37","v":35},0,{"$f":" IF( $A37 < 'Polar 0-360'!G$365, 'Polar 0-360'!G$363 / COS!$B37,'Polar 0-360'!F37 )","v":2.8789967373345839},{"$f":" IF( $A37 < 'Polar 0-360'!M$365, 'Polar 0-360'!M$363 / COS!$B37,'Polar 0-360'!L37 )","v":3.5279067433627151},{"$f":" IF( $A37 < 'Polar 0-360'!S$365, 'Polar 0-360'!S$363 / COS!$B37,'Polar 0-360'!R37 )","v":3.9880827093905378},{"$f":" IF( $A37 < 'Polar 0-360'!Y$365, 'Polar 0-360'!Y$363 / COS!$B37,'Polar 0-360'!X37 )","v":4.393178177604165},{"$f":" IF( $A37 < 'Polar 0-360'!AE$365, 'Polar 0-360'!AE$363 / COS!$B37,'Polar 0-360'!AD37 )","v":4.7488929756380536},{"$f":" IF( $A37 < 'Polar 0-360'!AK$365, 'Polar 0-360'!AK$363 / COS!$B37,'Polar 0-360'!AJ37 )","v":4.9744698362147188},{"$f":" IF( $A37 < 'Polar 0-360'!AQ$365, 'Polar 0-360'!AQ$363 / COS!$B37,'Polar 0-360'!AP37 )","v":5.0956159371327105}]
[{"$f":"'Polar 0-360'!A38","v":36},0,{"$f":" IF( $A38 < 'Polar 0-360'!G$365, 'Polar 0-360'!G$363 / COS!$B38,'Polar 0-360'!F38 )","v":2.915063687519976},{"$f":" IF( $A38 < 'Polar 0-360'!M$365, 'Polar 0-360'!M$363 / COS!$B38,'Polar 0-360'!L38 )","v":3.5721029854499409},{"$f":" IF( $A38 < 'Polar 0-360'!S$365, 'Polar 0-360'!S$363 / COS!$B38,'Polar 0-360'!R38 )","v":4.0380438568102388},{"$f":" IF( $A38 < 'Polar 0-360'!Y$365, 'Polar 0-360'!Y$363 / COS!$B38,'Polar 0-360'!X38 )","v":4.4482142033253664},{"$f":" IF( $A38 < 'Polar 0-360'!AE$365, 'Polar 0-360'!AE$363 / COS!$B38,'Polar 0-360'!AD38 )","v":4.8083852578511506},{"$f":" IF( $A38 < 'Polar 0-360'!AK$365, 'Polar 0-360'!AK$363 / COS!$B38,'Polar 0-360'!AJ38 )","v":5.0367880575085691},{"$f":" IF( $A38 < 'Polar 0-360'!AQ$365, 'Polar 0-360'!AQ$363 / COS!$B38,'Polar 0-360'!AP38 )","v":5.1594518296105205}]
[{"$f":"'Polar 0-360'!A39","v":37},0,{"$f":" IF( $A39 < 'Polar 0-360'!G$365, 'Polar 0-360'!G$363 / COS!$B39,'Polar 0-360'!F39 )","v":2.9529566782590324},{"$f":" IF( $A39 < 'Polar 0-360'!M$365, 'Polar 0-360'!M$363 / COS!$B39,'Polar 0-360'!L39 )","v":3.6185368475731274},{"$f":" IF( $A39 < 'Polar 0-360'!S$365, 'Polar 0-360'!S$363 / COS!$B39,'Polar 0-360'!R39 )","v":4.0905344967660993},{"$f":" IF( $A39 < 'Polar 0-360'!Y$365, 'Polar 0-360'!Y$363 / COS!$B39,'Polar 0-360'!X39 )","v":4.5060366585717384},{"$f":" IF( $A39 < 'Polar 0-360'!AE$365, 'Polar 0-360'!AE$363 / COS!$B39,'Polar 0-360'!AD39 )","v":4.8708895862559212},{"$f":" IF( $A39 < 'Polar 0-360'!AK$365, 'Polar 0-360'!AK$363 / COS!$B39,'Polar 0-360'!AJ39 )","v":5.1022614000070101},{"$f":" IF( $A39 < 'Polar 0-360'!AQ$365, 'Polar 0-360'!AQ$363 / COS!$B39,'Polar 0-360'!AP39 )","v":5.226519681759016}]
[{"$f":"'Polar 0-360'!A40","v":38},0,{"$f":" IF( $A40 < 'Polar 0-360'!G$365, 'Polar 0-360'!G$363 / COS!$B40,'Polar 0-360'!F40 )","v":2.9927714210686434},{"$f":" IF( $A40 < 'Polar 0-360'!M$365, 'Polar 0-360'!M$363 / COS!$B40,'Polar 0-360'!L40 )","v":3.6673256140978583},{"$f":" IF( $A40 < 'Polar 0-360'!S$365, 'Polar 0-360'!S$363 / COS!$B40,'Polar 0-360'!R40 )","v":4.1456872120570676},{"$f":" IF( $A40 < 'Polar 0-360'!Y$365, 'Polar 0-360'!Y$363 / COS!$B40,'Polar 0-360'!X40 )","v":4.5667915934384036},{"$f":" IF( $A40 < 'Polar 0-360'!AE$365, 'Polar 0-360'!AE$363 / COS!$B40,'Polar 0-360'!AD40 )","v":4.9365638365957967},{"$f":" IF( $A40 < 'Polar 0-360'!AK$365, 'Polar 0-360'!AK$363 / COS!$B40,'Polar 0-360'!AJ40 )","v":5.1710552386990329},{"$f":" IF( $A40 < 'Polar 0-360'!AQ$365, 'Polar 0-360'!AQ$363 / COS!$B40,'Polar 0-360'!AP40 )","v":5.2969888960386138}]
[{"$f":"'Polar 0-360'!A41","v":39},0,{"$f":" IF( $A41 < 'Polar 0-360'!G$365, 'Polar 0-360'!G$363 / COS!$B41,'Polar 0-360'!F41 )","v":3.0346114885132023},{"$f":" IF( $A41 < 'Polar 0-360'!M$365, 'Polar 0-360'!M$363 / COS!$B41,'Polar 0-360'!L41 )","v":3.7185962022740249},{"$f":" IF( $A41 < 'Polar 0-360'!S$365, 'Polar 0-360'!S$363 / COS!$B41,'Polar 0-360'!R41 )","v":4.2036454748683898},{"$f":" IF( $A41 < 'Polar 0-360'!Y$365, 'Polar 0-360'!Y$363 / COS!$B41,'Polar 0-360'!X41 )","v":4.6306370535124906},{"$f":" IF( $A41 < 'Polar 0-360'!AE$365, 'Polar 0-360'!AE$363 / COS!$B41,'Polar 0-360'!AD41 )","v":5.0055788513789121},{"$f":" IF( $A41 < 'Polar 0-360'!AK$365, 'Polar 0-360'!AK$363 / COS!$B41,'Polar 0-360'!AJ41 )","v":5.243348531271792},{"$f":" IF( $A41 < 'Polar 0-360'!AQ$365, 'Polar 0-360'!AQ$363 / COS!$B41,'Polar 0-360'!AP41 )","v":5.3710427883950826}]
[{"$f":"'Polar 0-360'!A42","v":40},0,{"$f":" IF( $A42 < 'Polar 0-360'!G$365, 'Polar 0-360'!G$363 / COS!$B42,'Polar 0-360'!F42 )","v":3.078589087190438},{"$f":" IF( $A42 < 'Polar 0-360'!M$365, 'Polar 0-360'!M$363 / COS!$B42,'Polar 0-360'!L42 )","v":3.7724861094484106},{"$f":" IF( $A42 < 'Polar 0-360'!S$365, 'Polar 0-360'!S$363 / COS!$B42,'Polar 0-360'!R42 )","v":4.2645647175374792},{"$f":" IF( $A42 < 'Polar 0-360'!Y$365, 'Polar 0-360'!Y$363 / COS!$B42,'Polar 0-360'!X42 )","v":4.6977442594036427},{"$f":" IF( $A42 < 'Polar 0-360'!AE$365, 'Polar 0-360'!AE$363 / COS!$B42,'Polar 0-360'!AD42 )","v":5.0781197149149744},{"$f":" IF( $A42 < 'Polar 0-360'!AK$365, 'Polar 0-360'!AK$363 / COS!$B42,'Polar 0-360'!AJ42 )","v":5.3193351537129141},{"$f":" IF( $A42 < 'Polar 0-360'!AQ$365, 'Polar 0-360'!AQ$363 / COS!$B42,'Polar 0-360'!AP42 )","v":5.4488799563885486}]
[{"$f":"'Polar 0-360'!A43","v":41},0,{"$f":" IF( $A43 < 'Polar 0-360'!G$365, 'Polar 0-360'!G$363 / COS!$B43,'Polar 0-360'!F43 )","v":3.1248259260109537},{"$f":" IF( $A43 < 'Polar 0-360'!M$365, 'Polar 0-360'!M$363 / COS!$B43,'Polar 0-360'!L43 )","v":3.8291444770496503},{"$f":" IF( $A43 < 'Polar 0-360'!S$365, 'Polar 0-360'!S$363 / COS!$B43,'Polar 0-360'!R43 )","v":4.3286135353238073},{"$f":" IF( $A43 < 'Polar 0-360'!Y$365, 'Polar 0-360'!Y$363 / COS!$B43,'Polar 0-360'!X43 )","v":4.7682989316870668},{"$f":" IF( $A43 < 'Polar 0-360'!AE$365, 'Polar 0-360'!AE$363 / COS!$B43,'Polar 0-360'!AD43 )","v":5.1543871855386953},{"$f":" IF( $A43 < 'Polar 0-360'!AK$365, 'Polar 0-360'!AK$363 / COS!$B43,'Polar 0-360'!AJ43 )","v":5.399225400565892},{"$f":" IF( $A43 < 'Polar 0-360'!AQ$365, 'Polar 0-360'!AQ$363 / COS!$B43,'Polar 0-360'!AP43 )","v":5.4999840830992124}]
[{"$f":"'Polar 0-360'!A44","v":42},0,{"$f":" IF( $A44 < 'Polar 0-360'!G$365, 'Polar 0-360'!G$363 / COS!$B44,'Polar 0-360'!F44 )","v":3.173454193634428},{"$f":" IF( $A44 < 'Polar 0-360'!M$365, 'Polar 0-360'!M$363 / COS!$B44,'Polar 0-360'!L44 )","v":3.8887332883331709},{"$f":" IF( $A44 < 'Polar 0-360'!S$365, 'Polar 0-360'!S$363 / COS!$B44,'Polar 0-360'!R44 )","v":4.3959750403862756},{"$f":" IF( $A44 < 'Polar 0-360'!Y$365, 'Polar 0-360'!Y$363 / COS!$B44,'Polar 0-360'!X44 )","v":4.842502782413181},{"$f":" IF( $A44 < 'Polar 0-360'!AE$365, 'Polar 0-360'!AE$363 / COS!$B44,'Polar 0-360'!AD44 )","v":5.2345993078866924},{"$f":" IF( $A44 < 'Polar 0-360'!AK$365, 'Polar 0-360'!AK$363 / COS!$B44,'Polar 0-360'!AJ44 )","v":5.456799372912486},{"$f":" IF( $A44 < 'Polar 0-360'!AQ$365, 'Polar 0-360'!AQ$363 / COS!$B44,'Polar 0-360'!AP44 )","v":5.5642218094457725}]
[{"$f":"'Polar 0-360'!A45","v":43},0,{"$f":" IF( $A45 < 'Polar 0-360'!G$365, 'Polar 0-360'!G$363 / COS!$B45,'Polar 0-360'!F45 )","v":3.2246176612872213},{"$f":" IF( $A45 < 'Polar 0-360'!M$365, 'Polar 0-360'!M$363 / COS!$B45,'Polar 0-360'!L45 )","v":3.9223786398886022},{"$f":" IF( $A45 < 'Polar 0-360'!S$365, 'Polar 0-360'!S$363 / COS!$B45,'Polar 0-360'!R45 )","v":4.4349773480587018},{"$f":" IF( $A45 < 'Polar 0-360'!Y$365, 'Polar 0-360'!Y$363 / COS!$B45,'Polar 0-360'!X45 )","v":4.8976591568539112},{"$f":" IF( $A45 < 'Polar 0-360'!AE$365, 'Polar 0-360'!AE$363 / COS!$B45,'Polar 0-360'!AD45 )","v":5.2708750613101412},{"$f":" IF( $A45 < 'Polar 0-360'!AK$365, 'Polar 0-360'!AK$363 / COS!$B45,'Polar 0-360'!AJ45 )","v":5.488874009317275},{"$f":" IF( $A45 < 'Polar 0-360'!AQ$365, 'Polar 0-360'!AQ$363 / COS!$B45,'Polar 0-360'!AP45 )","v":5.5975920568985318}]
[{"$f":"'Polar 0-360'!A46","v":44},0,{"$f":" IF( $A46 < 'Polar 0-360'!G$365, 'Polar 0-360'!G$363 / COS!$B46,'Polar 0-360'!F46 )","v":3.2655682512946886},{"$f":" IF( $A46 < 'Polar 0-360'!M$365, 'Polar 0-360'!M$363 / COS!$B46,'Polar 0-360'!L46 )","v":3.9661175969106641},{"$f":" IF( $A46 < 'Polar 0-360'!S$365, 'Polar 0-360'!S$363 / COS!$B46,'Polar 0-360'!R46 )","v":4.4856803480328553},{"$f":" IF( $A46 < 'Polar 0-360'!Y$365, 'Polar 0-360'!Y$363 / COS!$B46,'Polar 0-360'!X46 )","v":4.9528155312946431},{"$f":" IF( $A46 < 'Polar 0-360'!AE$365, 'Polar 0-360'!AE$363 / COS!$B46,'Polar 0-360'!AD46 )","v":5.3180335407606254},{"$f":" IF( $A46 < 'Polar 0-360'!AK$365, 'Polar 0-360'!AK$363 / COS!$B46,'Polar 0-360'!AJ46 )","v":5.5305710366434999},{"$f":" IF( $A46 < 'Polar 0-360'!AQ$365, 'Polar 0-360'!AQ$363 / COS!$B46,'Polar 0-360'!AP46 )","v":5.6409733785871179}]
[{"$f":"'Polar 0-360'!A47","v":45},0,{"$f":" IF( $A47 < 'Polar 0-360'!G$365, 'Polar 0-360'!G$363 / COS!$B47,'Polar 0-360'!F47 )","v":3.3065188413021556},{"$f":" IF( $A47 < 'Polar 0-360'!M$365, 'Polar 0-360'!M$363 / COS!$B47,'Polar 0-360'!L47 )","v":4.0098565539327264},{"$f":" IF( $A47 < 'Polar 0-360'!S$365, 'Polar 0-360'!S$363 / COS!$B47,'Polar 0-360'!R47 )","v":4.5363833480070088},{"$f":" IF( $A47 < 'Polar 0-360'!Y$365, 'Polar 0-360'!Y$363 / COS!$B47,'Polar 0-360'!X47 )","v":5.0079719057353751},{"$f":" IF( $A47 < 'Polar 0-360'!AE$365, 'Polar 0-360'!AE$363 / COS!$B47,'Polar 0-360'!AD47 )","v":5.3651920202111096},{"$f":" IF( $A47 < 'Polar 0-360'!AK$365, 'Polar 0-360'!AK$363 / COS!$B47,'Polar 0-360'!AJ47 )","v":5.5722680639697248},{"$f":" IF( $A47 < 'Polar 0-360'!AQ$365, 'Polar 0-360'!AQ$363 / COS!$B47,'Polar 0-360'!AP47 )","v":5.684354700275704}]
[{"$f":"'Polar 0-360'!A48","v":46},0,{"$f":" IF( $A48 < 'Polar 0-360'!G$365, 'Polar 0-360'!G$363 / COS!$B48,'Polar 0-360'!F48 )","v":3.3474694313096229},{"$f":" IF( $A48 < 'Polar 0-360'!M$365, 'Polar 0-360'!M$363 / COS!$B48,'Polar 0-360'!L48 )","v":4.0535955109547874},{"$f":" IF( $A48 < 'Polar 0-360'!S$365, 'Polar 0-360'!S$363 / COS!$B48,'Polar 0-360'!R48 )","v":4.5870863479811632},{"$f":" IF( $A48 < 'Polar 0-360'!Y$365, 'Polar 0-360'!Y$363 / COS!$B48,'Polar 0-360'!X48 )","v":5.0631282801761071},{"$f":" IF( $A48 < 'Polar 0-360'!AE$365, 'Polar 0-360'!AE$363 / COS!$B48,'Polar 0-360'!AD48 )","v":5.4123504996615939},{"$f":" IF( $A48 < 'Polar 0-360'!AK$365, 'Polar 0-360'!AK$363 / COS!$B48,'Polar 0-360'!AJ48 )","v":5.6139650912959498},{"$f":" IF( $A48 < 'Polar 0-360'!AQ$365, 'Polar 0-360'!AQ$363 / COS!$B48,'Polar 0-360'!AP48 )","v":5.7277360219642901}]
[{"$f":"'Polar 0-360'!A49","v":47},0,{"$f":" IF( $A49 < 'Polar 0-360'!G$365, 'Polar 0-360'!G$363 / COS!$B49,'Polar 0-360'!F49 )","v":3.3884200213170903},{"$f":" IF( $A49 < 'Polar 0-360'!M$365, 'Polar 0-360'!M$363 / COS!$B49,'Polar 0-360'!L49 )","v":4.0973344679768502},{"$f":" IF( $A49 < 'Polar 0-360'!S$365, 'Polar 0-360'!S$363 / COS!$B49,'Polar 0-360'!R49 )","v":4.6377893479553176},{"$f":" IF( $A49 < 'Polar 0-360'!Y$365, 'Polar 0-360'!Y$363 / COS!$B49,'Polar 0-360'!X49 )","v":5.1182846546168381},{"$f":" IF( $A49 < 'Polar 0-360'!AE$365, 'Polar 0-360'!AE$363 / COS!$B49,'Polar 0-360'!AD49 )","v":5.4595089791120781},{"$f":" IF( $A49 < 'Polar 0-360'!AK$365, 'Polar 0-360'!AK$363 / COS!$B49,'Polar 0-360'!AJ49 )","v":5.6556621186221747},{"$f":" IF( $A49 < 'Polar 0-360'!AQ$365, 'Polar 0-360'!AQ$363 / COS!$B49,'Polar 0-360'!AP49 )","v":5.7711173436528771}]
[{"$f":"'Polar 0-360'!A50","v":48},0,{"$f":" IF( $A50 < 'Polar 0-360'!G$365, 'Polar 0-360'!G$363 / COS!$B50,'Polar 0-360'!F50 )","v":3.4293706113245577},{"$f":" IF( $A50 < 'Polar 0-360'!M$365, 'Polar 0-360'!M$363 / COS!$B50,'Polar 0-360'!L50 )","v":4.1410734249989112},{"$f":" IF( $A50 < 'Polar 0-360'!S$365, 'Polar 0-360'!S$363 / COS!$B50,'Polar 0-360'!R50 )","v":4.6884923479294711},{"$f":" IF( $A50 < 'Polar 0-360'!Y$365, 'Polar 0-360'!Y$363 / COS!$B50,'Polar 0-360'!X50 )","v":5.173441029057571},{"$f":" IF( $A50 < 'Polar 0-360'!AE$365, 'Polar 0-360'!AE$363 / COS!$B50,'Polar 0-360'!AD50 )","v":5.5066674585625623},{"$f":" IF( $A50 < 'Polar 0-360'!AK$365, 'Polar 0-360'!AK$363 / COS!$B50,'Polar 0-360'!AJ50 )","v":5.6973591459483997},{"$f":" IF( $A50 < 'Polar 0-360'!AQ$365, 'Polar 0-360'!AQ$363 / COS!$B50,'Polar 0-360'!AP50 )","v":5.8144986653414623}]
[{"$f":"'Polar 0-360'!A51","v":49},0,{"$f":" IF( $A51 < 'Polar 0-360'!G$365, 'Polar 0-360'!G$363 / COS!$B51,'Polar 0-360'!F51 )","v":3.470321201332025},{"$f":" IF( $A51 < 'Polar 0-360'!M$365, 'Polar 0-360'!M$363 / COS!$B51,'Polar 0-360'!L51 )","v":4.1848123820209739},{"$f":" IF( $A51 < 'Polar 0-360'!S$365, 'Polar 0-360'!S$363 / COS!$B51,'Polar 0-360'!R51 )","v":4.7391953479036246},{"$f":" IF( $A51 < 'Polar 0-360'!Y$365, 'Polar 0-360'!Y$363 / COS!$B51,'Polar 0-360'!X51 )","v":5.228597403498302},{"$f":" IF( $A51 < 'Polar 0-360'!AE$365, 'Polar 0-360'!AE$363 / COS!$B51,'Polar 0-360'!AD51 )","v":5.5538259380130466},{"$f":" IF( $A51 < 'Polar 0-360'!AK$365, 'Polar 0-360'!AK$363 / COS!$B51,'Polar 0-360'!AJ51 )","v":5.7390561732746246},{"$f":" IF( $A51 < 'Polar 0-360'!AQ$365, 'Polar 0-360'!AQ$363 / COS!$B51,'Polar 0-360'!AP51 )","v":5.8578799870300493}]
[{"$f":"'Polar 0-360'!A52","v":50},0,{"$f":" IF( $A52 < 'Polar 0-360'!G$365, 'Polar 0-360'!G$363 / COS!$B52,'Polar 0-360'!F52 )","v":3.5112717913394924},{"$f":" IF( $A52 < 'Polar 0-360'!M$365, 'Polar 0-360'!M$363 / COS!$B52,'Polar 0-360'!L52 )","v":4.2285513390430349},{"$f":" IF( $A52 < 'Polar 0-360'!S$365, 'Polar 0-360'!S$363 / COS!$B52,'Polar 0-360'!R52 )","v":4.789898347877779},{"$f":" IF( $A52 < 'Polar 0-360'!Y$365, 'Polar 0-360'!Y$363 / COS!$B52,'Polar 0-360'!X52 )","v":5.2837537779390349},{"$f":" IF( $A52 < 'Polar 0-360'!AE$365, 'Polar 0-360'!AE$363 / COS!$B52,'Polar 0-360'!AD52 )","v":5.6009844174635308},{"$f":" IF( $A52 < 'Polar 0-360'!AK$365, 'Polar 0-360'!AK$363 / COS!$B52,'Polar 0-360'!AJ52 )","v":5.7807532006008486},{"$f":" IF( $A52 < 'Polar 0-360'!AQ$365, 'Polar 0-360'!AQ$363 / COS!$B52,'Polar 0-360'!AP52 )","v":5.9012613087186345}]
[{"$f":"'Polar 0-360'!A53","v":51},0,{"$f":" IF( $A53 < 'Polar 0-360'!G$365, 'Polar 0-360'!G$363 / COS!$B53,'Polar 0-360'!F53 )","v":3.5522223813469598},{"$f":" IF( $A53 < 'Polar 0-360'!M$365, 'Polar 0-360'!M$363 / COS!$B53,'Polar 0-360'!L53 )","v":4.2722902960650977},{"$f":" IF( $A53 < 'Polar 0-360'!S$365, 'Polar 0-360'!S$363 / COS!$B53,'Polar 0-360'!R53 )","v":4.8406013478519325},{"$f":" IF( $A53 < 'Polar 0-360'!Y$365, 'Polar 0-360'!Y$363 / COS!$B53,'Polar 0-360'!X53 )","v":5.338910152379766},{"$f":" IF( $A53 < 'Polar 0-360'!AE$365, 'Polar 0-360'!AE$363 / COS!$B53,'Polar 0-360'!AD53 )","v":5.6481428969140151},{"$f":" IF( $A53 < 'Polar 0-360'!AK$365, 'Polar 0-360'!AK$363 / COS!$B53,'Polar 0-360'!AJ53 )","v":5.8224502279270745},{"$f":" IF( $A53 < 'Polar 0-360'!AQ$365, 'Polar 0-360'!AQ$363 / COS!$B53,'Polar 0-360'!AP53 )","v":5.9446426304072215}]
[{"$f":"'Polar 0-360'!A54","v":52},0,{"$f":" IF( $A54 < 'Polar 0-360'!G$365, 'Polar 0-360'!G$363 / COS!$B54,'Polar 0-360'!F54 )","v":3.5931729713544263},{"$f":" IF( $A54 < 'Polar 0-360'!M$365, 'Polar 0-360'!M$363 / COS!$B54,'Polar 0-360'!L54 )","v":4.3160292530871587},{"$f":" IF( $A54 < 'Polar 0-360'!S$365, 'Polar 0-360'!S$363 / COS!$B54,'Polar 0-360'!R54 )","v":4.8913043478260878},{"$f":" IF( $A54 < 'Polar 0-360'!Y$365, 'Polar 0-360'!Y$363 / COS!$B54,'Polar 0-360'!X54 )","v":5.3940665268204979},{"$f":" IF( $A54 < 'Polar 0-360'!AE$365, 'Polar 0-360'!AE$363 / COS!$B54,'Polar 0-360'!AD54 )","v":5.6953013763645002},{"$f":" IF( $A54 < 'Polar 0-360'!AK$365, 'Polar 0-360'!AK$363 / COS!$B54,'Polar 0-360'!AJ54 )","v":5.8641472552532985},{"$f":" IF( $A54 < 'Polar 0-360'!AQ$365, 'Polar 0-360'!AQ$363 / COS!$B54,'Polar 0-360'!AP54 )","v":5.9880239520958067}]
[{"$f":"'Polar 0-360'!A55","v":53},0,{"$f":" IF( $A55 < 'Polar 0-360'!G$365, 'Polar 0-360'!G$363 / COS!$B55,'Polar 0-360'!F55 )","v":3.6177105604614388},{"$f":" IF( $A55 < 'Polar 0-360'!M$365, 'Polar 0-360'!M$363 / COS!$B55,'Polar 0-360'!L55 )","v":4.3419232594742567},{"$f":" IF( $A55 < 'Polar 0-360'!S$365, 'Polar 0-360'!S$363 / COS!$B55,'Polar 0-360'!R55 )","v":4.923576041867495},{"$f":" IF( $A55 < 'Polar 0-360'!Y$365, 'Polar 0-360'!Y$363 / COS!$B55,'Polar 0-360'!X55 )","v":5.4204154038684491},{"$f":" IF( $A55 < 'Polar 0-360'!AE$365, 'Polar 0-360'!AE$363 / COS!$B55,'Polar 0-360'!AD55 )","v":5.7155722383247944},{"$f":" IF( $A55 < 'Polar 0-360'!AK$365, 'Polar 0-360'!AK$363 / COS!$B55,'Polar 0-360'!AJ55 )","v":5.8826318543586602},{"$f":" IF( $A55 < 'Polar 0-360'!AQ$365, 'Polar 0-360'!AQ$363 / COS!$B55,'Polar 0-360'!AP55 )","v":6.0121857932486664}]
[{"$f":"'Polar 0-360'!A56","v":54},0,{"$f":" IF( $A56 < 'Polar 0-360'!G$365, 'Polar 0-360'!G$363 / COS!$B56,'Polar 0-360'!F56 )","v":3.6422481495684513},{"$f":" IF( $A56 < 'Polar 0-360'!M$365, 'Polar 0-360'!M$363 / COS!$B56,'Polar 0-360'!L56 )","v":4.3678172658613548},{"$f":" IF( $A56 < 'Polar 0-360'!S$365, 'Polar 0-360'!S$363 / COS!$B56,'Polar 0-360'!R56 )","v":4.9558477359089022},{"$f":" IF( $A56 < 'Polar 0-360'!Y$365, 'Polar 0-360'!Y$363 / COS!$B56,'Polar 0-360'!X56 )","v":5.4467642809164012},{"$f":" IF( $A56 < 'Polar 0-360'!AE$365, 'Polar 0-360'!AE$363 / COS!$B56,'Polar 0-360'!AD56 )","v":5.7358431002850896},{"$f":" IF( $A56 < 'Polar 0-360'!AK$365, 'Polar 0-360'!AK$363 / COS!$B56,'Polar 0-360'!AJ56 )","v":5.9011164534640219},{"$f":" IF( $A56 < 'Polar 0-360'!AQ$365, 'Polar 0-360'!AQ$363 / COS!$B56,'Polar 0-360'!AP56 )","v":6.0363476344015261}]
[{"$f":"'Polar 0-360'!A57","v":55},0,{"$f":" IF( $A57 < 'Polar 0-360'!G$365, 'Polar 0-360'!G$363 / COS!$B57,'Polar 0-360'!F57 )","v":3.6667857386754639},{"$f":" IF( $A57 < 'Polar 0-360'!M$365, 'Polar 0-360'!M$363 / COS!$B57,'Polar 0-360'!L57 )","v":4.3937112722484528},{"$f":" IF( $A57 < 'Polar 0-360'!S$365, 'Polar 0-360'!S$363 / COS!$B57,'Polar 0-360'!R57 )","v":4.9881194299503093},{"$f":" IF( $A57 < 'Polar 0-360'!Y$365, 'Polar 0-360'!Y$363 / COS!$B57,'Polar 0-360'!X57 )","v":5.4731131579643524},{"$f":" IF( $A57 < 'Polar 0-360'!AE$365, 'Polar 0-360'!AE$363 / COS!$B57,'Polar 0-360'!AD57 )","v":5.7561139622453847},{"$f":" IF( $A57 < 'Polar 0-360'!AK$365, 'Polar 0-360'!AK$363 / COS!$B57,'Polar 0-360'!AJ57 )","v":5.9196010525693836},{"$f":" IF( $A57 < 'Polar 0-360'!AQ$365, 'Polar 0-360'!AQ$363 / COS!$B57,'Polar 0-360'!AP57 )","v":6.0605094755543849}]
[{"$f":"'Polar 0-360'!A58","v":56},0,{"$f":" IF( $A58 < 'Polar 0-360'!G$365, 'Polar 0-360'!G$363 / COS!$B58,'Polar 0-360'!F58 )","v":3.6913233277824764},{"$f":" IF( $A58 < 'Polar 0-360'!M$365, 'Polar 0-360'!M$363 / COS!$B58,'Polar 0-360'!L58 )","v":4.4196052786355509},{"$f":" IF( $A58 < 'Polar 0-360'!S$365, 'Polar 0-360'!S$363 / COS!$B58,'Polar 0-360'!R58 )","v":5.0203911239917165},{"$f":" IF( $A58 < 'Polar 0-360'!Y$365, 'Polar 0-360'!Y$363 / COS!$B58,'Polar 0-360'!X58 )","v":5.4994620350123045},{"$f":" IF( $A58 < 'Polar 0-360'!AE$365, 'Polar 0-360'!AE$363 / COS!$B58,'Polar 0-360'!AD58 )","v":5.7763848242056799},{"$f":" IF( $A58 < 'Polar 0-360'!AK$365, 'Polar 0-360'!AK$363 / COS!$B58,'Polar 0-360'!AJ58 )","v":5.9380856516747453},{"$f":" IF( $A58 < 'Polar 0-360'!AQ$365, 'Polar 0-360'!AQ$363 / COS!$B58,'Polar 0-360'!AP58 )","v":6.0846713167072446}]
[{"$f":"'Polar 0-360'!A59","v":57},0,{"$f":" IF( $A59 < 'Polar 0-360'!G$365, 'Polar 0-360'!G$363 / COS!$B59,'Polar 0-360'!F59 )","v":3.7158609168894885},{"$f":" IF( $A59 < 'Polar 0-360'!M$365, 'Polar 0-360'!M$363 / COS!$B59,'Polar 0-360'!L59 )","v":4.4454992850226489},{"$f":" IF( $A59 < 'Polar 0-360'!S$365, 'Polar 0-360'!S$363 / COS!$B59,'Polar 0-360'!R59 )","v":5.0526628180331237},{"$f":" IF( $A59 < 'Polar 0-360'!Y$365, 'Polar 0-360'!Y$363 / COS!$B59,'Polar 0-360'!X59 )","v":5.5258109120602565},{"$f":" IF( $A59 < 'Polar 0-360'!AE$365, 'Polar 0-360'!AE$363 / COS!$B59,'Polar 0-360'!AD59 )","v":5.796655686165975},{"$f":" IF( $A59 < 'Polar 0-360'!AK$365, 'Polar 0-360'!AK$363 / COS!$B59,'Polar 0-360'!AJ59 )","v":5.956570250780107},{"$f":" IF( $A59 < 'Polar 0-360'!AQ$365, 'Polar 0-360'!AQ$363 / COS!$B59,'Polar 0-360'!AP59 )","v":6.1088331578601034}]
[{"$f":"'Polar 0-360'!A60","v":58},0,{"$f":" IF( $A60 < 'Polar 0-360'!G$365, 'Polar 0-360'!G$363 / COS!$B60,'Polar 0-360'!F60 )","v":3.740398505996501},{"$f":" IF( $A60 < 'Polar 0-360'!M$365, 'Polar 0-360'!M$363 / COS!$B60,'Polar 0-360'!L60 )","v":4.471393291409747},{"$f":" IF( $A60 < 'Polar 0-360'!S$365, 'Polar 0-360'!S$363 / COS!$B60,'Polar 0-360'!R60 )","v":5.0849345120745308},{"$f":" IF( $A60 < 'Polar 0-360'!Y$365, 'Polar 0-360'!Y$363 / COS!$B60,'Polar 0-360'!X60 )","v":5.5521597891082077},{"$f":" IF( $A60 < 'Polar 0-360'!AE$365, 'Polar 0-360'!AE$363 / COS!$B60,'Polar 0-360'!AD60 )","v":5.8169265481262702},{"$f":" IF( $A60 < 'Polar 0-360'!AK$365, 'Polar 0-360'!AK$363 / COS!$B60,'Polar 0-360'!AJ60 )","v":5.9750548498854688},{"$f":" IF( $A60 < 'Polar 0-360'!AQ$365, 'Polar 0-360'!AQ$363 / COS!$B60,'Polar 0-360'!AP60 )","v":6.1329949990129631}]
[{"$f":"'Polar 0-360'!A61","v":59},0,{"$f":" IF( $A61 < 'Polar 0-360'!G$365, 'Polar 0-360'!G$363 / COS!$B61,'Polar 0-360'!F61 )","v":3.7649360951035131},{"$f":" IF( $A61 < 'Polar 0-360'!M$365, 'Polar 0-360'!M$363 / COS!$B61,'Polar 0-360'!L61 )","v":4.4972872977968441},{"$f":" IF( $A61 < 'Polar 0-360'!S$365, 'Polar 0-360'!S$363 / COS!$B61,'Polar 0-360'!R61 )","v":5.117206206115938},{"$f":" IF( $A61 < 'Polar 0-360'!Y$365, 'Polar 0-360'!Y$363 / COS!$B61,'Polar 0-360'!X61 )","v":5.5785086661561589},{"$f":" IF( $A61 < 'Polar 0-360'!AE$365, 'Polar 0-360'!AE$363 / COS!$B61,'Polar 0-360'!AD61 )","v":5.8371974100865653},{"$f":" IF( $A61 < 'Polar 0-360'!AK$365, 'Polar 0-360'!AK$363 / COS!$B61,'Polar 0-360'!AJ61 )","v":5.9935394489908305},{"$f":" IF( $A61 < 'Polar 0-360'!AQ$365, 'Polar 0-360'!AQ$363 / COS!$B61,'Polar 0-360'!AP61 )","v":6.1571568401658219}]
[{"$f":"'Polar 0-360'!A62","v":60},0,{"$f":" IF( $A62 < 'Polar 0-360'!G$365, 'Polar 0-360'!G$363 / COS!$B62,'Polar 0-360'!F62 )","v":3.7894736842105261},{"$f":" IF( $A62 < 'Polar 0-360'!M$365, 'Polar 0-360'!M$363 / COS!$B62,'Polar 0-360'!L62 )","v":4.523181304183943},{"$f":" IF( $A62 < 'Polar 0-360'!S$365, 'Polar 0-360'!S$363 / COS!$B62,'Polar 0-360'!R62 )","v":5.1494779001573452},{"$f":" IF( $A62 < 'Polar 0-360'!Y$365, 'Polar 0-360'!Y$363 / COS!$B62,'Polar 0-360'!X62 )","v":5.604857543204111},{"$f":" IF( $A62 < 'Polar 0-360'!AE$365, 'Polar 0-360'!AE$363 / COS!$B62,'Polar 0-360'!AD62 )","v":5.8574682720468605},{"$f":" IF( $A62 < 'Polar 0-360'!AK$365, 'Polar 0-360'!AK$363 / COS!$B62,'Polar 0-360'!AJ62 )","v":6.0120240480961931},{"$f":" IF( $A62 < 'Polar 0-360'!AQ$365, 'Polar 0-360'!AQ$363 / COS!$B62,'Polar 0-360'!AP62 )","v":6.1813186813186816}]
[{"$f":"'Polar 0-360'!A63","v":61},0,{"$f":" IF( $A63 < 'Polar 0-360'!G$365, 'Polar 0-360'!G$363 / COS!$B63,'Polar 0-360'!F63 )","v":3.7996254185227656},{"$f":" IF( $A63 < 'Polar 0-360'!M$365, 'Polar 0-360'!M$363 / COS!$B63,'Polar 0-360'!L63 )","v":4.5351564586927342},{"$f":" IF( $A63 < 'Polar 0-360'!S$365, 'Polar 0-360'!S$363 / COS!$B63,'Polar 0-360'!R63 )","v":5.1642280084197676},{"$f":" IF( $A63 < 'Polar 0-360'!Y$365, 'Polar 0-360'!Y$363 / COS!$B63,'Polar 0-360'!X63 )","v":5.6154462910442984},{"$f":" IF( $A63 < 'Polar 0-360'!AE$365, 'Polar 0-360'!AE$363 / COS!$B63,'Polar 0-360'!AD63 )","v":5.8663712858957586},{"$f":" IF( $A63 < 'Polar 0-360'!AK$365, 'Polar 0-360'!AK$363 / COS!$B63,'Polar 0-360'!AJ63 )","v":6.0221813489993687},{"$f":" IF( $A63 < 'Polar 0-360'!AQ$365, 'Polar 0-360'!AQ$363 / COS!$B63,'Polar 0-360'!AP63 )","v":6.198338582568871}]
[{"$f":"'Polar 0-360'!A64","v":62},0,{"$f":" IF( $A64 < 'Polar 0-360'!G$365, 'Polar 0-360'!G$363 / COS!$B64,'Polar 0-360'!F64 )","v":3.8097771528350055},{"$f":" IF( $A64 < 'Polar 0-360'!M$365, 'Polar 0-360'!M$363 / COS!$B64,'Polar 0-360'!L64 )","v":4.5471316132015245},{"$f":" IF( $A64 < 'Polar 0-360'!S$365, 'Polar 0-360'!S$363 / COS!$B64,'Polar 0-360'!R64 )","v":5.1789781166821909},{"$f":" IF( $A64 < 'Polar 0-360'!Y$365, 'Polar 0-360'!Y$363 / COS!$B64,'Polar 0-360'!X64 )","v":5.6260350388844849},{"$f":" IF( $A64 < 'Polar 0-360'!AE$365, 'Polar 0-360'!AE$363 / COS!$B64,'Polar 0-360'!AD64 )","v":5.8752742997446568},{"$f":" IF( $A64 < 'Polar 0-360'!AK$365, 'Polar 0-360'!AK$363 / COS!$B64,'Polar 0-360'!AJ64 )","v":6.0323386499025453},{"$f":" IF( $A64 < 'Polar 0-360'!AQ$365, 'Polar 0-360'!AQ$363 / COS!$B64,'Polar 0-360'!AP64 )","v":6.2153584838190596}]
[{"$f":"'Polar 0-360'!A65","v":63},0,{"$f":" IF( $A65 < 'Polar 0-360'!G$365, 'Polar 0-360'!G$363 / COS!$B65,'Polar 0-360'!F65 )","v":3.819928887147245},{"$f":" IF( $A65 < 'Polar 0-360'!M$365, 'Polar 0-360'!M$363 / COS!$B65,'Polar 0-360'!L65 )","v":4.5591067677103156},{"$f":" IF( $A65 < 'Polar 0-360'!S$365, 'Polar 0-360'!S$363 / COS!$B65,'Polar 0-360'!R65 )","v":5.1937282249446142},{"$f":" IF( $A65 < 'Polar 0-360'!Y$365, 'Polar 0-360'!Y$363 / COS!$B65,'Polar 0-360'!X65 )","v":5.6366237867246722},{"$f":" IF( $A65 < 'Polar 0-360'!AE$365, 'Polar 0-360'!AE$363 / COS!$B65,'Polar 0-360'!AD65 )","v":5.884177313593554},{"$f":" IF( $A65 < 'Polar 0-360'!AK$365, 'Polar 0-360'!AK$363 / COS!$B65,'Polar 0-360'!AJ65 )","v":6.042495950805721},{"$f":" IF( $A65 < 'Polar 0-360'!AQ$365, 'Polar 0-360'!AQ$363 / COS!$B65,'Polar 0-360'!AP65 )","v":6.2323783850692491}]
[{"$f":"'Polar 0-360'!A66","v":64},0,{"$f":" IF( $A66 < 'Polar 0-360'!G$365, 'Polar 0-360'!G$363 / COS!$B66,'Polar 0-360'!F66 )","v":3.8300806214594845},{"$f":" IF( $A66 < 'Polar 0-360'!M$365, 'Polar 0-360'!M$363 / COS!$B66,'Polar 0-360'!L66 )","v":4.5710819222191068},{"$f":" IF( $A66 < 'Polar 0-360'!S$365, 'Polar 0-360'!S$363 / COS!$B66,'Polar 0-360'!R66 )","v":5.2084783332070366},{"$f":" IF( $A66 < 'Polar 0-360'!Y$365, 'Polar 0-360'!Y$363 / COS!$B66,'Polar 0-360'!X66 )","v":5.6472125345648587},{"$f":" IF( $A66 < 'Polar 0-360'!AE$365, 'Polar 0-360'!AE$363 / COS!$B66,'Polar 0-360'!AD66 )","v":5.8930803274424521},{"$f":" IF( $A66 < 'Polar 0-360'!AK$365, 'Polar 0-360'!AK$363 / COS!$B66,'Polar 0-360'!AJ66 )","v":6.0526532517088976},{"$f":" IF( $A66 < 'Polar 0-360'!AQ$365, 'Polar 0-360'!AQ$363 / COS!$B66,'Polar 0-360'!AP66 )","v":6.2493982863194377}]
[{"$f":"'Polar 0-360'!A67","v":65},0,{"$f":" IF( $A67 < 'Polar 0-360'!G$365, 'Polar 0-360'!G$363 / COS!$B67,'Polar 0-360'!F67 )","v":3.8402323557717244},{"$f":" IF( $A67 < 'Polar 0-360'!M$365, 'Polar 0-360'!M$363 / COS!$B67,'Polar 0-360'!L67 )","v":4.583057076727898},{"$f":" IF( $A67 < 'Polar 0-360'!S$365, 'Polar 0-360'!S$363 / COS!$B67,'Polar 0-360'!R67 )","v":5.2232284414694599},{"$f":" IF( $A67 < 'Polar 0-360'!Y$365, 'Polar 0-360'!Y$363 / COS!$B67,'Polar 0-360'!X67 )","v":5.6578012824050461},{"$f":" IF( $A67 < 'Polar 0-360'!AE$365, 'Polar 0-360'!AE$363 / COS!$B67,'Polar 0-360'!AD67 )","v":5.9019833412913503},{"$f":" IF( $A67 < 'Polar 0-360'!AK$365, 'Polar 0-360'!AK$363 / COS!$B67,'Polar 0-360'!AJ67 )","v":6.0628105526120732},{"$f":" IF( $A67 < 'Polar 0-360'!AQ$365, 'Polar 0-360'!AQ$363 / COS!$B67,'Polar 0-360'!AP67 )","v":6.2664181875696272}]
[{"$f":"'Polar 0-360'!A68","v":66},0,{"$f":" IF( $A68 < 'Polar 0-360'!G$365, 'Polar 0-360'!G$363 / COS!$B68,'Polar 0-360'!F68 )","v":3.8503840900839639},{"$f":" IF( $A68 < 'Polar 0-360'!M$365, 'Polar 0-360'!M$363 / COS!$B68,'Polar 0-360'!L68 )","v":4.5950322312366882},{"$f":" IF( $A68 < 'Polar 0-360'!S$365, 'Polar 0-360'!S$363 / COS!$B68,'Polar 0-360'!R68 )","v":5.2379785497318831},{"$f":" IF( $A68 < 'Polar 0-360'!Y$365, 'Polar 0-360'!Y$363 / COS!$B68,'Polar 0-360'!X68 )","v":5.6683900302452326},{"$f":" IF( $A68 < 'Polar 0-360'!AE$365, 'Polar 0-360'!AE$363 / COS!$B68,'Polar 0-360'!AD68 )","v":5.9108863551402484},{"$f":" IF( $A68 < 'Polar 0-360'!AK$365, 'Polar 0-360'!AK$363 / COS!$B68,'Polar 0-360'!AJ68 )","v":6.0729678535152498},{"$f":" IF( $A68 < 'Polar 0-360'!AQ$365, 'Polar 0-360'!AQ$363 / COS!$B68,'Polar 0-360'!AP68 )","v":6.2834380888198158}]
[{"$f":"'Polar 0-360'!A69","v":67},0,{"$f":" IF( $A69 < 'Polar 0-360'!G$365, 'Polar 0-360'!G$363 / COS!$B69,'Polar 0-360'!F69 )","v":3.8605358243962034},{"$f":" IF( $A69 < 'Polar 0-360'!M$365, 'Polar 0-360'!M$363 / COS!$B69,'Polar 0-360'!L69 )","v":4.6070073857454794},{"$f":" IF( $A69 < 'Polar 0-360'!S$365, 'Polar 0-360'!S$363 / COS!$B69,'Polar 0-360'!R69 )","v":5.2527286579943056},{"$f":" IF( $A69 < 'Polar 0-360'!Y$365, 'Polar 0-360'!Y$363 / COS!$B69,'Polar 0-360'!X69 )","v":5.67897877808542},{"$f":" IF( $A69 < 'Polar 0-360'!AE$365, 'Polar 0-360'!AE$363 / COS!$B69,'Polar 0-360'!AD69 )","v":5.9197893689891465},{"$f":" IF( $A69 < 'Polar 0-360'!AK$365, 'Polar 0-360'!AK$363 / COS!$B69,'Polar 0-360'!AJ69 )","v":6.0831251544184255},{"$f":" IF( $A69 < 'Polar 0-360'!AQ$365, 'Polar 0-360'!AQ$363 / COS!$B69,'Polar 0-360'!AP69 )","v":6.3004579900700053}]
[{"$f":"'Polar 0-360'!A70","v":68},0,{"$f":" IF( $A70 < 'Polar 0-360'!G$365, 'Polar 0-360'!G$363 / COS!$B70,'Polar 0-360'!F70 )","v":3.8706875587084433},{"$f":" IF( $A70 < 'Polar 0-360'!M$365, 'Polar 0-360'!M$363 / COS!$B70,'Polar 0-360'!L70 )","v":4.6189825402542706},{"$f":" IF( $A70 < 'Polar 0-360'!S$365, 'Polar 0-360'!S$363 / COS!$B70,'Polar 0-360'!R70 )","v":5.2674787662567288},{"$f":" IF( $A70 < 'Polar 0-360'!Y$365, 'Polar 0-360'!Y$363 / COS!$B70,'Polar 0-360'!X70 )","v":5.6895675259256073},{"$f":" IF( $A70 < 'Polar 0-360'!AE$365, 'Polar 0-360'!AE$363 / COS!$B70,'Polar 0-360'!AD70 )","v":5.9286923828380447},{"$f":" IF( $A70 < 'Polar 0-360'!AK$365, 'Polar 0-360'!AK$363 / COS!$B70,'Polar 0-360'!AJ70 )","v":6.0932824553216021},{"$f":" IF( $A70 < 'Polar 0-360'!AQ$365, 'Polar 0-360'!AQ$363 / COS!$B70,'Polar 0-360'!AP70 )","v":6.3174778913201948}]
[{"$f":"'Polar 0-360'!A71","v":69},0,{"$f":" IF( $A71 < 'Polar 0-360'!G$365, 'Polar 0-360'!G$363 / COS!$B71,'Polar 0-360'!F71 )","v":3.8808392930206828},{"$f":" IF( $A71 < 'Polar 0-360'!M$365, 'Polar 0-360'!M$363 / COS!$B71,'Polar 0-360'!L71 )","v":4.6309576947630617},{"$f":" IF( $A71 < 'Polar 0-360'!S$365, 'Polar 0-360'!S$363 / COS!$B71,'Polar 0-360'!R71 )","v":5.2822288745191521},{"$f":" IF( $A71 < 'Polar 0-360'!Y$365, 'Polar 0-360'!Y$363 / COS!$B71,'Polar 0-360'!X71 )","v":5.7001562737657938},{"$f":" IF( $A71 < 'Polar 0-360'!AE$365, 'Polar 0-360'!AE$363 / COS!$B71,'Polar 0-360'!AD71 )","v":5.9375953966869428},{"$f":" IF( $A71 < 'Polar 0-360'!AK$365, 'Polar 0-360'!AK$363 / COS!$B71,'Polar 0-360'!AJ71 )","v":6.1034397562247786},{"$f":" IF( $A71 < 'Polar 0-360'!AQ$365, 'Polar 0-360'!AQ$363 / COS!$B71,'Polar 0-360'!AP71 )","v":6.3344977925703834}]
[{"$f":"'Polar 0-360'!A72","v":70},0,{"$f":" IF( $A72 < 'Polar 0-360'!G$365, 'Polar 0-360'!G$363 / COS!$B72,'Polar 0-360'!F72 )","v":3.8909910273329222},{"$f":" IF( $A72 < 'Polar 0-360'!M$365, 'Polar 0-360'!M$363 / COS!$B72,'Polar 0-360'!L72 )","v":4.642932849271852},{"$f":" IF( $A72 < 'Polar 0-360'!S$365, 'Polar 0-360'!S$363 / COS!$B72,'Polar 0-360'!R72 )","v":5.2969789827815745},{"$f":" IF( $A72 < 'Polar 0-360'!Y$365, 'Polar 0-360'!Y$363 / COS!$B72,'Polar 0-360'!X72 )","v":5.7107450216059812},{"$f":" IF( $A72 < 'Polar 0-360'!AE$365, 'Polar 0-360'!AE$363 / COS!$B72,'Polar 0-360'!AD72 )","v":5.9464984105358409},{"$f":" IF( $A72 < 'Polar 0-360'!AK$365, 'Polar 0-360'!AK$363 / COS!$B72,'Polar 0-360'!AJ72 )","v":6.1135970571279543},{"$f":" IF( $A72 < 'Polar 0-360'!AQ$365, 'Polar 0-360'!AQ$363 / COS!$B72,'Polar 0-360'!AP72 )","v":6.3515176938205729}]
[{"$f":"'Polar 0-360'!A73","v":71},0,{"$f":" IF( $A73 < 'Polar 0-360'!G$365, 'Polar 0-360'!G$363 / COS!$B73,'Polar 0-360'!F73 )","v":3.9011427616451622},{"$f":" IF( $A73 < 'Polar 0-360'!M$365, 'Polar 0-360'!M$363 / COS!$B73,'Polar 0-360'!L73 )","v":4.6549080037806432},{"$f":" IF( $A73 < 'Polar 0-360'!S$365, 'Polar 0-360'!S$363 / COS!$B73,'Polar 0-360'!R73 )","v":5.3117290910439978},{"$f":" IF( $A73 < 'Polar 0-360'!Y$365, 'Polar 0-360'!Y$363 / COS!$B73,'Polar 0-360'!X73 )","v":5.7213337694461677},{"$f":" IF( $A73 < 'Polar 0-360'!AE$365, 'Polar 0-360'!AE$363 / COS!$B73,'Polar 0-360'!AD73 )","v":5.9554014243847382},{"$f":" IF( $A73 < 'Polar 0-360'!AK$365, 'Polar 0-360'!AK$363 / COS!$B73,'Polar 0-360'!AJ73 )","v":6.1237543580311309},{"$f":" IF( $A73 < 'Polar 0-360'!AQ$365, 'Polar 0-360'!AQ$363 / COS!$B73,'Polar 0-360'!AP73 )","v":6.3685375950707623}]
[{"$f":"'Polar 0-360'!A74","v":72},0,{"$f":" IF( $A74 < 'Polar 0-360'!G$365, 'Polar 0-360'!G$363 / COS!$B74,'Polar 0-360'!F74 )","v":3.9112944959574016},{"$f":" IF( $A74 < 'Polar 0-360'!M$365, 'Polar 0-360'!M$363 / COS!$B74,'Polar 0-360'!L74 )","v":4.6668831582894343},{"$f":" IF( $A74 < 'Polar 0-360'!S$365, 'Polar 0-360'!S$363 / COS!$B74,'Polar 0-360'!R74 )","v":5.3264791993064211},{"$f":" IF( $A74 < 'Polar 0-360'!Y$365, 'Polar 0-360'!Y$363 / COS!$B74,'Polar 0-360'!X74 )","v":5.731922517286355},{"$f":" IF( $A74 < 'Polar 0-360'!AE$365, 'Polar 0-360'!AE$363 / COS!$B74,'Polar 0-360'!AD74 )","v":5.9643044382336363},{"$f":" IF( $A74 < 'Polar 0-360'!AK$365, 'Polar 0-360'!AK$363 / COS!$B74,'Polar 0-360'!AJ74 )","v":6.1339116589343066},{"$f":" IF( $A74 < 'Polar 0-360'!AQ$365, 'Polar 0-360'!AQ$363 / COS!$B74,'Polar 0-360'!AP74 )","v":6.3855574963209509}]
[{"$f":"'Polar 0-360'!A75","v":73},0,{"$f":" IF( $A75 < 'Polar 0-360'!G$365, 'Polar 0-360'!G$363 / COS!$B75,'Polar 0-360'!F75 )","v":3.9214462302696411},{"$f":" IF( $A75 < 'Polar 0-360'!M$365, 'Polar 0-360'!M$363 / COS!$B75,'Polar 0-360'!L75 )","v":4.6788583127982246},{"$f":" IF( $A75 < 'Polar 0-360'!S$365, 'Polar 0-360'!S$363 / COS!$B75,'Polar 0-360'!R75 )","v":5.3412293075688435},{"$f":" IF( $A75 < 'Polar 0-360'!Y$365, 'Polar 0-360'!Y$363 / COS!$B75,'Polar 0-360'!X75 )","v":5.7425112651265424},{"$f":" IF( $A75 < 'Polar 0-360'!AE$365, 'Polar 0-360'!AE$363 / COS!$B75,'Polar 0-360'!AD75 )","v":5.9732074520825345},{"$f":" IF( $A75 < 'Polar 0-360'!AK$365, 'Polar 0-360'!AK$363 / COS!$B75,'Polar 0-360'!AJ75 )","v":6.1440689598374831},{"$f":" IF( $A75 < 'Polar 0-360'!AQ$365, 'Polar 0-360'!AQ$363 / COS!$B75,'Polar 0-360'!AP75 )","v":6.4025773975711404}]
[{"$f":"'Polar 0-360'!A76","v":74},0,{"$f":" IF( $A76 < 'Polar 0-360'!G$365, 'Polar 0-360'!G$363 / COS!$B76,'Polar 0-360'!F76 )","v":3.931597964581881},{"$f":" IF( $A76 < 'Polar 0-360'!M$365, 'Polar 0-360'!M$363 / COS!$B76,'Polar 0-360'!L76 )","v":4.6908334673070158},{"$f":" IF( $A76 < 'Polar 0-360'!S$365, 'Polar 0-360'!S$363 / COS!$B76,'Polar 0-360'!R76 )","v":5.3559794158312668},{"$f":" IF( $A76 < 'Polar 0-360'!Y$365, 'Polar 0-360'!Y$363 / COS!$B76,'Polar 0-360'!X76 )","v":5.7531000129667289},{"$f":" IF( $A76 < 'Polar 0-360'!AE$365, 'Polar 0-360'!AE$363 / COS!$B76,'Polar 0-360'!AD76 )","v":5.9821104659314326},{"$f":" IF( $A76 < 'Polar 0-360'!AK$365, 'Polar 0-360'!AK$363 / COS!$B76,'Polar 0-360'!AJ76 )","v":6.1542262607406588},{"$f":" IF( $A76 < 'Polar 0-360'!AQ$365, 'Polar 0-360'!AQ$363 / COS!$B76,'Polar 0-360'!AP76 )","v":6.419597298821329}]
[{"$f":"'Polar 0-360'!A77","v":75},0,{"$f":" IF( $A77 < 'Polar 0-360'!G$365, 'Polar 0-360'!G$363 / COS!$B77,'Polar 0-360'!F77 )","v":3.941749698894121},{"$f":" IF( $A77 < 'Polar 0-360'!M$365, 'Polar 0-360'!M$363 / COS!$B77,'Polar 0-360'!L77 )","v":4.7028086218158078},{"$f":" IF( $A77 < 'Polar 0-360'!S$365, 'Polar 0-360'!S$363 / COS!$B77,'Polar 0-360'!R77 )","v":5.3707295240936901},{"$f":" IF( $A77 < 'Polar 0-360'!Y$365, 'Polar 0-360'!Y$363 / COS!$B77,'Polar 0-360'!X77 )","v":5.7636887608069163},{"$f":" IF( $A77 < 'Polar 0-360'!AE$365, 'Polar 0-360'!AE$363 / COS!$B77,'Polar 0-360'!AD77 )","v":5.9910134797803298},{"$f":" IF( $A77 < 'Polar 0-360'!AK$365, 'Polar 0-360'!AK$363 / COS!$B77,'Polar 0-360'!AJ77 )","v":6.1643835616438345},{"$f":" IF( $A77 < 'Polar 0-360'!AQ$365, 'Polar 0-360'!AQ$363 / COS!$B77,'Polar 0-360'!AP77 )","v":6.4366172000715185}]
[{"$f":"'Polar 0-360'!A78","v":76},0,{"$f":" IF( $A78 < 'Polar 0-360'!G$365, 'Polar 0-360'!G$363 / COS!$B78,'Polar 0-360'!F78 )","v":3.9513222639822203},{"$f":" IF( $A78 < 'Polar 0-360'!M$365, 'Polar 0-360'!M$363 / COS!$B78,'Polar 0-360'!L78 )","v":4.7232707912529683},{"$f":" IF( $A78 < 'Polar 0-360'!S$365, 'Polar 0-360'!S$363 / COS!$B78,'Polar 0-360'!R78 )","v":5.3939358534114579},{"$f":" IF( $A78 < 'Polar 0-360'!Y$365, 'Polar 0-360'!Y$363 / COS!$B78,'Polar 0-360'!X78 )","v":5.7825332028420258},{"$f":" IF( $A78 < 'Polar 0-360'!AE$365, 'Polar 0-360'!AE$363 / COS!$B78,'Polar 0-360'!AD78 )","v":6.0078456716590054},{"$f":" IF( $A78 < 'Polar 0-360'!AK$365, 'Polar 0-360'!AK$363 / COS!$B78,'Polar 0-360'!AJ78 )","v":6.1754397797427911},{"$f":" IF( $A78 < 'Polar 0-360'!AQ$365, 'Polar 0-360'!AQ$363 / COS!$B78,'Polar 0-360'!AP78 )","v":6.4366172000715185}]
[{"$f":"'Polar 0-360'!A79","v":77},0,{"$f":" IF( $A79 < 'Polar 0-360'!G$365, 'Polar 0-360'!G$363 / COS!$B79,'Polar 0-360'!F79 )","v":3.9608948290703201},{"$f":" IF( $A79 < 'Polar 0-360'!M$365, 'Polar 0-360'!M$363 / COS!$B79,'Polar 0-360'!L79 )","v":4.7437329606901297},{"$f":" IF( $A79 < 'Polar 0-360'!S$365, 'Polar 0-360'!S$363 / COS!$B79,'Polar 0-360'!R79 )","v":5.4171421827292257},{"$f":" IF( $A79 < 'Polar 0-360'!Y$365, 'Polar 0-360'!Y$363 / COS!$B79,'Polar 0-360'!X79 )","v":5.8013776448771353},{"$f":" IF( $A79 < 'Polar 0-360'!AE$365, 'Polar 0-360'!AE$363 / COS!$B79,'Polar 0-360'!AD79 )","v":6.0246778635376801},{"$f":" IF( $A79 < 'Polar 0-360'!AK$365, 'Polar 0-360'!AK$363 / COS!$B79,'Polar 0-360'!AJ79 )","v":6.1864959978417478},{"$f":" IF( $A79 < 'Polar 0-360'!AQ$365, 'Polar 0-360'!AQ$363 / COS!$B79,'Polar 0-360'!AP79 )","v":6.4366172000715185}]
[{"$f":"'Polar 0-360'!A80","v":78},0,{"$f":" IF( $A80 < 'Polar 0-360'!G$365, 'Polar 0-360'!G$363 / COS!$B80,'Polar 0-360'!F80 )","v":3.9704673941584199},{"$f":" IF( $A80 < 'Polar 0-360'!M$365, 'Polar 0-360'!M$363 / COS!$B80,'Polar 0-360'!L80 )","v":4.7641951301272911},{"$f":" IF( $A80 < 'Polar 0-360'!S$365, 'Polar 0-360'!S$363 / COS!$B80,'Polar 0-360'!R80 )","v":5.4403485120469934},{"$f":" IF( $A80 < 'Polar 0-360'!Y$365, 'Polar 0-360'!Y$363 / COS!$B80,'Polar 0-360'!X80 )","v":5.8202220869122439},{"$f":" IF( $A80 < 'Polar 0-360'!AE$365, 'Polar 0-360'!AE$363 / COS!$B80,'Polar 0-360'!AD80 )","v":6.0415100554163557},{"$f":" IF( $A80 < 'Polar 0-360'!AK$365, 'Polar 0-360'!AK$363 / COS!$B80,'Polar 0-360'!AJ80 )","v":6.1975522159407053},{"$f":" IF( $A80 < 'Polar 0-360'!AQ$365, 'Polar 0-360'!AQ$363 / COS!$B80,'Polar 0-360'!AP80 )","v":6.4366172000715185}]
[{"$f":"'Polar 0-360'!A81","v":79},0,{"$f":" IF( $A81 < 'Polar 0-360'!G$365, 'Polar 0-360'!G$363 / COS!$B81,'Polar 0-360'!F81 )","v":3.9800399592465192},{"$f":" IF( $A81 < 'Polar 0-360'!M$365, 'Polar 0-360'!M$363 / COS!$B81,'Polar 0-360'!L81 )","v":4.7846572995644525},{"$f":" IF( $A81 < 'Polar 0-360'!S$365, 'Polar 0-360'!S$363 / COS!$B81,'Polar 0-360'!R81 )","v":5.4635548413647612},{"$f":" IF( $A81 < 'Polar 0-360'!Y$365, 'Polar 0-360'!Y$363 / COS!$B81,'Polar 0-360'!X81 )","v":5.8390665289473542},{"$f":" IF( $A81 < 'Polar 0-360'!AE$365, 'Polar 0-360'!AE$363 / COS!$B81,'Polar 0-360'!AD81 )","v":6.0583422472950303},{"$f":" IF( $A81 < 'Polar 0-360'!AK$365, 'Polar 0-360'!AK$363 / COS!$B81,'Polar 0-360'!AJ81 )","v":6.2086084340396619},{"$f":" IF( $A81 < 'Polar 0-360'!AQ$365, 'Polar 0-360'!AQ$363 / COS!$B81,'Polar 0-360'!AP81 )","v":6.4366172000715185}]
[{"$f":"'Polar 0-360'!A82","v":80},0,{"$f":" IF( $A82 < 'Polar 0-360'!G$365, 'Polar 0-360'!G$363 / COS!$B82,'Polar 0-360'!F82 )","v":3.989612524334619},{"$f":" IF( $A82 < 'Polar 0-360'!M$365, 'Polar 0-360'!M$363 / COS!$B82,'Polar 0-360'!L82 )","v":4.8051194690016139},{"$f":" IF( $A82 < 'Polar 0-360'!S$365, 'Polar 0-360'!S$363 / COS!$B82,'Polar 0-360'!R82 )","v":5.486761170682529},{"$f":" IF( $A82 < 'Polar 0-360'!Y$365, 'Polar 0-360'!Y$363 / COS!$B82,'Polar 0-360'!X82 )","v":5.8579109709824628},{"$f":" IF( $A82 < 'Polar 0-360'!AE$365, 'Polar 0-360'!AE$363 / COS!$B82,'Polar 0-360'!AD82 )","v":6.0751744391737059},{"$f":" IF( $A82 < 'Polar 0-360'!AK$365, 'Polar 0-360'!AK$363 / COS!$B82,'Polar 0-360'!AJ82 )","v":6.2196646521386185},{"$f":" IF( $A82 < 'Polar 0-360'!AQ$365, 'Polar 0-360'!AQ$363 / COS!$B82,'Polar 0-360'!AP82 )","v":6.4366172000715185}]
[{"$f":"'Polar 0-360'!A83","v":81},0,{"$f":" IF( $A83 < 'Polar 0-360'!G$365, 'Polar 0-360'!G$363 / COS!$B83,'Polar 0-360'!F83 )","v":3.9991850894227188},{"$f":" IF( $A83 < 'Polar 0-360'!M$365, 'Polar 0-360'!M$363 / COS!$B83,'Polar 0-360'!L83 )","v":4.8255816384387753},{"$f":" IF( $A83 < 'Polar 0-360'!S$365, 'Polar 0-360'!S$363 / COS!$B83,'Polar 0-360'!R83 )","v":5.5099675000002968},{"$f":" IF( $A83 < 'Polar 0-360'!Y$365, 'Polar 0-360'!Y$363 / COS!$B83,'Polar 0-360'!X83 )","v":5.8767554130175723},{"$f":" IF( $A83 < 'Polar 0-360'!AE$365, 'Polar 0-360'!AE$363 / COS!$B83,'Polar 0-360'!AD83 )","v":6.0920066310523815},{"$f":" IF( $A83 < 'Polar 0-360'!AK$365, 'Polar 0-360'!AK$363 / COS!$B83,'Polar 0-360'!AJ83 )","v":6.2307208702375751},{"$f":" IF( $A83 < 'Polar 0-360'!AQ$365, 'Polar 0-360'!AQ$363 / COS!$B83,'Polar 0-360'!AP83 )","v":6.4366172000715185}]
[{"$f":"'Polar 0-360'!A84","v":82},0,{"$f":" IF( $A84 < 'Polar 0-360'!G$365, 'Polar 0-360'!G$363 / COS!$B84,'Polar 0-360'!F84 )","v":4.0087576545108181},{"$f":" IF( $A84 < 'Polar 0-360'!M$365, 'Polar 0-360'!M$363 / COS!$B84,'Polar 0-360'!L84 )","v":4.8460438078759358},{"$f":" IF( $A84 < 'Polar 0-360'!S$365, 'Polar 0-360'!S$363 / COS!$B84,'Polar 0-360'!R84 )","v":5.5331738293180646},{"$f":" IF( $A84 < 'Polar 0-360'!Y$365, 'Polar 0-360'!Y$363 / COS!$B84,'Polar 0-360'!X84 )","v":5.8955998550526818},{"$f":" IF( $A84 < 'Polar 0-360'!AE$365, 'Polar 0-360'!AE$363 / COS!$B84,'Polar 0-360'!AD84 )","v":6.1088388229310562},{"$f":" IF( $A84 < 'Polar 0-360'!AK$365, 'Polar 0-360'!AK$363 / COS!$B84,'Polar 0-360'!AJ84 )","v":6.2417770883365318},{"$f":" IF( $A84 < 'Polar 0-360'!AQ$365, 'Polar 0-360'!AQ$363 / COS!$B84,'Polar 0-360'!AP84 )","v":6.4366172000715185}]
[{"$f":"'Polar 0-360'!A85","v":83},0,{"$f":" IF( $A85 < 'Polar 0-360'!G$365, 'Polar 0-360'!G$363 / COS!$B85,'Polar 0-360'!F85 )","v":4.0183302195989175},{"$f":" IF( $A85 < 'Polar 0-360'!M$365, 'Polar 0-360'!M$363 / COS!$B85,'Polar 0-360'!L85 )","v":4.8665059773130972},{"$f":" IF( $A85 < 'Polar 0-360'!S$365, 'Polar 0-360'!S$363 / COS!$B85,'Polar 0-360'!R85 )","v":5.5563801586358323},{"$f":" IF( $A85 < 'Polar 0-360'!Y$365, 'Polar 0-360'!Y$363 / COS!$B85,'Polar 0-360'!X85 )","v":5.9144442970877913},{"$f":" IF( $A85 < 'Polar 0-360'!AE$365, 'Polar 0-360'!AE$363 / COS!$B85,'Polar 0-360'!AD85 )","v":6.1256710148097309},{"$f":" IF( $A85 < 'Polar 0-360'!AK$365, 'Polar 0-360'!AK$363 / COS!$B85,'Polar 0-360'!AJ85 )","v":6.2528333064354884},{"$f":" IF( $A85 < 'Polar 0-360'!AQ$365, 'Polar 0-360'!AQ$363 / COS!$B85,'Polar 0-360'!AP85 )","v":6.4366172000715185}]
[{"$f":"'Polar 0-360'!A86","v":84},0,{"$f":" IF( $A86 < 'Polar 0-360'!G$365, 'Polar 0-360'!G$363 / COS!$B86,'Polar 0-360'!F86 )","v":4.0279027846870177},{"$f":" IF( $A86 < 'Polar 0-360'!M$365, 'Polar 0-360'!M$363 / COS!$B86,'Polar 0-360'!L86 )","v":4.8869681467502586},{"$f":" IF( $A86 < 'Polar 0-360'!S$365, 'Polar 0-360'!S$363 / COS!$B86,'Polar 0-360'!R86 )","v":5.5795864879536001},{"$f":" IF( $A86 < 'Polar 0-360'!Y$365, 'Polar 0-360'!Y$363 / COS!$B86,'Polar 0-360'!X86 )","v":5.9332887391229008},{"$f":" IF( $A86 < 'Polar 0-360'!AE$365, 'Polar 0-360'!AE$363 / COS!$B86,'Polar 0-360'!AD86 )","v":6.1425032066884064},{"$f":" IF( $A86 < 'Polar 0-360'!AK$365, 'Polar 0-360'!AK$363 / COS!$B86,'Polar 0-360'!AJ86 )","v":6.263889524534445},{"$f":" IF( $A86 < 'Polar 0-360'!AQ$365, 'Polar 0-360'!AQ$363 / COS!$B86,'Polar 0-360'!AP86 )","v":6.4366172000715185}]
[{"$f":"'Polar 0-360'!A87","v":85},0,{"$f":" IF( $A87 < 'Polar 0-360'!G$365, 'Polar 0-360'!G$363 / COS!$B87,'Polar 0-360'!F87 )","v":4.037475349775117},{"$f":" IF( $A87 < 'Polar 0-360'!M$365, 'Polar 0-360'!M$363 / COS!$B87,'Polar 0-360'!L87 )","v":4.90743031618742},{"$f":" IF( $A87 < 'Polar 0-360'!S$365, 'Polar 0-360'!S$363 / COS!$B87,'Polar 0-360'!R87 )","v":5.6027928172713679},{"$f":" IF( $A87 < 'Polar 0-360'!Y$365, 'Polar 0-360'!Y$363 / COS!$B87,'Polar 0-360'!X87 )","v":5.9521331811580103},{"$f":" IF( $A87 < 'Polar 0-360'!AE$365, 'Polar 0-360'!AE$363 / COS!$B87,'Polar 0-360'!AD87 )","v":6.159335398567082},{"$f":" IF( $A87 < 'Polar 0-360'!AK$365, 'Polar 0-360'!AK$363 / COS!$B87,'Polar 0-360'!AJ87 )","v":6.2749457426334025},{"$f":" IF( $A87 < 'Polar 0-360'!AQ$365, 'Polar 0-360'!AQ$363 / COS!$B87,'Polar 0-360'!AP87 )","v":6.4366172000715185}]
[{"$f":"'Polar 0-360'!A88","v":86},0,{"$f":" IF( $A88 < 'Polar 0-360'!G$365, 'Polar 0-360'!G$363 / COS!$B88,'Polar 0-360'!F88 )","v":4.0470479148632164},{"$f":" IF( $A88 < 'Polar 0-360'!M$365, 'Polar 0-360'!M$363 / COS!$B88,'Polar 0-360'!L88 )","v":4.9278924856245805},{"$f":" IF( $A88 < 'Polar 0-360'!S$365, 'Polar 0-360'!S$363 / COS!$B88,'Polar 0-360'!R88 )","v":5.6259991465891357},{"$f":" IF( $A88 < 'Polar 0-360'!Y$365, 'Polar 0-360'!Y$363 / COS!$B88,'Polar 0-360'!X88 )","v":5.9709776231931198},{"$f":" IF( $A88 < 'Polar 0-360'!AE$365, 'Polar 0-360'!AE$363 / COS!$B88,'Polar 0-360'!AD88 )","v":6.1761675904457567},{"$f":" IF( $A88 < 'Polar 0-360'!AK$365, 'Polar 0-360'!AK$363 / COS!$B88,'Polar 0-360'!AJ88 )","v":6.2860019607323592},{"$f":" IF( $A88 < 'Polar 0-360'!AQ$365, 'Polar 0-360'!AQ$363 / COS!$B88,'Polar 0-360'!AP88 )","v":6.4366172000715185}]
[{"$f":"'Polar 0-360'!A89","v":87},0,{"$f":" IF( $A89 < 'Polar 0-360'!G$365, 'Polar 0-360'!G$363 / COS!$B89,'Polar 0-360'!F89 )","v":4.0566204799513166},{"$f":" IF( $A89 < 'Polar 0-360'!M$365, 'Polar 0-360'!M$363 / COS!$B89,'Polar 0-360'!L89 )","v":4.9483546550617419},{"$f":" IF( $A89 < 'Polar 0-360'!S$365, 'Polar 0-360'!S$363 / COS!$B89,'Polar 0-360'!R89 )","v":5.6492054759069035},{"$f":" IF( $A89 < 'Polar 0-360'!Y$365, 'Polar 0-360'!Y$363 / COS!$B89,'Polar 0-360'!X89 )","v":5.9898220652282292},{"$f":" IF( $A89 < 'Polar 0-360'!AE$365, 'Polar 0-360'!AE$363 / COS!$B89,'Polar 0-360'!AD89 )","v":6.1929997823244314},{"$f":" IF( $A89 < 'Polar 0-360'!AK$365, 'Polar 0-360'!AK$363 / COS!$B89,'Polar 0-360'!AJ89 )","v":6.2970581788313158},{"$f":" IF( $A89 < 'Polar 0-360'!AQ$365, 'Polar 0-360'!AQ$363 / COS!$B89,'Polar 0-360'!AP89 )","v":6.4366172000715185}]
[{"$f":"'Polar 0-360'!A90","v":88},0,{"$f":" IF( $A90 < 'Polar 0-360'!G$365, 'Polar 0-360'!G$363 / COS!$B90,'Polar 0-360'!F90 )","v":4.0661930450394159},{"$f":" IF( $A90 < 'Polar 0-360'!M$365, 'Polar 0-360'!M$363 / COS!$B90,'Polar 0-360'!L90 )","v":4.9688168244989033},{"$f":" IF( $A90 < 'Polar 0-360'!S$365, 'Polar 0-360'!S$363 / COS!$B90,'Polar 0-360'!R90 )","v":5.6724118052246713},{"$f":" IF( $A90 < 'Polar 0-360'!Y$365, 'Polar 0-360'!Y$363 / COS!$B90,'Polar 0-360'!X90 )","v":6.0086665072633387},{"$f":" IF( $A90 < 'Polar 0-360'!AE$365, 'Polar 0-360'!AE$363 / COS!$B90,'Polar 0-360'!AD90 )","v":6.209831974203107},{"$f":" IF( $A90 < 'Polar 0-360'!AK$365, 'Polar 0-360'!AK$363 / COS!$B90,'Polar 0-360'!AJ90 )","v":6.3081143969302724},{"$f":" IF( $A90 < 'Polar 0-360'!AQ$365, 'Polar 0-360'!AQ$363 / COS!$B90,'Polar 0-360'!AP90 )","v":6.4366172000715185}]
[{"$f":"'Polar 0-360'!A91","v":89},0,{"$f":" IF( $A91 < 'Polar 0-360'!G$365, 'Polar 0-360'!G$363 / COS!$B91,'Polar 0-360'!F91 )","v":4.0757656101275153},{"$f":" IF( $A91 < 'Polar 0-360'!M$365, 'Polar 0-360'!M$363 / COS!$B91,'Polar 0-360'!L91 )","v":4.9892789939360647},{"$f":" IF( $A91 < 'Polar 0-360'!S$365, 'Polar 0-360'!S$363 / COS!$B91,'Polar 0-360'!R91 )","v":5.695618134542439},{"$f":" IF( $A91 < 'Polar 0-360'!Y$365, 'Polar 0-360'!Y$363 / COS!$B91,'Polar 0-360'!X91 )","v":6.0275109492984482},{"$f":" IF( $A91 < 'Polar 0-360'!AE$365, 'Polar 0-360'!AE$363 / COS!$B91,'Polar 0-360'!AD91 )","v":6.2266641660817825},{"$f":" IF( $A91 < 'Polar 0-360'!AK$365, 'Polar 0-360'!AK$363 / COS!$B91,'Polar 0-360'!AJ91 )","v":6.3191706150292291},{"$f":" IF( $A91 < 'Polar 0-360'!AQ$365, 'Polar 0-360'!AQ$363 / COS!$B91,'Polar 0-360'!AP91 )","v":6.4366172000715185}]
[{"$f":"'Polar 0-360'!A92","v":90},0,{"$f":" IF( $A92 < 'Polar 0-360'!G$365, 'Polar 0-360'!G$363 / COS!$B92,'Polar 0-360'!F92 )","v":4.0853381752156146},{"$f":" IF( $A92 < 'Polar 0-360'!M$365, 'Polar 0-360'!M$363 / COS!$B92,'Polar 0-360'!L92 )","v":5.0097411633732252},{"$f":" IF( $A92 < 'Polar 0-360'!S$365, 'Polar 0-360'!S$363 / COS!$B92,'Polar 0-360'!R92 )","v":5.7188244638602068},{"$f":" IF( $A92 < 'Polar 0-360'!Y$365, 'Polar 0-360'!Y$363 / COS!$B92,'Polar 0-360'!X92 )","v":6.0463553913335577},{"$f":" IF( $A92 < 'Polar 0-360'!AE$365, 'Polar 0-360'!AE$363 / COS!$B92,'Polar 0-360'!AD92 )","v":6.2434963579604572},{"$f":" IF( $A92 < 'Polar 0-360'!AK$365, 'Polar 0-360'!AK$363 / COS!$B92,'Polar 0-360'!AJ92 )","v":6.3302268331281866},{"$f":" IF( $A92 < 'Polar 0-360'!AQ$365, 'Polar 0-360'!AQ$363 / COS!$B92,'Polar 0-360'!AP92 )","v":6.4366172000715185}]
[{"$f":"'Polar 0-360'!A93","v":91},0,{"$f":" IF( $A93 < 'Polar 0-360'!G$365, 'Polar 0-360'!G$363 / COS!$B93,'Polar 0-360'!F93 )","v":4.0905684731587444},{"$f":" IF( $A93 < 'Polar 0-360'!M$365, 'Polar 0-360'!M$363 / COS!$B93,'Polar 0-360'!L93 )","v":5.01566436161482},{"$f":" IF( $A93 < 'Polar 0-360'!S$365, 'Polar 0-360'!S$363 / COS!$B93,'Polar 0-360'!R93 )","v":5.7226916451109249},{"$f":" IF( $A93 < 'Polar 0-360'!Y$365, 'Polar 0-360'!Y$363 / COS!$B93,'Polar 0-360'!X93 )","v":6.0507860880245481},{"$f":" IF( $A93 < 'Polar 0-360'!AE$365, 'Polar 0-360'!AE$363 / COS!$B93,'Polar 0-360'!AD93 )","v":6.251948543981209},{"$f":" IF( $A93 < 'Polar 0-360'!AK$365, 'Polar 0-360'!AK$363 / COS!$B93,'Polar 0-360'!AJ93 )","v":6.3475433846468512},{"$f":" IF( $A93 < 'Polar 0-360'!AQ$365, 'Polar 0-360'!AQ$363 / COS!$B93,'Polar 0-360'!AP93 )","v":6.4651172081099819}]
[{"$f":"'Polar 0-360'!A94","v":92},0,{"$f":" IF( $A94 < 'Polar 0-360'!G$365, 'Polar 0-360'!G$363 / COS!$B94,'Polar 0-360'!F94 )","v":4.0957987711018742},{"$f":" IF( $A94 < 'Polar 0-360'!M$365, 'Polar 0-360'!M$363 / COS!$B94,'Polar 0-360'!L94 )","v":5.0215875598564157},{"$f":" IF( $A94 < 'Polar 0-360'!S$365, 'Polar 0-360'!S$363 / COS!$B94,'Polar 0-360'!R94 )","v":5.7265588263616438},{"$f":" IF( $A94 < 'Polar 0-360'!Y$365, 'Polar 0-360'!Y$363 / COS!$B94,'Polar 0-360'!X94 )","v":6.0552167847155394},{"$f":" IF( $A94 < 'Polar 0-360'!AE$365, 'Polar 0-360'!AE$363 / COS!$B94,'Polar 0-360'!AD94 )","v":6.26040073000196},{"$f":" IF( $A94 < 'Polar 0-360'!AK$365, 'Polar 0-360'!AK$363 / COS!$B94,'Polar 0-360'!AJ94 )","v":6.3648599361655158},{"$f":" IF( $A94 < 'Polar 0-360'!AQ$365, 'Polar 0-360'!AQ$363 / COS!$B94,'Polar 0-360'!AP94 )","v":6.4936172161484453}]
[{"$f":"'Polar 0-360'!A95","v":93},0,{"$f":" IF( $A95 < 'Polar 0-360'!G$365, 'Polar 0-360'!G$363 / COS!$B95,'Polar 0-360'!F95 )","v":4.101029069045004},{"$f":" IF( $A95 < 'Polar 0-360'!M$365, 'Polar 0-360'!M$363 / COS!$B95,'Polar 0-360'!L95 )","v":5.0275107580980105},{"$f":" IF( $A95 < 'Polar 0-360'!S$365, 'Polar 0-360'!S$363 / COS!$B95,'Polar 0-360'!R95 )","v":5.7304260076123619},{"$f":" IF( $A95 < 'Polar 0-360'!Y$365, 'Polar 0-360'!Y$363 / COS!$B95,'Polar 0-360'!X95 )","v":6.0596474814065298},{"$f":" IF( $A95 < 'Polar 0-360'!AE$365, 'Polar 0-360'!AE$363 / COS!$B95,'Polar 0-360'!AD95 )","v":6.2688529160227118},{"$f":" IF( $A95 < 'Polar 0-360'!AK$365, 'Polar 0-360'!AK$363 / COS!$B95,'Polar 0-360'!AJ95 )","v":6.3821764876841804},{"$f":" IF( $A95 < 'Polar 0-360'!AQ$365, 'Polar 0-360'!AQ$363 / COS!$B95,'Polar 0-360'!AP95 )","v":6.5221172241869088}]
[{"$f":"'Polar 0-360'!A96","v":94},0,{"$f":" IF( $A96 < 'Polar 0-360'!G$365, 'Polar 0-360'!G$363 / COS!$B96,'Polar 0-360'!F96 )","v":4.1062593669881338},{"$f":" IF( $A96 < 'Polar 0-360'!M$365, 'Polar 0-360'!M$363 / COS!$B96,'Polar 0-360'!L96 )","v":5.0334339563396053},{"$f":" IF( $A96 < 'Polar 0-360'!S$365, 'Polar 0-360'!S$363 / COS!$B96,'Polar 0-360'!R96 )","v":5.7342931888630808},{"$f":" IF( $A96 < 'Polar 0-360'!Y$365, 'Polar 0-360'!Y$363 / COS!$B96,'Polar 0-360'!X96 )","v":6.064078178097521},{"$f":" IF( $A96 < 'Polar 0-360'!AE$365, 'Polar 0-360'!AE$363 / COS!$B96,'Polar 0-360'!AD96 )","v":6.2773051020434636},{"$f":" IF( $A96 < 'Polar 0-360'!AK$365, 'Polar 0-360'!AK$363 / COS!$B96,'Polar 0-360'!AJ96 )","v":6.399493039202846},{"$f":" IF( $A96 < 'Polar 0-360'!AQ$365, 'Polar 0-360'!AQ$363 / COS!$B96,'Polar 0-360'!AP96 )","v":6.5506172322253731}]
[{"$f":"'Polar 0-360'!A97","v":95},0,{"$f":" IF( $A97 < 'Polar 0-360'!G$365, 'Polar 0-360'!G$363 / COS!$B97,'Polar 0-360'!F97 )","v":4.1114896649312636},{"$f":" IF( $A97 < 'Polar 0-360'!M$365, 'Polar 0-360'!M$363 / COS!$B97,'Polar 0-360'!L97 )","v":5.039357154581201},{"$f":" IF( $A97 < 'Polar 0-360'!S$365, 'Polar 0-360'!S$363 / COS!$B97,'Polar 0-360'!R97 )","v":5.7381603701137989},{"$f":" IF( $A97 < 'Polar 0-360'!Y$365, 'Polar 0-360'!Y$363 / COS!$B97,'Polar 0-360'!X97 )","v":6.0685088747885114},{"$f":" IF( $A97 < 'Polar 0-360'!AE$365, 'Polar 0-360'!AE$363 / COS!$B97,'Polar 0-360'!AD97 )","v":6.2857572880642154},{"$f":" IF( $A97 < 'Polar 0-360'!AK$365, 'Polar 0-360'!AK$363 / COS!$B97,'Polar 0-360'!AJ97 )","v":6.4168095907215106},{"$f":" IF( $A97 < 'Polar 0-360'!AQ$365, 'Polar 0-360'!AQ$363 / COS!$B97,'Polar 0-360'!AP97 )","v":6.5791172402638374}]
[{"$f":"'Polar 0-360'!A98","v":96},0,{"$f":" IF( $A98 < 'Polar 0-360'!G$365, 'Polar 0-360'!G$363 / COS!$B98,'Polar 0-360'!F98 )","v":4.1167199628743933},{"$f":" IF( $A98 < 'Polar 0-360'!M$365, 'Polar 0-360'!M$363 / COS!$B98,'Polar 0-360'!L98 )","v":5.0452803528227959},{"$f":" IF( $A98 < 'Polar 0-360'!S$365, 'Polar 0-360'!S$363 / COS!$B98,'Polar 0-360'!R98 )","v":5.7420275513645178},{"$f":" IF( $A98 < 'Polar 0-360'!Y$365, 'Polar 0-360'!Y$363 / COS!$B98,'Polar 0-360'!X98 )","v":6.0729395714795027},{"$f":" IF( $A98 < 'Polar 0-360'!AE$365, 'Polar 0-360'!AE$363 / COS!$B98,'Polar 0-360'!AD98 )","v":6.2942094740849672},{"$f":" IF( $A98 < 'Polar 0-360'!AK$365, 'Polar 0-360'!AK$363 / COS!$B98,'Polar 0-360'!AJ98 )","v":6.4341261422401752},{"$f":" IF( $A98 < 'Polar 0-360'!AQ$365, 'Polar 0-360'!AQ$363 / COS!$B98,'Polar 0-360'!AP98 )","v":6.6076172483023008}]
[{"$f":"'Polar 0-360'!A99","v":97},0,{"$f":" IF( $A99 < 'Polar 0-360'!G$365, 'Polar 0-360'!G$363 / COS!$B99,'Polar 0-360'!F99 )","v":4.121950260817524},{"$f":" IF( $A99 < 'Polar 0-360'!M$365, 'Polar 0-360'!M$363 / COS!$B99,'Polar 0-360'!L99 )","v":5.0512035510643916},{"$f":" IF( $A99 < 'Polar 0-360'!S$365, 'Polar 0-360'!S$363 / COS!$B99,'Polar 0-360'!R99 )","v":5.7458947326152359},{"$f":" IF( $A99 < 'Polar 0-360'!Y$365, 'Polar 0-360'!Y$363 / COS!$B99,'Polar 0-360'!X99 )","v":6.0773702681704931},{"$f":" IF( $A99 < 'Polar 0-360'!AE$365, 'Polar 0-360'!AE$363 / COS!$B99,'Polar 0-360'!AD99 )","v":6.3026616601057182},{"$f":" IF( $A99 < 'Polar 0-360'!AK$365, 'Polar 0-360'!AK$363 / COS!$B99,'Polar 0-360'!AJ99 )","v":6.4514426937588407},{"$f":" IF( $A99 < 'Polar 0-360'!AQ$365, 'Polar 0-360'!AQ$363 / COS!$B99,'Polar 0-360'!AP99 )","v":6.6361172563407642}]
[{"$f":"'Polar 0-360'!A100","v":98},0,{"$f":" IF( $A100 < 'Polar 0-360'!G$365, 'Polar 0-360'!G$363 / COS!$B100,'Polar 0-360'!F100 )","v":4.1271805587606538},{"$f":" IF( $A100 < 'Polar 0-360'!M$365, 'Polar 0-360'!M$363 / COS!$B100,'Polar 0-360'!L100 )","v":5.0571267493059864},{"$f":" IF( $A100 < 'Polar 0-360'!S$365, 'Polar 0-360'!S$363 / COS!$B100,'Polar 0-360'!R100 )","v":5.7497619138659548},{"$f":" IF( $A100 < 'Polar 0-360'!Y$365, 'Polar 0-360'!Y$363 / COS!$B100,'Polar 0-360'!X100 )","v":6.0818009648614844},{"$f":" IF( $A100 < 'Polar 0-360'!AE$365, 'Polar 0-360'!AE$363 / COS!$B100,'Polar 0-360'!AD100 )","v":6.31111384612647},{"$f":" IF( $A100 < 'Polar 0-360'!AK$365, 'Polar 0-360'!AK$363 / COS!$B100,'Polar 0-360'!AJ100 )","v":6.4687592452775053},{"$f":" IF( $A100 < 'Polar 0-360'!AQ$365, 'Polar 0-360'!AQ$363 / COS!$B100,'Polar 0-360'!AP100 )","v":6.6646172643792285}]
[{"$f":"'Polar 0-360'!A101","v":99},0,{"$f":" IF( $A101 < 'Polar 0-360'!G$365, 'Polar 0-360'!G$363 / COS!$B101,'Polar 0-360'!F101 )","v":4.1324108567037836},{"$f":" IF( $A101 < 'Polar 0-360'!M$365, 'Polar 0-360'!M$363 / COS!$B101,'Polar 0-360'!L101 )","v":5.0630499475475812},{"$f":" IF( $A101 < 'Polar 0-360'!S$365, 'Polar 0-360'!S$363 / COS!$B101,'Polar 0-360'!R101 )","v":5.7536290951166729},{"$f":" IF( $A101 < 'Polar 0-360'!Y$365, 'Polar 0-360'!Y$363 / COS!$B101,'Polar 0-360'!X101 )","v":6.0862316615524747},{"$f":" IF( $A101 < 'Polar 0-360'!AE$365, 'Polar 0-360'!AE$363 / COS!$B101,'Polar 0-360'!AD101 )","v":6.3195660321472218},{"$f":" IF( $A101 < 'Polar 0-360'!AK$365, 'Polar 0-360'!AK$363 / COS!$B101,'Polar 0-360'!AJ101 )","v":6.48607579679617},{"$f":" IF( $A101 < 'Polar 0-360'!AQ$365, 'Polar 0-360'!AQ$363 / COS!$B101,'Polar 0-360'!AP101 )","v":6.6931172724176928}]
[{"$f":"'Polar 0-360'!A102","v":100},0,{"$f":" IF( $A102 < 'Polar 0-360'!G$365, 'Polar 0-360'!G$363 / COS!$B102,'Polar 0-360'!F102 )","v":4.1376411546469134},{"$f":" IF( $A102 < 'Polar 0-360'!M$365, 'Polar 0-360'!M$363 / COS!$B102,'Polar 0-360'!L102 )","v":5.0689731457891769},{"$f":" IF( $A102 < 'Polar 0-360'!S$365, 'Polar 0-360'!S$363 / COS!$B102,'Polar 0-360'!R102 )","v":5.7574962763673918},{"$f":" IF( $A102 < 'Polar 0-360'!Y$365, 'Polar 0-360'!Y$363 / COS!$B102,'Polar 0-360'!X102 )","v":6.090662358243466},{"$f":" IF( $A102 < 'Polar 0-360'!AE$365, 'Polar 0-360'!AE$363 / COS!$B102,'Polar 0-360'!AD102 )","v":6.3280182181679736},{"$f":" IF( $A102 < 'Polar 0-360'!AK$365, 'Polar 0-360'!AK$363 / COS!$B102,'Polar 0-360'!AJ102 )","v":6.5033923483148346},{"$f":" IF( $A102 < 'Polar 0-360'!AQ$365, 'Polar 0-360'!AQ$363 / COS!$B102,'Polar 0-360'!AP102 )","v":6.7216172804561563}]
[{"$f":"'Polar 0-360'!A103","v":101},0,{"$f":" IF( $A103 < 'Polar 0-360'!G$365, 'Polar 0-360'!G$363 / COS!$B103,'Polar 0-360'!F103 )","v":4.1428714525900432},{"$f":" IF( $A103 < 'Polar 0-360'!M$365, 'Polar 0-360'!M$363 / COS!$B103,'Polar 0-360'!L103 )","v":5.0748963440307717},{"$f":" IF( $A103 < 'Polar 0-360'!S$365, 'Polar 0-360'!S$363 / COS!$B103,'Polar 0-360'!R103 )","v":5.7613634576181099},{"$f":" IF( $A103 < 'Polar 0-360'!Y$365, 'Polar 0-360'!Y$363 / COS!$B103,'Polar 0-360'!X103 )","v":6.0950930549344564},{"$f":" IF( $A103 < 'Polar 0-360'!AE$365, 'Polar 0-360'!AE$363 / COS!$B103,'Polar 0-360'!AD103 )","v":6.3364704041887254},{"$f":" IF( $A103 < 'Polar 0-360'!AK$365, 'Polar 0-360'!AK$363 / COS!$B103,'Polar 0-360'!AJ103 )","v":6.5207088998334992},{"$f":" IF( $A103 < 'Polar 0-360'!AQ$365, 'Polar 0-360'!AQ$363 / COS!$B103,'Polar 0-360'!AP103 )","v":6.7501172884946197}]
[{"$f":"'Polar 0-360'!A104","v":102},0,{"$f":" IF( $A104 < 'Polar 0-360'!G$365, 'Polar 0-360'!G$363 / COS!$B104,'Polar 0-360'!F104 )","v":4.148101750533173},{"$f":" IF( $A104 < 'Polar 0-360'!M$365, 'Polar 0-360'!M$363 / COS!$B104,'Polar 0-360'!L104 )","v":5.0808195422723674},{"$f":" IF( $A104 < 'Polar 0-360'!S$365, 'Polar 0-360'!S$363 / COS!$B104,'Polar 0-360'!R104 )","v":5.7652306388688288},{"$f":" IF( $A104 < 'Polar 0-360'!Y$365, 'Polar 0-360'!Y$363 / COS!$B104,'Polar 0-360'!X104 )","v":6.0995237516254477},{"$f":" IF( $A104 < 'Polar 0-360'!AE$365, 'Polar 0-360'!AE$363 / COS!$B104,'Polar 0-360'!AD104 )","v":6.3449225902094764},{"$f":" IF( $A104 < 'Polar 0-360'!AK$365, 'Polar 0-360'!AK$363 / COS!$B104,'Polar 0-360'!AJ104 )","v":6.5380254513521647},{"$f":" IF( $A104 < 'Polar 0-360'!AQ$365, 'Polar 0-360'!AQ$363 / COS!$B104,'Polar 0-360'!AP104 )","v":6.7786172965330831}]
[{"$f":"'Polar 0-360'!A105","v":103},0,{"$f":" IF( $A105 < 'Polar 0-360'!G$365, 'Polar 0-360'!G$363 / COS!$B105,'Polar 0-360'!F105 )","v":4.1533320484763028},{"$f":" IF( $A105 < 'Polar 0-360'!M$365, 'Polar 0-360'!M$363 / COS!$B105,'Polar 0-360'!L105 )","v":5.0867427405139622},{"$f":" IF( $A105 < 'Polar 0-360'!S$365, 'Polar 0-360'!S$363 / COS!$B105,'Polar 0-360'!R105 )","v":5.7690978201195469},{"$f":" IF( $A105 < 'Polar 0-360'!Y$365, 'Polar 0-360'!Y$363 / COS!$B105,'Polar 0-360'!X105 )","v":6.1039544483164381},{"$f":" IF( $A105 < 'Polar 0-360'!AE$365, 'Polar 0-360'!AE$363 / COS!$B105,'Polar 0-360'!AD105 )","v":6.3533747762302282},{"$f":" IF( $A105 < 'Polar 0-360'!AK$365, 'Polar 0-360'!AK$363 / COS!$B105,'Polar 0-360'!AJ105 )","v":6.5553420028708294},{"$f":" IF( $A105 < 'Polar 0-360'!AQ$365, 'Polar 0-360'!AQ$363 / COS!$B105,'Polar 0-360'!AP105 )","v":6.8071173045715474}]
[{"$f":"'Polar 0-360'!A106","v":104},0,{"$f":" IF( $A106 < 'Polar 0-360'!G$365, 'Polar 0-360'!G$363 / COS!$B106,'Polar 0-360'!F106 )","v":4.1585623464194326},{"$f":" IF( $A106 < 'Polar 0-360'!M$365, 'Polar 0-360'!M$363 / COS!$B106,'Polar 0-360'!L106 )","v":5.0926659387555571},{"$f":" IF( $A106 < 'Polar 0-360'!S$365, 'Polar 0-360'!S$363 / COS!$B106,'Polar 0-360'!R106 )","v":5.7729650013702658},{"$f":" IF( $A106 < 'Polar 0-360'!Y$365, 'Polar 0-360'!Y$363 / COS!$B106,'Polar 0-360'!X106 )","v":6.1083851450074294},{"$f":" IF( $A106 < 'Polar 0-360'!AE$365, 'Polar 0-360'!AE$363 / COS!$B106,'Polar 0-360'!AD106 )","v":6.36182696225098},{"$f":" IF( $A106 < 'Polar 0-360'!AK$365, 'Polar 0-360'!AK$363 / COS!$B106,'Polar 0-360'!AJ106 )","v":6.572658554389494},{"$f":" IF( $A106 < 'Polar 0-360'!AQ$365, 'Polar 0-360'!AQ$363 / COS!$B106,'Polar 0-360'!AP106 )","v":6.8356173126100117}]
[{"$f":"'Polar 0-360'!A107","v":105},0,{"$f":" IF( $A107 < 'Polar 0-360'!G$365, 'Polar 0-360'!G$363 / COS!$B107,'Polar 0-360'!F107 )","v":4.1637926443625624},{"$f":" IF( $A107 < 'Polar 0-360'!M$365, 'Polar 0-360'!M$363 / COS!$B107,'Polar 0-360'!L107 )","v":5.0985891369971528},{"$f":" IF( $A107 < 'Polar 0-360'!S$365, 'Polar 0-360'!S$363 / COS!$B107,'Polar 0-360'!R107 )","v":5.7768321826209839},{"$f":" IF( $A107 < 'Polar 0-360'!Y$365, 'Polar 0-360'!Y$363 / COS!$B107,'Polar 0-360'!X107 )","v":6.1128158416984197},{"$f":" IF( $A107 < 'Polar 0-360'!AE$365, 'Polar 0-360'!AE$363 / COS!$B107,'Polar 0-360'!AD107 )","v":6.3702791482717318},{"$f":" IF( $A107 < 'Polar 0-360'!AK$365, 'Polar 0-360'!AK$363 / COS!$B107,'Polar 0-360'!AJ107 )","v":6.5899751059081595},{"$f":" IF( $A107 < 'Polar 0-360'!AQ$365, 'Polar 0-360'!AQ$363 / COS!$B107,'Polar 0-360'!AP107 )","v":6.8641173206484751}]
[{"$f":"'Polar 0-360'!A108","v":106},0,{"$f":" IF( $A108 < 'Polar 0-360'!G$365, 'Polar 0-360'!G$363 / COS!$B108,'Polar 0-360'!F108 )","v":4.169022942305693},{"$f":" IF( $A108 < 'Polar 0-360'!M$365, 'Polar 0-360'!M$363 / COS!$B108,'Polar 0-360'!L108 )","v":5.1045123352387476},{"$f":" IF( $A108 < 'Polar 0-360'!S$365, 'Polar 0-360'!S$363 / COS!$B108,'Polar 0-360'!R108 )","v":5.7806993638717028},{"$f":" IF( $A108 < 'Polar 0-360'!Y$365, 'Polar 0-360'!Y$363 / COS!$B108,'Polar 0-360'!X108 )","v":6.117246538389411},{"$f":" IF( $A108 < 'Polar 0-360'!AE$365, 'Polar 0-360'!AE$363 / COS!$B108,'Polar 0-360'!AD108 )","v":6.3787313342924836},{"$f":" IF( $A108 < 'Polar 0-360'!AK$365, 'Polar 0-360'!AK$363 / COS!$B108,'Polar 0-360'!AJ108 )","v":6.6072916574268241},{"$f":" IF( $A108 < 'Polar 0-360'!AQ$365, 'Polar 0-360'!AQ$363 / COS!$B108,'Polar 0-360'!AP108 )","v":6.8926173286869385}]
[{"$f":"'Polar 0-360'!A109","v":107},0,{"$f":" IF( $A109 < 'Polar 0-360'!G$365, 'Polar 0-360'!G$363 / COS!$B109,'Polar 0-360'!F109 )","v":4.1742532402488228},{"$f":" IF( $A109 < 'Polar 0-360'!M$365, 'Polar 0-360'!M$363 / COS!$B109,'Polar 0-360'!L109 )","v":5.1104355334803433},{"$f":" IF( $A109 < 'Polar 0-360'!S$365, 'Polar 0-360'!S$363 / COS!$B109,'Polar 0-360'!R109 )","v":5.7845665451224209},{"$f":" IF( $A109 < 'Polar 0-360'!Y$365, 'Polar 0-360'!Y$363 / COS!$B109,'Polar 0-360'!X109 )","v":6.1216772350804014},{"$f":" IF( $A109 < 'Polar 0-360'!AE$365, 'Polar 0-360'!AE$363 / COS!$B109,'Polar 0-360'!AD109 )","v":6.3871835203132346},{"$f":" IF( $A109 < 'Polar 0-360'!AK$365, 'Polar 0-360'!AK$363 / COS!$B109,'Polar 0-360'!AJ109 )","v":6.6246082089454887},{"$f":" IF( $A109 < 'Polar 0-360'!AQ$365, 'Polar 0-360'!AQ$363 / COS!$B109,'Polar 0-360'!AP109 )","v":6.9211173367254029}]
[{"$f":"'Polar 0-360'!A110","v":108},0,{"$f":" IF( $A110 < 'Polar 0-360'!G$365, 'Polar 0-360'!G$363 / COS!$B110,'Polar 0-360'!F110 )","v":4.1794835381919526},{"$f":" IF( $A110 < 'Polar 0-360'!M$365, 'Polar 0-360'!M$363 / COS!$B110,'Polar 0-360'!L110 )","v":5.1163587317219381},{"$f":" IF( $A110 < 'Polar 0-360'!S$365, 'Polar 0-360'!S$363 / COS!$B110,'Polar 0-360'!R110 )","v":5.7884337263731398},{"$f":" IF( $A110 < 'Polar 0-360'!Y$365, 'Polar 0-360'!Y$363 / COS!$B110,'Polar 0-360'!X110 )","v":6.1261079317713927},{"$f":" IF( $A110 < 'Polar 0-360'!AE$365, 'Polar 0-360'!AE$363 / COS!$B110,'Polar 0-360'!AD110 )","v":6.3956357063339864},{"$f":" IF( $A110 < 'Polar 0-360'!AK$365, 'Polar 0-360'!AK$363 / COS!$B110,'Polar 0-360'!AJ110 )","v":6.6419247604641534},{"$f":" IF( $A110 < 'Polar 0-360'!AQ$365, 'Polar 0-360'!AQ$363 / COS!$B110,'Polar 0-360'!AP110 )","v":6.9496173447638663}]
[{"$f":"'Polar 0-360'!A111","v":109},0,{"$f":" IF( $A111 < 'Polar 0-360'!G$365, 'Polar 0-360'!G$363 / COS!$B111,'Polar 0-360'!F111 )","v":4.1847138361350824},{"$f":" IF( $A111 < 'Polar 0-360'!M$365, 'Polar 0-360'!M$363 / COS!$B111,'Polar 0-360'!L111 )","v":5.1222819299635329},{"$f":" IF( $A111 < 'Polar 0-360'!S$365, 'Polar 0-360'!S$363 / COS!$B111,'Polar 0-360'!R111 )","v":5.7923009076238579},{"$f":" IF( $A111 < 'Polar 0-360'!Y$365, 'Polar 0-360'!Y$363 / COS!$B111,'Polar 0-360'!X111 )","v":6.1305386284623831},{"$f":" IF( $A111 < 'Polar 0-360'!AE$365, 'Polar 0-360'!AE$363 / COS!$B111,'Polar 0-360'!AD111 )","v":6.4040878923547382},{"$f":" IF( $A111 < 'Polar 0-360'!AK$365, 'Polar 0-360'!AK$363 / COS!$B111,'Polar 0-360'!AJ111 )","v":6.659241311982818},{"$f":" IF( $A111 < 'Polar 0-360'!AQ$365, 'Polar 0-360'!AQ$363 / COS!$B111,'Polar 0-360'!AP111 )","v":6.9781173528023306}]
[{"$f":"'Polar 0-360'!A112","v":110},0,{"$f":" IF( $A112 < 'Polar 0-360'!G$365, 'Polar 0-360'!G$363 / COS!$B112,'Polar 0-360'!F112 )","v":4.1899441340782122},{"$f":" IF( $A112 < 'Polar 0-360'!M$365, 'Polar 0-360'!M$363 / COS!$B112,'Polar 0-360'!L112 )","v":5.1282051282051286},{"$f":" IF( $A112 < 'Polar 0-360'!S$365, 'Polar 0-360'!S$363 / COS!$B112,'Polar 0-360'!R112 )","v":5.7961680888745768},{"$f":" IF( $A112 < 'Polar 0-360'!Y$365, 'Polar 0-360'!Y$363 / COS!$B112,'Polar 0-360'!X112 )","v":6.1349693251533735},{"$f":" IF( $A112 < 'Polar 0-360'!AE$365, 'Polar 0-360'!AE$363 / COS!$B112,'Polar 0-360'!AD112 )","v":6.41254007837549},{"$f":" IF( $A112 < 'Polar 0-360'!AK$365, 'Polar 0-360'!AK$363 / COS!$B112,'Polar 0-360'!AJ112 )","v":6.6765578635014835},{"$f":" IF( $A112 < 'Polar 0-360'!AQ$365, 'Polar 0-360'!AQ$363 / COS!$B112,'Polar 0-360'!AP112 )","v":7.0066173608407949}]
[{"$f":"'Polar 0-360'!A113","v":111},0,{"$f":" IF( $A113 < 'Polar 0-360'!G$365, 'Polar 0-360'!G$363 / COS!$B113,'Polar 0-360'!F113 )","v":4.1852791589391165},{"$f":" IF( $A113 < 'Polar 0-360'!M$365, 'Polar 0-360'!M$363 / COS!$B113,'Polar 0-360'!L113 )","v":5.1230769230769226},{"$f":" IF( $A113 < 'Polar 0-360'!S$365, 'Polar 0-360'!S$363 / COS!$B113,'Polar 0-360'!R113 )","v":5.7930016892833853},{"$f":" IF( $A113 < 'Polar 0-360'!Y$365, 'Polar 0-360'!Y$363 / COS!$B113,'Polar 0-360'!X113 )","v":6.1327727139442327},{"$f":" IF( $A113 < 'Polar 0-360'!AE$365, 'Polar 0-360'!AE$363 / COS!$B113,'Polar 0-360'!AD113 )","v":6.4104104943183717},{"$f":" IF( $A113 < 'Polar 0-360'!AK$365, 'Polar 0-360'!AK$363 / COS!$B113,'Polar 0-360'!AJ113 )","v":6.6755217821038588},{"$f":" IF( $A113 < 'Polar 0-360'!AQ$365, 'Polar 0-360'!AQ$363 / COS!$B113,'Polar 0-360'!AP113 )","v":7.011840374575284}]
[{"$f":"'Polar 0-360'!A114","v":112},0,{"$f":" IF( $A114 < 'Polar 0-360'!G$365, 'Polar 0-360'!G$363 / COS!$B114,'Polar 0-360'!F114 )","v":4.1806141838000208},{"$f":" IF( $A114 < 'Polar 0-360'!M$365, 'Polar 0-360'!M$363 / COS!$B114,'Polar 0-360'!L114 )","v":5.1179487179487175},{"$f":" IF( $A114 < 'Polar 0-360'!S$365, 'Polar 0-360'!S$363 / COS!$B114,'Polar 0-360'!R114 )","v":5.7898352896921947},{"$f":" IF( $A114 < 'Polar 0-360'!Y$365, 'Polar 0-360'!Y$363 / COS!$B114,'Polar 0-360'!X114 )","v":6.1305761027350911},{"$f":" IF( $A114 < 'Polar 0-360'!AE$365, 'Polar 0-360'!AE$363 / COS!$B114,'Polar 0-360'!AD114 )","v":6.4082809102612535},{"$f":" IF( $A114 < 'Polar 0-360'!AK$365, 'Polar 0-360'!AK$363 / COS!$B114,'Polar 0-360'!AJ114 )","v":6.6744857007062341},{"$f":" IF( $A114 < 'Polar 0-360'!AQ$365, 'Polar 0-360'!AQ$363 / COS!$B114,'Polar 0-360'!AP114 )","v":7.0170633883097731}]
[{"$f":"'Polar 0-360'!A115","v":113},0,{"$f":" IF( $A115 < 'Polar 0-360'!G$365, 'Polar 0-360'!G$363 / COS!$B115,'Polar 0-360'!F115 )","v":4.1759492086609251},{"$f":" IF( $A115 < 'Polar 0-360'!M$365, 'Polar 0-360'!M$363 / COS!$B115,'Polar 0-360'!L115 )","v":5.1128205128205124},{"$f":" IF( $A115 < 'Polar 0-360'!S$365, 'Polar 0-360'!S$363 / COS!$B115,'Polar 0-360'!R115 )","v":5.7866688901010042},{"$f":" IF( $A115 < 'Polar 0-360'!Y$365, 'Polar 0-360'!Y$363 / COS!$B115,'Polar 0-360'!X115 )","v":6.1283794915259504},{"$f":" IF( $A115 < 'Polar 0-360'!AE$365, 'Polar 0-360'!AE$363 / COS!$B115,'Polar 0-360'!AD115 )","v":6.4061513262041361},{"$f":" IF( $A115 < 'Polar 0-360'!AK$365, 'Polar 0-360'!AK$363 / COS!$B115,'Polar 0-360'!AJ115 )","v":6.6734496193086104},{"$f":" IF( $A115 < 'Polar 0-360'!AQ$365, 'Polar 0-360'!AQ$363 / COS!$B115,'Polar 0-360'!AP115 )","v":7.0222864020442612}]
[{"$f":"'Polar 0-360'!A116","v":114},0,{"$f":" IF( $A116 < 'Polar 0-360'!G$365, 'Polar 0-360'!G$363 / COS!$B116,'Polar 0-360'!F116 )","v":4.1712842335218294},{"$f":" IF( $A116 < 'Polar 0-360'!M$365, 'Polar 0-360'!M$363 / COS!$B116,'Polar 0-360'!L116 )","v":5.1076923076923073},{"$f":" IF( $A116 < 'Polar 0-360'!S$365, 'Polar 0-360'!S$363 / COS!$B116,'Polar 0-360'!R116 )","v":5.7835024905098136},{"$f":" IF( $A116 < 'Polar 0-360'!Y$365, 'Polar 0-360'!Y$363 / COS!$B116,'Polar 0-360'!X116 )","v":6.1261828803168088},{"$f":" IF( $A116 < 'Polar 0-360'!AE$365, 'Polar 0-360'!AE$363 / COS!$B116,'Polar 0-360'!AD116 )","v":6.4040217421470178},{"$f":" IF( $A116 < 'Polar 0-360'!AK$365, 'Polar 0-360'!AK$363 / COS!$B116,'Polar 0-360'!AJ116 )","v":6.6724135379109857},{"$f":" IF( $A116 < 'Polar 0-360'!AQ$365, 'Polar 0-360'!AQ$363 / COS!$B116,'Polar 0-360'!AP116 )","v":7.0275094157787503}]
[{"$f":"'Polar 0-360'!A117","v":115},0,{"$f":" IF( $A117 < 'Polar 0-360'!G$365, 'Polar 0-360'!G$363 / COS!$B117,'Polar 0-360'!F117 )","v":4.1666192583827328},{"$f":" IF( $A117 < 'Polar 0-360'!M$365, 'Polar 0-360'!M$363 / COS!$B117,'Polar 0-360'!L117 )","v":5.1025641025641022},{"$f":" IF( $A117 < 'Polar 0-360'!S$365, 'Polar 0-360'!S$363 / COS!$B117,'Polar 0-360'!R117 )","v":5.7803360909186221},{"$f":" IF( $A117 < 'Polar 0-360'!Y$365, 'Polar 0-360'!Y$363 / COS!$B117,'Polar 0-360'!X117 )","v":6.1239862691076681},{"$f":" IF( $A117 < 'Polar 0-360'!AE$365, 'Polar 0-360'!AE$363 / COS!$B117,'Polar 0-360'!AD117 )","v":6.4018921580898995},{"$f":" IF( $A117 < 'Polar 0-360'!AK$365, 'Polar 0-360'!AK$363 / COS!$B117,'Polar 0-360'!AJ117 )","v":6.671377456513361},{"$f":" IF( $A117 < 'Polar 0-360'!AQ$365, 'Polar 0-360'!AQ$363 / COS!$B117,'Polar 0-360'!AP117 )","v":7.0327324295132385}]
[{"$f":"'Polar 0-360'!A118","v":116},0,{"$f":" IF( $A118 < 'Polar 0-360'!G$365, 'Polar 0-360'!G$363 / COS!$B118,'Polar 0-360'!F118 )","v":4.1619542832436371},{"$f":" IF( $A118 < 'Polar 0-360'!M$365, 'Polar 0-360'!M$363 / COS!$B118,'Polar 0-360'!L118 )","v":5.0974358974358971},{"$f":" IF( $A118 < 'Polar 0-360'!S$365, 'Polar 0-360'!S$363 / COS!$B118,'Polar 0-360'!R118 )","v":5.7771696913274315},{"$f":" IF( $A118 < 'Polar 0-360'!Y$365, 'Polar 0-360'!Y$363 / COS!$B118,'Polar 0-360'!X118 )","v":6.1217896578985265},{"$f":" IF( $A118 < 'Polar 0-360'!AE$365, 'Polar 0-360'!AE$363 / COS!$B118,'Polar 0-360'!AD118 )","v":6.3997625740327813},{"$f":" IF( $A118 < 'Polar 0-360'!AK$365, 'Polar 0-360'!AK$363 / COS!$B118,'Polar 0-360'!AJ118 )","v":6.6703413751157363},{"$f":" IF( $A118 < 'Polar 0-360'!AQ$365, 'Polar 0-360'!AQ$363 / COS!$B118,'Polar 0-360'!AP118 )","v":7.0379554432477276}]
[{"$f":"'Polar 0-360'!A119","v":117},0,{"$f":" IF( $A119 < 'Polar 0-360'!G$365, 'Polar 0-360'!G$363 / COS!$B119,'Polar 0-360'!F119 )","v":4.1572893081045414},{"$f":" IF( $A119 < 'Polar 0-360'!M$365, 'Polar 0-360'!M$363 / COS!$B119,'Polar 0-360'!L119 )","v":5.092307692307692},{"$f":" IF( $A119 < 'Polar 0-360'!S$365, 'Polar 0-360'!S$363 / COS!$B119,'Polar 0-360'!R119 )","v":5.7740032917362409},{"$f":" IF( $A119 < 'Polar 0-360'!Y$365, 'Polar 0-360'!Y$363 / COS!$B119,'Polar 0-360'!X119 )","v":6.1195930466893849},{"$f":" IF( $A119 < 'Polar 0-360'!AE$365, 'Polar 0-360'!AE$363 / COS!$B119,'Polar 0-360'!AD119 )","v":6.397632989975663},{"$f":" IF( $A119 < 'Polar 0-360'!AK$365, 'Polar 0-360'!AK$363 / COS!$B119,'Polar 0-360'!AJ119 )","v":6.6693052937181125},{"$f":" IF( $A119 < 'Polar 0-360'!AQ$365, 'Polar 0-360'!AQ$363 / COS!$B119,'Polar 0-360'!AP119 )","v":7.0431784569822167}]
[{"$f":"'Polar 0-360'!A120","v":118},0,{"$f":" IF( $A120 < 'Polar 0-360'!G$365, 'Polar 0-360'!G$363 / COS!$B120,'Polar 0-360'!F120 )","v":4.1526243329654449},{"$f":" IF( $A120 < 'Polar 0-360'!M$365, 'Polar 0-360'!M$363 / COS!$B120,'Polar 0-360'!L120 )","v":5.0871794871794869},{"$f":" IF( $A120 < 'Polar 0-360'!S$365, 'Polar 0-360'!S$363 / COS!$B120,'Polar 0-360'!R120 )","v":5.7708368921450504},{"$f":" IF( $A120 < 'Polar 0-360'!Y$365, 'Polar 0-360'!Y$363 / COS!$B120,'Polar 0-360'!X120 )","v":6.1173964354802441},{"$f":" IF( $A120 < 'Polar 0-360'!AE$365, 'Polar 0-360'!AE$363 / COS!$B120,'Polar 0-360'!AD120 )","v":6.3955034059185447},{"$f":" IF( $A120 < 'Polar 0-360'!AK$365, 'Polar 0-360'!AK$363 / COS!$B120,'Polar 0-360'!AJ120 )","v":6.6682692123204879},{"$f":" IF( $A120 < 'Polar 0-360'!AQ$365, 'Polar 0-360'!AQ$363 / COS!$B120,'Polar 0-360'!AP120 )","v":7.0484014707167049}]
[{"$f":"'Polar 0-360'!A121","v":119},0,{"$f":" IF( $A121 < 'Polar 0-360'!G$365, 'Polar 0-360'!G$363 / COS!$B121,'Polar 0-360'!F121 )","v":4.1479593578263492},{"$f":" IF( $A121 < 'Polar 0-360'!M$365, 'Polar 0-360'!M$363 / COS!$B121,'Polar 0-360'!L121 )","v":5.0820512820512818},{"$f":" IF( $A121 < 'Polar 0-360'!S$365, 'Polar 0-360'!S$363 / COS!$B121,'Polar 0-360'!R121 )","v":5.7676704925538589},{"$f":" IF( $A121 < 'Polar 0-360'!Y$365, 'Polar 0-360'!Y$363 / COS!$B121,'Polar 0-360'!X121 )","v":6.1151998242711025},{"$f":" IF( $A121 < 'Polar 0-360'!AE$365, 'Polar 0-360'!AE$363 / COS!$B121,'Polar 0-360'!AD121 )","v":6.3933738218614264},{"$f":" IF( $A121 < 'Polar 0-360'!AK$365, 'Polar 0-360'!AK$363 / COS!$B121,'Polar 0-360'!AJ121 )","v":6.6672331309228632},{"$f":" IF( $A121 < 'Polar 0-360'!AQ$365, 'Polar 0-360'!AQ$363 / COS!$B121,'Polar 0-360'!AP121 )","v":7.0536244844511939}]
[{"$f":"'Polar 0-360'!A122","v":120},0,{"$f":" IF( $A122 < 'Polar 0-360'!G$365, 'Polar 0-360'!G$363 / COS!$B122,'Polar 0-360'!F122 )","v":4.1432943826872535},{"$f":" IF( $A122 < 'Polar 0-360'!M$365, 'Polar 0-360'!M$363 / COS!$B122,'Polar 0-360'!L122 )","v":5.0769230769230766},{"$f":" IF( $A122 < 'Polar 0-360'!S$365, 'Polar 0-360'!S$363 / COS!$B122,'Polar 0-360'!R122 )","v":5.7645040929626683},{"$f":" IF( $A122 < 'Polar 0-360'!Y$365, 'Polar 0-360'!Y$363 / COS!$B122,'Polar 0-360'!X122 )","v":6.1130032130619618},{"$f":" IF( $A122 < 'Polar 0-360'!AE$365, 'Polar 0-360'!AE$363 / COS!$B122,'Polar 0-360'!AD122 )","v":6.3912442378043082},{"$f":" IF( $A122 < 'Polar 0-360'!AK$365, 'Polar 0-360'!AK$363 / COS!$B122,'Polar 0-360'!AJ122 )","v":6.6661970495252394},{"$f":" IF( $A122 < 'Polar 0-360'!AQ$365, 'Polar 0-360'!AQ$363 / COS!$B122,'Polar 0-360'!AP122 )","v":7.058847498185683}]
[{"$f":"'Polar 0-360'!A123","v":121},0,{"$f":" IF( $A123 < 'Polar 0-360'!G$365, 'Polar 0-360'!G$363 / COS!$B123,'Polar 0-360'!F123 )","v":4.1386294075481578},{"$f":" IF( $A123 < 'Polar 0-360'!M$365, 'Polar 0-360'!M$363 / COS!$B123,'Polar 0-360'!L123 )","v":5.0717948717948715},{"$f":" IF( $A123 < 'Polar 0-360'!S$365, 'Polar 0-360'!S$363 / COS!$B123,'Polar 0-360'!R123 )","v":5.7613376933714777},{"$f":" IF( $A123 < 'Polar 0-360'!Y$365, 'Polar 0-360'!Y$363 / COS!$B123,'Polar 0-360'!X123 )","v":6.1108066018528202},{"$f":" IF( $A123 < 'Polar 0-360'!AE$365, 'Polar 0-360'!AE$363 / COS!$B123,'Polar 0-360'!AD123 )","v":6.3891146537471908},{"$f":" IF( $A123 < 'Polar 0-360'!AK$365, 'Polar 0-360'!AK$363 / COS!$B123,'Polar 0-360'!AJ123 )","v":6.6651609681276147},{"$f":" IF( $A123 < 'Polar 0-360'!AQ$365, 'Polar 0-360'!AQ$363 / COS!$B123,'Polar 0-360'!AP123 )","v":7.0640705119201712}]
[{"$f":"'Polar 0-360'!A124","v":122},0,{"$f":" IF( $A124 < 'Polar 0-360'!G$365, 'Polar 0-360'!G$363 / COS!$B124,'Polar 0-360'!F124 )","v":4.1339644324090621},{"$f":" IF( $A124 < 'Polar 0-360'!M$365, 'Polar 0-360'!M$363 / COS!$B124,'Polar 0-360'!L124 )","v":5.0666666666666664},{"$f":" IF( $A124 < 'Polar 0-360'!S$365, 'Polar 0-360'!S$363 / COS!$B124,'Polar 0-360'!R124 )","v":5.7581712937802871},{"$f":" IF( $A124 < 'Polar 0-360'!Y$365, 'Polar 0-360'!Y$363 / COS!$B124,'Polar 0-360'!X124 )","v":6.1086099906436795},{"$f":" IF( $A124 < 'Polar 0-360'!AE$365, 'Polar 0-360'!AE$363 / COS!$B124,'Polar 0-360'!AD124 )","v":6.3869850696900725},{"$f":" IF( $A124 < 'Polar 0-360'!AK$365, 'Polar 0-360'!AK$363 / COS!$B124,'Polar 0-360'!AJ124 )","v":6.66412488672999},{"$f":" IF( $A124 < 'Polar 0-360'!AQ$365, 'Polar 0-360'!AQ$363 / COS!$B124,'Polar 0-360'!AP124 )","v":7.0692935256546603}]
[{"$f":"'Polar 0-360'!A125","v":123},0,{"$f":" IF( $A125 < 'Polar 0-360'!G$365, 'Polar 0-360'!G$363 / COS!$B125,'Polar 0-360'!F125 )","v":4.1292994572699655},{"$f":" IF( $A125 < 'Polar 0-360'!M$365, 'Polar 0-360'!M$363 / COS!$B125,'Polar 0-360'!L125 )","v":5.0615384615384613},{"$f":" IF( $A125 < 'Polar 0-360'!S$365, 'Polar 0-360'!S$363 / COS!$B125,'Polar 0-360'!R125 )","v":5.7550048941890957},{"$f":" IF( $A125 < 'Polar 0-360'!Y$365, 'Polar 0-360'!Y$363 / COS!$B125,'Polar 0-360'!X125 )","v":6.1064133794345379},{"$f":" IF( $A125 < 'Polar 0-360'!AE$365, 'Polar 0-360'!AE$363 / COS!$B125,'Polar 0-360'!AD125 )","v":6.3848554856329542},{"$f":" IF( $A125 < 'Polar 0-360'!AK$365, 'Polar 0-360'!AK$363 / COS!$B125,'Polar 0-360'!AJ125 )","v":6.6630888053323654},{"$f":" IF( $A125 < 'Polar 0-360'!AQ$365, 'Polar 0-360'!AQ$363 / COS!$B125,'Polar 0-360'!AP125 )","v":7.0745165393891494}]
[{"$f":"'Polar 0-360'!A126","v":124},0,{"$f":" IF( $A126 < 'Polar 0-360'!G$365, 'Polar 0-360'!G$363 / COS!$B126,'Polar 0-360'!F126 )","v":4.1246344821308698},{"$f":" IF( $A126 < 'Polar 0-360'!M$365, 'Polar 0-360'!M$363 / COS!$B126,'Polar 0-360'!L126 )","v":5.0564102564102562},{"$f":" IF( $A126 < 'Polar 0-360'!S$365, 'Polar 0-360'!S$363 / COS!$B126,'Polar 0-360'!R126 )","v":5.7518384945979051},{"$f":" IF( $A126 < 'Polar 0-360'!Y$365, 'Polar 0-360'!Y$363 / COS!$B126,'Polar 0-360'!X126 )","v":6.1042167682253963},{"$f":" IF( $A126 < 'Polar 0-360'!AE$365, 'Polar 0-360'!AE$363 / COS!$B126,'Polar 0-360'!AD126 )","v":6.382725901575836},{"$f":" IF( $A126 < 'Polar 0-360'!AK$365, 'Polar 0-360'!AK$363 / COS!$B126,'Polar 0-360'!AJ126 )","v":6.6620527239347416},{"$f":" IF( $A126 < 'Polar 0-360'!AQ$365, 'Polar 0-360'!AQ$363 / COS!$B126,'Polar 0-360'!AP126 )","v":7.0797395531236376}]
[{"$f":"'Polar 0-360'!A127","v":125},0,{"$f":" IF( $A127 < 'Polar 0-360'!G$365, 'Polar 0-360'!G$363 / COS!$B127,'Polar 0-360'!F127 )","v":4.1199695069917741},{"$f":" IF( $A127 < 'Polar 0-360'!M$365, 'Polar 0-360'!M$363 / COS!$B127,'Polar 0-360'!L127 )","v":5.0512820512820511},{"$f":" IF( $A127 < 'Polar 0-360'!S$365, 'Polar 0-360'!S$363 / COS!$B127,'Polar 0-360'!R127 )","v":5.7486720950067145},{"$f":" IF( $A127 < 'Polar 0-360'!Y$365, 'Polar 0-360'!Y$363 / COS!$B127,'Polar 0-360'!X127 )","v":6.1020201570162556},{"$f":" IF( $A127 < 'Polar 0-360'!AE$365, 'Polar 0-360'!AE$363 / COS!$B127,'Polar 0-360'!AD127 )","v":6.3805963175187177},{"$f":" IF( $A127 < 'Polar 0-360'!AK$365, 'Polar 0-360'!AK$363 / COS!$B127,'Polar 0-360'!AJ127 )","v":6.6610166425371169},{"$f":" IF( $A127 < 'Polar 0-360'!AQ$365, 'Polar 0-360'!AQ$363 / COS!$B127,'Polar 0-360'!AP127 )","v":7.0849625668581266}]
[{"$f":"'Polar 0-360'!A128","v":126},0,{"$f":" IF( $A128 < 'Polar 0-360'!G$365, 'Polar 0-360'!G$363 / COS!$B128,'Polar 0-360'!F128 )","v":4.1153045318526784},{"$f":" IF( $A128 < 'Polar 0-360'!M$365, 'Polar 0-360'!M$363 / COS!$B128,'Polar 0-360'!L128 )","v":5.046153846153846},{"$f":" IF( $A128 < 'Polar 0-360'!S$365, 'Polar 0-360'!S$363 / COS!$B128,'Polar 0-360'!R128 )","v":5.7455056954155239},{"$f":" IF( $A128 < 'Polar 0-360'!Y$365, 'Polar 0-360'!Y$363 / COS!$B128,'Polar 0-360'!X128 )","v":6.0998235458071139},{"$f":" IF( $A128 < 'Polar 0-360'!AE$365, 'Polar 0-360'!AE$363 / COS!$B128,'Polar 0-360'!AD128 )","v":6.3784667334615994},{"$f":" IF( $A128 < 'Polar 0-360'!AK$365, 'Polar 0-360'!AK$363 / COS!$B128,'Polar 0-360'!AJ128 )","v":6.6599805611394922},{"$f":" IF( $A128 < 'Polar 0-360'!AQ$365, 'Polar 0-360'!AQ$363 / COS!$B128,'Polar 0-360'!AP128 )","v":7.0901855805926157}]
[{"$f":"'Polar 0-360'!A129","v":127},0,{"$f":" IF( $A129 < 'Polar 0-360'!G$365, 'Polar 0-360'!G$363 / COS!$B129,'Polar 0-360'!F129 )","v":4.1106395567135818},{"$f":" IF( $A129 < 'Polar 0-360'!M$365, 'Polar 0-360'!M$363 / COS!$B129,'Polar 0-360'!L129 )","v":5.0410256410256409},{"$f":" IF( $A129 < 'Polar 0-360'!S$365, 'Polar 0-360'!S$363 / COS!$B129,'Polar 0-360'!R129 )","v":5.7423392958243333},{"$f":" IF( $A129 < 'Polar 0-360'!Y$365, 'Polar 0-360'!Y$363 / COS!$B129,'Polar 0-360'!X129 )","v":6.0976269345979732},{"$f":" IF( $A129 < 'Polar 0-360'!AE$365, 'Polar 0-360'!AE$363 / COS!$B129,'Polar 0-360'!AD129 )","v":6.3763371494044812},{"$f":" IF( $A129 < 'Polar 0-360'!AK$365, 'Polar 0-360'!AK$363 / COS!$B129,'Polar 0-360'!AJ129 )","v":6.6589444797418684},{"$f":" IF( $A129 < 'Polar 0-360'!AQ$365, 'Polar 0-360'!AQ$363 / COS!$B129,'Polar 0-360'!AP129 )","v":7.0954085943271039}]
[{"$f":"'Polar 0-360'!A130","v":128},0,{"$f":" IF( $A130 < 'Polar 0-360'!G$365, 'Polar 0-360'!G$363 / COS!$B130,'Polar 0-360'!F130 )","v":4.1059745815744861},{"$f":" IF( $A130 < 'Polar 0-360'!M$365, 'Polar 0-360'!M$363 / COS!$B130,'Polar 0-360'!L130 )","v":5.0358974358974358},{"$f":" IF( $A130 < 'Polar 0-360'!S$365, 'Polar 0-360'!S$363 / COS!$B130,'Polar 0-360'!R130 )","v":5.7391728962331419},{"$f":" IF( $A130 < 'Polar 0-360'!Y$365, 'Polar 0-360'!Y$363 / COS!$B130,'Polar 0-360'!X130 )","v":6.0954303233888316},{"$f":" IF( $A130 < 'Polar 0-360'!AE$365, 'Polar 0-360'!AE$363 / COS!$B130,'Polar 0-360'!AD130 )","v":6.3742075653473629},{"$f":" IF( $A130 < 'Polar 0-360'!AK$365, 'Polar 0-360'!AK$363 / COS!$B130,'Polar 0-360'!AJ130 )","v":6.6579083983442437},{"$f":" IF( $A130 < 'Polar 0-360'!AQ$365, 'Polar 0-360'!AQ$363 / COS!$B130,'Polar 0-360'!AP130 )","v":7.100631608061593}]
[{"$f":"'Polar 0-360'!A131","v":129},0,{"$f":" IF( $A131 < 'Polar 0-360'!G$365, 'Polar 0-360'!G$363 / COS!$B131,'Polar 0-360'!F131 )","v":4.1013096064353904},{"$f":" IF( $A131 < 'Polar 0-360'!M$365, 'Polar 0-360'!M$363 / COS!$B131,'Polar 0-360'!L131 )","v":5.0307692307692307},{"$f":" IF( $A131 < 'Polar 0-360'!S$365, 'Polar 0-360'!S$363 / COS!$B131,'Polar 0-360'!R131 )","v":5.7360064966419513},{"$f":" IF( $A131 < 'Polar 0-360'!Y$365, 'Polar 0-360'!Y$363 / COS!$B131,'Polar 0-360'!X131 )","v":6.0932337121796909},{"$f":" IF( $A131 < 'Polar 0-360'!AE$365, 'Polar 0-360'!AE$363 / COS!$B131,'Polar 0-360'!AD131 )","v":6.3720779812902446},{"$f":" IF( $A131 < 'Polar 0-360'!AK$365, 'Polar 0-360'!AK$363 / COS!$B131,'Polar 0-360'!AJ131 )","v":6.6568723169466191},{"$f":" IF( $A131 < 'Polar 0-360'!AQ$365, 'Polar 0-360'!AQ$363 / COS!$B131,'Polar 0-360'!AP131 )","v":7.1058546217960821}]
[{"$f":"'Polar 0-360'!A132","v":130},0,{"$f":" IF( $A132 < 'Polar 0-360'!G$365, 'Polar 0-360'!G$363 / COS!$B132,'Polar 0-360'!F132 )","v":4.0966446312962947},{"$f":" IF( $A132 < 'Polar 0-360'!M$365, 'Polar 0-360'!M$363 / COS!$B132,'Polar 0-360'!L132 )","v":5.0256410256410255},{"$f":" IF( $A132 < 'Polar 0-360'!S$365, 'Polar 0-360'!S$363 / COS!$B132,'Polar 0-360'!R132 )","v":5.7328400970507607},{"$f":" IF( $A132 < 'Polar 0-360'!Y$365, 'Polar 0-360'!Y$363 / COS!$B132,'Polar 0-360'!X132 )","v":6.0910371009705493},{"$f":" IF( $A132 < 'Polar 0-360'!AE$365, 'Polar 0-360'!AE$363 / COS!$B132,'Polar 0-360'!AD132 )","v":6.3699483972331272},{"$f":" IF( $A132 < 'Polar 0-360'!AK$365, 'Polar 0-360'!AK$363 / COS!$B132,'Polar 0-360'!AJ132 )","v":6.6558362355489944},{"$f":" IF( $A132 < 'Polar 0-360'!AQ$365, 'Polar 0-360'!AQ$363 / COS!$B132,'Polar 0-360'!AP132 )","v":7.1110776355305703}]
[{"$f":"'Polar 0-360'!A133","v":131},0,{"$f":" IF( $A133 < 'Polar 0-360'!G$365, 'Polar 0-360'!G$363 / COS!$B133,'Polar 0-360'!F133 )","v":4.0919796561571982},{"$f":" IF( $A133 < 'Polar 0-360'!M$365, 'Polar 0-360'!M$363 / COS!$B133,'Polar 0-360'!L133 )","v":5.0205128205128204},{"$f":" IF( $A133 < 'Polar 0-360'!S$365, 'Polar 0-360'!S$363 / COS!$B133,'Polar 0-360'!R133 )","v":5.7296736974595692},{"$f":" IF( $A133 < 'Polar 0-360'!Y$365, 'Polar 0-360'!Y$363 / COS!$B133,'Polar 0-360'!X133 )","v":6.0888404897614077},{"$f":" IF( $A133 < 'Polar 0-360'!AE$365, 'Polar 0-360'!AE$363 / COS!$B133,'Polar 0-360'!AD133 )","v":6.367818813176009},{"$f":" IF( $A133 < 'Polar 0-360'!AK$365, 'Polar 0-360'!AK$363 / COS!$B133,'Polar 0-360'!AJ133 )","v":6.6548001541513706},{"$f":" IF( $A133 < 'Polar 0-360'!AQ$365, 'Polar 0-360'!AQ$363 / COS!$B133,'Polar 0-360'!AP133 )","v":7.1163006492650593}]
[{"$f":"'Polar 0-360'!A134","v":132},0,{"$f":" IF( $A134 < 'Polar 0-360'!G$365, 'Polar 0-360'!G$363 / COS!$B134,'Polar 0-360'!F134 )","v":4.0873146810181025},{"$f":" IF( $A134 < 'Polar 0-360'!M$365, 'Polar 0-360'!M$363 / COS!$B134,'Polar 0-360'!L134 )","v":5.0153846153846153},{"$f":" IF( $A134 < 'Polar 0-360'!S$365, 'Polar 0-360'!S$363 / COS!$B134,'Polar 0-360'!R134 )","v":5.7265072978683786},{"$f":" IF( $A134 < 'Polar 0-360'!Y$365, 'Polar 0-360'!Y$363 / COS!$B134,'Polar 0-360'!X134 )","v":6.086643878552267},{"$f":" IF( $A134 < 'Polar 0-360'!AE$365, 'Polar 0-360'!AE$363 / COS!$B134,'Polar 0-360'!AD134 )","v":6.3656892291188907},{"$f":" IF( $A134 < 'Polar 0-360'!AK$365, 'Polar 0-360'!AK$363 / COS!$B134,'Polar 0-360'!AJ134 )","v":6.6537640727537459},{"$f":" IF( $A134 < 'Polar 0-360'!AQ$365, 'Polar 0-360'!AQ$363 / COS!$B134,'Polar 0-360'!AP134 )","v":7.1215236629995475}]
[{"$f":"'Polar 0-360'!A135","v":133},0,{"$f":" IF( $A135 < 'Polar 0-360'!G$365, 'Polar 0-360'!G$363 / COS!$B135,'Polar 0-360'!F135 )","v":4.0826497058790068},{"$f":" IF( $A135 < 'Polar 0-360'!M$365, 'Polar 0-360'!M$363 / COS!$B135,'Polar 0-360'!L135 )","v":5.0102564102564102},{"$f":" IF( $A135 < 'Polar 0-360'!S$365, 'Polar 0-360'!S$363 / COS!$B135,'Polar 0-360'!R135 )","v":5.7233408982771881},{"$f":" IF( $A135 < 'Polar 0-360'!Y$365, 'Polar 0-360'!Y$363 / COS!$B135,'Polar 0-360'!X135 )","v":6.0844472673431254},{"$f":" IF( $A135 < 'Polar 0-360'!AE$365, 'Polar 0-360'!AE$363 / COS!$B135,'Polar 0-360'!AD135 )","v":6.3635596450617724},{"$f":" IF( $A135 < 'Polar 0-360'!AK$365, 'Polar 0-360'!AK$363 / COS!$B135,'Polar 0-360'!AJ135 )","v":6.6527279913561213},{"$f":" IF( $A135 < 'Polar 0-360'!AQ$365, 'Polar 0-360'!AQ$363 / COS!$B135,'Polar 0-360'!AP135 )","v":7.1267466767340366}]
[{"$f":"'Polar 0-360'!A136","v":134},0,{"$f":" IF( $A136 < 'Polar 0-360'!G$365, 'Polar 0-360'!G$363 / COS!$B136,'Polar 0-360'!F136 )","v":4.0779847307399111},{"$f":" IF( $A136 < 'Polar 0-360'!M$365, 'Polar 0-360'!M$363 / COS!$B136,'Polar 0-360'!L136 )","v":5.0051282051282051},{"$f":" IF( $A136 < 'Polar 0-360'!S$365, 'Polar 0-360'!S$363 / COS!$B136,'Polar 0-360'!R136 )","v":5.7201744986859975},{"$f":" IF( $A136 < 'Polar 0-360'!Y$365, 'Polar 0-360'!Y$363 / COS!$B136,'Polar 0-360'!X136 )","v":6.0822506561339846},{"$f":" IF( $A136 < 'Polar 0-360'!AE$365, 'Polar 0-360'!AE$363 / COS!$B136,'Polar 0-360'!AD136 )","v":6.3614300610046541},{"$f":" IF( $A136 < 'Polar 0-360'!AK$365, 'Polar 0-360'!AK$363 / COS!$B136,'Polar 0-360'!AJ136 )","v":6.6516919099584975},{"$f":" IF( $A136 < 'Polar 0-360'!AQ$365, 'Polar 0-360'!AQ$363 / COS!$B136,'Polar 0-360'!AP136 )","v":7.1319696904685257}]
[{"$f":"'Polar 0-360'!A137","v":135},0,{"$f":" IF( $A137 < 'Polar 0-360'!G$365, 'Polar 0-360'!G$363 / COS!$B137,'Polar 0-360'!F137 )","v":4.0733197556008136},{"$f":" IF( $A137 < 'Polar 0-360'!M$365, 'Polar 0-360'!M$363 / COS!$B137,'Polar 0-360'!L137 )","v":5},{"$f":" IF( $A137 < 'Polar 0-360'!S$365, 'Polar 0-360'!S$363 / COS!$B137,'Polar 0-360'!R137 )","v":5.717008099094806},{"$f":" IF( $A137 < 'Polar 0-360'!Y$365, 'Polar 0-360'!Y$363 / COS!$B137,'Polar 0-360'!X137 )","v":6.0800540449248439},{"$f":" IF( $A137 < 'Polar 0-360'!AE$365, 'Polar 0-360'!AE$363 / COS!$B137,'Polar 0-360'!AD137 )","v":6.3593004769475359},{"$f":" IF( $A137 < 'Polar 0-360'!AK$365, 'Polar 0-360'!AK$363 / COS!$B137,'Polar 0-360'!AJ137 )","v":6.6506558285608719},{"$f":" IF( $A137 < 'Polar 0-360'!AQ$365, 'Polar 0-360'!AQ$363 / COS!$B137,'Polar 0-360'!AP137 )","v":7.137192704203013}]
[{"$f":"'Polar 0-360'!A138","v":136},0,{"$f":" IF( $A138 < 'Polar 0-360'!G$365, 'Polar 0-360'!G$363 / COS!$B138,'Polar 0-360'!F138 )","v":4.0486532854557984},{"$f":" IF( $A138 < 'Polar 0-360'!M$365, 'Polar 0-360'!M$363 / COS!$B138,'Polar 0-360'!L138 )","v":4.9732583886901711},{"$f":" IF( $A138 < 'Polar 0-360'!S$365, 'Polar 0-360'!S$363 / COS!$B138,'Polar 0-360'!R138 )","v":5.6959642483274449},{"$f":" IF( $A138 < 'Polar 0-360'!Y$365, 'Polar 0-360'!Y$363 / COS!$B138,'Polar 0-360'!X138 )","v":6.0673230304025081},{"$f":" IF( $A138 < 'Polar 0-360'!AE$365, 'Polar 0-360'!AE$363 / COS!$B138,'Polar 0-360'!AD138 )","v":6.3475057929099208},{"$f":" IF( $A138 < 'Polar 0-360'!AK$365, 'Polar 0-360'!AK$363 / COS!$B138,'Polar 0-360'!AJ138 )","v":6.6376948421900517},{"$f":" IF( $A138 < 'Polar 0-360'!AQ$365, 'Polar 0-360'!AQ$363 / COS!$B138,'Polar 0-360'!AP138 )","v":7.1281243146657136}]
[{"$f":"'Polar 0-360'!A139","v":137},0,{"$f":" IF( $A139 < 'Polar 0-360'!G$365, 'Polar 0-360'!G$363 / COS!$B139,'Polar 0-360'!F139 )","v":4.0239868153107823},{"$f":" IF( $A139 < 'Polar 0-360'!M$365, 'Polar 0-360'!M$363 / COS!$B139,'Polar 0-360'!L139 )","v":4.946516777380344},{"$f":" IF( $A139 < 'Polar 0-360'!S$365, 'Polar 0-360'!S$363 / COS!$B139,'Polar 0-360'!R139 )","v":5.6749203975600846},{"$f":" IF( $A139 < 'Polar 0-360'!Y$365, 'Polar 0-360'!Y$363 / COS!$B139,'Polar 0-360'!X139 )","v":6.0545920158801723},{"$f":" IF( $A139 < 'Polar 0-360'!AE$365, 'Polar 0-360'!AE$363 / COS!$B139,'Polar 0-360'!AD139 )","v":6.3357111088723057},{"$f":" IF( $A139 < 'Polar 0-360'!AK$365, 'Polar 0-360'!AK$363 / COS!$B139,'Polar 0-360'!AJ139 )","v":6.6247338558192315},{"$f":" IF( $A139 < 'Polar 0-360'!AQ$365, 'Polar 0-360'!AQ$363 / COS!$B139,'Polar 0-360'!AP139 )","v":7.1190559251284142}]
[{"$f":"'Polar 0-360'!A140","v":138},0,{"$f":" IF( $A140 < 'Polar 0-360'!G$365, 'Polar 0-360'!G$363 / COS!$B140,'Polar 0-360'!F140 )","v":3.9993203451657662},{"$f":" IF( $A140 < 'Polar 0-360'!M$365, 'Polar 0-360'!M$363 / COS!$B140,'Polar 0-360'!L140 )","v":4.919775166070516},{"$f":" IF( $A140 < 'Polar 0-360'!S$365, 'Polar 0-360'!S$363 / COS!$B140,'Polar 0-360'!R140 )","v":5.6538765467927234},{"$f":" IF( $A140 < 'Polar 0-360'!Y$365, 'Polar 0-360'!Y$363 / COS!$B140,'Polar 0-360'!X140 )","v":6.0418610013578373},{"$f":" IF( $A140 < 'Polar 0-360'!AE$365, 'Polar 0-360'!AE$363 / COS!$B140,'Polar 0-360'!AD140 )","v":6.3239164248346906},{"$f":" IF( $A140 < 'Polar 0-360'!AK$365, 'Polar 0-360'!AK$363 / COS!$B140,'Polar 0-360'!AJ140 )","v":6.6117728694484104},{"$f":" IF( $A140 < 'Polar 0-360'!AQ$365, 'Polar 0-360'!AQ$363 / COS!$B140,'Polar 0-360'!AP140 )","v":7.1099875355911148}]
[{"$f":"'Polar 0-360'!A141","v":139},0,{"$f":" IF( $A141 < 'Polar 0-360'!G$365, 'Polar 0-360'!G$363 / COS!$B141,'Polar 0-360'!F141 )","v":3.9746538750207501},{"$f":" IF( $A141 < 'Polar 0-360'!M$365, 'Polar 0-360'!M$363 / COS!$B141,'Polar 0-360'!L141 )","v":4.893033554760688},{"$f":" IF( $A141 < 'Polar 0-360'!S$365, 'Polar 0-360'!S$363 / COS!$B141,'Polar 0-360'!R141 )","v":5.6328326960253623},{"$f":" IF( $A141 < 'Polar 0-360'!Y$365, 'Polar 0-360'!Y$363 / COS!$B141,'Polar 0-360'!X141 )","v":6.0291299868355015},{"$f":" IF( $A141 < 'Polar 0-360'!AE$365, 'Polar 0-360'!AE$363 / COS!$B141,'Polar 0-360'!AD141 )","v":6.3121217407970747},{"$f":" IF( $A141 < 'Polar 0-360'!AK$365, 'Polar 0-360'!AK$363 / COS!$B141,'Polar 0-360'!AJ141 )","v":6.5988118830775901},{"$f":" IF( $A141 < 'Polar 0-360'!AQ$365, 'Polar 0-360'!AQ$363 / COS!$B141,'Polar 0-360'!AP141 )","v":7.1009191460538155}]
[{"$f":"'Polar 0-360'!A142","v":140},0,{"$f":" IF( $A142 < 'Polar 0-360'!G$365, 'Polar 0-360'!G$363 / COS!$B142,'Polar 0-360'!F142 )","v":3.949987404875734},{"$f":" IF( $A142 < 'Polar 0-360'!M$365, 'Polar 0-360'!M$363 / COS!$B142,'Polar 0-360'!L142 )","v":4.86629194345086},{"$f":" IF( $A142 < 'Polar 0-360'!S$365, 'Polar 0-360'!S$363 / COS!$B142,'Polar 0-360'!R142 )","v":5.611788845258002},{"$f":" IF( $A142 < 'Polar 0-360'!Y$365, 'Polar 0-360'!Y$363 / COS!$B142,'Polar 0-360'!X142 )","v":6.0163989723131657},{"$f":" IF( $A142 < 'Polar 0-360'!AE$365, 'Polar 0-360'!AE$363 / COS!$B142,'Polar 0-360'!AD142 )","v":6.3003270567594605},{"$f":" IF( $A142 < 'Polar 0-360'!AK$365, 'Polar 0-360'!AK$363 / COS!$B142,'Polar 0-360'!AJ142 )","v":6.5858508967067699},{"$f":" IF( $A142 < 'Polar 0-360'!AQ$365, 'Polar 0-360'!AQ$363 / COS!$B142,'Polar 0-360'!AP142 )","v":7.0918507565165161}]
[{"$f":"'Polar 0-360'!A143","v":141},0,{"$f":" IF( $A143 < 'Polar 0-360'!G$365, 'Polar 0-360'!G$363 / COS!$B143,'Polar 0-360'!F143 )","v":3.9253209347307179},{"$f":" IF( $A143 < 'Polar 0-360'!M$365, 'Polar 0-360'!M$363 / COS!$B143,'Polar 0-360'!L143 )","v":4.839550332141032},{"$f":" IF( $A143 < 'Polar 0-360'!S$365, 'Polar 0-360'!S$363 / COS!$B143,'Polar 0-360'!R143 )","v":5.5907449944906418},{"$f":" IF( $A143 < 'Polar 0-360'!Y$365, 'Polar 0-360'!Y$363 / COS!$B143,'Polar 0-360'!X143 )","v":6.0036679577908298},{"$f":" IF( $A143 < 'Polar 0-360'!AE$365, 'Polar 0-360'!AE$363 / COS!$B143,'Polar 0-360'!AD143 )","v":6.2885323727218445},{"$f":" IF( $A143 < 'Polar 0-360'!AK$365, 'Polar 0-360'!AK$363 / COS!$B143,'Polar 0-360'!AJ143 )","v":6.5728899103359488},{"$f":" IF( $A143 < 'Polar 0-360'!AQ$365, 'Polar 0-360'!AQ$363 / COS!$B143,'Polar 0-360'!AP143 )","v":7.0827823669792167}]
[{"$f":"'Polar 0-360'!A144","v":142},0,{"$f":" IF( $A144 < 'Polar 0-360'!G$365, 'Polar 0-360'!G$363 / COS!$B144,'Polar 0-360'!F144 )","v":3.9006544645857018},{"$f":" IF( $A144 < 'Polar 0-360'!M$365, 'Polar 0-360'!M$363 / COS!$B144,'Polar 0-360'!L144 )","v":4.812808720831204},{"$f":" IF( $A144 < 'Polar 0-360'!S$365, 'Polar 0-360'!S$363 / COS!$B144,'Polar 0-360'!R144 )","v":5.5697011437232806},{"$f":" IF( $A144 < 'Polar 0-360'!Y$365, 'Polar 0-360'!Y$363 / COS!$B144,'Polar 0-360'!X144 )","v":5.990936943268494},{"$f":" IF( $A144 < 'Polar 0-360'!AE$365, 'Polar 0-360'!AE$363 / COS!$B144,'Polar 0-360'!AD144 )","v":6.2767376886842294},{"$f":" IF( $A144 < 'Polar 0-360'!AK$365, 'Polar 0-360'!AK$363 / COS!$B144,'Polar 0-360'!AJ144 )","v":6.5599289239651286},{"$f":" IF( $A144 < 'Polar 0-360'!AQ$365, 'Polar 0-360'!AQ$363 / COS!$B144,'Polar 0-360'!AP144 )","v":7.0737139774419173}]
[{"$f":"'Polar 0-360'!A145","v":143},0,{"$f":" IF( $A145 < 'Polar 0-360'!G$365, 'Polar 0-360'!G$363 / COS!$B145,'Polar 0-360'!F145 )","v":3.8759879944406856},{"$f":" IF( $A145 < 'Polar 0-360'!M$365, 'Polar 0-360'!M$363 / COS!$B145,'Polar 0-360'!L145 )","v":4.786067109521376},{"$f":" IF( $A145 < 'Polar 0-360'!S$365, 'Polar 0-360'!S$363 / COS!$B145,'Polar 0-360'!R145 )","v":5.5486572929559195},{"$f":" IF( $A145 < 'Polar 0-360'!Y$365, 'Polar 0-360'!Y$363 / COS!$B145,'Polar 0-360'!X145 )","v":5.9782059287461582},{"$f":" IF( $A145 < 'Polar 0-360'!AE$365, 'Polar 0-360'!AE$363 / COS!$B145,'Polar 0-360'!AD145 )","v":6.2649430046466144},{"$f":" IF( $A145 < 'Polar 0-360'!AK$365, 'Polar 0-360'!AK$363 / COS!$B145,'Polar 0-360'!AJ145 )","v":6.5469679375943084},{"$f":" IF( $A145 < 'Polar 0-360'!AQ$365, 'Polar 0-360'!AQ$363 / COS!$B145,'Polar 0-360'!AP145 )","v":7.0646455879046179}]
[{"$f":"'Polar 0-360'!A146","v":144},0,{"$f":" IF( $A146 < 'Polar 0-360'!G$365, 'Polar 0-360'!G$363 / COS!$B146,'Polar 0-360'!F146 )","v":3.8513215242956695},{"$f":" IF( $A146 < 'Polar 0-360'!M$365, 'Polar 0-360'!M$363 / COS!$B146,'Polar 0-360'!L146 )","v":4.759325498211548},{"$f":" IF( $A146 < 'Polar 0-360'!S$365, 'Polar 0-360'!S$363 / COS!$B146,'Polar 0-360'!R146 )","v":5.5276134421885592},{"$f":" IF( $A146 < 'Polar 0-360'!Y$365, 'Polar 0-360'!Y$363 / COS!$B146,'Polar 0-360'!X146 )","v":5.9654749142238233},{"$f":" IF( $A146 < 'Polar 0-360'!AE$365, 'Polar 0-360'!AE$363 / COS!$B146,'Polar 0-360'!AD146 )","v":6.2531483206089993},{"$f":" IF( $A146 < 'Polar 0-360'!AK$365, 'Polar 0-360'!AK$363 / COS!$B146,'Polar 0-360'!AJ146 )","v":6.5340069512234873},{"$f":" IF( $A146 < 'Polar 0-360'!AQ$365, 'Polar 0-360'!AQ$363 / COS!$B146,'Polar 0-360'!AP146 )","v":7.0555771983673186}]
[{"$f":"'Polar 0-360'!A147","v":145},0,{"$f":" IF( $A147 < 'Polar 0-360'!G$365, 'Polar 0-360'!G$363 / COS!$B147,'Polar 0-360'!F147 )","v":3.8266550541506534},{"$f":" IF( $A147 < 'Polar 0-360'!M$365, 'Polar 0-360'!M$363 / COS!$B147,'Polar 0-360'!L147 )","v":4.73258388690172},{"$f":" IF( $A147 < 'Polar 0-360'!S$365, 'Polar 0-360'!S$363 / COS!$B147,'Polar 0-360'!R147 )","v":5.506569591421199},{"$f":" IF( $A147 < 'Polar 0-360'!Y$365, 'Polar 0-360'!Y$363 / COS!$B147,'Polar 0-360'!X147 )","v":5.9527438997014874},{"$f":" IF( $A147 < 'Polar 0-360'!AE$365, 'Polar 0-360'!AE$363 / COS!$B147,'Polar 0-360'!AD147 )","v":6.2413536365713842},{"$f":" IF( $A147 < 'Polar 0-360'!AK$365, 'Polar 0-360'!AK$363 / COS!$B147,'Polar 0-360'!AJ147 )","v":6.5210459648526671},{"$f":" IF( $A147 < 'Polar 0-360'!AQ$365, 'Polar 0-360'!AQ$363 / COS!$B147,'Polar 0-360'!AP147 )","v":7.0465088088300192}]
[{"$f":"'Polar 0-360'!A148","v":146},0,{"$f":" IF( $A148 < 'Polar 0-360'!G$365, 'Polar 0-360'!G$363 / COS!$B148,'Polar 0-360'!F148 )","v":3.8019885840056373},{"$f":" IF( $A148 < 'Polar 0-360'!M$365, 'Polar 0-360'!M$363 / COS!$B148,'Polar 0-360'!L148 )","v":4.7058422755918929},{"$f":" IF( $A148 < 'Polar 0-360'!S$365, 'Polar 0-360'!S$363 / COS!$B148,'Polar 0-360'!R148 )","v":5.4855257406538378},{"$f":" IF( $A148 < 'Polar 0-360'!Y$365, 'Polar 0-360'!Y$363 / COS!$B148,'Polar 0-360'!X148 )","v":5.9400128851791516},{"$f":" IF( $A148 < 'Polar 0-360'!AE$365, 'Polar 0-360'!AE$363 / COS!$B148,'Polar 0-360'!AD148 )","v":6.2295589525337682},{"$f":" IF( $A148 < 'Polar 0-360'!AK$365, 'Polar 0-360'!AK$363 / COS!$B148,'Polar 0-360'!AJ148 )","v":6.5080849784818469},{"$f":" IF( $A148 < 'Polar 0-360'!AQ$365, 'Polar 0-360'!AQ$363 / COS!$B148,'Polar 0-360'!AP148 )","v":7.0374404192927198}]
[{"$f":"'Polar 0-360'!A149","v":147},0,{"$f":" IF( $A149 < 'Polar 0-360'!G$365, 'Polar 0-360'!G$363 / COS!$B149,'Polar 0-360'!F149 )","v":3.7773221138606212},{"$f":" IF( $A149 < 'Polar 0-360'!M$365, 'Polar 0-360'!M$363 / COS!$B149,'Polar 0-360'!L149 )","v":4.6791006642820641},{"$f":" IF( $A149 < 'Polar 0-360'!S$365, 'Polar 0-360'!S$363 / COS!$B149,'Polar 0-360'!R149 )","v":5.4644818898864767},{"$f":" IF( $A149 < 'Polar 0-360'!Y$365, 'Polar 0-360'!Y$363 / COS!$B149,'Polar 0-360'!X149 )","v":5.9272818706568158},{"$f":" IF( $A149 < 'Polar 0-360'!AE$365, 'Polar 0-360'!AE$363 / COS!$B149,'Polar 0-360'!AD149 )","v":6.217764268496154},{"$f":" IF( $A149 < 'Polar 0-360'!AK$365, 'Polar 0-360'!AK$363 / COS!$B149,'Polar 0-360'!AJ149 )","v":6.4951239921110258},{"$f":" IF( $A149 < 'Polar 0-360'!AQ$365, 'Polar 0-360'!AQ$363 / COS!$B149,'Polar 0-360'!AP149 )","v":7.0283720297554204}]
[{"$f":"'Polar 0-360'!A150","v":148},0,{"$f":" IF( $A150 < 'Polar 0-360'!G$365, 'Polar 0-360'!G$363 / COS!$B150,'Polar 0-360'!F150 )","v":3.7526556437156051},{"$f":" IF( $A150 < 'Polar 0-360'!M$365, 'Polar 0-360'!M$363 / COS!$B150,'Polar 0-360'!L150 )","v":4.652359052972237},{"$f":" IF( $A150 < 'Polar 0-360'!S$365, 'Polar 0-360'!S$363 / COS!$B150,'Polar 0-360'!R150 )","v":5.4434380391191164},{"$f":" IF( $A150 < 'Polar 0-360'!Y$365, 'Polar 0-360'!Y$363 / COS!$B150,'Polar 0-360'!X150 )","v":5.9145508561344808},{"$f":" IF( $A150 < 'Polar 0-360'!AE$365, 'Polar 0-360'!AE$363 / COS!$B150,'Polar 0-360'!AD150 )","v":6.2059695844585381},{"$f":" IF( $A150 < 'Polar 0-360'!AK$365, 'Polar 0-360'!AK$363 / COS!$B150,'Polar 0-360'!AJ150 )","v":6.4821630057402055},{"$f":" IF( $A150 < 'Polar 0-360'!AQ$365, 'Polar 0-360'!AQ$363 / COS!$B150,'Polar 0-360'!AP150 )","v":7.019303640218121}]
[{"$f":"'Polar 0-360'!A151","v":149},0,{"$f":" IF( $A151 < 'Polar 0-360'!G$365, 'Polar 0-360'!G$363 / COS!$B151,'Polar 0-360'!F151 )","v":3.727989173570589},{"$f":" IF( $A151 < 'Polar 0-360'!M$365, 'Polar 0-360'!M$363 / COS!$B151,'Polar 0-360'!L151 )","v":4.6256174416624081},{"$f":" IF( $A151 < 'Polar 0-360'!S$365, 'Polar 0-360'!S$363 / COS!$B151,'Polar 0-360'!R151 )","v":5.4223941883517561},{"$f":" IF( $A151 < 'Polar 0-360'!Y$365, 'Polar 0-360'!Y$363 / COS!$B151,'Polar 0-360'!X151 )","v":5.901819841612145},{"$f":" IF( $A151 < 'Polar 0-360'!AE$365, 'Polar 0-360'!AE$363 / COS!$B151,'Polar 0-360'!AD151 )","v":6.194174900420923},{"$f":" IF( $A151 < 'Polar 0-360'!AK$365, 'Polar 0-360'!AK$363 / COS!$B151,'Polar 0-360'!AJ151 )","v":6.4692020193693853},{"$f":" IF( $A151 < 'Polar 0-360'!AQ$365, 'Polar 0-360'!AQ$363 / COS!$B151,'Polar 0-360'!AP151 )","v":7.0102352506808217}]
[{"$f":"'Polar 0-360'!A152","v":150},0,{"$f":" IF( $A152 < 'Polar 0-360'!G$365, 'Polar 0-360'!G$363 / COS!$B152,'Polar 0-360'!F152 )","v":3.7033227034255725},{"$f":" IF( $A152 < 'Polar 0-360'!M$365, 'Polar 0-360'!M$363 / COS!$B152,'Polar 0-360'!L152 )","v":4.598875830352581},{"$f":" IF( $A152 < 'Polar 0-360'!S$365, 'Polar 0-360'!S$363 / COS!$B152,'Polar 0-360'!R152 )","v":5.4013503375843968},{"$f":" IF( $A152 < 'Polar 0-360'!Y$365, 'Polar 0-360'!Y$363 / COS!$B152,'Polar 0-360'!X152 )","v":5.8890888270898092},{"$f":" IF( $A152 < 'Polar 0-360'!AE$365, 'Polar 0-360'!AE$363 / COS!$B152,'Polar 0-360'!AD152 )","v":6.182380216383307},{"$f":" IF( $A152 < 'Polar 0-360'!AK$365, 'Polar 0-360'!AK$363 / COS!$B152,'Polar 0-360'!AJ152 )","v":6.456241032998566},{"$f":" IF( $A152 < 'Polar 0-360'!AQ$365, 'Polar 0-360'!AQ$363 / COS!$B152,'Polar 0-360'!AP152 )","v":7.0011668611435223}]
[{"$f":"'Polar 0-360'!A153","v":151},0,{"$f":" IF( $A153 < 'Polar 0-360'!G$365, 'Polar 0-360'!G$363 / COS!$B153,'Polar 0-360'!F153 )","v":3.6869736601654699},{"$f":" IF( $A153 < 'Polar 0-360'!M$365, 'Polar 0-360'!M$363 / COS!$B153,'Polar 0-360'!L153 )","v":4.5817579085146818},{"$f":" IF( $A153 < 'Polar 0-360'!S$365, 'Polar 0-360'!S$363 / COS!$B153,'Polar 0-360'!R153 )","v":5.3827475434713659},{"$f":" IF( $A153 < 'Polar 0-360'!Y$365, 'Polar 0-360'!Y$363 / COS!$B153,'Polar 0-360'!X153 )","v":5.8764687071480886},{"$f":" IF( $A153 < 'Polar 0-360'!AE$365, 'Polar 0-360'!AE$363 / COS!$B153,'Polar 0-360'!AD153 )","v":6.1735071207016174},{"$f":" IF( $A153 < 'Polar 0-360'!AK$365, 'Polar 0-360'!AK$363 / COS!$B153,'Polar 0-360'!AJ153 )","v":6.4471123391113903},{"$f":" IF( $A153 < 'Polar 0-360'!AQ$365, 'Polar 0-360'!AQ$363 / COS!$B153,'Polar 0-360'!AP153 )","v":6.9910504463922267}]
[{"$f":"'Polar 0-360'!A154","v":152},0,{"$f":" IF( $A154 < 'Polar 0-360'!G$365, 'Polar 0-360'!G$363 / COS!$B154,'Polar 0-360'!F154 )","v":3.6706246169053669},{"$f":" IF( $A154 < 'Polar 0-360'!M$365, 'Polar 0-360'!M$363 / COS!$B154,'Polar 0-360'!L154 )","v":4.5646399866767826},{"$f":" IF( $A154 < 'Polar 0-360'!S$365, 'Polar 0-360'!S$363 / COS!$B154,'Polar 0-360'!R154 )","v":5.364144749358335},{"$f":" IF( $A154 < 'Polar 0-360'!Y$365, 'Polar 0-360'!Y$363 / COS!$B154,'Polar 0-360'!X154 )","v":5.8638485872063688},{"$f":" IF( $A154 < 'Polar 0-360'!AE$365, 'Polar 0-360'!AE$363 / COS!$B154,'Polar 0-360'!AD154 )","v":6.1646340250199279},{"$f":" IF( $A154 < 'Polar 0-360'!AK$365, 'Polar 0-360'!AK$363 / COS!$B154,'Polar 0-360'!AJ154 )","v":6.4379836452242154},{"$f":" IF( $A154 < 'Polar 0-360'!AQ$365, 'Polar 0-360'!AQ$363 / COS!$B154,'Polar 0-360'!AP154 )","v":6.9809340316409312}]
[{"$f":"'Polar 0-360'!A155","v":153},0,{"$f":" IF( $A155 < 'Polar 0-360'!G$365, 'Polar 0-360'!G$363 / COS!$B155,'Polar 0-360'!F155 )","v":3.6542755736452643},{"$f":" IF( $A155 < 'Polar 0-360'!M$365, 'Polar 0-360'!M$363 / COS!$B155,'Polar 0-360'!L155 )","v":4.5475220648388843},{"$f":" IF( $A155 < 'Polar 0-360'!S$365, 'Polar 0-360'!S$363 / COS!$B155,'Polar 0-360'!R155 )","v":5.3455419552453041},{"$f":" IF( $A155 < 'Polar 0-360'!Y$365, 'Polar 0-360'!Y$363 / COS!$B155,'Polar 0-360'!X155 )","v":5.8512284672646491},{"$f":" IF( $A155 < 'Polar 0-360'!AE$365, 'Polar 0-360'!AE$363 / COS!$B155,'Polar 0-360'!AD155 )","v":6.1557609293382383},{"$f":" IF( $A155 < 'Polar 0-360'!AK$365, 'Polar 0-360'!AK$363 / COS!$B155,'Polar 0-360'!AJ155 )","v":6.4288549513370397},{"$f":" IF( $A155 < 'Polar 0-360'!AQ$365, 'Polar 0-360'!AQ$363 / COS!$B155,'Polar 0-360'!AP155 )","v":6.9708176168896347}]
[{"$f":"'Polar 0-360'!A156","v":154},0,{"$f":" IF( $A156 < 'Polar 0-360'!G$365, 'Polar 0-360'!G$363 / COS!$B156,'Polar 0-360'!F156 )","v":3.6379265303851613},{"$f":" IF( $A156 < 'Polar 0-360'!M$365, 'Polar 0-360'!M$363 / COS!$B156,'Polar 0-360'!L156 )","v":4.530404143000986},{"$f":" IF( $A156 < 'Polar 0-360'!S$365, 'Polar 0-360'!S$363 / COS!$B156,'Polar 0-360'!R156 )","v":5.3269391611322723},{"$f":" IF( $A156 < 'Polar 0-360'!Y$365, 'Polar 0-360'!Y$363 / COS!$B156,'Polar 0-360'!X156 )","v":5.8386083473229284},{"$f":" IF( $A156 < 'Polar 0-360'!AE$365, 'Polar 0-360'!AE$363 / COS!$B156,'Polar 0-360'!AD156 )","v":6.1468878336565487},{"$f":" IF( $A156 < 'Polar 0-360'!AK$365, 'Polar 0-360'!AK$363 / COS!$B156,'Polar 0-360'!AJ156 )","v":6.4197262574498648},{"$f":" IF( $A156 < 'Polar 0-360'!AQ$365, 'Polar 0-360'!AQ$363 / COS!$B156,'Polar 0-360'!AP156 )","v":6.9607012021383392}]
[{"$f":"'Polar 0-360'!A157","v":155},0,{"$f":" IF( $A157 < 'Polar 0-360'!G$365, 'Polar 0-360'!G$363 / COS!$B157,'Polar 0-360'!F157 )","v":3.6215774871250588},{"$f":" IF( $A157 < 'Polar 0-360'!M$365, 'Polar 0-360'!M$363 / COS!$B157,'Polar 0-360'!L157 )","v":4.5132862211630869},{"$f":" IF( $A157 < 'Polar 0-360'!S$365, 'Polar 0-360'!S$363 / COS!$B157,'Polar 0-360'!R157 )","v":5.3083363670192414},{"$f":" IF( $A157 < 'Polar 0-360'!Y$365, 'Polar 0-360'!Y$363 / COS!$B157,'Polar 0-360'!X157 )","v":5.8259882273812087},{"$f":" IF( $A157 < 'Polar 0-360'!AE$365, 'Polar 0-360'!AE$363 / COS!$B157,'Polar 0-360'!AD157 )","v":6.1380147379748591},{"$f":" IF( $A157 < 'Polar 0-360'!AK$365, 'Polar 0-360'!AK$363 / COS!$B157,'Polar 0-360'!AJ157 )","v":6.4105975635626891},{"$f":" IF( $A157 < 'Polar 0-360'!AQ$365, 'Polar 0-360'!AQ$363 / COS!$B157,'Polar 0-360'!AP157 )","v":6.9505847873870437}]
[{"$f":"'Polar 0-360'!A158","v":156},0,{"$f":" IF( $A158 < 'Polar 0-360'!G$365, 'Polar 0-360'!G$363 / COS!$B158,'Polar 0-360'!F158 )","v":3.6052284438649558},{"$f":" IF( $A158 < 'Polar 0-360'!M$365, 'Polar 0-360'!M$363 / COS!$B158,'Polar 0-360'!L158 )","v":4.4961682993251877},{"$f":" IF( $A158 < 'Polar 0-360'!S$365, 'Polar 0-360'!S$363 / COS!$B158,'Polar 0-360'!R158 )","v":5.2897335729062096},{"$f":" IF( $A158 < 'Polar 0-360'!Y$365, 'Polar 0-360'!Y$363 / COS!$B158,'Polar 0-360'!X158 )","v":5.813368107439489},{"$f":" IF( $A158 < 'Polar 0-360'!AE$365, 'Polar 0-360'!AE$363 / COS!$B158,'Polar 0-360'!AD158 )","v":6.1291416422931695},{"$f":" IF( $A158 < 'Polar 0-360'!AK$365, 'Polar 0-360'!AK$363 / COS!$B158,'Polar 0-360'!AJ158 )","v":6.4014688696755142},{"$f":" IF( $A158 < 'Polar 0-360'!AQ$365, 'Polar 0-360'!AQ$363 / COS!$B158,'Polar 0-360'!AP158 )","v":6.9404683726357481}]
[{"$f":"'Polar 0-360'!A159","v":157},0,{"$f":" IF( $A159 < 'Polar 0-360'!G$365, 'Polar 0-360'!G$363 / COS!$B159,'Polar 0-360'!F159 )","v":3.5888794006048532},{"$f":" IF( $A159 < 'Polar 0-360'!M$365, 'Polar 0-360'!M$363 / COS!$B159,'Polar 0-360'!L159 )","v":4.4790503774872885},{"$f":" IF( $A159 < 'Polar 0-360'!S$365, 'Polar 0-360'!S$363 / COS!$B159,'Polar 0-360'!R159 )","v":5.2711307787931787},{"$f":" IF( $A159 < 'Polar 0-360'!Y$365, 'Polar 0-360'!Y$363 / COS!$B159,'Polar 0-360'!X159 )","v":5.8007479874977683},{"$f":" IF( $A159 < 'Polar 0-360'!AE$365, 'Polar 0-360'!AE$363 / COS!$B159,'Polar 0-360'!AD159 )","v":6.1202685466114799},{"$f":" IF( $A159 < 'Polar 0-360'!AK$365, 'Polar 0-360'!AK$363 / COS!$B159,'Polar 0-360'!AJ159 )","v":6.3923401757883394},{"$f":" IF( $A159 < 'Polar 0-360'!AQ$365, 'Polar 0-360'!AQ$363 / COS!$B159,'Polar 0-360'!AP159 )","v":6.9303519578844526}]
[{"$f":"'Polar 0-360'!A160","v":158},0,{"$f":" IF( $A160 < 'Polar 0-360'!G$365, 'Polar 0-360'!G$363 / COS!$B160,'Polar 0-360'!F160 )","v":3.5725303573447502},{"$f":" IF( $A160 < 'Polar 0-360'!M$365, 'Polar 0-360'!M$363 / COS!$B160,'Polar 0-360'!L160 )","v":4.4619324556493893},{"$f":" IF( $A160 < 'Polar 0-360'!S$365, 'Polar 0-360'!S$363 / COS!$B160,'Polar 0-360'!R160 )","v":5.2525279846801478},{"$f":" IF( $A160 < 'Polar 0-360'!Y$365, 'Polar 0-360'!Y$363 / COS!$B160,'Polar 0-360'!X160 )","v":5.7881278675560486},{"$f":" IF( $A160 < 'Polar 0-360'!AE$365, 'Polar 0-360'!AE$363 / COS!$B160,'Polar 0-360'!AD160 )","v":6.1113954509297903},{"$f":" IF( $A160 < 'Polar 0-360'!AK$365, 'Polar 0-360'!AK$363 / COS!$B160,'Polar 0-360'!AJ160 )","v":6.3832114819011636},{"$f":" IF( $A160 < 'Polar 0-360'!AQ$365, 'Polar 0-360'!AQ$363 / COS!$B160,'Polar 0-360'!AP160 )","v":6.9202355431331561}]
[{"$f":"'Polar 0-360'!A161","v":159},0,{"$f":" IF( $A161 < 'Polar 0-360'!G$365, 'Polar 0-360'!G$363 / COS!$B161,'Polar 0-360'!F161 )","v":3.5561813140846477},{"$f":" IF( $A161 < 'Polar 0-360'!M$365, 'Polar 0-360'!M$363 / COS!$B161,'Polar 0-360'!L161 )","v":4.4448145338114911},{"$f":" IF( $A161 < 'Polar 0-360'!S$365, 'Polar 0-360'!S$363 / COS!$B161,'Polar 0-360'!R161 )","v":5.2339251905671169},{"$f":" IF( $A161 < 'Polar 0-360'!Y$365, 'Polar 0-360'!Y$363 / COS!$B161,'Polar 0-360'!X161 )","v":5.7755077476143288},{"$f":" IF( $A161 < 'Polar 0-360'!AE$365, 'Polar 0-360'!AE$363 / COS!$B161,'Polar 0-360'!AD161 )","v":6.1025223552481007},{"$f":" IF( $A161 < 'Polar 0-360'!AK$365, 'Polar 0-360'!AK$363 / COS!$B161,'Polar 0-360'!AJ161 )","v":6.3740827880139888},{"$f":" IF( $A161 < 'Polar 0-360'!AQ$365, 'Polar 0-360'!AQ$363 / COS!$B161,'Polar 0-360'!AP161 )","v":6.9101191283818606}]
[{"$f":"'Polar 0-360'!A162","v":160},0,{"$f":" IF( $A162 < 'Polar 0-360'!G$365, 'Polar 0-360'!G$363 / COS!$B162,'Polar 0-360'!F162 )","v":3.5398322708245447},{"$f":" IF( $A162 < 'Polar 0-360'!M$365, 'Polar 0-360'!M$363 / COS!$B162,'Polar 0-360'!L162 )","v":4.4276966119735928},{"$f":" IF( $A162 < 'Polar 0-360'!S$365, 'Polar 0-360'!S$363 / COS!$B162,'Polar 0-360'!R162 )","v":5.215322396454086},{"$f":" IF( $A162 < 'Polar 0-360'!Y$365, 'Polar 0-360'!Y$363 / COS!$B162,'Polar 0-360'!X162 )","v":5.7628876276726082},{"$f":" IF( $A162 < 'Polar 0-360'!AE$365, 'Polar 0-360'!AE$363 / COS!$B162,'Polar 0-360'!AD162 )","v":6.0936492595664111},{"$f":" IF( $A162 < 'Polar 0-360'!AK$365, 'Polar 0-360'!AK$363 / COS!$B162,'Polar 0-360'!AJ162 )","v":6.364954094126813},{"$f":" IF( $A162 < 'Polar 0-360'!AQ$365, 'Polar 0-360'!AQ$363 / COS!$B162,'Polar 0-360'!AP162 )","v":6.9000027136305651}]
[{"$f":"'Polar 0-360'!A163","v":161},0,{"$f":" IF( $A163 < 'Polar 0-360'!G$365, 'Polar 0-360'!G$363 / COS!$B163,'Polar 0-360'!F163 )","v":3.5234832275644421},{"$f":" IF( $A163 < 'Polar 0-360'!M$365, 'Polar 0-360'!M$363 / COS!$B163,'Polar 0-360'!L163 )","v":4.4105786901356936},{"$f":" IF( $A163 < 'Polar 0-360'!S$365, 'Polar 0-360'!S$363 / COS!$B163,'Polar 0-360'!R163 )","v":5.1967196023410542},{"$f":" IF( $A163 < 'Polar 0-360'!Y$365, 'Polar 0-360'!Y$363 / COS!$B163,'Polar 0-360'!X163 )","v":5.7502675077308876},{"$f":" IF( $A163 < 'Polar 0-360'!AE$365, 'Polar 0-360'!AE$363 / COS!$B163,'Polar 0-360'!AD163 )","v":6.0847761638847215},{"$f":" IF( $A163 < 'Polar 0-360'!AK$365, 'Polar 0-360'!AK$363 / COS!$B163,'Polar 0-360'!AJ163 )","v":6.3558254002396382},{"$f":" IF( $A163 < 'Polar 0-360'!AQ$365, 'Polar 0-360'!AQ$363 / COS!$B163,'Polar 0-360'!AP163 )","v":6.8898862988792695}]
[{"$f":"'Polar 0-360'!A164","v":162},0,{"$f":" IF( $A164 < 'Polar 0-360'!G$365, 'Polar 0-360'!G$363 / COS!$B164,'Polar 0-360'!F164 )","v":3.5071341843043395},{"$f":" IF( $A164 < 'Polar 0-360'!M$365, 'Polar 0-360'!M$363 / COS!$B164,'Polar 0-360'!L164 )","v":4.3934607682977944},{"$f":" IF( $A164 < 'Polar 0-360'!S$365, 'Polar 0-360'!S$363 / COS!$B164,'Polar 0-360'!R164 )","v":5.1781168082280233},{"$f":" IF( $A164 < 'Polar 0-360'!Y$365, 'Polar 0-360'!Y$363 / COS!$B164,'Polar 0-360'!X164 )","v":5.7376473877891678},{"$f":" IF( $A164 < 'Polar 0-360'!AE$365, 'Polar 0-360'!AE$363 / COS!$B164,'Polar 0-360'!AD164 )","v":6.0759030682030328},{"$f":" IF( $A164 < 'Polar 0-360'!AK$365, 'Polar 0-360'!AK$363 / COS!$B164,'Polar 0-360'!AJ164 )","v":6.3466967063524624},{"$f":" IF( $A164 < 'Polar 0-360'!AQ$365, 'Polar 0-360'!AQ$363 / COS!$B164,'Polar 0-360'!AP164 )","v":6.879769884127974}]
[{"$f":"'Polar 0-360'!A165","v":163},0,{"$f":" IF( $A165 < 'Polar 0-360'!G$365, 'Polar 0-360'!G$363 / COS!$B165,'Polar 0-360'!F165 )","v":3.4907851410442365},{"$f":" IF( $A165 < 'Polar 0-360'!M$365, 'Polar 0-360'!M$363 / COS!$B165,'Polar 0-360'!L165 )","v":4.3763428464598952},{"$f":" IF( $A165 < 'Polar 0-360'!S$365, 'Polar 0-360'!S$363 / COS!$B165,'Polar 0-360'!R165 )","v":5.1595140141149916},{"$f":" IF( $A165 < 'Polar 0-360'!Y$365, 'Polar 0-360'!Y$363 / COS!$B165,'Polar 0-360'!X165 )","v":5.7250272678474481},{"$f":" IF( $A165 < 'Polar 0-360'!AE$365, 'Polar 0-360'!AE$363 / COS!$B165,'Polar 0-360'!AD165 )","v":6.0670299725213432},{"$f":" IF( $A165 < 'Polar 0-360'!AK$365, 'Polar 0-360'!AK$363 / COS!$B165,'Polar 0-360'!AJ165 )","v":6.3375680124652876},{"$f":" IF( $A165 < 'Polar 0-360'!AQ$365, 'Polar 0-360'!AQ$363 / COS!$B165,'Polar 0-360'!AP165 )","v":6.8696534693766775}]
[{"$f":"'Polar 0-360'!A166","v":164},0,{"$f":" IF( $A166 < 'Polar 0-360'!G$365, 'Polar 0-360'!G$363 / COS!$B166,'Polar 0-360'!F166 )","v":3.474436097784134},{"$f":" IF( $A166 < 'Polar 0-360'!M$365, 'Polar 0-360'!M$363 / COS!$B166,'Polar 0-360'!L166 )","v":4.3592249246219961},{"$f":" IF( $A166 < 'Polar 0-360'!S$365, 'Polar 0-360'!S$363 / COS!$B166,'Polar 0-360'!R166 )","v":5.1409112200019607},{"$f":" IF( $A166 < 'Polar 0-360'!Y$365, 'Polar 0-360'!Y$363 / COS!$B166,'Polar 0-360'!X166 )","v":5.7124071479057275},{"$f":" IF( $A166 < 'Polar 0-360'!AE$365, 'Polar 0-360'!AE$363 / COS!$B166,'Polar 0-360'!AD166 )","v":6.0581568768396536},{"$f":" IF( $A166 < 'Polar 0-360'!AK$365, 'Polar 0-360'!AK$363 / COS!$B166,'Polar 0-360'!AJ166 )","v":6.3284393185781127},{"$f":" IF( $A166 < 'Polar 0-360'!AQ$365, 'Polar 0-360'!AQ$363 / COS!$B166,'Polar 0-360'!AP166 )","v":6.859537054625382}]
[{"$f":"'Polar 0-360'!A167","v":165},0,{"$f":" IF( $A167 < 'Polar 0-360'!G$365, 'Polar 0-360'!G$363 / COS!$B167,'Polar 0-360'!F167 )","v":3.458087054524031},{"$f":" IF( $A167 < 'Polar 0-360'!M$365, 'Polar 0-360'!M$363 / COS!$B167,'Polar 0-360'!L167 )","v":4.3421070027840978},{"$f":" IF( $A167 < 'Polar 0-360'!S$365, 'Polar 0-360'!S$363 / COS!$B167,'Polar 0-360'!R167 )","v":5.1223084258889298},{"$f":" IF( $A167 < 'Polar 0-360'!Y$365, 'Polar 0-360'!Y$363 / COS!$B167,'Polar 0-360'!X167 )","v":5.6997870279640077},{"$f":" IF( $A167 < 'Polar 0-360'!AE$365, 'Polar 0-360'!AE$363 / COS!$B167,'Polar 0-360'!AD167 )","v":6.0492837811579641},{"$f":" IF( $A167 < 'Polar 0-360'!AK$365, 'Polar 0-360'!AK$363 / COS!$B167,'Polar 0-360'!AJ167 )","v":6.319310624690937},{"$f":" IF( $A167 < 'Polar 0-360'!AQ$365, 'Polar 0-360'!AQ$363 / COS!$B167,'Polar 0-360'!AP167 )","v":6.8494206398740864}]
[{"$f":"'Polar 0-360'!A168","v":166},0,{"$f":" IF( $A168 < 'Polar 0-360'!G$365, 'Polar 0-360'!G$363 / COS!$B168,'Polar 0-360'!F168 )","v":3.4417380112639284},{"$f":" IF( $A168 < 'Polar 0-360'!M$365, 'Polar 0-360'!M$363 / COS!$B168,'Polar 0-360'!L168 )","v":4.3249890809461995},{"$f":" IF( $A168 < 'Polar 0-360'!S$365, 'Polar 0-360'!S$363 / COS!$B168,'Polar 0-360'!R168 )","v":5.1037056317758989},{"$f":" IF( $A168 < 'Polar 0-360'!Y$365, 'Polar 0-360'!Y$363 / COS!$B168,'Polar 0-360'!X168 )","v":5.687166908022288},{"$f":" IF( $A168 < 'Polar 0-360'!AE$365, 'Polar 0-360'!AE$363 / COS!$B168,'Polar 0-360'!AD168 )","v":6.0404106854762745},{"$f":" IF( $A168 < 'Polar 0-360'!AK$365, 'Polar 0-360'!AK$363 / COS!$B168,'Polar 0-360'!AJ168 )","v":6.3101819308037621},{"$f":" IF( $A168 < 'Polar 0-360'!AQ$365, 'Polar 0-360'!AQ$363 / COS!$B168,'Polar 0-360'!AP168 )","v":6.8393042251227909}]
[{"$f":"'Polar 0-360'!A169","v":167},0,{"$f":" IF( $A169 < 'Polar 0-360'!G$365, 'Polar 0-360'!G$363 / COS!$B169,'Polar 0-360'!F169 )","v":3.4253889680038254},{"$f":" IF( $A169 < 'Polar 0-360'!M$365, 'Polar 0-360'!M$363 / COS!$B169,'Polar 0-360'!L169 )","v":4.3078711591083003},{"$f":" IF( $A169 < 'Polar 0-360'!S$365, 'Polar 0-360'!S$363 / COS!$B169,'Polar 0-360'!R169 )","v":5.085102837662868},{"$f":" IF( $A169 < 'Polar 0-360'!Y$365, 'Polar 0-360'!Y$363 / COS!$B169,'Polar 0-360'!X169 )","v":5.6745467880805673},{"$f":" IF( $A169 < 'Polar 0-360'!AE$365, 'Polar 0-360'!AE$363 / COS!$B169,'Polar 0-360'!AD169 )","v":6.0315375897945849},{"$f":" IF( $A169 < 'Polar 0-360'!AK$365, 'Polar 0-360'!AK$363 / COS!$B169,'Polar 0-360'!AJ169 )","v":6.3010532369165864},{"$f":" IF( $A169 < 'Polar 0-360'!AQ$365, 'Polar 0-360'!AQ$363 / COS!$B169,'Polar 0-360'!AP169 )","v":6.8291878103714954}]
[{"$f":"'Polar 0-360'!A170","v":168},0,{"$f":" IF( $A170 < 'Polar 0-360'!G$365, 'Polar 0-360'!G$363 / COS!$B170,'Polar 0-360'!F170 )","v":3.4090399247437229},{"$f":" IF( $A170 < 'Polar 0-360'!M$365, 'Polar 0-360'!M$363 / COS!$B170,'Polar 0-360'!L170 )","v":4.2907532372704011},{"$f":" IF( $A170 < 'Polar 0-360'!S$365, 'Polar 0-360'!S$363 / COS!$B170,'Polar 0-360'!R170 )","v":5.0665000435498371},{"$f":" IF( $A170 < 'Polar 0-360'!Y$365, 'Polar 0-360'!Y$363 / COS!$B170,'Polar 0-360'!X170 )","v":5.6619266681388467},{"$f":" IF( $A170 < 'Polar 0-360'!AE$365, 'Polar 0-360'!AE$363 / COS!$B170,'Polar 0-360'!AD170 )","v":6.0226644941128953},{"$f":" IF( $A170 < 'Polar 0-360'!AK$365, 'Polar 0-360'!AK$363 / COS!$B170,'Polar 0-360'!AJ170 )","v":6.2919245430294115},{"$f":" IF( $A170 < 'Polar 0-360'!AQ$365, 'Polar 0-360'!AQ$363 / COS!$B170,'Polar 0-360'!AP170 )","v":6.8190713956201989}]
[{"$f":"'Polar 0-360'!A171","v":169},0,{"$f":" IF( $A171 < 'Polar 0-360'!G$365, 'Polar 0-360'!G$363 / COS!$B171,'Polar 0-360'!F171 )","v":3.3926908814836199},{"$f":" IF( $A171 < 'Polar 0-360'!M$365, 'Polar 0-360'!M$363 / COS!$B171,'Polar 0-360'!L171 )","v":4.273635315432502},{"$f":" IF( $A171 < 'Polar 0-360'!S$365, 'Polar 0-360'!S$363 / COS!$B171,'Polar 0-360'!R171 )","v":5.0478972494368053},{"$f":" IF( $A171 < 'Polar 0-360'!Y$365, 'Polar 0-360'!Y$363 / COS!$B171,'Polar 0-360'!X171 )","v":5.6493065481971279},{"$f":" IF( $A171 < 'Polar 0-360'!AE$365, 'Polar 0-360'!AE$363 / COS!$B171,'Polar 0-360'!AD171 )","v":6.0137913984312057},{"$f":" IF( $A171 < 'Polar 0-360'!AK$365, 'Polar 0-360'!AK$363 / COS!$B171,'Polar 0-360'!AJ171 )","v":6.2827958491422358},{"$f":" IF( $A171 < 'Polar 0-360'!AQ$365, 'Polar 0-360'!AQ$363 / COS!$B171,'Polar 0-360'!AP171 )","v":6.8089549808689034}]
[{"$f":"'Polar 0-360'!A172","v":170},0,{"$f":" IF( $A172 < 'Polar 0-360'!G$365, 'Polar 0-360'!G$363 / COS!$B172,'Polar 0-360'!F172 )","v":3.3763418382235173},{"$f":" IF( $A172 < 'Polar 0-360'!M$365, 'Polar 0-360'!M$363 / COS!$B172,'Polar 0-360'!L172 )","v":4.2565173935946037},{"$f":" IF( $A172 < 'Polar 0-360'!S$365, 'Polar 0-360'!S$363 / COS!$B172,'Polar 0-360'!R172 )","v":5.0292944553237744},{"$f":" IF( $A172 < 'Polar 0-360'!Y$365, 'Polar 0-360'!Y$363 / COS!$B172,'Polar 0-360'!X172 )","v":5.6366864282554072},{"$f":" IF( $A172 < 'Polar 0-360'!AE$365, 'Polar 0-360'!AE$363 / COS!$B172,'Polar 0-360'!AD172 )","v":6.0049183027495161},{"$f":" IF( $A172 < 'Polar 0-360'!AK$365, 'Polar 0-360'!AK$363 / COS!$B172,'Polar 0-360'!AJ172 )","v":6.2736671552550609},{"$f":" IF( $A172 < 'Polar 0-360'!AQ$365, 'Polar 0-360'!AQ$363 / COS!$B172,'Polar 0-360'!AP172 )","v":6.7988385661176078}]
[{"$f":"'Polar 0-360'!A173","v":171},0,{"$f":" IF( $A173 < 'Polar 0-360'!G$365, 'Polar 0-360'!G$363 / COS!$B173,'Polar 0-360'!F173 )","v":3.3599927949634143},{"$f":" IF( $A173 < 'Polar 0-360'!M$365, 'Polar 0-360'!M$363 / COS!$B173,'Polar 0-360'!L173 )","v":4.2393994717567045},{"$f":" IF( $A173 < 'Polar 0-360'!S$365, 'Polar 0-360'!S$363 / COS!$B173,'Polar 0-360'!R173 )","v":5.0106916612107426},{"$f":" IF( $A173 < 'Polar 0-360'!Y$365, 'Polar 0-360'!Y$363 / COS!$B173,'Polar 0-360'!X173 )","v":5.6240663083136866},{"$f":" IF( $A173 < 'Polar 0-360'!AE$365, 'Polar 0-360'!AE$363 / COS!$B173,'Polar 0-360'!AD173 )","v":5.9960452070678265},{"$f":" IF( $A173 < 'Polar 0-360'!AK$365, 'Polar 0-360'!AK$363 / COS!$B173,'Polar 0-360'!AJ173 )","v":6.2645384613678861},{"$f":" IF( $A173 < 'Polar 0-360'!AQ$365, 'Polar 0-360'!AQ$363 / COS!$B173,'Polar 0-360'!AP173 )","v":6.7887221513663123}]
[{"$f":"'Polar 0-360'!A174","v":172},0,{"$f":" IF( $A174 < 'Polar 0-360'!G$365, 'Polar 0-360'!G$363 / COS!$B174,'Polar 0-360'!F174 )","v":3.3436437517033117},{"$f":" IF( $A174 < 'Polar 0-360'!M$365, 'Polar 0-360'!M$363 / COS!$B174,'Polar 0-360'!L174 )","v":4.2222815499188062},{"$f":" IF( $A174 < 'Polar 0-360'!S$365, 'Polar 0-360'!S$363 / COS!$B174,'Polar 0-360'!R174 )","v":4.9920888670977117},{"$f":" IF( $A174 < 'Polar 0-360'!Y$365, 'Polar 0-360'!Y$363 / COS!$B174,'Polar 0-360'!X174 )","v":5.6114461883719668},{"$f":" IF( $A174 < 'Polar 0-360'!AE$365, 'Polar 0-360'!AE$363 / COS!$B174,'Polar 0-360'!AD174 )","v":5.9871721113861369},{"$f":" IF( $A174 < 'Polar 0-360'!AK$365, 'Polar 0-360'!AK$363 / COS!$B174,'Polar 0-360'!AJ174 )","v":6.2554097674807103},{"$f":" IF( $A174 < 'Polar 0-360'!AQ$365, 'Polar 0-360'!AQ$363 / COS!$B174,'Polar 0-360'!AP174 )","v":6.7786057366150168}]
[{"$f":"'Polar 0-360'!A175","v":173},0,{"$f":" IF( $A175 < 'Polar 0-360'!G$365, 'Polar 0-360'!G$363 / COS!$B175,'Polar 0-360'!F175 )","v":3.3272947084432087},{"$f":" IF( $A175 < 'Polar 0-360'!M$365, 'Polar 0-360'!M$363 / COS!$B175,'Polar 0-360'!L175 )","v":4.205163628080907},{"$f":" IF( $A175 < 'Polar 0-360'!S$365, 'Polar 0-360'!S$363 / COS!$B175,'Polar 0-360'!R175 )","v":4.9734860729846808},{"$f":" IF( $A175 < 'Polar 0-360'!Y$365, 'Polar 0-360'!Y$363 / COS!$B175,'Polar 0-360'!X175 )","v":5.5988260684302471},{"$f":" IF( $A175 < 'Polar 0-360'!AE$365, 'Polar 0-360'!AE$363 / COS!$B175,'Polar 0-360'!AD175 )","v":5.9782990157044473},{"$f":" IF( $A175 < 'Polar 0-360'!AK$365, 'Polar 0-360'!AK$363 / COS!$B175,'Polar 0-360'!AJ175 )","v":6.2462810735935355},{"$f":" IF( $A175 < 'Polar 0-360'!AQ$365, 'Polar 0-360'!AQ$363 / COS!$B175,'Polar 0-360'!AP175 )","v":6.7684893218637203}]
[{"$f":"'Polar 0-360'!A176","v":174},0,{"$f":" IF( $A176 < 'Polar 0-360'!G$365, 'Polar 0-360'!G$363 / COS!$B176,'Polar 0-360'!F176 )","v":3.3109456651831062},{"$f":" IF( $A176 < 'Polar 0-360'!M$365, 'Polar 0-360'!M$363 / COS!$B176,'Polar 0-360'!L176 )","v":4.1880457062430079},{"$f":" IF( $A176 < 'Polar 0-360'!S$365, 'Polar 0-360'!S$363 / COS!$B176,'Polar 0-360'!R176 )","v":4.9548832788716499},{"$f":" IF( $A176 < 'Polar 0-360'!Y$365, 'Polar 0-360'!Y$363 / COS!$B176,'Polar 0-360'!X176 )","v":5.5862059484885265},{"$f":" IF( $A176 < 'Polar 0-360'!AE$365, 'Polar 0-360'!AE$363 / COS!$B176,'Polar 0-360'!AD176 )","v":5.9694259200227577},{"$f":" IF( $A176 < 'Polar 0-360'!AK$365, 'Polar 0-360'!AK$363 / COS!$B176,'Polar 0-360'!AJ176 )","v":6.2371523797063597},{"$f":" IF( $A176 < 'Polar 0-360'!AQ$365, 'Polar 0-360'!AQ$363 / COS!$B176,'Polar 0-360'!AP176 )","v":6.7583729071124248}]
[{"$f":"'Polar 0-360'!A177","v":175},0,{"$f":" IF( $A177 < 'Polar 0-360'!G$365, 'Polar 0-360'!G$363 / COS!$B177,'Polar 0-360'!F177 )","v":3.2945966219230032},{"$f":" IF( $A177 < 'Polar 0-360'!M$365, 'Polar 0-360'!M$363 / COS!$B177,'Polar 0-360'!L177 )","v":4.1709277844051087},{"$f":" IF( $A177 < 'Polar 0-360'!S$365, 'Polar 0-360'!S$363 / COS!$B177,'Polar 0-360'!R177 )","v":4.936280484758619},{"$f":" IF( $A177 < 'Polar 0-360'!Y$365, 'Polar 0-360'!Y$363 / COS!$B177,'Polar 0-360'!X177 )","v":5.5735858285468067},{"$f":" IF( $A177 < 'Polar 0-360'!AE$365, 'Polar 0-360'!AE$363 / COS!$B177,'Polar 0-360'!AD177 )","v":5.9605528243410681},{"$f":" IF( $A177 < 'Polar 0-360'!AK$365, 'Polar 0-360'!AK$363 / COS!$B177,'Polar 0-360'!AJ177 )","v":6.2280236858191849},{"$f":" IF( $A177 < 'Polar 0-360'!AQ$365, 'Polar 0-360'!AQ$363 / COS!$B177,'Polar 0-360'!AP177 )","v":6.7482564923611292}]
[{"$f":"'Polar 0-360'!A178","v":176},0,{"$f":" IF( $A178 < 'Polar 0-360'!G$365, 'Polar 0-360'!G$363 / COS!$B178,'Polar 0-360'!F178 )","v":3.2782475786629006},{"$f":" IF( $A178 < 'Polar 0-360'!M$365, 'Polar 0-360'!M$363 / COS!$B178,'Polar 0-360'!L178 )","v":4.1538098625672104},{"$f":" IF( $A178 < 'Polar 0-360'!S$365, 'Polar 0-360'!S$363 / COS!$B178,'Polar 0-360'!R178 )","v":4.9176776906455872},{"$f":" IF( $A178 < 'Polar 0-360'!Y$365, 'Polar 0-360'!Y$363 / COS!$B178,'Polar 0-360'!X178 )","v":5.560965708605087},{"$f":" IF( $A178 < 'Polar 0-360'!AE$365, 'Polar 0-360'!AE$363 / COS!$B178,'Polar 0-360'!AD178 )","v":5.9516797286593786},{"$f":" IF( $A178 < 'Polar 0-360'!AK$365, 'Polar 0-360'!AK$363 / COS!$B178,'Polar 0-360'!AJ178 )","v":6.2188949919320091},{"$f":" IF( $A178 < 'Polar 0-360'!AQ$365, 'Polar 0-360'!AQ$363 / COS!$B178,'Polar 0-360'!AP178 )","v":6.7381400776098337}]
[{"$f":"'Polar 0-360'!A179","v":177},0,{"$f":" IF( $A179 < 'Polar 0-360'!G$365, 'Polar 0-360'!G$363 / COS!$B179,'Polar 0-360'!F179 )","v":3.2618985354027976},{"$f":" IF( $A179 < 'Polar 0-360'!M$365, 'Polar 0-360'!M$363 / COS!$B179,'Polar 0-360'!L179 )","v":4.1366919407293112},{"$f":" IF( $A179 < 'Polar 0-360'!S$365, 'Polar 0-360'!S$363 / COS!$B179,'Polar 0-360'!R179 )","v":4.8990748965325563},{"$f":" IF( $A179 < 'Polar 0-360'!Y$365, 'Polar 0-360'!Y$363 / COS!$B179,'Polar 0-360'!X179 )","v":5.5483455886633664},{"$f":" IF( $A179 < 'Polar 0-360'!AE$365, 'Polar 0-360'!AE$363 / COS!$B179,'Polar 0-360'!AD179 )","v":5.942806632977689},{"$f":" IF( $A179 < 'Polar 0-360'!AK$365, 'Polar 0-360'!AK$363 / COS!$B179,'Polar 0-360'!AJ179 )","v":6.2097662980448343},{"$f":" IF( $A179 < 'Polar 0-360'!AQ$365, 'Polar 0-360'!AQ$363 / COS!$B179,'Polar 0-360'!AP179 )","v":6.7280236628585381}]
[{"$f":"'Polar 0-360'!A180","v":178},0,{"$f":" IF( $A180 < 'Polar 0-360'!G$365, 'Polar 0-360'!G$363 / COS!$B180,'Polar 0-360'!F180 )","v":3.2455494921426951},{"$f":" IF( $A180 < 'Polar 0-360'!M$365, 'Polar 0-360'!M$363 / COS!$B180,'Polar 0-360'!L180 )","v":4.1195740188914129},{"$f":" IF( $A180 < 'Polar 0-360'!S$365, 'Polar 0-360'!S$363 / COS!$B180,'Polar 0-360'!R180 )","v":4.8804721024195246},{"$f":" IF( $A180 < 'Polar 0-360'!Y$365, 'Polar 0-360'!Y$363 / COS!$B180,'Polar 0-360'!X180 )","v":5.5357254687216466},{"$f":" IF( $A180 < 'Polar 0-360'!AE$365, 'Polar 0-360'!AE$363 / COS!$B180,'Polar 0-360'!AD180 )","v":5.9339335372959994},{"$f":" IF( $A180 < 'Polar 0-360'!AK$365, 'Polar 0-360'!AK$363 / COS!$B180,'Polar 0-360'!AJ180 )","v":6.2006376041576594},{"$f":" IF( $A180 < 'Polar 0-360'!AQ$365, 'Polar 0-360'!AQ$363 / COS!$B180,'Polar 0-360'!AP180 )","v":6.7179072481072417}]
[{"$f":"'Polar 0-360'!A181","v":179},0,{"$f":" IF( $A181 < 'Polar 0-360'!G$365, 'Polar 0-360'!G$363 / COS!$B181,'Polar 0-360'!F181 )","v":3.2292004488825921},{"$f":" IF( $A181 < 'Polar 0-360'!M$365, 'Polar 0-360'!M$363 / COS!$B181,'Polar 0-360'!L181 )","v":4.1024560970535138},{"$f":" IF( $A181 < 'Polar 0-360'!S$365, 'Polar 0-360'!S$363 / COS!$B181,'Polar 0-360'!R181 )","v":4.8618693083064937},{"$f":" IF( $A181 < 'Polar 0-360'!Y$365, 'Polar 0-360'!Y$363 / COS!$B181,'Polar 0-360'!X181 )","v":5.5231053487799269},{"$f":" IF( $A181 < 'Polar 0-360'!AE$365, 'Polar 0-360'!AE$363 / COS!$B181,'Polar 0-360'!AD181 )","v":5.9250604416143098},{"$f":" IF( $A181 < 'Polar 0-360'!AK$365, 'Polar 0-360'!AK$363 / COS!$B181,'Polar 0-360'!AJ181 )","v":6.1915089102704837},{"$f":" IF( $A181 < 'Polar 0-360'!AQ$365, 'Polar 0-360'!AQ$363 / COS!$B181,'Polar 0-360'!AP181 )","v":6.7077908333559462}]
[{"$f":"'Polar 0-360'!A182","v":180},0,{"$f":" IF( $A182 < 'Polar 0-360'!G$365, 'Polar 0-360'!G$363 / COS!$B182,'Polar 0-360'!F182 )","v":3.2128514056224891},{"$f":" IF( $A182 < 'Polar 0-360'!M$365, 'Polar 0-360'!M$363 / COS!$B182,'Polar 0-360'!L182 )","v":4.0853381752156137},{"$f":" IF( $A182 < 'Polar 0-360'!S$365, 'Polar 0-360'!S$363 / COS!$B182,'Polar 0-360'!R182 )","v":4.843266514193461},{"$f":" IF( $A182 < 'Polar 0-360'!Y$365, 'Polar 0-360'!Y$363 / COS!$B182,'Polar 0-360'!X182 )","v":5.5104852288382062},{"$f":" IF( $A182 < 'Polar 0-360'!AE$365, 'Polar 0-360'!AE$363 / COS!$B182,'Polar 0-360'!AD182 )","v":5.9161873459326202},{"$f":" IF( $A182 < 'Polar 0-360'!AK$365, 'Polar 0-360'!AK$363 / COS!$B182,'Polar 0-360'!AJ182 )","v":6.1823802163833079},{"$f":" IF( $A182 < 'Polar 0-360'!AQ$365, 'Polar 0-360'!AQ$363 / COS!$B182,'Polar 0-360'!AP182 )","v":6.6976744186046506}]
[{"$f":"'Polar 0-360'!A183","v":181},0,{"$f":" IF( $A183 < 'Polar 0-360'!G$365, 'Polar 0-360'!G$363 / COS!$B183,'Polar 0-360'!F183 )","v":3.2292004488825921},{"$f":" IF( $A183 < 'Polar 0-360'!M$365, 'Polar 0-360'!M$363 / COS!$B183,'Polar 0-360'!L183 )","v":4.1024560970535138},{"$f":" IF( $A183 < 'Polar 0-360'!S$365, 'Polar 0-360'!S$363 / COS!$B183,'Polar 0-360'!R183 )","v":4.8618693083064937},{"$f":" IF( $A183 < 'Polar 0-360'!Y$365, 'Polar 0-360'!Y$363 / COS!$B183,'Polar 0-360'!X183 )","v":5.5231053487799269},{"$f":" IF( $A183 < 'Polar 0-360'!AE$365, 'Polar 0-360'!AE$363 / COS!$B183,'Polar 0-360'!AD183 )","v":5.9250604416143098},{"$f":" IF( $A183 < 'Polar 0-360'!AK$365, 'Polar 0-360'!AK$363 / COS!$B183,'Polar 0-360'!AJ183 )","v":6.1915089102704837},{"$f":" IF( $A183 < 'Polar 0-360'!AQ$365, 'Polar 0-360'!AQ$363 / COS!$B183,'Polar 0-360'!AP183 )","v":6.7077908333559462}]
[{"$f":"'Polar 0-360'!A184","v":182},0,{"$f":" IF( $A184 < 'Polar 0-360'!G$365, 'Polar 0-360'!G$363 / COS!$B184,'Polar 0-360'!F184 )","v":3.2455494921426951},{"$f":" IF( $A184 < 'Polar 0-360'!M$365, 'Polar 0-360'!M$363 / COS!$B184,'Polar 0-360'!L184 )","v":4.1195740188914129},{"$f":" IF( $A184 < 'Polar 0-360'!S$365, 'Polar 0-360'!S$363 / COS!$B184,'Polar 0-360'!R184 )","v":4.8804721024195246},{"$f":" IF( $A184 < 'Polar 0-360'!Y$365, 'Polar 0-360'!Y$363 / COS!$B184,'Polar 0-360'!X184 )","v":5.5357254687216466},{"$f":" IF( $A184 < 'Polar 0-360'!AE$365, 'Polar 0-360'!AE$363 / COS!$B184,'Polar 0-360'!AD184 )","v":5.9339335372959994},{"$f":" IF( $A184 < 'Polar 0-360'!AK$365, 'Polar 0-360'!AK$363 / COS!$B184,'Polar 0-360'!AJ184 )","v":6.2006376041576594},{"$f":" IF( $A184 < 'Polar 0-360'!AQ$365, 'Polar 0-360'!AQ$363 / COS!$B184,'Polar 0-360'!AP184 )","v":6.7179072481072417}]
[{"$f":"'Polar 0-360'!A185","v":183},0,{"$f":" IF( $A185 < 'Polar 0-360'!G$365, 'Polar 0-360'!G$363 / COS!$B185,'Polar 0-360'!F185 )","v":3.2618985354027976},{"$f":" IF( $A185 < 'Polar 0-360'!M$365, 'Polar 0-360'!M$363 / COS!$B185,'Polar 0-360'!L185 )","v":4.1366919407293112},{"$f":" IF( $A185 < 'Polar 0-360'!S$365, 'Polar 0-360'!S$363 / COS!$B185,'Polar 0-360'!R185 )","v":4.8990748965325563},{"$f":" IF( $A185 < 'Polar 0-360'!Y$365, 'Polar 0-360'!Y$363 / COS!$B185,'Polar 0-360'!X185 )","v":5.5483455886633664},{"$f":" IF( $A185 < 'Polar 0-360'!AE$365, 'Polar 0-360'!AE$363 / COS!$B185,'Polar 0-360'!AD185 )","v":5.942806632977689},{"$f":" IF( $A185 < 'Polar 0-360'!AK$365, 'Polar 0-360'!AK$363 / COS!$B185,'Polar 0-360'!AJ185 )","v":6.2097662980448343},{"$f":" IF( $A185 < 'Polar 0-360'!AQ$365, 'Polar 0-360'!AQ$363 / COS!$B185,'Polar 0-360'!AP185 )","v":6.7280236628585381}]
[{"$f":"'Polar 0-360'!A186","v":184},0,{"$f":" IF( $A186 < 'Polar 0-360'!G$365, 'Polar 0-360'!G$363 / COS!$B186,'Polar 0-360'!F186 )","v":3.2782475786629006},{"$f":" IF( $A186 < 'Polar 0-360'!M$365, 'Polar 0-360'!M$363 / COS!$B186,'Polar 0-360'!L186 )","v":4.1538098625672104},{"$f":" IF( $A186 < 'Polar 0-360'!S$365, 'Polar 0-360'!S$363 / COS!$B186,'Polar 0-360'!R186 )","v":4.9176776906455872},{"$f":" IF( $A186 < 'Polar 0-360'!Y$365, 'Polar 0-360'!Y$363 / COS!$B186,'Polar 0-360'!X186 )","v":5.560965708605087},{"$f":" IF( $A186 < 'Polar 0-360'!AE$365, 'Polar 0-360'!AE$363 / COS!$B186,'Polar 0-360'!AD186 )","v":5.9516797286593786},{"$f":" IF( $A186 < 'Polar 0-360'!AK$365, 'Polar 0-360'!AK$363 / COS!$B186,'Polar 0-360'!AJ186 )","v":6.2188949919320091},{"$f":" IF( $A186 < 'Polar 0-360'!AQ$365, 'Polar 0-360'!AQ$363 / COS!$B186,'Polar 0-360'!AP186 )","v":6.7381400776098337}]
[{"$f":"'Polar 0-360'!A187","v":185},0,{"$f":" IF( $A187 < 'Polar 0-360'!G$365, 'Polar 0-360'!G$363 / COS!$B187,'Polar 0-360'!F187 )","v":3.2945966219230032},{"$f":" IF( $A187 < 'Polar 0-360'!M$365, 'Polar 0-360'!M$363 / COS!$B187,'Polar 0-360'!L187 )","v":4.1709277844051087},{"$f":" IF( $A187 < 'Polar 0-360'!S$365, 'Polar 0-360'!S$363 / COS!$B187,'Polar 0-360'!R187 )","v":4.936280484758619},{"$f":" IF( $A187 < 'Polar 0-360'!Y$365, 'Polar 0-360'!Y$363 / COS!$B187,'Polar 0-360'!X187 )","v":5.5735858285468067},{"$f":" IF( $A187 < 'Polar 0-360'!AE$365, 'Polar 0-360'!AE$363 / COS!$B187,'Polar 0-360'!AD187 )","v":5.9605528243410681},{"$f":" IF( $A187 < 'Polar 0-360'!AK$365, 'Polar 0-360'!AK$363 / COS!$B187,'Polar 0-360'!AJ187 )","v":6.2280236858191849},{"$f":" IF( $A187 < 'Polar 0-360'!AQ$365, 'Polar 0-360'!AQ$363 / COS!$B187,'Polar 0-360'!AP187 )","v":6.7482564923611292}]
[{"$f":"'Polar 0-360'!A188","v":186},0,{"$f":" IF( $A188 < 'Polar 0-360'!G$365, 'Polar 0-360'!G$363 / COS!$B188,'Polar 0-360'!F188 )","v":3.3109456651831062},{"$f":" IF( $A188 < 'Polar 0-360'!M$365, 'Polar 0-360'!M$363 / COS!$B188,'Polar 0-360'!L188 )","v":4.1880457062430079},{"$f":" IF( $A188 < 'Polar 0-360'!S$365, 'Polar 0-360'!S$363 / COS!$B188,'Polar 0-360'!R188 )","v":4.9548832788716499},{"$f":" IF( $A188 < 'Polar 0-360'!Y$365, 'Polar 0-360'!Y$363 / COS!$B188,'Polar 0-360'!X188 )","v":5.5862059484885265},{"$f":" IF( $A188 < 'Polar 0-360'!AE$365, 'Polar 0-360'!AE$363 / COS!$B188,'Polar 0-360'!AD188 )","v":5.9694259200227577},{"$f":" IF( $A188 < 'Polar 0-360'!AK$365, 'Polar 0-360'!AK$363 / COS!$B188,'Polar 0-360'!AJ188 )","v":6.2371523797063597},{"$f":" IF( $A188 < 'Polar 0-360'!AQ$365, 'Polar 0-360'!AQ$363 / COS!$B188,'Polar 0-360'!AP188 )","v":6.7583729071124248}]
[{"$f":"'Polar 0-360'!A189","v":187},0,{"$f":" IF( $A189 < 'Polar 0-360'!G$365, 'Polar 0-360'!G$363 / COS!$B189,'Polar 0-360'!F189 )","v":3.3272947084432087},{"$f":" IF( $A189 < 'Polar 0-360'!M$365, 'Polar 0-360'!M$363 / COS!$B189,'Polar 0-360'!L189 )","v":4.205163628080907},{"$f":" IF( $A189 < 'Polar 0-360'!S$365, 'Polar 0-360'!S$363 / COS!$B189,'Polar 0-360'!R189 )","v":4.9734860729846808},{"$f":" IF( $A189 < 'Polar 0-360'!Y$365, 'Polar 0-360'!Y$363 / COS!$B189,'Polar 0-360'!X189 )","v":5.5988260684302471},{"$f":" IF( $A189 < 'Polar 0-360'!AE$365, 'Polar 0-360'!AE$363 / COS!$B189,'Polar 0-360'!AD189 )","v":5.9782990157044473},{"$f":" IF( $A189 < 'Polar 0-360'!AK$365, 'Polar 0-360'!AK$363 / COS!$B189,'Polar 0-360'!AJ189 )","v":6.2462810735935355},{"$f":" IF( $A189 < 'Polar 0-360'!AQ$365, 'Polar 0-360'!AQ$363 / COS!$B189,'Polar 0-360'!AP189 )","v":6.7684893218637203}]
[{"$f":"'Polar 0-360'!A190","v":188},0,{"$f":" IF( $A190 < 'Polar 0-360'!G$365, 'Polar 0-360'!G$363 / COS!$B190,'Polar 0-360'!F190 )","v":3.3436437517033117},{"$f":" IF( $A190 < 'Polar 0-360'!M$365, 'Polar 0-360'!M$363 / COS!$B190,'Polar 0-360'!L190 )","v":4.2222815499188062},{"$f":" IF( $A190 < 'Polar 0-360'!S$365, 'Polar 0-360'!S$363 / COS!$B190,'Polar 0-360'!R190 )","v":4.9920888670977117},{"$f":" IF( $A190 < 'Polar 0-360'!Y$365, 'Polar 0-360'!Y$363 / COS!$B190,'Polar 0-360'!X190 )","v":5.6114461883719668},{"$f":" IF( $A190 < 'Polar 0-360'!AE$365, 'Polar 0-360'!AE$363 / COS!$B190,'Polar 0-360'!AD190 )","v":5.9871721113861369},{"$f":" IF( $A190 < 'Polar 0-360'!AK$365, 'Polar 0-360'!AK$363 / COS!$B190,'Polar 0-360'!AJ190 )","v":6.2554097674807103},{"$f":" IF( $A190 < 'Polar 0-360'!AQ$365, 'Polar 0-360'!AQ$363 / COS!$B190,'Polar 0-360'!AP190 )","v":6.7786057366150168}]
[{"$f":"'Polar 0-360'!A191","v":189},0,{"$f":" IF( $A191 < 'Polar 0-360'!G$365, 'Polar 0-360'!G$363 / COS!$B191,'Polar 0-360'!F191 )","v":3.3599927949634143},{"$f":" IF( $A191 < 'Polar 0-360'!M$365, 'Polar 0-360'!M$363 / COS!$B191,'Polar 0-360'!L191 )","v":4.2393994717567045},{"$f":" IF( $A191 < 'Polar 0-360'!S$365, 'Polar 0-360'!S$363 / COS!$B191,'Polar 0-360'!R191 )","v":5.0106916612107426},{"$f":" IF( $A191 < 'Polar 0-360'!Y$365, 'Polar 0-360'!Y$363 / COS!$B191,'Polar 0-360'!X191 )","v":5.6240663083136866},{"$f":" IF( $A191 < 'Polar 0-360'!AE$365, 'Polar 0-360'!AE$363 / COS!$B191,'Polar 0-360'!AD191 )","v":5.9960452070678265},{"$f":" IF( $A191 < 'Polar 0-360'!AK$365, 'Polar 0-360'!AK$363 / COS!$B191,'Polar 0-360'!AJ191 )","v":6.2645384613678861},{"$f":" IF( $A191 < 'Polar 0-360'!AQ$365, 'Polar 0-360'!AQ$363 / COS!$B191,'Polar 0-360'!AP191 )","v":6.7887221513663123}]
[{"$f":"'Polar 0-360'!A192","v":190},0,{"$f":" IF( $A192 < 'Polar 0-360'!G$365, 'Polar 0-360'!G$363 / COS!$B192,'Polar 0-360'!F192 )","v":3.3763418382235173},{"$f":" IF( $A192 < 'Polar 0-360'!M$365, 'Polar 0-360'!M$363 / COS!$B192,'Polar 0-360'!L192 )","v":4.2565173935946037},{"$f":" IF( $A192 < 'Polar 0-360'!S$365, 'Polar 0-360'!S$363 / COS!$B192,'Polar 0-360'!R192 )","v":5.0292944553237744},{"$f":" IF( $A192 < 'Polar 0-360'!Y$365, 'Polar 0-360'!Y$363 / COS!$B192,'Polar 0-360'!X192 )","v":5.6366864282554072},{"$f":" IF( $A192 < 'Polar 0-360'!AE$365, 'Polar 0-360'!AE$363 / COS!$B192,'Polar 0-360'!AD192 )","v":6.0049183027495161},{"$f":" IF( $A192 < 'Polar 0-360'!AK$365, 'Polar 0-360'!AK$363 / COS!$B192,'Polar 0-360'!AJ192 )","v":6.2736671552550609},{"$f":" IF( $A192 < 'Polar 0-360'!AQ$365, 'Polar 0-360'!AQ$363 / COS!$B192,'Polar 0-360'!AP192 )","v":6.7988385661176078}]
[{"$f":"'Polar 0-360'!A193","v":191},0,{"$f":" IF( $A193 < 'Polar 0-360'!G$365, 'Polar 0-360'!G$363 / COS!$B193,'Polar 0-360'!F193 )","v":3.3926908814836199},{"$f":" IF( $A193 < 'Polar 0-360'!M$365, 'Polar 0-360'!M$363 / COS!$B193,'Polar 0-360'!L193 )","v":4.273635315432502},{"$f":" IF( $A193 < 'Polar 0-360'!S$365, 'Polar 0-360'!S$363 / COS!$B193,'Polar 0-360'!R193 )","v":5.0478972494368053},{"$f":" IF( $A193 < 'Polar 0-360'!Y$365, 'Polar 0-360'!Y$363 / COS!$B193,'Polar 0-360'!X193 )","v":5.6493065481971279},{"$f":" IF( $A193 < 'Polar 0-360'!AE$365, 'Polar 0-360'!AE$363 / COS!$B193,'Polar 0-360'!AD193 )","v":6.0137913984312057},{"$f":" IF( $A193 < 'Polar 0-360'!AK$365, 'Polar 0-360'!AK$363 / COS!$B193,'Polar 0-360'!AJ193 )","v":6.2827958491422358},{"$f":" IF( $A193 < 'Polar 0-360'!AQ$365, 'Polar 0-360'!AQ$363 / COS!$B193,'Polar 0-360'!AP193 )","v":6.8089549808689034}]
[{"$f":"'Polar 0-360'!A194","v":192},0,{"$f":" IF( $A194 < 'Polar 0-360'!G$365, 'Polar 0-360'!G$363 / COS!$B194,'Polar 0-360'!F194 )","v":3.4090399247437229},{"$f":" IF( $A194 < 'Polar 0-360'!M$365, 'Polar 0-360'!M$363 / COS!$B194,'Polar 0-360'!L194 )","v":4.2907532372704011},{"$f":" IF( $A194 < 'Polar 0-360'!S$365, 'Polar 0-360'!S$363 / COS!$B194,'Polar 0-360'!R194 )","v":5.0665000435498371},{"$f":" IF( $A194 < 'Polar 0-360'!Y$365, 'Polar 0-360'!Y$363 / COS!$B194,'Polar 0-360'!X194 )","v":5.6619266681388467},{"$f":" IF( $A194 < 'Polar 0-360'!AE$365, 'Polar 0-360'!AE$363 / COS!$B194,'Polar 0-360'!AD194 )","v":6.0226644941128953},{"$f":" IF( $A194 < 'Polar 0-360'!AK$365, 'Polar 0-360'!AK$363 / COS!$B194,'Polar 0-360'!AJ194 )","v":6.2919245430294115},{"$f":" IF( $A194 < 'Polar 0-360'!AQ$365, 'Polar 0-360'!AQ$363 / COS!$B194,'Polar 0-360'!AP194 )","v":6.8190713956201989}]
[{"$f":"'Polar 0-360'!A195","v":193},0,{"$f":" IF( $A195 < 'Polar 0-360'!G$365, 'Polar 0-360'!G$363 / COS!$B195,'Polar 0-360'!F195 )","v":3.4253889680038254},{"$f":" IF( $A195 < 'Polar 0-360'!M$365, 'Polar 0-360'!M$363 / COS!$B195,'Polar 0-360'!L195 )","v":4.3078711591083003},{"$f":" IF( $A195 < 'Polar 0-360'!S$365, 'Polar 0-360'!S$363 / COS!$B195,'Polar 0-360'!R195 )","v":5.085102837662868},{"$f":" IF( $A195 < 'Polar 0-360'!Y$365, 'Polar 0-360'!Y$363 / COS!$B195,'Polar 0-360'!X195 )","v":5.6745467880805673},{"$f":" IF( $A195 < 'Polar 0-360'!AE$365, 'Polar 0-360'!AE$363 / COS!$B195,'Polar 0-360'!AD195 )","v":6.0315375897945849},{"$f":" IF( $A195 < 'Polar 0-360'!AK$365, 'Polar 0-360'!AK$363 / COS!$B195,'Polar 0-360'!AJ195 )","v":6.3010532369165864},{"$f":" IF( $A195 < 'Polar 0-360'!AQ$365, 'Polar 0-360'!AQ$363 / COS!$B195,'Polar 0-360'!AP195 )","v":6.8291878103714954}]
[{"$f":"'Polar 0-360'!A196","v":194},0,{"$f":" IF( $A196 < 'Polar 0-360'!G$365, 'Polar 0-360'!G$363 / COS!$B196,'Polar 0-360'!F196 )","v":3.4417380112639284},{"$f":" IF( $A196 < 'Polar 0-360'!M$365, 'Polar 0-360'!M$363 / COS!$B196,'Polar 0-360'!L196 )","v":4.3249890809461995},{"$f":" IF( $A196 < 'Polar 0-360'!S$365, 'Polar 0-360'!S$363 / COS!$B196,'Polar 0-360'!R196 )","v":5.1037056317758989},{"$f":" IF( $A196 < 'Polar 0-360'!Y$365, 'Polar 0-360'!Y$363 / COS!$B196,'Polar 0-360'!X196 )","v":5.687166908022288},{"$f":" IF( $A196 < 'Polar 0-360'!AE$365, 'Polar 0-360'!AE$363 / COS!$B196,'Polar 0-360'!AD196 )","v":6.0404106854762745},{"$f":" IF( $A196 < 'Polar 0-360'!AK$365, 'Polar 0-360'!AK$363 / COS!$B196,'Polar 0-360'!AJ196 )","v":6.3101819308037621},{"$f":" IF( $A196 < 'Polar 0-360'!AQ$365, 'Polar 0-360'!AQ$363 / COS!$B196,'Polar 0-360'!AP196 )","v":6.8393042251227909}]
[{"$f":"'Polar 0-360'!A197","v":195},0,{"$f":" IF( $A197 < 'Polar 0-360'!G$365, 'Polar 0-360'!G$363 / COS!$B197,'Polar 0-360'!F197 )","v":3.458087054524031},{"$f":" IF( $A197 < 'Polar 0-360'!M$365, 'Polar 0-360'!M$363 / COS!$B197,'Polar 0-360'!L197 )","v":4.3421070027840978},{"$f":" IF( $A197 < 'Polar 0-360'!S$365, 'Polar 0-360'!S$363 / COS!$B197,'Polar 0-360'!R197 )","v":5.1223084258889298},{"$f":" IF( $A197 < 'Polar 0-360'!Y$365, 'Polar 0-360'!Y$363 / COS!$B197,'Polar 0-360'!X197 )","v":5.6997870279640077},{"$f":" IF( $A197 < 'Polar 0-360'!AE$365, 'Polar 0-360'!AE$363 / COS!$B197,'Polar 0-360'!AD197 )","v":6.0492837811579641},{"$f":" IF( $A197 < 'Polar 0-360'!AK$365, 'Polar 0-360'!AK$363 / COS!$B197,'Polar 0-360'!AJ197 )","v":6.319310624690937},{"$f":" IF( $A197 < 'Polar 0-360'!AQ$365, 'Polar 0-360'!AQ$363 / COS!$B197,'Polar 0-360'!AP197 )","v":6.8494206398740864}]
[{"$f":"'Polar 0-360'!A198","v":196},0,{"$f":" IF( $A198 < 'Polar 0-360'!G$365, 'Polar 0-360'!G$363 / COS!$B198,'Polar 0-360'!F198 )","v":3.474436097784134},{"$f":" IF( $A198 < 'Polar 0-360'!M$365, 'Polar 0-360'!M$363 / COS!$B198,'Polar 0-360'!L198 )","v":4.3592249246219961},{"$f":" IF( $A198 < 'Polar 0-360'!S$365, 'Polar 0-360'!S$363 / COS!$B198,'Polar 0-360'!R198 )","v":5.1409112200019607},{"$f":" IF( $A198 < 'Polar 0-360'!Y$365, 'Polar 0-360'!Y$363 / COS!$B198,'Polar 0-360'!X198 )","v":5.7124071479057275},{"$f":" IF( $A198 < 'Polar 0-360'!AE$365, 'Polar 0-360'!AE$363 / COS!$B198,'Polar 0-360'!AD198 )","v":6.0581568768396536},{"$f":" IF( $A198 < 'Polar 0-360'!AK$365, 'Polar 0-360'!AK$363 / COS!$B198,'Polar 0-360'!AJ198 )","v":6.3284393185781127},{"$f":" IF( $A198 < 'Polar 0-360'!AQ$365, 'Polar 0-360'!AQ$363 / COS!$B198,'Polar 0-360'!AP198 )","v":6.859537054625382}]
[{"$f":"'Polar 0-360'!A199","v":197},0,{"$f":" IF( $A199 < 'Polar 0-360'!G$365, 'Polar 0-360'!G$363 / COS!$B199,'Polar 0-360'!F199 )","v":3.4907851410442365},{"$f":" IF( $A199 < 'Polar 0-360'!M$365, 'Polar 0-360'!M$363 / COS!$B199,'Polar 0-360'!L199 )","v":4.3763428464598952},{"$f":" IF( $A199 < 'Polar 0-360'!S$365, 'Polar 0-360'!S$363 / COS!$B199,'Polar 0-360'!R199 )","v":5.1595140141149916},{"$f":" IF( $A199 < 'Polar 0-360'!Y$365, 'Polar 0-360'!Y$363 / COS!$B199,'Polar 0-360'!X199 )","v":5.7250272678474481},{"$f":" IF( $A199 < 'Polar 0-360'!AE$365, 'Polar 0-360'!AE$363 / COS!$B199,'Polar 0-360'!AD199 )","v":6.0670299725213432},{"$f":" IF( $A199 < 'Polar 0-360'!AK$365, 'Polar 0-360'!AK$363 / COS!$B199,'Polar 0-360'!AJ199 )","v":6.3375680124652876},{"$f":" IF( $A199 < 'Polar 0-360'!AQ$365, 'Polar 0-360'!AQ$363 / COS!$B199,'Polar 0-360'!AP199 )","v":6.8696534693766775}]
[{"$f":"'Polar 0-360'!A200","v":198},0,{"$f":" IF( $A200 < 'Polar 0-360'!G$365, 'Polar 0-360'!G$363 / COS!$B200,'Polar 0-360'!F200 )","v":3.5071341843043395},{"$f":" IF( $A200 < 'Polar 0-360'!M$365, 'Polar 0-360'!M$363 / COS!$B200,'Polar 0-360'!L200 )","v":4.3934607682977944},{"$f":" IF( $A200 < 'Polar 0-360'!S$365, 'Polar 0-360'!S$363 / COS!$B200,'Polar 0-360'!R200 )","v":5.1781168082280233},{"$f":" IF( $A200 < 'Polar 0-360'!Y$365, 'Polar 0-360'!Y$363 / COS!$B200,'Polar 0-360'!X200 )","v":5.7376473877891678},{"$f":" IF( $A200 < 'Polar 0-360'!AE$365, 'Polar 0-360'!AE$363 / COS!$B200,'Polar 0-360'!AD200 )","v":6.0759030682030328},{"$f":" IF( $A200 < 'Polar 0-360'!AK$365, 'Polar 0-360'!AK$363 / COS!$B200,'Polar 0-360'!AJ200 )","v":6.3466967063524624},{"$f":" IF( $A200 < 'Polar 0-360'!AQ$365, 'Polar 0-360'!AQ$363 / COS!$B200,'Polar 0-360'!AP200 )","v":6.879769884127974}]
[{"$f":"'Polar 0-360'!A201","v":199},0,{"$f":" IF( $A201 < 'Polar 0-360'!G$365, 'Polar 0-360'!G$363 / COS!$B201,'Polar 0-360'!F201 )","v":3.5234832275644421},{"$f":" IF( $A201 < 'Polar 0-360'!M$365, 'Polar 0-360'!M$363 / COS!$B201,'Polar 0-360'!L201 )","v":4.4105786901356936},{"$f":" IF( $A201 < 'Polar 0-360'!S$365, 'Polar 0-360'!S$363 / COS!$B201,'Polar 0-360'!R201 )","v":5.1967196023410542},{"$f":" IF( $A201 < 'Polar 0-360'!Y$365, 'Polar 0-360'!Y$363 / COS!$B201,'Polar 0-360'!X201 )","v":5.7502675077308876},{"$f":" IF( $A201 < 'Polar 0-360'!AE$365, 'Polar 0-360'!AE$363 / COS!$B201,'Polar 0-360'!AD201 )","v":6.0847761638847215},{"$f":" IF( $A201 < 'Polar 0-360'!AK$365, 'Polar 0-360'!AK$363 / COS!$B201,'Polar 0-360'!AJ201 )","v":6.3558254002396382},{"$f":" IF( $A201 < 'Polar 0-360'!AQ$365, 'Polar 0-360'!AQ$363 / COS!$B201,'Polar 0-360'!AP201 )","v":6.8898862988792695}]
[{"$f":"'Polar 0-360'!A202","v":200},0,{"$f":" IF( $A202 < 'Polar 0-360'!G$365, 'Polar 0-360'!G$363 / COS!$B202,'Polar 0-360'!F202 )","v":3.5398322708245447},{"$f":" IF( $A202 < 'Polar 0-360'!M$365, 'Polar 0-360'!M$363 / COS!$B202,'Polar 0-360'!L202 )","v":4.4276966119735928},{"$f":" IF( $A202 < 'Polar 0-360'!S$365, 'Polar 0-360'!S$363 / COS!$B202,'Polar 0-360'!R202 )","v":5.215322396454086},{"$f":" IF( $A202 < 'Polar 0-360'!Y$365, 'Polar 0-360'!Y$363 / COS!$B202,'Polar 0-360'!X202 )","v":5.7628876276726082},{"$f":" IF( $A202 < 'Polar 0-360'!AE$365, 'Polar 0-360'!AE$363 / COS!$B202,'Polar 0-360'!AD202 )","v":6.0936492595664111},{"$f":" IF( $A202 < 'Polar 0-360'!AK$365, 'Polar 0-360'!AK$363 / COS!$B202,'Polar 0-360'!AJ202 )","v":6.364954094126813},{"$f":" IF( $A202 < 'Polar 0-360'!AQ$365, 'Polar 0-360'!AQ$363 / COS!$B202,'Polar 0-360'!AP202 )","v":6.9000027136305651}]
[{"$f":"'Polar 0-360'!A203","v":201},0,{"$f":" IF( $A203 < 'Polar 0-360'!G$365, 'Polar 0-360'!G$363 / COS!$B203,'Polar 0-360'!F203 )","v":3.5561813140846477},{"$f":" IF( $A203 < 'Polar 0-360'!M$365, 'Polar 0-360'!M$363 / COS!$B203,'Polar 0-360'!L203 )","v":4.4448145338114911},{"$f":" IF( $A203 < 'Polar 0-360'!S$365, 'Polar 0-360'!S$363 / COS!$B203,'Polar 0-360'!R203 )","v":5.2339251905671169},{"$f":" IF( $A203 < 'Polar 0-360'!Y$365, 'Polar 0-360'!Y$363 / COS!$B203,'Polar 0-360'!X203 )","v":5.7755077476143288},{"$f":" IF( $A203 < 'Polar 0-360'!AE$365, 'Polar 0-360'!AE$363 / COS!$B203,'Polar 0-360'!AD203 )","v":6.1025223552481007},{"$f":" IF( $A203 < 'Polar 0-360'!AK$365, 'Polar 0-360'!AK$363 / COS!$B203,'Polar 0-360'!AJ203 )","v":6.3740827880139888},{"$f":" IF( $A203 < 'Polar 0-360'!AQ$365, 'Polar 0-360'!AQ$363 / COS!$B203,'Polar 0-360'!AP203 )","v":6.9101191283818606}]
[{"$f":"'Polar 0-360'!A204","v":202},0,{"$f":" IF( $A204 < 'Polar 0-360'!G$365, 'Polar 0-360'!G$363 / COS!$B204,'Polar 0-360'!F204 )","v":3.5725303573447502},{"$f":" IF( $A204 < 'Polar 0-360'!M$365, 'Polar 0-360'!M$363 / COS!$B204,'Polar 0-360'!L204 )","v":4.4619324556493893},{"$f":" IF( $A204 < 'Polar 0-360'!S$365, 'Polar 0-360'!S$363 / COS!$B204,'Polar 0-360'!R204 )","v":5.2525279846801478},{"$f":" IF( $A204 < 'Polar 0-360'!Y$365, 'Polar 0-360'!Y$363 / COS!$B204,'Polar 0-360'!X204 )","v":5.7881278675560486},{"$f":" IF( $A204 < 'Polar 0-360'!AE$365, 'Polar 0-360'!AE$363 / COS!$B204,'Polar 0-360'!AD204 )","v":6.1113954509297903},{"$f":" IF( $A204 < 'Polar 0-360'!AK$365, 'Polar 0-360'!AK$363 / COS!$B204,'Polar 0-360'!AJ204 )","v":6.3832114819011636},{"$f":" IF( $A204 < 'Polar 0-360'!AQ$365, 'Polar 0-360'!AQ$363 / COS!$B204,'Polar 0-360'!AP204 )","v":6.9202355431331561}]
[{"$f":"'Polar 0-360'!A205","v":203},0,{"$f":" IF( $A205 < 'Polar 0-360'!G$365, 'Polar 0-360'!G$363 / COS!$B205,'Polar 0-360'!F205 )","v":3.5888794006048532},{"$f":" IF( $A205 < 'Polar 0-360'!M$365, 'Polar 0-360'!M$363 / COS!$B205,'Polar 0-360'!L205 )","v":4.4790503774872885},{"$f":" IF( $A205 < 'Polar 0-360'!S$365, 'Polar 0-360'!S$363 / COS!$B205,'Polar 0-360'!R205 )","v":5.2711307787931787},{"$f":" IF( $A205 < 'Polar 0-360'!Y$365, 'Polar 0-360'!Y$363 / COS!$B205,'Polar 0-360'!X205 )","v":5.8007479874977683},{"$f":" IF( $A205 < 'Polar 0-360'!AE$365, 'Polar 0-360'!AE$363 / COS!$B205,'Polar 0-360'!AD205 )","v":6.1202685466114799},{"$f":" IF( $A205 < 'Polar 0-360'!AK$365, 'Polar 0-360'!AK$363 / COS!$B205,'Polar 0-360'!AJ205 )","v":6.3923401757883394},{"$f":" IF( $A205 < 'Polar 0-360'!AQ$365, 'Polar 0-360'!AQ$363 / COS!$B205,'Polar 0-360'!AP205 )","v":6.9303519578844526}]
[{"$f":"'Polar 0-360'!A206","v":204},0,{"$f":" IF( $A206 < 'Polar 0-360'!G$365, 'Polar 0-360'!G$363 / COS!$B206,'Polar 0-360'!F206 )","v":3.6052284438649558},{"$f":" IF( $A206 < 'Polar 0-360'!M$365, 'Polar 0-360'!M$363 / COS!$B206,'Polar 0-360'!L206 )","v":4.4961682993251877},{"$f":" IF( $A206 < 'Polar 0-360'!S$365, 'Polar 0-360'!S$363 / COS!$B206,'Polar 0-360'!R206 )","v":5.2897335729062096},{"$f":" IF( $A206 < 'Polar 0-360'!Y$365, 'Polar 0-360'!Y$363 / COS!$B206,'Polar 0-360'!X206 )","v":5.813368107439489},{"$f":" IF( $A206 < 'Polar 0-360'!AE$365, 'Polar 0-360'!AE$363 / COS!$B206,'Polar 0-360'!AD206 )","v":6.1291416422931695},{"$f":" IF( $A206 < 'Polar 0-360'!AK$365, 'Polar 0-360'!AK$363 / COS!$B206,'Polar 0-360'!AJ206 )","v":6.4014688696755142},{"$f":" IF( $A206 < 'Polar 0-360'!AQ$365, 'Polar 0-360'!AQ$363 / COS!$B206,'Polar 0-360'!AP206 )","v":6.9404683726357481}]
[{"$f":"'Polar 0-360'!A207","v":205},0,{"$f":" IF( $A207 < 'Polar 0-360'!G$365, 'Polar 0-360'!G$363 / COS!$B207,'Polar 0-360'!F207 )","v":3.6215774871250588},{"$f":" IF( $A207 < 'Polar 0-360'!M$365, 'Polar 0-360'!M$363 / COS!$B207,'Polar 0-360'!L207 )","v":4.5132862211630869},{"$f":" IF( $A207 < 'Polar 0-360'!S$365, 'Polar 0-360'!S$363 / COS!$B207,'Polar 0-360'!R207 )","v":5.3083363670192414},{"$f":" IF( $A207 < 'Polar 0-360'!Y$365, 'Polar 0-360'!Y$363 / COS!$B207,'Polar 0-360'!X207 )","v":5.8259882273812087},{"$f":" IF( $A207 < 'Polar 0-360'!AE$365, 'Polar 0-360'!AE$363 / COS!$B207,'Polar 0-360'!AD207 )","v":6.1380147379748591},{"$f":" IF( $A207 < 'Polar 0-360'!AK$365, 'Polar 0-360'!AK$363 / COS!$B207,'Polar 0-360'!AJ207 )","v":6.4105975635626891},{"$f":" IF( $A207 < 'Polar 0-360'!AQ$365, 'Polar 0-360'!AQ$363 / COS!$B207,'Polar 0-360'!AP207 )","v":6.9505847873870437}]
[{"$f":"'Polar 0-360'!A208","v":206},0,{"$f":" IF( $A208 < 'Polar 0-360'!G$365, 'Polar 0-360'!G$363 / COS!$B208,'Polar 0-360'!F208 )","v":3.6379265303851613},{"$f":" IF( $A208 < 'Polar 0-360'!M$365, 'Polar 0-360'!M$363 / COS!$B208,'Polar 0-360'!L208 )","v":4.530404143000986},{"$f":" IF( $A208 < 'Polar 0-360'!S$365, 'Polar 0-360'!S$363 / COS!$B208,'Polar 0-360'!R208 )","v":5.3269391611322723},{"$f":" IF( $A208 < 'Polar 0-360'!Y$365, 'Polar 0-360'!Y$363 / COS!$B208,'Polar 0-360'!X208 )","v":5.8386083473229284},{"$f":" IF( $A208 < 'Polar 0-360'!AE$365, 'Polar 0-360'!AE$363 / COS!$B208,'Polar 0-360'!AD208 )","v":6.1468878336565487},{"$f":" IF( $A208 < 'Polar 0-360'!AK$365, 'Polar 0-360'!AK$363 / COS!$B208,'Polar 0-360'!AJ208 )","v":6.4197262574498648},{"$f":" IF( $A208 < 'Polar 0-360'!AQ$365, 'Polar 0-360'!AQ$363 / COS!$B208,'Polar 0-360'!AP208 )","v":6.9607012021383392}]
[{"$f":"'Polar 0-360'!A209","v":207},0,{"$f":" IF( $A209 < 'Polar 0-360'!G$365, 'Polar 0-360'!G$363 / COS!$B209,'Polar 0-360'!F209 )","v":3.6542755736452643},{"$f":" IF( $A209 < 'Polar 0-360'!M$365, 'Polar 0-360'!M$363 / COS!$B209,'Polar 0-360'!L209 )","v":4.5475220648388843},{"$f":" IF( $A209 < 'Polar 0-360'!S$365, 'Polar 0-360'!S$363 / COS!$B209,'Polar 0-360'!R209 )","v":5.3455419552453041},{"$f":" IF( $A209 < 'Polar 0-360'!Y$365, 'Polar 0-360'!Y$363 / COS!$B209,'Polar 0-360'!X209 )","v":5.8512284672646491},{"$f":" IF( $A209 < 'Polar 0-360'!AE$365, 'Polar 0-360'!AE$363 / COS!$B209,'Polar 0-360'!AD209 )","v":6.1557609293382383},{"$f":" IF( $A209 < 'Polar 0-360'!AK$365, 'Polar 0-360'!AK$363 / COS!$B209,'Polar 0-360'!AJ209 )","v":6.4288549513370397},{"$f":" IF( $A209 < 'Polar 0-360'!AQ$365, 'Polar 0-360'!AQ$363 / COS!$B209,'Polar 0-360'!AP209 )","v":6.9708176168896347}]
[{"$f":"'Polar 0-360'!A210","v":208},0,{"$f":" IF( $A210 < 'Polar 0-360'!G$365, 'Polar 0-360'!G$363 / COS!$B210,'Polar 0-360'!F210 )","v":3.6706246169053669},{"$f":" IF( $A210 < 'Polar 0-360'!M$365, 'Polar 0-360'!M$363 / COS!$B210,'Polar 0-360'!L210 )","v":4.5646399866767826},{"$f":" IF( $A210 < 'Polar 0-360'!S$365, 'Polar 0-360'!S$363 / COS!$B210,'Polar 0-360'!R210 )","v":5.364144749358335},{"$f":" IF( $A210 < 'Polar 0-360'!Y$365, 'Polar 0-360'!Y$363 / COS!$B210,'Polar 0-360'!X210 )","v":5.8638485872063688},{"$f":" IF( $A210 < 'Polar 0-360'!AE$365, 'Polar 0-360'!AE$363 / COS!$B210,'Polar 0-360'!AD210 )","v":6.1646340250199279},{"$f":" IF( $A210 < 'Polar 0-360'!AK$365, 'Polar 0-360'!AK$363 / COS!$B210,'Polar 0-360'!AJ210 )","v":6.4379836452242154},{"$f":" IF( $A210 < 'Polar 0-360'!AQ$365, 'Polar 0-360'!AQ$363 / COS!$B210,'Polar 0-360'!AP210 )","v":6.9809340316409312}]
[{"$f":"'Polar 0-360'!A211","v":209},0,{"$f":" IF( $A211 < 'Polar 0-360'!G$365, 'Polar 0-360'!G$363 / COS!$B211,'Polar 0-360'!F211 )","v":3.6869736601654699},{"$f":" IF( $A211 < 'Polar 0-360'!M$365, 'Polar 0-360'!M$363 / COS!$B211,'Polar 0-360'!L211 )","v":4.5817579085146818},{"$f":" IF( $A211 < 'Polar 0-360'!S$365, 'Polar 0-360'!S$363 / COS!$B211,'Polar 0-360'!R211 )","v":5.3827475434713659},{"$f":" IF( $A211 < 'Polar 0-360'!Y$365, 'Polar 0-360'!Y$363 / COS!$B211,'Polar 0-360'!X211 )","v":5.8764687071480886},{"$f":" IF( $A211 < 'Polar 0-360'!AE$365, 'Polar 0-360'!AE$363 / COS!$B211,'Polar 0-360'!AD211 )","v":6.1735071207016174},{"$f":" IF( $A211 < 'Polar 0-360'!AK$365, 'Polar 0-360'!AK$363 / COS!$B211,'Polar 0-360'!AJ211 )","v":6.4471123391113903},{"$f":" IF( $A211 < 'Polar 0-360'!AQ$365, 'Polar 0-360'!AQ$363 / COS!$B211,'Polar 0-360'!AP211 )","v":6.9910504463922267}]
[{"$f":"'Polar 0-360'!A212","v":210},0,{"$f":" IF( $A212 < 'Polar 0-360'!G$365, 'Polar 0-360'!G$363 / COS!$B212,'Polar 0-360'!F212 )","v":3.7033227034255725},{"$f":" IF( $A212 < 'Polar 0-360'!M$365, 'Polar 0-360'!M$363 / COS!$B212,'Polar 0-360'!L212 )","v":4.598875830352581},{"$f":" IF( $A212 < 'Polar 0-360'!S$365, 'Polar 0-360'!S$363 / COS!$B212,'Polar 0-360'!R212 )","v":5.4013503375843968},{"$f":" IF( $A212 < 'Polar 0-360'!Y$365, 'Polar 0-360'!Y$363 / COS!$B212,'Polar 0-360'!X212 )","v":5.8890888270898092},{"$f":" IF( $A212 < 'Polar 0-360'!AE$365, 'Polar 0-360'!AE$363 / COS!$B212,'Polar 0-360'!AD212 )","v":6.182380216383307},{"$f":" IF( $A212 < 'Polar 0-360'!AK$365, 'Polar 0-360'!AK$363 / COS!$B212,'Polar 0-360'!AJ212 )","v":6.456241032998566},{"$f":" IF( $A212 < 'Polar 0-360'!AQ$365, 'Polar 0-360'!AQ$363 / COS!$B212,'Polar 0-360'!AP212 )","v":7.0011668611435223}]
[{"$f":"'Polar 0-360'!A213","v":211},0,{"$f":" IF( $A213 < 'Polar 0-360'!G$365, 'Polar 0-360'!G$363 / COS!$B213,'Polar 0-360'!F213 )","v":3.727989173570589},{"$f":" IF( $A213 < 'Polar 0-360'!M$365, 'Polar 0-360'!M$363 / COS!$B213,'Polar 0-360'!L213 )","v":4.6256174416624081},{"$f":" IF( $A213 < 'Polar 0-360'!S$365, 'Polar 0-360'!S$363 / COS!$B213,'Polar 0-360'!R213 )","v":5.4223941883517561},{"$f":" IF( $A213 < 'Polar 0-360'!Y$365, 'Polar 0-360'!Y$363 / COS!$B213,'Polar 0-360'!X213 )","v":5.901819841612145},{"$f":" IF( $A213 < 'Polar 0-360'!AE$365, 'Polar 0-360'!AE$363 / COS!$B213,'Polar 0-360'!AD213 )","v":6.194174900420923},{"$f":" IF( $A213 < 'Polar 0-360'!AK$365, 'Polar 0-360'!AK$363 / COS!$B213,'Polar 0-360'!AJ213 )","v":6.4692020193693853},{"$f":" IF( $A213 < 'Polar 0-360'!AQ$365, 'Polar 0-360'!AQ$363 / COS!$B213,'Polar 0-360'!AP213 )","v":7.0102352506808217}]
[{"$f":"'Polar 0-360'!A214","v":212},0,{"$f":" IF( $A214 < 'Polar 0-360'!G$365, 'Polar 0-360'!G$363 / COS!$B214,'Polar 0-360'!F214 )","v":3.7526556437156051},{"$f":" IF( $A214 < 'Polar 0-360'!M$365, 'Polar 0-360'!M$363 / COS!$B214,'Polar 0-360'!L214 )","v":4.652359052972237},{"$f":" IF( $A214 < 'Polar 0-360'!S$365, 'Polar 0-360'!S$363 / COS!$B214,'Polar 0-360'!R214 )","v":5.4434380391191164},{"$f":" IF( $A214 < 'Polar 0-360'!Y$365, 'Polar 0-360'!Y$363 / COS!$B214,'Polar 0-360'!X214 )","v":5.9145508561344808},{"$f":" IF( $A214 < 'Polar 0-360'!AE$365, 'Polar 0-360'!AE$363 / COS!$B214,'Polar 0-360'!AD214 )","v":6.2059695844585381},{"$f":" IF( $A214 < 'Polar 0-360'!AK$365, 'Polar 0-360'!AK$363 / COS!$B214,'Polar 0-360'!AJ214 )","v":6.4821630057402055},{"$f":" IF( $A214 < 'Polar 0-360'!AQ$365, 'Polar 0-360'!AQ$363 / COS!$B214,'Polar 0-360'!AP214 )","v":7.019303640218121}]
[{"$f":"'Polar 0-360'!A215","v":213},0,{"$f":" IF( $A215 < 'Polar 0-360'!G$365, 'Polar 0-360'!G$363 / COS!$B215,'Polar 0-360'!F215 )","v":3.7773221138606212},{"$f":" IF( $A215 < 'Polar 0-360'!M$365, 'Polar 0-360'!M$363 / COS!$B215,'Polar 0-360'!L215 )","v":4.6791006642820641},{"$f":" IF( $A215 < 'Polar 0-360'!S$365, 'Polar 0-360'!S$363 / COS!$B215,'Polar 0-360'!R215 )","v":5.4644818898864767},{"$f":" IF( $A215 < 'Polar 0-360'!Y$365, 'Polar 0-360'!Y$363 / COS!$B215,'Polar 0-360'!X215 )","v":5.9272818706568158},{"$f":" IF( $A215 < 'Polar 0-360'!AE$365, 'Polar 0-360'!AE$363 / COS!$B215,'Polar 0-360'!AD215 )","v":6.217764268496154},{"$f":" IF( $A215 < 'Polar 0-360'!AK$365, 'Polar 0-360'!AK$363 / COS!$B215,'Polar 0-360'!AJ215 )","v":6.4951239921110258},{"$f":" IF( $A215 < 'Polar 0-360'!AQ$365, 'Polar 0-360'!AQ$363 / COS!$B215,'Polar 0-360'!AP215 )","v":7.0283720297554204}]
[{"$f":"'Polar 0-360'!A216","v":214},0,{"$f":" IF( $A216 < 'Polar 0-360'!G$365, 'Polar 0-360'!G$363 / COS!$B216,'Polar 0-360'!F216 )","v":3.8019885840056373},{"$f":" IF( $A216 < 'Polar 0-360'!M$365, 'Polar 0-360'!M$363 / COS!$B216,'Polar 0-360'!L216 )","v":4.7058422755918929},{"$f":" IF( $A216 < 'Polar 0-360'!S$365, 'Polar 0-360'!S$363 / COS!$B216,'Polar 0-360'!R216 )","v":5.4855257406538378},{"$f":" IF( $A216 < 'Polar 0-360'!Y$365, 'Polar 0-360'!Y$363 / COS!$B216,'Polar 0-360'!X216 )","v":5.9400128851791516},{"$f":" IF( $A216 < 'Polar 0-360'!AE$365, 'Polar 0-360'!AE$363 / COS!$B216,'Polar 0-360'!AD216 )","v":6.2295589525337682},{"$f":" IF( $A216 < 'Polar 0-360'!AK$365, 'Polar 0-360'!AK$363 / COS!$B216,'Polar 0-360'!AJ216 )","v":6.5080849784818469},{"$f":" IF( $A216 < 'Polar 0-360'!AQ$365, 'Polar 0-360'!AQ$363 / COS!$B216,'Polar 0-360'!AP216 )","v":7.0374404192927198}]
[{"$f":"'Polar 0-360'!A217","v":215},0,{"$f":" IF( $A217 < 'Polar 0-360'!G$365, 'Polar 0-360'!G$363 / COS!$B217,'Polar 0-360'!F217 )","v":3.8266550541506534},{"$f":" IF( $A217 < 'Polar 0-360'!M$365, 'Polar 0-360'!M$363 / COS!$B217,'Polar 0-360'!L217 )","v":4.73258388690172},{"$f":" IF( $A217 < 'Polar 0-360'!S$365, 'Polar 0-360'!S$363 / COS!$B217,'Polar 0-360'!R217 )","v":5.506569591421199},{"$f":" IF( $A217 < 'Polar 0-360'!Y$365, 'Polar 0-360'!Y$363 / COS!$B217,'Polar 0-360'!X217 )","v":5.9527438997014874},{"$f":" IF( $A217 < 'Polar 0-360'!AE$365, 'Polar 0-360'!AE$363 / COS!$B217,'Polar 0-360'!AD217 )","v":6.2413536365713842},{"$f":" IF( $A217 < 'Polar 0-360'!AK$365, 'Polar 0-360'!AK$363 / COS!$B217,'Polar 0-360'!AJ217 )","v":6.5210459648526671},{"$f":" IF( $A217 < 'Polar 0-360'!AQ$365, 'Polar 0-360'!AQ$363 / COS!$B217,'Polar 0-360'!AP217 )","v":7.0465088088300192}]
[{"$f":"'Polar 0-360'!A218","v":216},0,{"$f":" IF( $A218 < 'Polar 0-360'!G$365, 'Polar 0-360'!G$363 / COS!$B218,'Polar 0-360'!F218 )","v":3.8513215242956695},{"$f":" IF( $A218 < 'Polar 0-360'!M$365, 'Polar 0-360'!M$363 / COS!$B218,'Polar 0-360'!L218 )","v":4.759325498211548},{"$f":" IF( $A218 < 'Polar 0-360'!S$365, 'Polar 0-360'!S$363 / COS!$B218,'Polar 0-360'!R218 )","v":5.5276134421885592},{"$f":" IF( $A218 < 'Polar 0-360'!Y$365, 'Polar 0-360'!Y$363 / COS!$B218,'Polar 0-360'!X218 )","v":5.9654749142238233},{"$f":" IF( $A218 < 'Polar 0-360'!AE$365, 'Polar 0-360'!AE$363 / COS!$B218,'Polar 0-360'!AD218 )","v":6.2531483206089993},{"$f":" IF( $A218 < 'Polar 0-360'!AK$365, 'Polar 0-360'!AK$363 / COS!$B218,'Polar 0-360'!AJ218 )","v":6.5340069512234873},{"$f":" IF( $A218 < 'Polar 0-360'!AQ$365, 'Polar 0-360'!AQ$363 / COS!$B218,'Polar 0-360'!AP218 )","v":7.0555771983673186}]
[{"$f":"'Polar 0-360'!A219","v":217},0,{"$f":" IF( $A219 < 'Polar 0-360'!G$365, 'Polar 0-360'!G$363 / COS!$B219,'Polar 0-360'!F219 )","v":3.8759879944406856},{"$f":" IF( $A219 < 'Polar 0-360'!M$365, 'Polar 0-360'!M$363 / COS!$B219,'Polar 0-360'!L219 )","v":4.786067109521376},{"$f":" IF( $A219 < 'Polar 0-360'!S$365, 'Polar 0-360'!S$363 / COS!$B219,'Polar 0-360'!R219 )","v":5.5486572929559195},{"$f":" IF( $A219 < 'Polar 0-360'!Y$365, 'Polar 0-360'!Y$363 / COS!$B219,'Polar 0-360'!X219 )","v":5.9782059287461582},{"$f":" IF( $A219 < 'Polar 0-360'!AE$365, 'Polar 0-360'!AE$363 / COS!$B219,'Polar 0-360'!AD219 )","v":6.2649430046466144},{"$f":" IF( $A219 < 'Polar 0-360'!AK$365, 'Polar 0-360'!AK$363 / COS!$B219,'Polar 0-360'!AJ219 )","v":6.5469679375943084},{"$f":" IF( $A219 < 'Polar 0-360'!AQ$365, 'Polar 0-360'!AQ$363 / COS!$B219,'Polar 0-360'!AP219 )","v":7.0646455879046179}]
[{"$f":"'Polar 0-360'!A220","v":218},0,{"$f":" IF( $A220 < 'Polar 0-360'!G$365, 'Polar 0-360'!G$363 / COS!$B220,'Polar 0-360'!F220 )","v":3.9006544645857018},{"$f":" IF( $A220 < 'Polar 0-360'!M$365, 'Polar 0-360'!M$363 / COS!$B220,'Polar 0-360'!L220 )","v":4.812808720831204},{"$f":" IF( $A220 < 'Polar 0-360'!S$365, 'Polar 0-360'!S$363 / COS!$B220,'Polar 0-360'!R220 )","v":5.5697011437232806},{"$f":" IF( $A220 < 'Polar 0-360'!Y$365, 'Polar 0-360'!Y$363 / COS!$B220,'Polar 0-360'!X220 )","v":5.990936943268494},{"$f":" IF( $A220 < 'Polar 0-360'!AE$365, 'Polar 0-360'!AE$363 / COS!$B220,'Polar 0-360'!AD220 )","v":6.2767376886842294},{"$f":" IF( $A220 < 'Polar 0-360'!AK$365, 'Polar 0-360'!AK$363 / COS!$B220,'Polar 0-360'!AJ220 )","v":6.5599289239651286},{"$f":" IF( $A220 < 'Polar 0-360'!AQ$365, 'Polar 0-360'!AQ$363 / COS!$B220,'Polar 0-360'!AP220 )","v":7.0737139774419173}]
[{"$f":"'Polar 0-360'!A221","v":219},0,{"$f":" IF( $A221 < 'Polar 0-360'!G$365, 'Polar 0-360'!G$363 / COS!$B221,'Polar 0-360'!F221 )","v":3.9253209347307179},{"$f":" IF( $A221 < 'Polar 0-360'!M$365, 'Polar 0-360'!M$363 / COS!$B221,'Polar 0-360'!L221 )","v":4.839550332141032},{"$f":" IF( $A221 < 'Polar 0-360'!S$365, 'Polar 0-360'!S$363 / COS!$B221,'Polar 0-360'!R221 )","v":5.5907449944906418},{"$f":" IF( $A221 < 'Polar 0-360'!Y$365, 'Polar 0-360'!Y$363 / COS!$B221,'Polar 0-360'!X221 )","v":6.0036679577908298},{"$f":" IF( $A221 < 'Polar 0-360'!AE$365, 'Polar 0-360'!AE$363 / COS!$B221,'Polar 0-360'!AD221 )","v":6.2885323727218445},{"$f":" IF( $A221 < 'Polar 0-360'!AK$365, 'Polar 0-360'!AK$363 / COS!$B221,'Polar 0-360'!AJ221 )","v":6.5728899103359488},{"$f":" IF( $A221 < 'Polar 0-360'!AQ$365, 'Polar 0-360'!AQ$363 / COS!$B221,'Polar 0-360'!AP221 )","v":7.0827823669792167}]
[{"$f":"'Polar 0-360'!A222","v":220},0,{"$f":" IF( $A222 < 'Polar 0-360'!G$365, 'Polar 0-360'!G$363 / COS!$B222,'Polar 0-360'!F222 )","v":3.949987404875734},{"$f":" IF( $A222 < 'Polar 0-360'!M$365, 'Polar 0-360'!M$363 / COS!$B222,'Polar 0-360'!L222 )","v":4.86629194345086},{"$f":" IF( $A222 < 'Polar 0-360'!S$365, 'Polar 0-360'!S$363 / COS!$B222,'Polar 0-360'!R222 )","v":5.611788845258002},{"$f":" IF( $A222 < 'Polar 0-360'!Y$365, 'Polar 0-360'!Y$363 / COS!$B222,'Polar 0-360'!X222 )","v":6.0163989723131657},{"$f":" IF( $A222 < 'Polar 0-360'!AE$365, 'Polar 0-360'!AE$363 / COS!$B222,'Polar 0-360'!AD222 )","v":6.3003270567594605},{"$f":" IF( $A222 < 'Polar 0-360'!AK$365, 'Polar 0-360'!AK$363 / COS!$B222,'Polar 0-360'!AJ222 )","v":6.5858508967067699},{"$f":" IF( $A222 < 'Polar 0-360'!AQ$365, 'Polar 0-360'!AQ$363 / COS!$B222,'Polar 0-360'!AP222 )","v":7.0918507565165161}]
[{"$f":"'Polar 0-360'!A223","v":221},0,{"$f":" IF( $A223 < 'Polar 0-360'!G$365, 'Polar 0-360'!G$363 / COS!$B223,'Polar 0-360'!F223 )","v":3.9746538750207501},{"$f":" IF( $A223 < 'Polar 0-360'!M$365, 'Polar 0-360'!M$363 / COS!$B223,'Polar 0-360'!L223 )","v":4.893033554760688},{"$f":" IF( $A223 < 'Polar 0-360'!S$365, 'Polar 0-360'!S$363 / COS!$B223,'Polar 0-360'!R223 )","v":5.6328326960253623},{"$f":" IF( $A223 < 'Polar 0-360'!Y$365, 'Polar 0-360'!Y$363 / COS!$B223,'Polar 0-360'!X223 )","v":6.0291299868355015},{"$f":" IF( $A223 < 'Polar 0-360'!AE$365, 'Polar 0-360'!AE$363 / COS!$B223,'Polar 0-360'!AD223 )","v":6.3121217407970747},{"$f":" IF( $A223 < 'Polar 0-360'!AK$365, 'Polar 0-360'!AK$363 / COS!$B223,'Polar 0-360'!AJ223 )","v":6.5988118830775901},{"$f":" IF( $A223 < 'Polar 0-360'!AQ$365, 'Polar 0-360'!AQ$363 / COS!$B223,'Polar 0-360'!AP223 )","v":7.1009191460538155}]
[{"$f":"'Polar 0-360'!A224","v":222},0,{"$f":" IF( $A224 < 'Polar 0-360'!G$365, 'Polar 0-360'!G$363 / COS!$B224,'Polar 0-360'!F224 )","v":3.9993203451657662},{"$f":" IF( $A224 < 'Polar 0-360'!M$365, 'Polar 0-360'!M$363 / COS!$B224,'Polar 0-360'!L224 )","v":4.919775166070516},{"$f":" IF( $A224 < 'Polar 0-360'!S$365, 'Polar 0-360'!S$363 / COS!$B224,'Polar 0-360'!R224 )","v":5.6538765467927234},{"$f":" IF( $A224 < 'Polar 0-360'!Y$365, 'Polar 0-360'!Y$363 / COS!$B224,'Polar 0-360'!X224 )","v":6.0418610013578373},{"$f":" IF( $A224 < 'Polar 0-360'!AE$365, 'Polar 0-360'!AE$363 / COS!$B224,'Polar 0-360'!AD224 )","v":6.3239164248346906},{"$f":" IF( $A224 < 'Polar 0-360'!AK$365, 'Polar 0-360'!AK$363 / COS!$B224,'Polar 0-360'!AJ224 )","v":6.6117728694484104},{"$f":" IF( $A224 < 'Polar 0-360'!AQ$365, 'Polar 0-360'!AQ$363 / COS!$B224,'Polar 0-360'!AP224 )","v":7.1099875355911148}]
[{"$f":"'Polar 0-360'!A225","v":223},0,{"$f":" IF( $A225 < 'Polar 0-360'!G$365, 'Polar 0-360'!G$363 / COS!$B225,'Polar 0-360'!F225 )","v":4.0239868153107823},{"$f":" IF( $A225 < 'Polar 0-360'!M$365, 'Polar 0-360'!M$363 / COS!$B225,'Polar 0-360'!L225 )","v":4.946516777380344},{"$f":" IF( $A225 < 'Polar 0-360'!S$365, 'Polar 0-360'!S$363 / COS!$B225,'Polar 0-360'!R225 )","v":5.6749203975600846},{"$f":" IF( $A225 < 'Polar 0-360'!Y$365, 'Polar 0-360'!Y$363 / COS!$B225,'Polar 0-360'!X225 )","v":6.0545920158801723},{"$f":" IF( $A225 < 'Polar 0-360'!AE$365, 'Polar 0-360'!AE$363 / COS!$B225,'Polar 0-360'!AD225 )","v":6.3357111088723057},{"$f":" IF( $A225 < 'Polar 0-360'!AK$365, 'Polar 0-360'!AK$363 / COS!$B225,'Polar 0-360'!AJ225 )","v":6.6247338558192315},{"$f":" IF( $A225 < 'Polar 0-360'!AQ$365, 'Polar 0-360'!AQ$363 / COS!$B225,'Polar 0-360'!AP225 )","v":7.1190559251284142}]
[{"$f":"'Polar 0-360'!A226","v":224},0,{"$f":" IF( $A226 < 'Polar 0-360'!G$365, 'Polar 0-360'!G$363 / COS!$B226,'Polar 0-360'!F226 )","v":4.0486532854557984},{"$f":" IF( $A226 < 'Polar 0-360'!M$365, 'Polar 0-360'!M$363 / COS!$B226,'Polar 0-360'!L226 )","v":4.9732583886901711},{"$f":" IF( $A226 < 'Polar 0-360'!S$365, 'Polar 0-360'!S$363 / COS!$B226,'Polar 0-360'!R226 )","v":5.6959642483274449},{"$f":" IF( $A226 < 'Polar 0-360'!Y$365, 'Polar 0-360'!Y$363 / COS!$B226,'Polar 0-360'!X226 )","v":6.0673230304025081},{"$f":" IF( $A226 < 'Polar 0-360'!AE$365, 'Polar 0-360'!AE$363 / COS!$B226,'Polar 0-360'!AD226 )","v":6.3475057929099208},{"$f":" IF( $A226 < 'Polar 0-360'!AK$365, 'Polar 0-360'!AK$363 / COS!$B226,'Polar 0-360'!AJ226 )","v":6.6376948421900517},{"$f":" IF( $A226 < 'Polar 0-360'!AQ$365, 'Polar 0-360'!AQ$363 / COS!$B226,'Polar 0-360'!AP226 )","v":7.1281243146657136}]
[{"$f":"'Polar 0-360'!A227","v":225},0,{"$f":" IF( $A227 < 'Polar 0-360'!G$365, 'Polar 0-360'!G$363 / COS!$B227,'Polar 0-360'!F227 )","v":4.0733197556008136},{"$f":" IF( $A227 < 'Polar 0-360'!M$365, 'Polar 0-360'!M$363 / COS!$B227,'Polar 0-360'!L227 )","v":5},{"$f":" IF( $A227 < 'Polar 0-360'!S$365, 'Polar 0-360'!S$363 / COS!$B227,'Polar 0-360'!R227 )","v":5.717008099094806},{"$f":" IF( $A227 < 'Polar 0-360'!Y$365, 'Polar 0-360'!Y$363 / COS!$B227,'Polar 0-360'!X227 )","v":6.0800540449248439},{"$f":" IF( $A227 < 'Polar 0-360'!AE$365, 'Polar 0-360'!AE$363 / COS!$B227,'Polar 0-360'!AD227 )","v":6.3593004769475359},{"$f":" IF( $A227 < 'Polar 0-360'!AK$365, 'Polar 0-360'!AK$363 / COS!$B227,'Polar 0-360'!AJ227 )","v":6.6506558285608719},{"$f":" IF( $A227 < 'Polar 0-360'!AQ$365, 'Polar 0-360'!AQ$363 / COS!$B227,'Polar 0-360'!AP227 )","v":7.137192704203013}]
[{"$f":"'Polar 0-360'!A228","v":226},0,{"$f":" IF( $A228 < 'Polar 0-360'!G$365, 'Polar 0-360'!G$363 / COS!$B228,'Polar 0-360'!F228 )","v":4.0779847307399111},{"$f":" IF( $A228 < 'Polar 0-360'!M$365, 'Polar 0-360'!M$363 / COS!$B228,'Polar 0-360'!L228 )","v":5.0051282051282051},{"$f":" IF( $A228 < 'Polar 0-360'!S$365, 'Polar 0-360'!S$363 / COS!$B228,'Polar 0-360'!R228 )","v":5.7201744986859975},{"$f":" IF( $A228 < 'Polar 0-360'!Y$365, 'Polar 0-360'!Y$363 / COS!$B228,'Polar 0-360'!X228 )","v":6.0822506561339846},{"$f":" IF( $A228 < 'Polar 0-360'!AE$365, 'Polar 0-360'!AE$363 / COS!$B228,'Polar 0-360'!AD228 )","v":6.3614300610046541},{"$f":" IF( $A228 < 'Polar 0-360'!AK$365, 'Polar 0-360'!AK$363 / COS!$B228,'Polar 0-360'!AJ228 )","v":6.6516919099584975},{"$f":" IF( $A228 < 'Polar 0-360'!AQ$365, 'Polar 0-360'!AQ$363 / COS!$B228,'Polar 0-360'!AP228 )","v":7.1319696904685257}]
[{"$f":"'Polar 0-360'!A229","v":227},0,{"$f":" IF( $A229 < 'Polar 0-360'!G$365, 'Polar 0-360'!G$363 / COS!$B229,'Polar 0-360'!F229 )","v":4.0826497058790068},{"$f":" IF( $A229 < 'Polar 0-360'!M$365, 'Polar 0-360'!M$363 / COS!$B229,'Polar 0-360'!L229 )","v":5.0102564102564102},{"$f":" IF( $A229 < 'Polar 0-360'!S$365, 'Polar 0-360'!S$363 / COS!$B229,'Polar 0-360'!R229 )","v":5.7233408982771881},{"$f":" IF( $A229 < 'Polar 0-360'!Y$365, 'Polar 0-360'!Y$363 / COS!$B229,'Polar 0-360'!X229 )","v":6.0844472673431254},{"$f":" IF( $A229 < 'Polar 0-360'!AE$365, 'Polar 0-360'!AE$363 / COS!$B229,'Polar 0-360'!AD229 )","v":6.3635596450617724},{"$f":" IF( $A229 < 'Polar 0-360'!AK$365, 'Polar 0-360'!AK$363 / COS!$B229,'Polar 0-360'!AJ229 )","v":6.6527279913561213},{"$f":" IF( $A229 < 'Polar 0-360'!AQ$365, 'Polar 0-360'!AQ$363 / COS!$B229,'Polar 0-360'!AP229 )","v":7.1267466767340366}]
[{"$f":"'Polar 0-360'!A230","v":228},0,{"$f":" IF( $A230 < 'Polar 0-360'!G$365, 'Polar 0-360'!G$363 / COS!$B230,'Polar 0-360'!F230 )","v":4.0873146810181025},{"$f":" IF( $A230 < 'Polar 0-360'!M$365, 'Polar 0-360'!M$363 / COS!$B230,'Polar 0-360'!L230 )","v":5.0153846153846153},{"$f":" IF( $A230 < 'Polar 0-360'!S$365, 'Polar 0-360'!S$363 / COS!$B230,'Polar 0-360'!R230 )","v":5.7265072978683786},{"$f":" IF( $A230 < 'Polar 0-360'!Y$365, 'Polar 0-360'!Y$363 / COS!$B230,'Polar 0-360'!X230 )","v":6.086643878552267},{"$f":" IF( $A230 < 'Polar 0-360'!AE$365, 'Polar 0-360'!AE$363 / COS!$B230,'Polar 0-360'!AD230 )","v":6.3656892291188907},{"$f":" IF( $A230 < 'Polar 0-360'!AK$365, 'Polar 0-360'!AK$363 / COS!$B230,'Polar 0-360'!AJ230 )","v":6.6537640727537459},{"$f":" IF( $A230 < 'Polar 0-360'!AQ$365, 'Polar 0-360'!AQ$363 / COS!$B230,'Polar 0-360'!AP230 )","v":7.1215236629995475}]
[{"$f":"'Polar 0-360'!A231","v":229},0,{"$f":" IF( $A231 < 'Polar 0-360'!G$365, 'Polar 0-360'!G$363 / COS!$B231,'Polar 0-360'!F231 )","v":4.0919796561571982},{"$f":" IF( $A231 < 'Polar 0-360'!M$365, 'Polar 0-360'!M$363 / COS!$B231,'Polar 0-360'!L231 )","v":5.0205128205128204},{"$f":" IF( $A231 < 'Polar 0-360'!S$365, 'Polar 0-360'!S$363 / COS!$B231,'Polar 0-360'!R231 )","v":5.7296736974595692},{"$f":" IF( $A231 < 'Polar 0-360'!Y$365, 'Polar 0-360'!Y$363 / COS!$B231,'Polar 0-360'!X231 )","v":6.0888404897614077},{"$f":" IF( $A231 < 'Polar 0-360'!AE$365, 'Polar 0-360'!AE$363 / COS!$B231,'Polar 0-360'!AD231 )","v":6.367818813176009},{"$f":" IF( $A231 < 'Polar 0-360'!AK$365, 'Polar 0-360'!AK$363 / COS!$B231,'Polar 0-360'!AJ231 )","v":6.6548001541513706},{"$f":" IF( $A231 < 'Polar 0-360'!AQ$365, 'Polar 0-360'!AQ$363 / COS!$B231,'Polar 0-360'!AP231 )","v":7.1163006492650593}]
[{"$f":"'Polar 0-360'!A232","v":230},0,{"$f":" IF( $A232 < 'Polar 0-360'!G$365, 'Polar 0-360'!G$363 / COS!$B232,'Polar 0-360'!F232 )","v":4.0966446312962947},{"$f":" IF( $A232 < 'Polar 0-360'!M$365, 'Polar 0-360'!M$363 / COS!$B232,'Polar 0-360'!L232 )","v":5.0256410256410255},{"$f":" IF( $A232 < 'Polar 0-360'!S$365, 'Polar 0-360'!S$363 / COS!$B232,'Polar 0-360'!R232 )","v":5.7328400970507607},{"$f":" IF( $A232 < 'Polar 0-360'!Y$365, 'Polar 0-360'!Y$363 / COS!$B232,'Polar 0-360'!X232 )","v":6.0910371009705493},{"$f":" IF( $A232 < 'Polar 0-360'!AE$365, 'Polar 0-360'!AE$363 / COS!$B232,'Polar 0-360'!AD232 )","v":6.3699483972331272},{"$f":" IF( $A232 < 'Polar 0-360'!AK$365, 'Polar 0-360'!AK$363 / COS!$B232,'Polar 0-360'!AJ232 )","v":6.6558362355489944},{"$f":" IF( $A232 < 'Polar 0-360'!AQ$365, 'Polar 0-360'!AQ$363 / COS!$B232,'Polar 0-360'!AP232 )","v":7.1110776355305703}]
[{"$f":"'Polar 0-360'!A233","v":231},0,{"$f":" IF( $A233 < 'Polar 0-360'!G$365, 'Polar 0-360'!G$363 / COS!$B233,'Polar 0-360'!F233 )","v":4.1013096064353904},{"$f":" IF( $A233 < 'Polar 0-360'!M$365, 'Polar 0-360'!M$363 / COS!$B233,'Polar 0-360'!L233 )","v":5.0307692307692307},{"$f":" IF( $A233 < 'Polar 0-360'!S$365, 'Polar 0-360'!S$363 / COS!$B233,'Polar 0-360'!R233 )","v":5.7360064966419513},{"$f":" IF( $A233 < 'Polar 0-360'!Y$365, 'Polar 0-360'!Y$363 / COS!$B233,'Polar 0-360'!X233 )","v":6.0932337121796909},{"$f":" IF( $A233 < 'Polar 0-360'!AE$365, 'Polar 0-360'!AE$363 / COS!$B233,'Polar 0-360'!AD233 )","v":6.3720779812902446},{"$f":" IF( $A233 < 'Polar 0-360'!AK$365, 'Polar 0-360'!AK$363 / COS!$B233,'Polar 0-360'!AJ233 )","v":6.6568723169466191},{"$f":" IF( $A233 < 'Polar 0-360'!AQ$365, 'Polar 0-360'!AQ$363 / COS!$B233,'Polar 0-360'!AP233 )","v":7.1058546217960821}]
[{"$f":"'Polar 0-360'!A234","v":232},0,{"$f":" IF( $A234 < 'Polar 0-360'!G$365, 'Polar 0-360'!G$363 / COS!$B234,'Polar 0-360'!F234 )","v":4.1059745815744861},{"$f":" IF( $A234 < 'Polar 0-360'!M$365, 'Polar 0-360'!M$363 / COS!$B234,'Polar 0-360'!L234 )","v":5.0358974358974358},{"$f":" IF( $A234 < 'Polar 0-360'!S$365, 'Polar 0-360'!S$363 / COS!$B234,'Polar 0-360'!R234 )","v":5.7391728962331419},{"$f":" IF( $A234 < 'Polar 0-360'!Y$365, 'Polar 0-360'!Y$363 / COS!$B234,'Polar 0-360'!X234 )","v":6.0954303233888316},{"$f":" IF( $A234 < 'Polar 0-360'!AE$365, 'Polar 0-360'!AE$363 / COS!$B234,'Polar 0-360'!AD234 )","v":6.3742075653473629},{"$f":" IF( $A234 < 'Polar 0-360'!AK$365, 'Polar 0-360'!AK$363 / COS!$B234,'Polar 0-360'!AJ234 )","v":6.6579083983442437},{"$f":" IF( $A234 < 'Polar 0-360'!AQ$365, 'Polar 0-360'!AQ$363 / COS!$B234,'Polar 0-360'!AP234 )","v":7.100631608061593}]
[{"$f":"'Polar 0-360'!A235","v":233},0,{"$f":" IF( $A235 < 'Polar 0-360'!G$365, 'Polar 0-360'!G$363 / COS!$B235,'Polar 0-360'!F235 )","v":4.1106395567135818},{"$f":" IF( $A235 < 'Polar 0-360'!M$365, 'Polar 0-360'!M$363 / COS!$B235,'Polar 0-360'!L235 )","v":5.0410256410256409},{"$f":" IF( $A235 < 'Polar 0-360'!S$365, 'Polar 0-360'!S$363 / COS!$B235,'Polar 0-360'!R235 )","v":5.7423392958243333},{"$f":" IF( $A235 < 'Polar 0-360'!Y$365, 'Polar 0-360'!Y$363 / COS!$B235,'Polar 0-360'!X235 )","v":6.0976269345979732},{"$f":" IF( $A235 < 'Polar 0-360'!AE$365, 'Polar 0-360'!AE$363 / COS!$B235,'Polar 0-360'!AD235 )","v":6.3763371494044812},{"$f":" IF( $A235 < 'Polar 0-360'!AK$365, 'Polar 0-360'!AK$363 / COS!$B235,'Polar 0-360'!AJ235 )","v":6.6589444797418684},{"$f":" IF( $A235 < 'Polar 0-360'!AQ$365, 'Polar 0-360'!AQ$363 / COS!$B235,'Polar 0-360'!AP235 )","v":7.0954085943271039}]
[{"$f":"'Polar 0-360'!A236","v":234},0,{"$f":" IF( $A236 < 'Polar 0-360'!G$365, 'Polar 0-360'!G$363 / COS!$B236,'Polar 0-360'!F236 )","v":4.1153045318526784},{"$f":" IF( $A236 < 'Polar 0-360'!M$365, 'Polar 0-360'!M$363 / COS!$B236,'Polar 0-360'!L236 )","v":5.046153846153846},{"$f":" IF( $A236 < 'Polar 0-360'!S$365, 'Polar 0-360'!S$363 / COS!$B236,'Polar 0-360'!R236 )","v":5.7455056954155239},{"$f":" IF( $A236 < 'Polar 0-360'!Y$365, 'Polar 0-360'!Y$363 / COS!$B236,'Polar 0-360'!X236 )","v":6.0998235458071139},{"$f":" IF( $A236 < 'Polar 0-360'!AE$365, 'Polar 0-360'!AE$363 / COS!$B236,'Polar 0-360'!AD236 )","v":6.3784667334615994},{"$f":" IF( $A236 < 'Polar 0-360'!AK$365, 'Polar 0-360'!AK$363 / COS!$B236,'Polar 0-360'!AJ236 )","v":6.6599805611394922},{"$f":" IF( $A236 < 'Polar 0-360'!AQ$365, 'Polar 0-360'!AQ$363 / COS!$B236,'Polar 0-360'!AP236 )","v":7.0901855805926157}]
[{"$f":"'Polar 0-360'!A237","v":235},0,{"$f":" IF( $A237 < 'Polar 0-360'!G$365, 'Polar 0-360'!G$363 / COS!$B237,'Polar 0-360'!F237 )","v":4.1199695069917741},{"$f":" IF( $A237 < 'Polar 0-360'!M$365, 'Polar 0-360'!M$363 / COS!$B237,'Polar 0-360'!L237 )","v":5.0512820512820511},{"$f":" IF( $A237 < 'Polar 0-360'!S$365, 'Polar 0-360'!S$363 / COS!$B237,'Polar 0-360'!R237 )","v":5.7486720950067145},{"$f":" IF( $A237 < 'Polar 0-360'!Y$365, 'Polar 0-360'!Y$363 / COS!$B237,'Polar 0-360'!X237 )","v":6.1020201570162556},{"$f":" IF( $A237 < 'Polar 0-360'!AE$365, 'Polar 0-360'!AE$363 / COS!$B237,'Polar 0-360'!AD237 )","v":6.3805963175187177},{"$f":" IF( $A237 < 'Polar 0-360'!AK$365, 'Polar 0-360'!AK$363 / COS!$B237,'Polar 0-360'!AJ237 )","v":6.6610166425371169},{"$f":" IF( $A237 < 'Polar 0-360'!AQ$365, 'Polar 0-360'!AQ$363 / COS!$B237,'Polar 0-360'!AP237 )","v":7.0849625668581266}]
[{"$f":"'Polar 0-360'!A238","v":236},0,{"$f":" IF( $A238 < 'Polar 0-360'!G$365, 'Polar 0-360'!G$363 / COS!$B238,'Polar 0-360'!F238 )","v":4.1246344821308698},{"$f":" IF( $A238 < 'Polar 0-360'!M$365, 'Polar 0-360'!M$363 / COS!$B238,'Polar 0-360'!L238 )","v":5.0564102564102562},{"$f":" IF( $A238 < 'Polar 0-360'!S$365, 'Polar 0-360'!S$363 / COS!$B238,'Polar 0-360'!R238 )","v":5.7518384945979051},{"$f":" IF( $A238 < 'Polar 0-360'!Y$365, 'Polar 0-360'!Y$363 / COS!$B238,'Polar 0-360'!X238 )","v":6.1042167682253963},{"$f":" IF( $A238 < 'Polar 0-360'!AE$365, 'Polar 0-360'!AE$363 / COS!$B238,'Polar 0-360'!AD238 )","v":6.382725901575836},{"$f":" IF( $A238 < 'Polar 0-360'!AK$365, 'Polar 0-360'!AK$363 / COS!$B238,'Polar 0-360'!AJ238 )","v":6.6620527239347416},{"$f":" IF( $A238 < 'Polar 0-360'!AQ$365, 'Polar 0-360'!AQ$363 / COS!$B238,'Polar 0-360'!AP238 )","v":7.0797395531236376}]
[{"$f":"'Polar 0-360'!A239","v":237},0,{"$f":" IF( $A239 < 'Polar 0-360'!G$365, 'Polar 0-360'!G$363 / COS!$B239,'Polar 0-360'!F239 )","v":4.1292994572699655},{"$f":" IF( $A239 < 'Polar 0-360'!M$365, 'Polar 0-360'!M$363 / COS!$B239,'Polar 0-360'!L239 )","v":5.0615384615384613},{"$f":" IF( $A239 < 'Polar 0-360'!S$365, 'Polar 0-360'!S$363 / COS!$B239,'Polar 0-360'!R239 )","v":5.7550048941890957},{"$f":" IF( $A239 < 'Polar 0-360'!Y$365, 'Polar 0-360'!Y$363 / COS!$B239,'Polar 0-360'!X239 )","v":6.1064133794345379},{"$f":" IF( $A239 < 'Polar 0-360'!AE$365, 'Polar 0-360'!AE$363 / COS!$B239,'Polar 0-360'!AD239 )","v":6.3848554856329542},{"$f":" IF( $A239 < 'Polar 0-360'!AK$365, 'Polar 0-360'!AK$363 / COS!$B239,'Polar 0-360'!AJ239 )","v":6.6630888053323654},{"$f":" IF( $A239 < 'Polar 0-360'!AQ$365, 'Polar 0-360'!AQ$363 / COS!$B239,'Polar 0-360'!AP239 )","v":7.0745165393891494}]
[{"$f":"'Polar 0-360'!A240","v":238},0,{"$f":" IF( $A240 < 'Polar 0-360'!G$365, 'Polar 0-360'!G$363 / COS!$B240,'Polar 0-360'!F240 )","v":4.1339644324090621},{"$f":" IF( $A240 < 'Polar 0-360'!M$365, 'Polar 0-360'!M$363 / COS!$B240,'Polar 0-360'!L240 )","v":5.0666666666666664},{"$f":" IF( $A240 < 'Polar 0-360'!S$365, 'Polar 0-360'!S$363 / COS!$B240,'Polar 0-360'!R240 )","v":5.7581712937802871},{"$f":" IF( $A240 < 'Polar 0-360'!Y$365, 'Polar 0-360'!Y$363 / COS!$B240,'Polar 0-360'!X240 )","v":6.1086099906436795},{"$f":" IF( $A240 < 'Polar 0-360'!AE$365, 'Polar 0-360'!AE$363 / COS!$B240,'Polar 0-360'!AD240 )","v":6.3869850696900725},{"$f":" IF( $A240 < 'Polar 0-360'!AK$365, 'Polar 0-360'!AK$363 / COS!$B240,'Polar 0-360'!AJ240 )","v":6.66412488672999},{"$f":" IF( $A240 < 'Polar 0-360'!AQ$365, 'Polar 0-360'!AQ$363 / COS!$B240,'Polar 0-360'!AP240 )","v":7.0692935256546603}]
[{"$f":"'Polar 0-360'!A241","v":239},0,{"$f":" IF( $A241 < 'Polar 0-360'!G$365, 'Polar 0-360'!G$363 / COS!$B241,'Polar 0-360'!F241 )","v":4.1386294075481578},{"$f":" IF( $A241 < 'Polar 0-360'!M$365, 'Polar 0-360'!M$363 / COS!$B241,'Polar 0-360'!L241 )","v":5.0717948717948715},{"$f":" IF( $A241 < 'Polar 0-360'!S$365, 'Polar 0-360'!S$363 / COS!$B241,'Polar 0-360'!R241 )","v":5.7613376933714777},{"$f":" IF( $A241 < 'Polar 0-360'!Y$365, 'Polar 0-360'!Y$363 / COS!$B241,'Polar 0-360'!X241 )","v":6.1108066018528202},{"$f":" IF( $A241 < 'Polar 0-360'!AE$365, 'Polar 0-360'!AE$363 / COS!$B241,'Polar 0-360'!AD241 )","v":6.3891146537471908},{"$f":" IF( $A241 < 'Polar 0-360'!AK$365, 'Polar 0-360'!AK$363 / COS!$B241,'Polar 0-360'!AJ241 )","v":6.6651609681276147},{"$f":" IF( $A241 < 'Polar 0-360'!AQ$365, 'Polar 0-360'!AQ$363 / COS!$B241,'Polar 0-360'!AP241 )","v":7.0640705119201712}]
[{"$f":"'Polar 0-360'!A242","v":240},0,{"$f":" IF( $A242 < 'Polar 0-360'!G$365, 'Polar 0-360'!G$363 / COS!$B242,'Polar 0-360'!F242 )","v":4.1432943826872535},{"$f":" IF( $A242 < 'Polar 0-360'!M$365, 'Polar 0-360'!M$363 / COS!$B242,'Polar 0-360'!L242 )","v":5.0769230769230766},{"$f":" IF( $A242 < 'Polar 0-360'!S$365, 'Polar 0-360'!S$363 / COS!$B242,'Polar 0-360'!R242 )","v":5.7645040929626683},{"$f":" IF( $A242 < 'Polar 0-360'!Y$365, 'Polar 0-360'!Y$363 / COS!$B242,'Polar 0-360'!X242 )","v":6.1130032130619618},{"$f":" IF( $A242 < 'Polar 0-360'!AE$365, 'Polar 0-360'!AE$363 / COS!$B242,'Polar 0-360'!AD242 )","v":6.3912442378043082},{"$f":" IF( $A242 < 'Polar 0-360'!AK$365, 'Polar 0-360'!AK$363 / COS!$B242,'Polar 0-360'!AJ242 )","v":6.6661970495252394},{"$f":" IF( $A242 < 'Polar 0-360'!AQ$365, 'Polar 0-360'!AQ$363 / COS!$B242,'Polar 0-360'!AP242 )","v":7.058847498185683}]
[{"$f":"'Polar 0-360'!A243","v":241},0,{"$f":" IF( $A243 < 'Polar 0-360'!G$365, 'Polar 0-360'!G$363 / COS!$B243,'Polar 0-360'!F243 )","v":4.1479593578263492},{"$f":" IF( $A243 < 'Polar 0-360'!M$365, 'Polar 0-360'!M$363 / COS!$B243,'Polar 0-360'!L243 )","v":5.0820512820512818},{"$f":" IF( $A243 < 'Polar 0-360'!S$365, 'Polar 0-360'!S$363 / COS!$B243,'Polar 0-360'!R243 )","v":5.7676704925538589},{"$f":" IF( $A243 < 'Polar 0-360'!Y$365, 'Polar 0-360'!Y$363 / COS!$B243,'Polar 0-360'!X243 )","v":6.1151998242711025},{"$f":" IF( $A243 < 'Polar 0-360'!AE$365, 'Polar 0-360'!AE$363 / COS!$B243,'Polar 0-360'!AD243 )","v":6.3933738218614264},{"$f":" IF( $A243 < 'Polar 0-360'!AK$365, 'Polar 0-360'!AK$363 / COS!$B243,'Polar 0-360'!AJ243 )","v":6.6672331309228632},{"$f":" IF( $A243 < 'Polar 0-360'!AQ$365, 'Polar 0-360'!AQ$363 / COS!$B243,'Polar 0-360'!AP243 )","v":7.0536244844511939}]
[{"$f":"'Polar 0-360'!A244","v":242},0,{"$f":" IF( $A244 < 'Polar 0-360'!G$365, 'Polar 0-360'!G$363 / COS!$B244,'Polar 0-360'!F244 )","v":4.1526243329654449},{"$f":" IF( $A244 < 'Polar 0-360'!M$365, 'Polar 0-360'!M$363 / COS!$B244,'Polar 0-360'!L244 )","v":5.0871794871794869},{"$f":" IF( $A244 < 'Polar 0-360'!S$365, 'Polar 0-360'!S$363 / COS!$B244,'Polar 0-360'!R244 )","v":5.7708368921450504},{"$f":" IF( $A244 < 'Polar 0-360'!Y$365, 'Polar 0-360'!Y$363 / COS!$B244,'Polar 0-360'!X244 )","v":6.1173964354802441},{"$f":" IF( $A244 < 'Polar 0-360'!AE$365, 'Polar 0-360'!AE$363 / COS!$B244,'Polar 0-360'!AD244 )","v":6.3955034059185447},{"$f":" IF( $A244 < 'Polar 0-360'!AK$365, 'Polar 0-360'!AK$363 / COS!$B244,'Polar 0-360'!AJ244 )","v":6.6682692123204879},{"$f":" IF( $A244 < 'Polar 0-360'!AQ$365, 'Polar 0-360'!AQ$363 / COS!$B244,'Polar 0-360'!AP244 )","v":7.0484014707167049}]
[{"$f":"'Polar 0-360'!A245","v":243},0,{"$f":" IF( $A245 < 'Polar 0-360'!G$365, 'Polar 0-360'!G$363 / COS!$B245,'Polar 0-360'!F245 )","v":4.1572893081045414},{"$f":" IF( $A245 < 'Polar 0-360'!M$365, 'Polar 0-360'!M$363 / COS!$B245,'Polar 0-360'!L245 )","v":5.092307692307692},{"$f":" IF( $A245 < 'Polar 0-360'!S$365, 'Polar 0-360'!S$363 / COS!$B245,'Polar 0-360'!R245 )","v":5.7740032917362409},{"$f":" IF( $A245 < 'Polar 0-360'!Y$365, 'Polar 0-360'!Y$363 / COS!$B245,'Polar 0-360'!X245 )","v":6.1195930466893849},{"$f":" IF( $A245 < 'Polar 0-360'!AE$365, 'Polar 0-360'!AE$363 / COS!$B245,'Polar 0-360'!AD245 )","v":6.397632989975663},{"$f":" IF( $A245 < 'Polar 0-360'!AK$365, 'Polar 0-360'!AK$363 / COS!$B245,'Polar 0-360'!AJ245 )","v":6.6693052937181125},{"$f":" IF( $A245 < 'Polar 0-360'!AQ$365, 'Polar 0-360'!AQ$363 / COS!$B245,'Polar 0-360'!AP245 )","v":7.0431784569822167}]
[{"$f":"'Polar 0-360'!A246","v":244},0,{"$f":" IF( $A246 < 'Polar 0-360'!G$365, 'Polar 0-360'!G$363 / COS!$B246,'Polar 0-360'!F246 )","v":4.1619542832436371},{"$f":" IF( $A246 < 'Polar 0-360'!M$365, 'Polar 0-360'!M$363 / COS!$B246,'Polar 0-360'!L246 )","v":5.0974358974358971},{"$f":" IF( $A246 < 'Polar 0-360'!S$365, 'Polar 0-360'!S$363 / COS!$B246,'Polar 0-360'!R246 )","v":5.7771696913274315},{"$f":" IF( $A246 < 'Polar 0-360'!Y$365, 'Polar 0-360'!Y$363 / COS!$B246,'Polar 0-360'!X246 )","v":6.1217896578985265},{"$f":" IF( $A246 < 'Polar 0-360'!AE$365, 'Polar 0-360'!AE$363 / COS!$B246,'Polar 0-360'!AD246 )","v":6.3997625740327813},{"$f":" IF( $A246 < 'Polar 0-360'!AK$365, 'Polar 0-360'!AK$363 / COS!$B246,'Polar 0-360'!AJ246 )","v":6.6703413751157363},{"$f":" IF( $A246 < 'Polar 0-360'!AQ$365, 'Polar 0-360'!AQ$363 / COS!$B246,'Polar 0-360'!AP246 )","v":7.0379554432477276}]
[{"$f":"'Polar 0-360'!A247","v":245},0,{"$f":" IF( $A247 < 'Polar 0-360'!G$365, 'Polar 0-360'!G$363 / COS!$B247,'Polar 0-360'!F247 )","v":4.1666192583827328},{"$f":" IF( $A247 < 'Polar 0-360'!M$365, 'Polar 0-360'!M$363 / COS!$B247,'Polar 0-360'!L247 )","v":5.1025641025641022},{"$f":" IF( $A247 < 'Polar 0-360'!S$365, 'Polar 0-360'!S$363 / COS!$B247,'Polar 0-360'!R247 )","v":5.7803360909186221},{"$f":" IF( $A247 < 'Polar 0-360'!Y$365, 'Polar 0-360'!Y$363 / COS!$B247,'Polar 0-360'!X247 )","v":6.1239862691076681},{"$f":" IF( $A247 < 'Polar 0-360'!AE$365, 'Polar 0-360'!AE$363 / COS!$B247,'Polar 0-360'!AD247 )","v":6.4018921580898995},{"$f":" IF( $A247 < 'Polar 0-360'!AK$365, 'Polar 0-360'!AK$363 / COS!$B247,'Polar 0-360'!AJ247 )","v":6.671377456513361},{"$f":" IF( $A247 < 'Polar 0-360'!AQ$365, 'Polar 0-360'!AQ$363 / COS!$B247,'Polar 0-360'!AP247 )","v":7.0327324295132385}]
[{"$f":"'Polar 0-360'!A248","v":246},0,{"$f":" IF( $A248 < 'Polar 0-360'!G$365, 'Polar 0-360'!G$363 / COS!$B248,'Polar 0-360'!F248 )","v":4.1712842335218294},{"$f":" IF( $A248 < 'Polar 0-360'!M$365, 'Polar 0-360'!M$363 / COS!$B248,'Polar 0-360'!L248 )","v":5.1076923076923073},{"$f":" IF( $A248 < 'Polar 0-360'!S$365, 'Polar 0-360'!S$363 / COS!$B248,'Polar 0-360'!R248 )","v":5.7835024905098136},{"$f":" IF( $A248 < 'Polar 0-360'!Y$365, 'Polar 0-360'!Y$363 / COS!$B248,'Polar 0-360'!X248 )","v":6.1261828803168088},{"$f":" IF( $A248 < 'Polar 0-360'!AE$365, 'Polar 0-360'!AE$363 / COS!$B248,'Polar 0-360'!AD248 )","v":6.4040217421470178},{"$f":" IF( $A248 < 'Polar 0-360'!AK$365, 'Polar 0-360'!AK$363 / COS!$B248,'Polar 0-360'!AJ248 )","v":6.6724135379109857},{"$f":" IF( $A248 < 'Polar 0-360'!AQ$365, 'Polar 0-360'!AQ$363 / COS!$B248,'Polar 0-360'!AP248 )","v":7.0275094157787503}]
[{"$f":"'Polar 0-360'!A249","v":247},0,{"$f":" IF( $A249 < 'Polar 0-360'!G$365, 'Polar 0-360'!G$363 / COS!$B249,'Polar 0-360'!F249 )","v":4.1759492086609251},{"$f":" IF( $A249 < 'Polar 0-360'!M$365, 'Polar 0-360'!M$363 / COS!$B249,'Polar 0-360'!L249 )","v":5.1128205128205124},{"$f":" IF( $A249 < 'Polar 0-360'!S$365, 'Polar 0-360'!S$363 / COS!$B249,'Polar 0-360'!R249 )","v":5.7866688901010042},{"$f":" IF( $A249 < 'Polar 0-360'!Y$365, 'Polar 0-360'!Y$363 / COS!$B249,'Polar 0-360'!X249 )","v":6.1283794915259504},{"$f":" IF( $A249 < 'Polar 0-360'!AE$365, 'Polar 0-360'!AE$363 / COS!$B249,'Polar 0-360'!AD249 )","v":6.4061513262041361},{"$f":" IF( $A249 < 'Polar 0-360'!AK$365, 'Polar 0-360'!AK$363 / COS!$B249,'Polar 0-360'!AJ249 )","v":6.6734496193086104},{"$f":" IF( $A249 < 'Polar 0-360'!AQ$365, 'Polar 0-360'!AQ$363 / COS!$B249,'Polar 0-360'!AP249 )","v":7.0222864020442612}]
[{"$f":"'Polar 0-360'!A250","v":248},0,{"$f":" IF( $A250 < 'Polar 0-360'!G$365, 'Polar 0-360'!G$363 / COS!$B250,'Polar 0-360'!F250 )","v":4.1806141838000208},{"$f":" IF( $A250 < 'Polar 0-360'!M$365, 'Polar 0-360'!M$363 / COS!$B250,'Polar 0-360'!L250 )","v":5.1179487179487175},{"$f":" IF( $A250 < 'Polar 0-360'!S$365, 'Polar 0-360'!S$363 / COS!$B250,'Polar 0-360'!R250 )","v":5.7898352896921947},{"$f":" IF( $A250 < 'Polar 0-360'!Y$365, 'Polar 0-360'!Y$363 / COS!$B250,'Polar 0-360'!X250 )","v":6.1305761027350911},{"$f":" IF( $A250 < 'Polar 0-360'!AE$365, 'Polar 0-360'!AE$363 / COS!$B250,'Polar 0-360'!AD250 )","v":6.4082809102612535},{"$f":" IF( $A250 < 'Polar 0-360'!AK$365, 'Polar 0-360'!AK$363 / COS!$B250,'Polar 0-360'!AJ250 )","v":6.6744857007062341},{"$f":" IF( $A250 < 'Polar 0-360'!AQ$365, 'Polar 0-360'!AQ$363 / COS!$B250,'Polar 0-360'!AP250 )","v":7.0170633883097731}]
[{"$f":"'Polar 0-360'!A251","v":249},0,{"$f":" IF( $A251 < 'Polar 0-360'!G$365, 'Polar 0-360'!G$363 / COS!$B251,'Polar 0-360'!F251 )","v":4.1852791589391165},{"$f":" IF( $A251 < 'Polar 0-360'!M$365, 'Polar 0-360'!M$363 / COS!$B251,'Polar 0-360'!L251 )","v":5.1230769230769226},{"$f":" IF( $A251 < 'Polar 0-360'!S$365, 'Polar 0-360'!S$363 / COS!$B251,'Polar 0-360'!R251 )","v":5.7930016892833853},{"$f":" IF( $A251 < 'Polar 0-360'!Y$365, 'Polar 0-360'!Y$363 / COS!$B251,'Polar 0-360'!X251 )","v":6.1327727139442327},{"$f":" IF( $A251 < 'Polar 0-360'!AE$365, 'Polar 0-360'!AE$363 / COS!$B251,'Polar 0-360'!AD251 )","v":6.4104104943183717},{"$f":" IF( $A251 < 'Polar 0-360'!AK$365, 'Polar 0-360'!AK$363 / COS!$B251,'Polar 0-360'!AJ251 )","v":6.6755217821038588},{"$f":" IF( $A251 < 'Polar 0-360'!AQ$365, 'Polar 0-360'!AQ$363 / COS!$B251,'Polar 0-360'!AP251 )","v":7.011840374575284}]
[{"$f":"'Polar 0-360'!A252","v":250},0,{"$f":" IF( $A252 < 'Polar 0-360'!G$365, 'Polar 0-360'!G$363 / COS!$B252,'Polar 0-360'!F252 )","v":4.1899441340782122},{"$f":" IF( $A252 < 'Polar 0-360'!M$365, 'Polar 0-360'!M$363 / COS!$B252,'Polar 0-360'!L252 )","v":5.1282051282051286},{"$f":" IF( $A252 < 'Polar 0-360'!S$365, 'Polar 0-360'!S$363 / COS!$B252,'Polar 0-360'!R252 )","v":5.7961680888745768},{"$f":" IF( $A252 < 'Polar 0-360'!Y$365, 'Polar 0-360'!Y$363 / COS!$B252,'Polar 0-360'!X252 )","v":6.1349693251533735},{"$f":" IF( $A252 < 'Polar 0-360'!AE$365, 'Polar 0-360'!AE$363 / COS!$B252,'Polar 0-360'!AD252 )","v":6.41254007837549},{"$f":" IF( $A252 < 'Polar 0-360'!AK$365, 'Polar 0-360'!AK$363 / COS!$B252,'Polar 0-360'!AJ252 )","v":6.6765578635014835},{"$f":" IF( $A252 < 'Polar 0-360'!AQ$365, 'Polar 0-360'!AQ$363 / COS!$B252,'Polar 0-360'!AP252 )","v":7.0066173608407949}]
[{"$f":"'Polar 0-360'!A253","v":251},0,{"$f":" IF( $A253 < 'Polar 0-360'!G$365, 'Polar 0-360'!G$363 / COS!$B253,'Polar 0-360'!F253 )","v":4.1847138361350824},{"$f":" IF( $A253 < 'Polar 0-360'!M$365, 'Polar 0-360'!M$363 / COS!$B253,'Polar 0-360'!L253 )","v":5.1222819299635329},{"$f":" IF( $A253 < 'Polar 0-360'!S$365, 'Polar 0-360'!S$363 / COS!$B253,'Polar 0-360'!R253 )","v":5.7923009076238579},{"$f":" IF( $A253 < 'Polar 0-360'!Y$365, 'Polar 0-360'!Y$363 / COS!$B253,'Polar 0-360'!X253 )","v":6.1305386284623831},{"$f":" IF( $A253 < 'Polar 0-360'!AE$365, 'Polar 0-360'!AE$363 / COS!$B253,'Polar 0-360'!AD253 )","v":6.4040878923547382},{"$f":" IF( $A253 < 'Polar 0-360'!AK$365, 'Polar 0-360'!AK$363 / COS!$B253,'Polar 0-360'!AJ253 )","v":6.659241311982818},{"$f":" IF( $A253 < 'Polar 0-360'!AQ$365, 'Polar 0-360'!AQ$363 / COS!$B253,'Polar 0-360'!AP253 )","v":6.9781173528023306}]
[{"$f":"'Polar 0-360'!A254","v":252},0,{"$f":" IF( $A254 < 'Polar 0-360'!G$365, 'Polar 0-360'!G$363 / COS!$B254,'Polar 0-360'!F254 )","v":4.1794835381919526},{"$f":" IF( $A254 < 'Polar 0-360'!M$365, 'Polar 0-360'!M$363 / COS!$B254,'Polar 0-360'!L254 )","v":5.1163587317219381},{"$f":" IF( $A254 < 'Polar 0-360'!S$365, 'Polar 0-360'!S$363 / COS!$B254,'Polar 0-360'!R254 )","v":5.7884337263731398},{"$f":" IF( $A254 < 'Polar 0-360'!Y$365, 'Polar 0-360'!Y$363 / COS!$B254,'Polar 0-360'!X254 )","v":6.1261079317713927},{"$f":" IF( $A254 < 'Polar 0-360'!AE$365, 'Polar 0-360'!AE$363 / COS!$B254,'Polar 0-360'!AD254 )","v":6.3956357063339864},{"$f":" IF( $A254 < 'Polar 0-360'!AK$365, 'Polar 0-360'!AK$363 / COS!$B254,'Polar 0-360'!AJ254 )","v":6.6419247604641534},{"$f":" IF( $A254 < 'Polar 0-360'!AQ$365, 'Polar 0-360'!AQ$363 / COS!$B254,'Polar 0-360'!AP254 )","v":6.9496173447638663}]
[{"$f":"'Polar 0-360'!A255","v":253},0,{"$f":" IF( $A255 < 'Polar 0-360'!G$365, 'Polar 0-360'!G$363 / COS!$B255,'Polar 0-360'!F255 )","v":4.1742532402488228},{"$f":" IF( $A255 < 'Polar 0-360'!M$365, 'Polar 0-360'!M$363 / COS!$B255,'Polar 0-360'!L255 )","v":5.1104355334803433},{"$f":" IF( $A255 < 'Polar 0-360'!S$365, 'Polar 0-360'!S$363 / COS!$B255,'Polar 0-360'!R255 )","v":5.7845665451224209},{"$f":" IF( $A255 < 'Polar 0-360'!Y$365, 'Polar 0-360'!Y$363 / COS!$B255,'Polar 0-360'!X255 )","v":6.1216772350804014},{"$f":" IF( $A255 < 'Polar 0-360'!AE$365, 'Polar 0-360'!AE$363 / COS!$B255,'Polar 0-360'!AD255 )","v":6.3871835203132346},{"$f":" IF( $A255 < 'Polar 0-360'!AK$365, 'Polar 0-360'!AK$363 / COS!$B255,'Polar 0-360'!AJ255 )","v":6.6246082089454887},{"$f":" IF( $A255 < 'Polar 0-360'!AQ$365, 'Polar 0-360'!AQ$363 / COS!$B255,'Polar 0-360'!AP255 )","v":6.9211173367254029}]
[{"$f":"'Polar 0-360'!A256","v":254},0,{"$f":" IF( $A256 < 'Polar 0-360'!G$365, 'Polar 0-360'!G$363 / COS!$B256,'Polar 0-360'!F256 )","v":4.169022942305693},{"$f":" IF( $A256 < 'Polar 0-360'!M$365, 'Polar 0-360'!M$363 / COS!$B256,'Polar 0-360'!L256 )","v":5.1045123352387476},{"$f":" IF( $A256 < 'Polar 0-360'!S$365, 'Polar 0-360'!S$363 / COS!$B256,'Polar 0-360'!R256 )","v":5.7806993638717028},{"$f":" IF( $A256 < 'Polar 0-360'!Y$365, 'Polar 0-360'!Y$363 / COS!$B256,'Polar 0-360'!X256 )","v":6.117246538389411},{"$f":" IF( $A256 < 'Polar 0-360'!AE$365, 'Polar 0-360'!AE$363 / COS!$B256,'Polar 0-360'!AD256 )","v":6.3787313342924836},{"$f":" IF( $A256 < 'Polar 0-360'!AK$365, 'Polar 0-360'!AK$363 / COS!$B256,'Polar 0-360'!AJ256 )","v":6.6072916574268241},{"$f":" IF( $A256 < 'Polar 0-360'!AQ$365, 'Polar 0-360'!AQ$363 / COS!$B256,'Polar 0-360'!AP256 )","v":6.8926173286869385}]
[{"$f":"'Polar 0-360'!A257","v":255},0,{"$f":" IF( $A257 < 'Polar 0-360'!G$365, 'Polar 0-360'!G$363 / COS!$B257,'Polar 0-360'!F257 )","v":4.1637926443625624},{"$f":" IF( $A257 < 'Polar 0-360'!M$365, 'Polar 0-360'!M$363 / COS!$B257,'Polar 0-360'!L257 )","v":5.0985891369971528},{"$f":" IF( $A257 < 'Polar 0-360'!S$365, 'Polar 0-360'!S$363 / COS!$B257,'Polar 0-360'!R257 )","v":5.7768321826209839},{"$f":" IF( $A257 < 'Polar 0-360'!Y$365, 'Polar 0-360'!Y$363 / COS!$B257,'Polar 0-360'!X257 )","v":6.1128158416984197},{"$f":" IF( $A257 < 'Polar 0-360'!AE$365, 'Polar 0-360'!AE$363 / COS!$B257,'Polar 0-360'!AD257 )","v":6.3702791482717318},{"$f":" IF( $A257 < 'Polar 0-360'!AK$365, 'Polar 0-360'!AK$363 / COS!$B257,'Polar 0-360'!AJ257 )","v":6.5899751059081595},{"$f":" IF( $A257 < 'Polar 0-360'!AQ$365, 'Polar 0-360'!AQ$363 / COS!$B257,'Polar 0-360'!AP257 )","v":6.8641173206484751}]
[{"$f":"'Polar 0-360'!A258","v":256},0,{"$f":" IF( $A258 < 'Polar 0-360'!G$365, 'Polar 0-360'!G$363 / COS!$B258,'Polar 0-360'!F258 )","v":4.1585623464194326},{"$f":" IF( $A258 < 'Polar 0-360'!M$365, 'Polar 0-360'!M$363 / COS!$B258,'Polar 0-360'!L258 )","v":5.0926659387555571},{"$f":" IF( $A258 < 'Polar 0-360'!S$365, 'Polar 0-360'!S$363 / COS!$B258,'Polar 0-360'!R258 )","v":5.7729650013702658},{"$f":" IF( $A258 < 'Polar 0-360'!Y$365, 'Polar 0-360'!Y$363 / COS!$B258,'Polar 0-360'!X258 )","v":6.1083851450074294},{"$f":" IF( $A258 < 'Polar 0-360'!AE$365, 'Polar 0-360'!AE$363 / COS!$B258,'Polar 0-360'!AD258 )","v":6.36182696225098},{"$f":" IF( $A258 < 'Polar 0-360'!AK$365, 'Polar 0-360'!AK$363 / COS!$B258,'Polar 0-360'!AJ258 )","v":6.572658554389494},{"$f":" IF( $A258 < 'Polar 0-360'!AQ$365, 'Polar 0-360'!AQ$363 / COS!$B258,'Polar 0-360'!AP258 )","v":6.8356173126100117}]
[{"$f":"'Polar 0-360'!A259","v":257},0,{"$f":" IF( $A259 < 'Polar 0-360'!G$365, 'Polar 0-360'!G$363 / COS!$B259,'Polar 0-360'!F259 )","v":4.1533320484763028},{"$f":" IF( $A259 < 'Polar 0-360'!M$365, 'Polar 0-360'!M$363 / COS!$B259,'Polar 0-360'!L259 )","v":5.0867427405139622},{"$f":" IF( $A259 < 'Polar 0-360'!S$365, 'Polar 0-360'!S$363 / COS!$B259,'Polar 0-360'!R259 )","v":5.7690978201195469},{"$f":" IF( $A259 < 'Polar 0-360'!Y$365, 'Polar 0-360'!Y$363 / COS!$B259,'Polar 0-360'!X259 )","v":6.1039544483164381},{"$f":" IF( $A259 < 'Polar 0-360'!AE$365, 'Polar 0-360'!AE$363 / COS!$B259,'Polar 0-360'!AD259 )","v":6.3533747762302282},{"$f":" IF( $A259 < 'Polar 0-360'!AK$365, 'Polar 0-360'!AK$363 / COS!$B259,'Polar 0-360'!AJ259 )","v":6.5553420028708294},{"$f":" IF( $A259 < 'Polar 0-360'!AQ$365, 'Polar 0-360'!AQ$363 / COS!$B259,'Polar 0-360'!AP259 )","v":6.8071173045715474}]
[{"$f":"'Polar 0-360'!A260","v":258},0,{"$f":" IF( $A260 < 'Polar 0-360'!G$365, 'Polar 0-360'!G$363 / COS!$B260,'Polar 0-360'!F260 )","v":4.148101750533173},{"$f":" IF( $A260 < 'Polar 0-360'!M$365, 'Polar 0-360'!M$363 / COS!$B260,'Polar 0-360'!L260 )","v":5.0808195422723674},{"$f":" IF( $A260 < 'Polar 0-360'!S$365, 'Polar 0-360'!S$363 / COS!$B260,'Polar 0-360'!R260 )","v":5.7652306388688288},{"$f":" IF( $A260 < 'Polar 0-360'!Y$365, 'Polar 0-360'!Y$363 / COS!$B260,'Polar 0-360'!X260 )","v":6.0995237516254477},{"$f":" IF( $A260 < 'Polar 0-360'!AE$365, 'Polar 0-360'!AE$363 / COS!$B260,'Polar 0-360'!AD260 )","v":6.3449225902094764},{"$f":" IF( $A260 < 'Polar 0-360'!AK$365, 'Polar 0-360'!AK$363 / COS!$B260,'Polar 0-360'!AJ260 )","v":6.5380254513521647},{"$f":" IF( $A260 < 'Polar 0-360'!AQ$365, 'Polar 0-360'!AQ$363 / COS!$B260,'Polar 0-360'!AP260 )","v":6.7786172965330831}]
[{"$f":"'Polar 0-360'!A261","v":259},0,{"$f":" IF( $A261 < 'Polar 0-360'!G$365, 'Polar 0-360'!G$363 / COS!$B261,'Polar 0-360'!F261 )","v":4.1428714525900432},{"$f":" IF( $A261 < 'Polar 0-360'!M$365, 'Polar 0-360'!M$363 / COS!$B261,'Polar 0-360'!L261 )","v":5.0748963440307717},{"$f":" IF( $A261 < 'Polar 0-360'!S$365, 'Polar 0-360'!S$363 / COS!$B261,'Polar 0-360'!R261 )","v":5.7613634576181099},{"$f":" IF( $A261 < 'Polar 0-360'!Y$365, 'Polar 0-360'!Y$363 / COS!$B261,'Polar 0-360'!X261 )","v":6.0950930549344564},{"$f":" IF( $A261 < 'Polar 0-360'!AE$365, 'Polar 0-360'!AE$363 / COS!$B261,'Polar 0-360'!AD261 )","v":6.3364704041887254},{"$f":" IF( $A261 < 'Polar 0-360'!AK$365, 'Polar 0-360'!AK$363 / COS!$B261,'Polar 0-360'!AJ261 )","v":6.5207088998334992},{"$f":" IF( $A261 < 'Polar 0-360'!AQ$365, 'Polar 0-360'!AQ$363 / COS!$B261,'Polar 0-360'!AP261 )","v":6.7501172884946197}]
[{"$f":"'Polar 0-360'!A262","v":260},0,{"$f":" IF( $A262 < 'Polar 0-360'!G$365, 'Polar 0-360'!G$363 / COS!$B262,'Polar 0-360'!F262 )","v":4.1376411546469134},{"$f":" IF( $A262 < 'Polar 0-360'!M$365, 'Polar 0-360'!M$363 / COS!$B262,'Polar 0-360'!L262 )","v":5.0689731457891769},{"$f":" IF( $A262 < 'Polar 0-360'!S$365, 'Polar 0-360'!S$363 / COS!$B262,'Polar 0-360'!R262 )","v":5.7574962763673918},{"$f":" IF( $A262 < 'Polar 0-360'!Y$365, 'Polar 0-360'!Y$363 / COS!$B262,'Polar 0-360'!X262 )","v":6.090662358243466},{"$f":" IF( $A262 < 'Polar 0-360'!AE$365, 'Polar 0-360'!AE$363 / COS!$B262,'Polar 0-360'!AD262 )","v":6.3280182181679736},{"$f":" IF( $A262 < 'Polar 0-360'!AK$365, 'Polar 0-360'!AK$363 / COS!$B262,'Polar 0-360'!AJ262 )","v":6.5033923483148346},{"$f":" IF( $A262 < 'Polar 0-360'!AQ$365, 'Polar 0-360'!AQ$363 / COS!$B262,'Polar 0-360'!AP262 )","v":6.7216172804561563}]
[{"$f":"'Polar 0-360'!A263","v":261},0,{"$f":" IF( $A263 < 'Polar 0-360'!G$365, 'Polar 0-360'!G$363 / COS!$B263,'Polar 0-360'!F263 )","v":4.1324108567037836},{"$f":" IF( $A263 < 'Polar 0-360'!M$365, 'Polar 0-360'!M$363 / COS!$B263,'Polar 0-360'!L263 )","v":5.0630499475475812},{"$f":" IF( $A263 < 'Polar 0-360'!S$365, 'Polar 0-360'!S$363 / COS!$B263,'Polar 0-360'!R263 )","v":5.7536290951166729},{"$f":" IF( $A263 < 'Polar 0-360'!Y$365, 'Polar 0-360'!Y$363 / COS!$B263,'Polar 0-360'!X263 )","v":6.0862316615524747},{"$f":" IF( $A263 < 'Polar 0-360'!AE$365, 'Polar 0-360'!AE$363 / COS!$B263,'Polar 0-360'!AD263 )","v":6.3195660321472218},{"$f":" IF( $A263 < 'Polar 0-360'!AK$365, 'Polar 0-360'!AK$363 / COS!$B263,'Polar 0-360'!AJ263 )","v":6.48607579679617},{"$f":" IF( $A263 < 'Polar 0-360'!AQ$365, 'Polar 0-360'!AQ$363 / COS!$B263,'Polar 0-360'!AP263 )","v":6.6931172724176928}]
[{"$f":"'Polar 0-360'!A264","v":262},0,{"$f":" IF( $A264 < 'Polar 0-360'!G$365, 'Polar 0-360'!G$363 / COS!$B264,'Polar 0-360'!F264 )","v":4.1271805587606538},{"$f":" IF( $A264 < 'Polar 0-360'!M$365, 'Polar 0-360'!M$363 / COS!$B264,'Polar 0-360'!L264 )","v":5.0571267493059864},{"$f":" IF( $A264 < 'Polar 0-360'!S$365, 'Polar 0-360'!S$363 / COS!$B264,'Polar 0-360'!R264 )","v":5.7497619138659548},{"$f":" IF( $A264 < 'Polar 0-360'!Y$365, 'Polar 0-360'!Y$363 / COS!$B264,'Polar 0-360'!X264 )","v":6.0818009648614844},{"$f":" IF( $A264 < 'Polar 0-360'!AE$365, 'Polar 0-360'!AE$363 / COS!$B264,'Polar 0-360'!AD264 )","v":6.31111384612647},{"$f":" IF( $A264 < 'Polar 0-360'!AK$365, 'Polar 0-360'!AK$363 / COS!$B264,'Polar 0-360'!AJ264 )","v":6.4687592452775053},{"$f":" IF( $A264 < 'Polar 0-360'!AQ$365, 'Polar 0-360'!AQ$363 / COS!$B264,'Polar 0-360'!AP264 )","v":6.6646172643792285}]
[{"$f":"'Polar 0-360'!A265","v":263},0,{"$f":" IF( $A265 < 'Polar 0-360'!G$365, 'Polar 0-360'!G$363 / COS!$B265,'Polar 0-360'!F265 )","v":4.121950260817524},{"$f":" IF( $A265 < 'Polar 0-360'!M$365, 'Polar 0-360'!M$363 / COS!$B265,'Polar 0-360'!L265 )","v":5.0512035510643916},{"$f":" IF( $A265 < 'Polar 0-360'!S$365, 'Polar 0-360'!S$363 / COS!$B265,'Polar 0-360'!R265 )","v":5.7458947326152359},{"$f":" IF( $A265 < 'Polar 0-360'!Y$365, 'Polar 0-360'!Y$363 / COS!$B265,'Polar 0-360'!X265 )","v":6.0773702681704931},{"$f":" IF( $A265 < 'Polar 0-360'!AE$365, 'Polar 0-360'!AE$363 / COS!$B265,'Polar 0-360'!AD265 )","v":6.3026616601057182},{"$f":" IF( $A265 < 'Polar 0-360'!AK$365, 'Polar 0-360'!AK$363 / COS!$B265,'Polar 0-360'!AJ265 )","v":6.4514426937588407},{"$f":" IF( $A265 < 'Polar 0-360'!AQ$365, 'Polar 0-360'!AQ$363 / COS!$B265,'Polar 0-360'!AP265 )","v":6.6361172563407642}]
[{"$f":"'Polar 0-360'!A266","v":264},0,{"$f":" IF( $A266 < 'Polar 0-360'!G$365, 'Polar 0-360'!G$363 / COS!$B266,'Polar 0-360'!F266 )","v":4.1167199628743933},{"$f":" IF( $A266 < 'Polar 0-360'!M$365, 'Polar 0-360'!M$363 / COS!$B266,'Polar 0-360'!L266 )","v":5.0452803528227959},{"$f":" IF( $A266 < 'Polar 0-360'!S$365, 'Polar 0-360'!S$363 / COS!$B266,'Polar 0-360'!R266 )","v":5.7420275513645178},{"$f":" IF( $A266 < 'Polar 0-360'!Y$365, 'Polar 0-360'!Y$363 / COS!$B266,'Polar 0-360'!X266 )","v":6.0729395714795027},{"$f":" IF( $A266 < 'Polar 0-360'!AE$365, 'Polar 0-360'!AE$363 / COS!$B266,'Polar 0-360'!AD266 )","v":6.2942094740849672},{"$f":" IF( $A266 < 'Polar 0-360'!AK$365, 'Polar 0-360'!AK$363 / COS!$B266,'Polar 0-360'!AJ266 )","v":6.4341261422401752},{"$f":" IF( $A266 < 'Polar 0-360'!AQ$365, 'Polar 0-360'!AQ$363 / COS!$B266,'Polar 0-360'!AP266 )","v":6.6076172483023008}]
[{"$f":"'Polar 0-360'!A267","v":265},0,{"$f":" IF( $A267 < 'Polar 0-360'!G$365, 'Polar 0-360'!G$363 / COS!$B267,'Polar 0-360'!F267 )","v":4.1114896649312636},{"$f":" IF( $A267 < 'Polar 0-360'!M$365, 'Polar 0-360'!M$363 / COS!$B267,'Polar 0-360'!L267 )","v":5.039357154581201},{"$f":" IF( $A267 < 'Polar 0-360'!S$365, 'Polar 0-360'!S$363 / COS!$B267,'Polar 0-360'!R267 )","v":5.7381603701137989},{"$f":" IF( $A267 < 'Polar 0-360'!Y$365, 'Polar 0-360'!Y$363 / COS!$B267,'Polar 0-360'!X267 )","v":6.0685088747885114},{"$f":" IF( $A267 < 'Polar 0-360'!AE$365, 'Polar 0-360'!AE$363 / COS!$B267,'Polar 0-360'!AD267 )","v":6.2857572880642154},{"$f":" IF( $A267 < 'Polar 0-360'!AK$365, 'Polar 0-360'!AK$363 / COS!$B267,'Polar 0-360'!AJ267 )","v":6.4168095907215106},{"$f":" IF( $A267 < 'Polar 0-360'!AQ$365, 'Polar 0-360'!AQ$363 / COS!$B267,'Polar 0-360'!AP267 )","v":6.5791172402638374}]
[{"$f":"'Polar 0-360'!A268","v":266},0,{"$f":" IF( $A268 < 'Polar 0-360'!G$365, 'Polar 0-360'!G$363 / COS!$B268,'Polar 0-360'!F268 )","v":4.1062593669881338},{"$f":" IF( $A268 < 'Polar 0-360'!M$365, 'Polar 0-360'!M$363 / COS!$B268,'Polar 0-360'!L268 )","v":5.0334339563396053},{"$f":" IF( $A268 < 'Polar 0-360'!S$365, 'Polar 0-360'!S$363 / COS!$B268,'Polar 0-360'!R268 )","v":5.7342931888630808},{"$f":" IF( $A268 < 'Polar 0-360'!Y$365, 'Polar 0-360'!Y$363 / COS!$B268,'Polar 0-360'!X268 )","v":6.064078178097521},{"$f":" IF( $A268 < 'Polar 0-360'!AE$365, 'Polar 0-360'!AE$363 / COS!$B268,'Polar 0-360'!AD268 )","v":6.2773051020434636},{"$f":" IF( $A268 < 'Polar 0-360'!AK$365, 'Polar 0-360'!AK$363 / COS!$B268,'Polar 0-360'!AJ268 )","v":6.399493039202846},{"$f":" IF( $A268 < 'Polar 0-360'!AQ$365, 'Polar 0-360'!AQ$363 / COS!$B268,'Polar 0-360'!AP268 )","v":6.5506172322253731}]
[{"$f":"'Polar 0-360'!A269","v":267},0,{"$f":" IF( $A269 < 'Polar 0-360'!G$365, 'Polar 0-360'!G$363 / COS!$B269,'Polar 0-360'!F269 )","v":4.101029069045004},{"$f":" IF( $A269 < 'Polar 0-360'!M$365, 'Polar 0-360'!M$363 / COS!$B269,'Polar 0-360'!L269 )","v":5.0275107580980105},{"$f":" IF( $A269 < 'Polar 0-360'!S$365, 'Polar 0-360'!S$363 / COS!$B269,'Polar 0-360'!R269 )","v":5.7304260076123619},{"$f":" IF( $A269 < 'Polar 0-360'!Y$365, 'Polar 0-360'!Y$363 / COS!$B269,'Polar 0-360'!X269 )","v":6.0596474814065298},{"$f":" IF( $A269 < 'Polar 0-360'!AE$365, 'Polar 0-360'!AE$363 / COS!$B269,'Polar 0-360'!AD269 )","v":6.2688529160227118},{"$f":" IF( $A269 < 'Polar 0-360'!AK$365, 'Polar 0-360'!AK$363 / COS!$B269,'Polar 0-360'!AJ269 )","v":6.3821764876841804},{"$f":" IF( $A269 < 'Polar 0-360'!AQ$365, 'Polar 0-360'!AQ$363 / COS!$B269,'Polar 0-360'!AP269 )","v":6.5221172241869088}]
[{"$f":"'Polar 0-360'!A270","v":268},0,{"$f":" IF( $A270 < 'Polar 0-360'!G$365, 'Polar 0-360'!G$363 / COS!$B270,'Polar 0-360'!F270 )","v":4.0957987711018742},{"$f":" IF( $A270 < 'Polar 0-360'!M$365, 'Polar 0-360'!M$363 / COS!$B270,'Polar 0-360'!L270 )","v":5.0215875598564157},{"$f":" IF( $A270 < 'Polar 0-360'!S$365, 'Polar 0-360'!S$363 / COS!$B270,'Polar 0-360'!R270 )","v":5.7265588263616438},{"$f":" IF( $A270 < 'Polar 0-360'!Y$365, 'Polar 0-360'!Y$363 / COS!$B270,'Polar 0-360'!X270 )","v":6.0552167847155394},{"$f":" IF( $A270 < 'Polar 0-360'!AE$365, 'Polar 0-360'!AE$363 / COS!$B270,'Polar 0-360'!AD270 )","v":6.26040073000196},{"$f":" IF( $A270 < 'Polar 0-360'!AK$365, 'Polar 0-360'!AK$363 / COS!$B270,'Polar 0-360'!AJ270 )","v":6.3648599361655158},{"$f":" IF( $A270 < 'Polar 0-360'!AQ$365, 'Polar 0-360'!AQ$363 / COS!$B270,'Polar 0-360'!AP270 )","v":6.4936172161484453}]
[{"$f":"'Polar 0-360'!A271","v":269},0,{"$f":" IF( $A271 < 'Polar 0-360'!G$365, 'Polar 0-360'!G$363 / COS!$B271,'Polar 0-360'!F271 )","v":4.0905684731587444},{"$f":" IF( $A271 < 'Polar 0-360'!M$365, 'Polar 0-360'!M$363 / COS!$B271,'Polar 0-360'!L271 )","v":5.01566436161482},{"$f":" IF( $A271 < 'Polar 0-360'!S$365, 'Polar 0-360'!S$363 / COS!$B271,'Polar 0-360'!R271 )","v":5.7226916451109249},{"$f":" IF( $A271 < 'Polar 0-360'!Y$365, 'Polar 0-360'!Y$363 / COS!$B271,'Polar 0-360'!X271 )","v":6.0507860880245481},{"$f":" IF( $A271 < 'Polar 0-360'!AE$365, 'Polar 0-360'!AE$363 / COS!$B271,'Polar 0-360'!AD271 )","v":6.251948543981209},{"$f":" IF( $A271 < 'Polar 0-360'!AK$365, 'Polar 0-360'!AK$363 / COS!$B271,'Polar 0-360'!AJ271 )","v":6.3475433846468512},{"$f":" IF( $A271 < 'Polar 0-360'!AQ$365, 'Polar 0-360'!AQ$363 / COS!$B271,'Polar 0-360'!AP271 )","v":6.4651172081099819}]
[{"$f":"'Polar 0-360'!A272","v":270},0,{"$f":" IF( $A272 < 'Polar 0-360'!G$365, 'Polar 0-360'!G$363 / COS!$B272,'Polar 0-360'!F272 )","v":4.0853381752156146},{"$f":" IF( $A272 < 'Polar 0-360'!M$365, 'Polar 0-360'!M$363 / COS!$B272,'Polar 0-360'!L272 )","v":5.0097411633732252},{"$f":" IF( $A272 < 'Polar 0-360'!S$365, 'Polar 0-360'!S$363 / COS!$B272,'Polar 0-360'!R272 )","v":5.7188244638602068},{"$f":" IF( $A272 < 'Polar 0-360'!Y$365, 'Polar 0-360'!Y$363 / COS!$B272,'Polar 0-360'!X272 )","v":6.0463553913335577},{"$f":" IF( $A272 < 'Polar 0-360'!AE$365, 'Polar 0-360'!AE$363 / COS!$B272,'Polar 0-360'!AD272 )","v":6.2434963579604572},{"$f":" IF( $A272 < 'Polar 0-360'!AK$365, 'Polar 0-360'!AK$363 / COS!$B272,'Polar 0-360'!AJ272 )","v":6.3302268331281866},{"$f":" IF( $A272 < 'Polar 0-360'!AQ$365, 'Polar 0-360'!AQ$363 / COS!$B272,'Polar 0-360'!AP272 )","v":6.4366172000715185}]
[{"$f":"'Polar 0-360'!A273","v":271},0,{"$f":" IF( $A273 < 'Polar 0-360'!G$365, 'Polar 0-360'!G$363 / COS!$B273,'Polar 0-360'!F273 )","v":4.0757656101275153},{"$f":" IF( $A273 < 'Polar 0-360'!M$365, 'Polar 0-360'!M$363 / COS!$B273,'Polar 0-360'!L273 )","v":4.9892789939360647},{"$f":" IF( $A273 < 'Polar 0-360'!S$365, 'Polar 0-360'!S$363 / COS!$B273,'Polar 0-360'!R273 )","v":5.695618134542439},{"$f":" IF( $A273 < 'Polar 0-360'!Y$365, 'Polar 0-360'!Y$363 / COS!$B273,'Polar 0-360'!X273 )","v":6.0275109492984482},{"$f":" IF( $A273 < 'Polar 0-360'!AE$365, 'Polar 0-360'!AE$363 / COS!$B273,'Polar 0-360'!AD273 )","v":6.2266641660817825},{"$f":" IF( $A273 < 'Polar 0-360'!AK$365, 'Polar 0-360'!AK$363 / COS!$B273,'Polar 0-360'!AJ273 )","v":6.3191706150292291},{"$f":" IF( $A273 < 'Polar 0-360'!AQ$365, 'Polar 0-360'!AQ$363 / COS!$B273,'Polar 0-360'!AP273 )","v":6.4366172000715185}]
[{"$f":"'Polar 0-360'!A274","v":272},0,{"$f":" IF( $A274 < 'Polar 0-360'!G$365, 'Polar 0-360'!G$363 / COS!$B274,'Polar 0-360'!F274 )","v":4.0661930450394159},{"$f":" IF( $A274 < 'Polar 0-360'!M$365, 'Polar 0-360'!M$363 / COS!$B274,'Polar 0-360'!L274 )","v":4.9688168244989033},{"$f":" IF( $A274 < 'Polar 0-360'!S$365, 'Polar 0-360'!S$363 / COS!$B274,'Polar 0-360'!R274 )","v":5.6724118052246713},{"$f":" IF( $A274 < 'Polar 0-360'!Y$365, 'Polar 0-360'!Y$363 / COS!$B274,'Polar 0-360'!X274 )","v":6.0086665072633387},{"$f":" IF( $A274 < 'Polar 0-360'!AE$365, 'Polar 0-360'!AE$363 / COS!$B274,'Polar 0-360'!AD274 )","v":6.209831974203107},{"$f":" IF( $A274 < 'Polar 0-360'!AK$365, 'Polar 0-360'!AK$363 / COS!$B274,'Polar 0-360'!AJ274 )","v":6.3081143969302724},{"$f":" IF( $A274 < 'Polar 0-360'!AQ$365, 'Polar 0-360'!AQ$363 / COS!$B274,'Polar 0-360'!AP274 )","v":6.4366172000715185}]
[{"$f":"'Polar 0-360'!A275","v":273},0,{"$f":" IF( $A275 < 'Polar 0-360'!G$365, 'Polar 0-360'!G$363 / COS!$B275,'Polar 0-360'!F275 )","v":4.0566204799513166},{"$f":" IF( $A275 < 'Polar 0-360'!M$365, 'Polar 0-360'!M$363 / COS!$B275,'Polar 0-360'!L275 )","v":4.9483546550617419},{"$f":" IF( $A275 < 'Polar 0-360'!S$365, 'Polar 0-360'!S$363 / COS!$B275,'Polar 0-360'!R275 )","v":5.6492054759069035},{"$f":" IF( $A275 < 'Polar 0-360'!Y$365, 'Polar 0-360'!Y$363 / COS!$B275,'Polar 0-360'!X275 )","v":5.9898220652282292},{"$f":" IF( $A275 < 'Polar 0-360'!AE$365, 'Polar 0-360'!AE$363 / COS!$B275,'Polar 0-360'!AD275 )","v":6.1929997823244314},{"$f":" IF( $A275 < 'Polar 0-360'!AK$365, 'Polar 0-360'!AK$363 / COS!$B275,'Polar 0-360'!AJ275 )","v":6.2970581788313158},{"$f":" IF( $A275 < 'Polar 0-360'!AQ$365, 'Polar 0-360'!AQ$363 / COS!$B275,'Polar 0-360'!AP275 )","v":6.4366172000715185}]
[{"$f":"'Polar 0-360'!A276","v":274},0,{"$f":" IF( $A276 < 'Polar 0-360'!G$365, 'Polar 0-360'!G$363 / COS!$B276,'Polar 0-360'!F276 )","v":4.0470479148632164},{"$f":" IF( $A276 < 'Polar 0-360'!M$365, 'Polar 0-360'!M$363 / COS!$B276,'Polar 0-360'!L276 )","v":4.9278924856245805},{"$f":" IF( $A276 < 'Polar 0-360'!S$365, 'Polar 0-360'!S$363 / COS!$B276,'Polar 0-360'!R276 )","v":5.6259991465891357},{"$f":" IF( $A276 < 'Polar 0-360'!Y$365, 'Polar 0-360'!Y$363 / COS!$B276,'Polar 0-360'!X276 )","v":5.9709776231931198},{"$f":" IF( $A276 < 'Polar 0-360'!AE$365, 'Polar 0-360'!AE$363 / COS!$B276,'Polar 0-360'!AD276 )","v":6.1761675904457567},{"$f":" IF( $A276 < 'Polar 0-360'!AK$365, 'Polar 0-360'!AK$363 / COS!$B276,'Polar 0-360'!AJ276 )","v":6.2860019607323592},{"$f":" IF( $A276 < 'Polar 0-360'!AQ$365, 'Polar 0-360'!AQ$363 / COS!$B276,'Polar 0-360'!AP276 )","v":6.4366172000715185}]
[{"$f":"'Polar 0-360'!A277","v":275},0,{"$f":" IF( $A277 < 'Polar 0-360'!G$365, 'Polar 0-360'!G$363 / COS!$B277,'Polar 0-360'!F277 )","v":4.037475349775117},{"$f":" IF( $A277 < 'Polar 0-360'!M$365, 'Polar 0-360'!M$363 / COS!$B277,'Polar 0-360'!L277 )","v":4.90743031618742},{"$f":" IF( $A277 < 'Polar 0-360'!S$365, 'Polar 0-360'!S$363 / COS!$B277,'Polar 0-360'!R277 )","v":5.6027928172713679},{"$f":" IF( $A277 < 'Polar 0-360'!Y$365, 'Polar 0-360'!Y$363 / COS!$B277,'Polar 0-360'!X277 )","v":5.9521331811580103},{"$f":" IF( $A277 < 'Polar 0-360'!AE$365, 'Polar 0-360'!AE$363 / COS!$B277,'Polar 0-360'!AD277 )","v":6.159335398567082},{"$f":" IF( $A277 < 'Polar 0-360'!AK$365, 'Polar 0-360'!AK$363 / COS!$B277,'Polar 0-360'!AJ277 )","v":6.2749457426334025},{"$f":" IF( $A277 < 'Polar 0-360'!AQ$365, 'Polar 0-360'!AQ$363 / COS!$B277,'Polar 0-360'!AP277 )","v":6.4366172000715185}]
[{"$f":"'Polar 0-360'!A278","v":276},0,{"$f":" IF( $A278 < 'Polar 0-360'!G$365, 'Polar 0-360'!G$363 / COS!$B278,'Polar 0-360'!F278 )","v":4.0279027846870177},{"$f":" IF( $A278 < 'Polar 0-360'!M$365, 'Polar 0-360'!M$363 / COS!$B278,'Polar 0-360'!L278 )","v":4.8869681467502586},{"$f":" IF( $A278 < 'Polar 0-360'!S$365, 'Polar 0-360'!S$363 / COS!$B278,'Polar 0-360'!R278 )","v":5.5795864879536001},{"$f":" IF( $A278 < 'Polar 0-360'!Y$365, 'Polar 0-360'!Y$363 / COS!$B278,'Polar 0-360'!X278 )","v":5.9332887391229008},{"$f":" IF( $A278 < 'Polar 0-360'!AE$365, 'Polar 0-360'!AE$363 / COS!$B278,'Polar 0-360'!AD278 )","v":6.1425032066884064},{"$f":" IF( $A278 < 'Polar 0-360'!AK$365, 'Polar 0-360'!AK$363 / COS!$B278,'Polar 0-360'!AJ278 )","v":6.263889524534445},{"$f":" IF( $A278 < 'Polar 0-360'!AQ$365, 'Polar 0-360'!AQ$363 / COS!$B278,'Polar 0-360'!AP278 )","v":6.4366172000715185}]
[{"$f":"'Polar 0-360'!A279","v":277},0,{"$f":" IF( $A279 < 'Polar 0-360'!G$365, 'Polar 0-360'!G$363 / COS!$B279,'Polar 0-360'!F279 )","v":4.0183302195989175},{"$f":" IF( $A279 < 'Polar 0-360'!M$365, 'Polar 0-360'!M$363 / COS!$B279,'Polar 0-360'!L279 )","v":4.8665059773130972},{"$f":" IF( $A279 < 'Polar 0-360'!S$365, 'Polar 0-360'!S$363 / COS!$B279,'Polar 0-360'!R279 )","v":5.5563801586358323},{"$f":" IF( $A279 < 'Polar 0-360'!Y$365, 'Polar 0-360'!Y$363 / COS!$B279,'Polar 0-360'!X279 )","v":5.9144442970877913},{"$f":" IF( $A279 < 'Polar 0-360'!AE$365, 'Polar 0-360'!AE$363 / COS!$B279,'Polar 0-360'!AD279 )","v":6.1256710148097309},{"$f":" IF( $A279 < 'Polar 0-360'!AK$365, 'Polar 0-360'!AK$363 / COS!$B279,'Polar 0-360'!AJ279 )","v":6.2528333064354884},{"$f":" IF( $A279 < 'Polar 0-360'!AQ$365, 'Polar 0-360'!AQ$363 / COS!$B279,'Polar 0-360'!AP279 )","v":6.4366172000715185}]
[{"$f":"'Polar 0-360'!A280","v":278},0,{"$f":" IF( $A280 < 'Polar 0-360'!G$365, 'Polar 0-360'!G$363 / COS!$B280,'Polar 0-360'!F280 )","v":4.0087576545108181},{"$f":" IF( $A280 < 'Polar 0-360'!M$365, 'Polar 0-360'!M$363 / COS!$B280,'Polar 0-360'!L280 )","v":4.8460438078759358},{"$f":" IF( $A280 < 'Polar 0-360'!S$365, 'Polar 0-360'!S$363 / COS!$B280,'Polar 0-360'!R280 )","v":5.5331738293180646},{"$f":" IF( $A280 < 'Polar 0-360'!Y$365, 'Polar 0-360'!Y$363 / COS!$B280,'Polar 0-360'!X280 )","v":5.8955998550526818},{"$f":" IF( $A280 < 'Polar 0-360'!AE$365, 'Polar 0-360'!AE$363 / COS!$B280,'Polar 0-360'!AD280 )","v":6.1088388229310562},{"$f":" IF( $A280 < 'Polar 0-360'!AK$365, 'Polar 0-360'!AK$363 / COS!$B280,'Polar 0-360'!AJ280 )","v":6.2417770883365318},{"$f":" IF( $A280 < 'Polar 0-360'!AQ$365, 'Polar 0-360'!AQ$363 / COS!$B280,'Polar 0-360'!AP280 )","v":6.4366172000715185}]
[{"$f":"'Polar 0-360'!A281","v":279},0,{"$f":" IF( $A281 < 'Polar 0-360'!G$365, 'Polar 0-360'!G$363 / COS!$B281,'Polar 0-360'!F281 )","v":3.9991850894227188},{"$f":" IF( $A281 < 'Polar 0-360'!M$365, 'Polar 0-360'!M$363 / COS!$B281,'Polar 0-360'!L281 )","v":4.8255816384387753},{"$f":" IF( $A281 < 'Polar 0-360'!S$365, 'Polar 0-360'!S$363 / COS!$B281,'Polar 0-360'!R281 )","v":5.5099675000002968},{"$f":" IF( $A281 < 'Polar 0-360'!Y$365, 'Polar 0-360'!Y$363 / COS!$B281,'Polar 0-360'!X281 )","v":5.8767554130175723},{"$f":" IF( $A281 < 'Polar 0-360'!AE$365, 'Polar 0-360'!AE$363 / COS!$B281,'Polar 0-360'!AD281 )","v":6.0920066310523815},{"$f":" IF( $A281 < 'Polar 0-360'!AK$365, 'Polar 0-360'!AK$363 / COS!$B281,'Polar 0-360'!AJ281 )","v":6.2307208702375751},{"$f":" IF( $A281 < 'Polar 0-360'!AQ$365, 'Polar 0-360'!AQ$363 / COS!$B281,'Polar 0-360'!AP281 )","v":6.4366172000715185}]
[{"$f":"'Polar 0-360'!A282","v":280},0,{"$f":" IF( $A282 < 'Polar 0-360'!G$365, 'Polar 0-360'!G$363 / COS!$B282,'Polar 0-360'!F282 )","v":3.989612524334619},{"$f":" IF( $A282 < 'Polar 0-360'!M$365, 'Polar 0-360'!M$363 / COS!$B282,'Polar 0-360'!L282 )","v":4.8051194690016139},{"$f":" IF( $A282 < 'Polar 0-360'!S$365, 'Polar 0-360'!S$363 / COS!$B282,'Polar 0-360'!R282 )","v":5.486761170682529},{"$f":" IF( $A282 < 'Polar 0-360'!Y$365, 'Polar 0-360'!Y$363 / COS!$B282,'Polar 0-360'!X282 )","v":5.8579109709824628},{"$f":" IF( $A282 < 'Polar 0-360'!AE$365, 'Polar 0-360'!AE$363 / COS!$B282,'Polar 0-360'!AD282 )","v":6.0751744391737059},{"$f":" IF( $A282 < 'Polar 0-360'!AK$365, 'Polar 0-360'!AK$363 / COS!$B282,'Polar 0-360'!AJ282 )","v":6.2196646521386185},{"$f":" IF( $A282 < 'Polar 0-360'!AQ$365, 'Polar 0-360'!AQ$363 / COS!$B282,'Polar 0-360'!AP282 )","v":6.4366172000715185}]
[{"$f":"'Polar 0-360'!A283","v":281},0,{"$f":" IF( $A283 < 'Polar 0-360'!G$365, 'Polar 0-360'!G$363 / COS!$B283,'Polar 0-360'!F283 )","v":3.9800399592465192},{"$f":" IF( $A283 < 'Polar 0-360'!M$365, 'Polar 0-360'!M$363 / COS!$B283,'Polar 0-360'!L283 )","v":4.7846572995644525},{"$f":" IF( $A283 < 'Polar 0-360'!S$365, 'Polar 0-360'!S$363 / COS!$B283,'Polar 0-360'!R283 )","v":5.4635548413647612},{"$f":" IF( $A283 < 'Polar 0-360'!Y$365, 'Polar 0-360'!Y$363 / COS!$B283,'Polar 0-360'!X283 )","v":5.8390665289473542},{"$f":" IF( $A283 < 'Polar 0-360'!AE$365, 'Polar 0-360'!AE$363 / COS!$B283,'Polar 0-360'!AD283 )","v":6.0583422472950303},{"$f":" IF( $A283 < 'Polar 0-360'!AK$365, 'Polar 0-360'!AK$363 / COS!$B283,'Polar 0-360'!AJ283 )","v":6.2086084340396619},{"$f":" IF( $A283 < 'Polar 0-360'!AQ$365, 'Polar 0-360'!AQ$363 / COS!$B283,'Polar 0-360'!AP283 )","v":6.4366172000715185}]
[{"$f":"'Polar 0-360'!A284","v":282},0,{"$f":" IF( $A284 < 'Polar 0-360'!G$365, 'Polar 0-360'!G$363 / COS!$B284,'Polar 0-360'!F284 )","v":3.9704673941584199},{"$f":" IF( $A284 < 'Polar 0-360'!M$365, 'Polar 0-360'!M$363 / COS!$B284,'Polar 0-360'!L284 )","v":4.7641951301272911},{"$f":" IF( $A284 < 'Polar 0-360'!S$365, 'Polar 0-360'!S$363 / COS!$B284,'Polar 0-360'!R284 )","v":5.4403485120469934},{"$f":" IF( $A284 < 'Polar 0-360'!Y$365, 'Polar 0-360'!Y$363 / COS!$B284,'Polar 0-360'!X284 )","v":5.8202220869122439},{"$f":" IF( $A284 < 'Polar 0-360'!AE$365, 'Polar 0-360'!AE$363 / COS!$B284,'Polar 0-360'!AD284 )","v":6.0415100554163557},{"$f":" IF( $A284 < 'Polar 0-360'!AK$365, 'Polar 0-360'!AK$363 / COS!$B284,'Polar 0-360'!AJ284 )","v":6.1975522159407053},{"$f":" IF( $A284 < 'Polar 0-360'!AQ$365, 'Polar 0-360'!AQ$363 / COS!$B284,'Polar 0-360'!AP284 )","v":6.4366172000715185}]
[{"$f":"'Polar 0-360'!A285","v":283},0,{"$f":" IF( $A285 < 'Polar 0-360'!G$365, 'Polar 0-360'!G$363 / COS!$B285,'Polar 0-360'!F285 )","v":3.9608948290703201},{"$f":" IF( $A285 < 'Polar 0-360'!M$365, 'Polar 0-360'!M$363 / COS!$B285,'Polar 0-360'!L285 )","v":4.7437329606901297},{"$f":" IF( $A285 < 'Polar 0-360'!S$365, 'Polar 0-360'!S$363 / COS!$B285,'Polar 0-360'!R285 )","v":5.4171421827292257},{"$f":" IF( $A285 < 'Polar 0-360'!Y$365, 'Polar 0-360'!Y$363 / COS!$B285,'Polar 0-360'!X285 )","v":5.8013776448771353},{"$f":" IF( $A285 < 'Polar 0-360'!AE$365, 'Polar 0-360'!AE$363 / COS!$B285,'Polar 0-360'!AD285 )","v":6.0246778635376801},{"$f":" IF( $A285 < 'Polar 0-360'!AK$365, 'Polar 0-360'!AK$363 / COS!$B285,'Polar 0-360'!AJ285 )","v":6.1864959978417478},{"$f":" IF( $A285 < 'Polar 0-360'!AQ$365, 'Polar 0-360'!AQ$363 / COS!$B285,'Polar 0-360'!AP285 )","v":6.4366172000715185}]
[{"$f":"'Polar 0-360'!A286","v":284},0,{"$f":" IF( $A286 < 'Polar 0-360'!G$365, 'Polar 0-360'!G$363 / COS!$B286,'Polar 0-360'!F286 )","v":3.9513222639822203},{"$f":" IF( $A286 < 'Polar 0-360'!M$365, 'Polar 0-360'!M$363 / COS!$B286,'Polar 0-360'!L286 )","v":4.7232707912529683},{"$f":" IF( $A286 < 'Polar 0-360'!S$365, 'Polar 0-360'!S$363 / COS!$B286,'Polar 0-360'!R286 )","v":5.3939358534114579},{"$f":" IF( $A286 < 'Polar 0-360'!Y$365, 'Polar 0-360'!Y$363 / COS!$B286,'Polar 0-360'!X286 )","v":5.7825332028420258},{"$f":" IF( $A286 < 'Polar 0-360'!AE$365, 'Polar 0-360'!AE$363 / COS!$B286,'Polar 0-360'!AD286 )","v":6.0078456716590054},{"$f":" IF( $A286 < 'Polar 0-360'!AK$365, 'Polar 0-360'!AK$363 / COS!$B286,'Polar 0-360'!AJ286 )","v":6.1754397797427911},{"$f":" IF( $A286 < 'Polar 0-360'!AQ$365, 'Polar 0-360'!AQ$363 / COS!$B286,'Polar 0-360'!AP286 )","v":6.4366172000715185}]
[{"$f":"'Polar 0-360'!A287","v":285},0,{"$f":" IF( $A287 < 'Polar 0-360'!G$365, 'Polar 0-360'!G$363 / COS!$B287,'Polar 0-360'!F287 )","v":3.941749698894121},{"$f":" IF( $A287 < 'Polar 0-360'!M$365, 'Polar 0-360'!M$363 / COS!$B287,'Polar 0-360'!L287 )","v":4.7028086218158078},{"$f":" IF( $A287 < 'Polar 0-360'!S$365, 'Polar 0-360'!S$363 / COS!$B287,'Polar 0-360'!R287 )","v":5.3707295240936901},{"$f":" IF( $A287 < 'Polar 0-360'!Y$365, 'Polar 0-360'!Y$363 / COS!$B287,'Polar 0-360'!X287 )","v":5.7636887608069163},{"$f":" IF( $A287 < 'Polar 0-360'!AE$365, 'Polar 0-360'!AE$363 / COS!$B287,'Polar 0-360'!AD287 )","v":5.9910134797803298},{"$f":" IF( $A287 < 'Polar 0-360'!AK$365, 'Polar 0-360'!AK$363 / COS!$B287,'Polar 0-360'!AJ287 )","v":6.1643835616438345},{"$f":" IF( $A287 < 'Polar 0-360'!AQ$365, 'Polar 0-360'!AQ$363 / COS!$B287,'Polar 0-360'!AP287 )","v":6.4366172000715185}]
[{"$f":"'Polar 0-360'!A288","v":286},0,{"$f":" IF( $A288 < 'Polar 0-360'!G$365, 'Polar 0-360'!G$363 / COS!$B288,'Polar 0-360'!F288 )","v":3.931597964581881},{"$f":" IF( $A288 < 'Polar 0-360'!M$365, 'Polar 0-360'!M$363 / COS!$B288,'Polar 0-360'!L288 )","v":4.6908334673070158},{"$f":" IF( $A288 < 'Polar 0-360'!S$365, 'Polar 0-360'!S$363 / COS!$B288,'Polar 0-360'!R288 )","v":5.3559794158312668},{"$f":" IF( $A288 < 'Polar 0-360'!Y$365, 'Polar 0-360'!Y$363 / COS!$B288,'Polar 0-360'!X288 )","v":5.7531000129667289},{"$f":" IF( $A288 < 'Polar 0-360'!AE$365, 'Polar 0-360'!AE$363 / COS!$B288,'Polar 0-360'!AD288 )","v":5.9821104659314326},{"$f":" IF( $A288 < 'Polar 0-360'!AK$365, 'Polar 0-360'!AK$363 / COS!$B288,'Polar 0-360'!AJ288 )","v":6.1542262607406588},{"$f":" IF( $A288 < 'Polar 0-360'!AQ$365, 'Polar 0-360'!AQ$363 / COS!$B288,'Polar 0-360'!AP288 )","v":6.419597298821329}]
[{"$f":"'Polar 0-360'!A289","v":287},0,{"$f":" IF( $A289 < 'Polar 0-360'!G$365, 'Polar 0-360'!G$363 / COS!$B289,'Polar 0-360'!F289 )","v":3.9214462302696411},{"$f":" IF( $A289 < 'Polar 0-360'!M$365, 'Polar 0-360'!M$363 / COS!$B289,'Polar 0-360'!L289 )","v":4.6788583127982246},{"$f":" IF( $A289 < 'Polar 0-360'!S$365, 'Polar 0-360'!S$363 / COS!$B289,'Polar 0-360'!R289 )","v":5.3412293075688435},{"$f":" IF( $A289 < 'Polar 0-360'!Y$365, 'Polar 0-360'!Y$363 / COS!$B289,'Polar 0-360'!X289 )","v":5.7425112651265424},{"$f":" IF( $A289 < 'Polar 0-360'!AE$365, 'Polar 0-360'!AE$363 / COS!$B289,'Polar 0-360'!AD289 )","v":5.9732074520825345},{"$f":" IF( $A289 < 'Polar 0-360'!AK$365, 'Polar 0-360'!AK$363 / COS!$B289,'Polar 0-360'!AJ289 )","v":6.1440689598374831},{"$f":" IF( $A289 < 'Polar 0-360'!AQ$365, 'Polar 0-360'!AQ$363 / COS!$B289,'Polar 0-360'!AP289 )","v":6.4025773975711404}]
[{"$f":"'Polar 0-360'!A290","v":288},0,{"$f":" IF( $A290 < 'Polar 0-360'!G$365, 'Polar 0-360'!G$363 / COS!$B290,'Polar 0-360'!F290 )","v":3.9112944959574016},{"$f":" IF( $A290 < 'Polar 0-360'!M$365, 'Polar 0-360'!M$363 / COS!$B290,'Polar 0-360'!L290 )","v":4.6668831582894343},{"$f":" IF( $A290 < 'Polar 0-360'!S$365, 'Polar 0-360'!S$363 / COS!$B290,'Polar 0-360'!R290 )","v":5.3264791993064211},{"$f":" IF( $A290 < 'Polar 0-360'!Y$365, 'Polar 0-360'!Y$363 / COS!$B290,'Polar 0-360'!X290 )","v":5.731922517286355},{"$f":" IF( $A290 < 'Polar 0-360'!AE$365, 'Polar 0-360'!AE$363 / COS!$B290,'Polar 0-360'!AD290 )","v":5.9643044382336363},{"$f":" IF( $A290 < 'Polar 0-360'!AK$365, 'Polar 0-360'!AK$363 / COS!$B290,'Polar 0-360'!AJ290 )","v":6.1339116589343066},{"$f":" IF( $A290 < 'Polar 0-360'!AQ$365, 'Polar 0-360'!AQ$363 / COS!$B290,'Polar 0-360'!AP290 )","v":6.3855574963209509}]
[{"$f":"'Polar 0-360'!A291","v":289},0,{"$f":" IF( $A291 < 'Polar 0-360'!G$365, 'Polar 0-360'!G$363 / COS!$B291,'Polar 0-360'!F291 )","v":3.9011427616451622},{"$f":" IF( $A291 < 'Polar 0-360'!M$365, 'Polar 0-360'!M$363 / COS!$B291,'Polar 0-360'!L291 )","v":4.6549080037806432},{"$f":" IF( $A291 < 'Polar 0-360'!S$365, 'Polar 0-360'!S$363 / COS!$B291,'Polar 0-360'!R291 )","v":5.3117290910439978},{"$f":" IF( $A291 < 'Polar 0-360'!Y$365, 'Polar 0-360'!Y$363 / COS!$B291,'Polar 0-360'!X291 )","v":5.7213337694461677},{"$f":" IF( $A291 < 'Polar 0-360'!AE$365, 'Polar 0-360'!AE$363 / COS!$B291,'Polar 0-360'!AD291 )","v":5.9554014243847382},{"$f":" IF( $A291 < 'Polar 0-360'!AK$365, 'Polar 0-360'!AK$363 / COS!$B291,'Polar 0-360'!AJ291 )","v":6.1237543580311309},{"$f":" IF( $A291 < 'Polar 0-360'!AQ$365, 'Polar 0-360'!AQ$363 / COS!$B291,'Polar 0-360'!AP291 )","v":6.3685375950707623}]
[{"$f":"'Polar 0-360'!A292","v":290},0,{"$f":" IF( $A292 < 'Polar 0-360'!G$365, 'Polar 0-360'!G$363 / COS!$B292,'Polar 0-360'!F292 )","v":3.8909910273329222},{"$f":" IF( $A292 < 'Polar 0-360'!M$365, 'Polar 0-360'!M$363 / COS!$B292,'Polar 0-360'!L292 )","v":4.642932849271852},{"$f":" IF( $A292 < 'Polar 0-360'!S$365, 'Polar 0-360'!S$363 / COS!$B292,'Polar 0-360'!R292 )","v":5.2969789827815745},{"$f":" IF( $A292 < 'Polar 0-360'!Y$365, 'Polar 0-360'!Y$363 / COS!$B292,'Polar 0-360'!X292 )","v":5.7107450216059812},{"$f":" IF( $A292 < 'Polar 0-360'!AE$365, 'Polar 0-360'!AE$363 / COS!$B292,'Polar 0-360'!AD292 )","v":5.9464984105358409},{"$f":" IF( $A292 < 'Polar 0-360'!AK$365, 'Polar 0-360'!AK$363 / COS!$B292,'Polar 0-360'!AJ292 )","v":6.1135970571279543},{"$f":" IF( $A292 < 'Polar 0-360'!AQ$365, 'Polar 0-360'!AQ$363 / COS!$B292,'Polar 0-360'!AP292 )","v":6.3515176938205729}]
[{"$f":"'Polar 0-360'!A293","v":291},0,{"$f":" IF( $A293 < 'Polar 0-360'!G$365, 'Polar 0-360'!G$363 / COS!$B293,'Polar 0-360'!F293 )","v":3.8808392930206828},{"$f":" IF( $A293 < 'Polar 0-360'!M$365, 'Polar 0-360'!M$363 / COS!$B293,'Polar 0-360'!L293 )","v":4.6309576947630617},{"$f":" IF( $A293 < 'Polar 0-360'!S$365, 'Polar 0-360'!S$363 / COS!$B293,'Polar 0-360'!R293 )","v":5.2822288745191521},{"$f":" IF( $A293 < 'Polar 0-360'!Y$365, 'Polar 0-360'!Y$363 / COS!$B293,'Polar 0-360'!X293 )","v":5.7001562737657938},{"$f":" IF( $A293 < 'Polar 0-360'!AE$365, 'Polar 0-360'!AE$363 / COS!$B293,'Polar 0-360'!AD293 )","v":5.9375953966869428},{"$f":" IF( $A293 < 'Polar 0-360'!AK$365, 'Polar 0-360'!AK$363 / COS!$B293,'Polar 0-360'!AJ293 )","v":6.1034397562247786},{"$f":" IF( $A293 < 'Polar 0-360'!AQ$365, 'Polar 0-360'!AQ$363 / COS!$B293,'Polar 0-360'!AP293 )","v":6.3344977925703834}]
[{"$f":"'Polar 0-360'!A294","v":292},0,{"$f":" IF( $A294 < 'Polar 0-360'!G$365, 'Polar 0-360'!G$363 / COS!$B294,'Polar 0-360'!F294 )","v":3.8706875587084433},{"$f":" IF( $A294 < 'Polar 0-360'!M$365, 'Polar 0-360'!M$363 / COS!$B294,'Polar 0-360'!L294 )","v":4.6189825402542706},{"$f":" IF( $A294 < 'Polar 0-360'!S$365, 'Polar 0-360'!S$363 / COS!$B294,'Polar 0-360'!R294 )","v":5.2674787662567288},{"$f":" IF( $A294 < 'Polar 0-360'!Y$365, 'Polar 0-360'!Y$363 / COS!$B294,'Polar 0-360'!X294 )","v":5.6895675259256073},{"$f":" IF( $A294 < 'Polar 0-360'!AE$365, 'Polar 0-360'!AE$363 / COS!$B294,'Polar 0-360'!AD294 )","v":5.9286923828380447},{"$f":" IF( $A294 < 'Polar 0-360'!AK$365, 'Polar 0-360'!AK$363 / COS!$B294,'Polar 0-360'!AJ294 )","v":6.0932824553216021},{"$f":" IF( $A294 < 'Polar 0-360'!AQ$365, 'Polar 0-360'!AQ$363 / COS!$B294,'Polar 0-360'!AP294 )","v":6.3174778913201948}]
[{"$f":"'Polar 0-360'!A295","v":293},0,{"$f":" IF( $A295 < 'Polar 0-360'!G$365, 'Polar 0-360'!G$363 / COS!$B295,'Polar 0-360'!F295 )","v":3.8605358243962034},{"$f":" IF( $A295 < 'Polar 0-360'!M$365, 'Polar 0-360'!M$363 / COS!$B295,'Polar 0-360'!L295 )","v":4.6070073857454794},{"$f":" IF( $A295 < 'Polar 0-360'!S$365, 'Polar 0-360'!S$363 / COS!$B295,'Polar 0-360'!R295 )","v":5.2527286579943056},{"$f":" IF( $A295 < 'Polar 0-360'!Y$365, 'Polar 0-360'!Y$363 / COS!$B295,'Polar 0-360'!X295 )","v":5.67897877808542},{"$f":" IF( $A295 < 'Polar 0-360'!AE$365, 'Polar 0-360'!AE$363 / COS!$B295,'Polar 0-360'!AD295 )","v":5.9197893689891465},{"$f":" IF( $A295 < 'Polar 0-360'!AK$365, 'Polar 0-360'!AK$363 / COS!$B295,'Polar 0-360'!AJ295 )","v":6.0831251544184255},{"$f":" IF( $A295 < 'Polar 0-360'!AQ$365, 'Polar 0-360'!AQ$363 / COS!$B295,'Polar 0-360'!AP295 )","v":6.3004579900700053}]
[{"$f":"'Polar 0-360'!A296","v":294},0,{"$f":" IF( $A296 < 'Polar 0-360'!G$365, 'Polar 0-360'!G$363 / COS!$B296,'Polar 0-360'!F296 )","v":3.8503840900839639},{"$f":" IF( $A296 < 'Polar 0-360'!M$365, 'Polar 0-360'!M$363 / COS!$B296,'Polar 0-360'!L296 )","v":4.5950322312366882},{"$f":" IF( $A296 < 'Polar 0-360'!S$365, 'Polar 0-360'!S$363 / COS!$B296,'Polar 0-360'!R296 )","v":5.2379785497318831},{"$f":" IF( $A296 < 'Polar 0-360'!Y$365, 'Polar 0-360'!Y$363 / COS!$B296,'Polar 0-360'!X296 )","v":5.6683900302452326},{"$f":" IF( $A296 < 'Polar 0-360'!AE$365, 'Polar 0-360'!AE$363 / COS!$B296,'Polar 0-360'!AD296 )","v":5.9108863551402484},{"$f":" IF( $A296 < 'Polar 0-360'!AK$365, 'Polar 0-360'!AK$363 / COS!$B296,'Polar 0-360'!AJ296 )","v":6.0729678535152498},{"$f":" IF( $A296 < 'Polar 0-360'!AQ$365, 'Polar 0-360'!AQ$363 / COS!$B296,'Polar 0-360'!AP296 )","v":6.2834380888198158}]
[{"$f":"'Polar 0-360'!A297","v":295},0,{"$f":" IF( $A297 < 'Polar 0-360'!G$365, 'Polar 0-360'!G$363 / COS!$B297,'Polar 0-360'!F297 )","v":3.8402323557717244},{"$f":" IF( $A297 < 'Polar 0-360'!M$365, 'Polar 0-360'!M$363 / COS!$B297,'Polar 0-360'!L297 )","v":4.583057076727898},{"$f":" IF( $A297 < 'Polar 0-360'!S$365, 'Polar 0-360'!S$363 / COS!$B297,'Polar 0-360'!R297 )","v":5.2232284414694599},{"$f":" IF( $A297 < 'Polar 0-360'!Y$365, 'Polar 0-360'!Y$363 / COS!$B297,'Polar 0-360'!X297 )","v":5.6578012824050461},{"$f":" IF( $A297 < 'Polar 0-360'!AE$365, 'Polar 0-360'!AE$363 / COS!$B297,'Polar 0-360'!AD297 )","v":5.9019833412913503},{"$f":" IF( $A297 < 'Polar 0-360'!AK$365, 'Polar 0-360'!AK$363 / COS!$B297,'Polar 0-360'!AJ297 )","v":6.0628105526120732},{"$f":" IF( $A297 < 'Polar 0-360'!AQ$365, 'Polar 0-360'!AQ$363 / COS!$B297,'Polar 0-360'!AP297 )","v":6.2664181875696272}]
[{"$f":"'Polar 0-360'!A298","v":296},0,{"$f":" IF( $A298 < 'Polar 0-360'!G$365, 'Polar 0-360'!G$363 / COS!$B298,'Polar 0-360'!F298 )","v":3.8300806214594845},{"$f":" IF( $A298 < 'Polar 0-360'!M$365, 'Polar 0-360'!M$363 / COS!$B298,'Polar 0-360'!L298 )","v":4.5710819222191068},{"$f":" IF( $A298 < 'Polar 0-360'!S$365, 'Polar 0-360'!S$363 / COS!$B298,'Polar 0-360'!R298 )","v":5.2084783332070366},{"$f":" IF( $A298 < 'Polar 0-360'!Y$365, 'Polar 0-360'!Y$363 / COS!$B298,'Polar 0-360'!X298 )","v":5.6472125345648587},{"$f":" IF( $A298 < 'Polar 0-360'!AE$365, 'Polar 0-360'!AE$363 / COS!$B298,'Polar 0-360'!AD298 )","v":5.8930803274424521},{"$f":" IF( $A298 < 'Polar 0-360'!AK$365, 'Polar 0-360'!AK$363 / COS!$B298,'Polar 0-360'!AJ298 )","v":6.0526532517088976},{"$f":" IF( $A298 < 'Polar 0-360'!AQ$365, 'Polar 0-360'!AQ$363 / COS!$B298,'Polar 0-360'!AP298 )","v":6.2493982863194377}]
[{"$f":"'Polar 0-360'!A299","v":297},0,{"$f":" IF( $A299 < 'Polar 0-360'!G$365, 'Polar 0-360'!G$363 / COS!$B299,'Polar 0-360'!F299 )","v":3.819928887147245},{"$f":" IF( $A299 < 'Polar 0-360'!M$365, 'Polar 0-360'!M$363 / COS!$B299,'Polar 0-360'!L299 )","v":4.5591067677103156},{"$f":" IF( $A299 < 'Polar 0-360'!S$365, 'Polar 0-360'!S$363 / COS!$B299,'Polar 0-360'!R299 )","v":5.1937282249446142},{"$f":" IF( $A299 < 'Polar 0-360'!Y$365, 'Polar 0-360'!Y$363 / COS!$B299,'Polar 0-360'!X299 )","v":5.6366237867246722},{"$f":" IF( $A299 < 'Polar 0-360'!AE$365, 'Polar 0-360'!AE$363 / COS!$B299,'Polar 0-360'!AD299 )","v":5.884177313593554},{"$f":" IF( $A299 < 'Polar 0-360'!AK$365, 'Polar 0-360'!AK$363 / COS!$B299,'Polar 0-360'!AJ299 )","v":6.042495950805721},{"$f":" IF( $A299 < 'Polar 0-360'!AQ$365, 'Polar 0-360'!AQ$363 / COS!$B299,'Polar 0-360'!AP299 )","v":6.2323783850692491}]
[{"$f":"'Polar 0-360'!A300","v":298},0,{"$f":" IF( $A300 < 'Polar 0-360'!G$365, 'Polar 0-360'!G$363 / COS!$B300,'Polar 0-360'!F300 )","v":3.8097771528350055},{"$f":" IF( $A300 < 'Polar 0-360'!M$365, 'Polar 0-360'!M$363 / COS!$B300,'Polar 0-360'!L300 )","v":4.5471316132015245},{"$f":" IF( $A300 < 'Polar 0-360'!S$365, 'Polar 0-360'!S$363 / COS!$B300,'Polar 0-360'!R300 )","v":5.1789781166821909},{"$f":" IF( $A300 < 'Polar 0-360'!Y$365, 'Polar 0-360'!Y$363 / COS!$B300,'Polar 0-360'!X300 )","v":5.6260350388844849},{"$f":" IF( $A300 < 'Polar 0-360'!AE$365, 'Polar 0-360'!AE$363 / COS!$B300,'Polar 0-360'!AD300 )","v":5.8752742997446568},{"$f":" IF( $A300 < 'Polar 0-360'!AK$365, 'Polar 0-360'!AK$363 / COS!$B300,'Polar 0-360'!AJ300 )","v":6.0323386499025453},{"$f":" IF( $A300 < 'Polar 0-360'!AQ$365, 'Polar 0-360'!AQ$363 / COS!$B300,'Polar 0-360'!AP300 )","v":6.2153584838190596}]
[{"$f":"'Polar 0-360'!A301","v":299},0,{"$f":" IF( $A301 < 'Polar 0-360'!G$365, 'Polar 0-360'!G$363 / COS!$B301,'Polar 0-360'!F301 )","v":3.7996254185227656},{"$f":" IF( $A301 < 'Polar 0-360'!M$365, 'Polar 0-360'!M$363 / COS!$B301,'Polar 0-360'!L301 )","v":4.5351564586927342},{"$f":" IF( $A301 < 'Polar 0-360'!S$365, 'Polar 0-360'!S$363 / COS!$B301,'Polar 0-360'!R301 )","v":5.1642280084197676},{"$f":" IF( $A301 < 'Polar 0-360'!Y$365, 'Polar 0-360'!Y$363 / COS!$B301,'Polar 0-360'!X301 )","v":5.6154462910442984},{"$f":" IF( $A301 < 'Polar 0-360'!AE$365, 'Polar 0-360'!AE$363 / COS!$B301,'Polar 0-360'!AD301 )","v":5.8663712858957586},{"$f":" IF( $A301 < 'Polar 0-360'!AK$365, 'Polar 0-360'!AK$363 / COS!$B301,'Polar 0-360'!AJ301 )","v":6.0221813489993687},{"$f":" IF( $A301 < 'Polar 0-360'!AQ$365, 'Polar 0-360'!AQ$363 / COS!$B301,'Polar 0-360'!AP301 )","v":6.198338582568871}]
[{"$f":"'Polar 0-360'!A302","v":300},0,{"$f":" IF( $A302 < 'Polar 0-360'!G$365, 'Polar 0-360'!G$363 / COS!$B302,'Polar 0-360'!F302 )","v":3.7894736842105261},{"$f":" IF( $A302 < 'Polar 0-360'!M$365, 'Polar 0-360'!M$363 / COS!$B302,'Polar 0-360'!L302 )","v":4.523181304183943},{"$f":" IF( $A302 < 'Polar 0-360'!S$365, 'Polar 0-360'!S$363 / COS!$B302,'Polar 0-360'!R302 )","v":5.1494779001573452},{"$f":" IF( $A302 < 'Polar 0-360'!Y$365, 'Polar 0-360'!Y$363 / COS!$B302,'Polar 0-360'!X302 )","v":5.604857543204111},{"$f":" IF( $A302 < 'Polar 0-360'!AE$365, 'Polar 0-360'!AE$363 / COS!$B302,'Polar 0-360'!AD302 )","v":5.8574682720468605},{"$f":" IF( $A302 < 'Polar 0-360'!AK$365, 'Polar 0-360'!AK$363 / COS!$B302,'Polar 0-360'!AJ302 )","v":6.0120240480961931},{"$f":" IF( $A302 < 'Polar 0-360'!AQ$365, 'Polar 0-360'!AQ$363 / COS!$B302,'Polar 0-360'!AP302 )","v":6.1813186813186816}]
[{"$f":"'Polar 0-360'!A303","v":301},0,{"$f":" IF( $A303 < 'Polar 0-360'!G$365, 'Polar 0-360'!G$363 / COS!$B303,'Polar 0-360'!F303 )","v":3.7649360951035131},{"$f":" IF( $A303 < 'Polar 0-360'!M$365, 'Polar 0-360'!M$363 / COS!$B303,'Polar 0-360'!L303 )","v":4.4972872977968441},{"$f":" IF( $A303 < 'Polar 0-360'!S$365, 'Polar 0-360'!S$363 / COS!$B303,'Polar 0-360'!R303 )","v":5.117206206115938},{"$f":" IF( $A303 < 'Polar 0-360'!Y$365, 'Polar 0-360'!Y$363 / COS!$B303,'Polar 0-360'!X303 )","v":5.5785086661561589},{"$f":" IF( $A303 < 'Polar 0-360'!AE$365, 'Polar 0-360'!AE$363 / COS!$B303,'Polar 0-360'!AD303 )","v":5.8371974100865653},{"$f":" IF( $A303 < 'Polar 0-360'!AK$365, 'Polar 0-360'!AK$363 / COS!$B303,'Polar 0-360'!AJ303 )","v":5.9935394489908305},{"$f":" IF( $A303 < 'Polar 0-360'!AQ$365, 'Polar 0-360'!AQ$363 / COS!$B303,'Polar 0-360'!AP303 )","v":6.1571568401658219}]
[{"$f":"'Polar 0-360'!A304","v":302},0,{"$f":" IF( $A304 < 'Polar 0-360'!G$365, 'Polar 0-360'!G$363 / COS!$B304,'Polar 0-360'!F304 )","v":3.740398505996501},{"$f":" IF( $A304 < 'Polar 0-360'!M$365, 'Polar 0-360'!M$363 / COS!$B304,'Polar 0-360'!L304 )","v":4.471393291409747},{"$f":" IF( $A304 < 'Polar 0-360'!S$365, 'Polar 0-360'!S$363 / COS!$B304,'Polar 0-360'!R304 )","v":5.0849345120745308},{"$f":" IF( $A304 < 'Polar 0-360'!Y$365, 'Polar 0-360'!Y$363 / COS!$B304,'Polar 0-360'!X304 )","v":5.5521597891082077},{"$f":" IF( $A304 < 'Polar 0-360'!AE$365, 'Polar 0-360'!AE$363 / COS!$B304,'Polar 0-360'!AD304 )","v":5.8169265481262702},{"$f":" IF( $A304 < 'Polar 0-360'!AK$365, 'Polar 0-360'!AK$363 / COS!$B304,'Polar 0-360'!AJ304 )","v":5.9750548498854688},{"$f":" IF( $A304 < 'Polar 0-360'!AQ$365, 'Polar 0-360'!AQ$363 / COS!$B304,'Polar 0-360'!AP304 )","v":6.1329949990129631}]
[{"$f":"'Polar 0-360'!A305","v":303},0,{"$f":" IF( $A305 < 'Polar 0-360'!G$365, 'Polar 0-360'!G$363 / COS!$B305,'Polar 0-360'!F305 )","v":3.7158609168894885},{"$f":" IF( $A305 < 'Polar 0-360'!M$365, 'Polar 0-360'!M$363 / COS!$B305,'Polar 0-360'!L305 )","v":4.4454992850226489},{"$f":" IF( $A305 < 'Polar 0-360'!S$365, 'Polar 0-360'!S$363 / COS!$B305,'Polar 0-360'!R305 )","v":5.0526628180331237},{"$f":" IF( $A305 < 'Polar 0-360'!Y$365, 'Polar 0-360'!Y$363 / COS!$B305,'Polar 0-360'!X305 )","v":5.5258109120602565},{"$f":" IF( $A305 < 'Polar 0-360'!AE$365, 'Polar 0-360'!AE$363 / COS!$B305,'Polar 0-360'!AD305 )","v":5.796655686165975},{"$f":" IF( $A305 < 'Polar 0-360'!AK$365, 'Polar 0-360'!AK$363 / COS!$B305,'Polar 0-360'!AJ305 )","v":5.956570250780107},{"$f":" IF( $A305 < 'Polar 0-360'!AQ$365, 'Polar 0-360'!AQ$363 / COS!$B305,'Polar 0-360'!AP305 )","v":6.1088331578601034}]
[{"$f":"'Polar 0-360'!A306","v":304},0,{"$f":" IF( $A306 < 'Polar 0-360'!G$365, 'Polar 0-360'!G$363 / COS!$B306,'Polar 0-360'!F306 )","v":3.6913233277824764},{"$f":" IF( $A306 < 'Polar 0-360'!M$365, 'Polar 0-360'!M$363 / COS!$B306,'Polar 0-360'!L306 )","v":4.4196052786355509},{"$f":" IF( $A306 < 'Polar 0-360'!S$365, 'Polar 0-360'!S$363 / COS!$B306,'Polar 0-360'!R306 )","v":5.0203911239917165},{"$f":" IF( $A306 < 'Polar 0-360'!Y$365, 'Polar 0-360'!Y$363 / COS!$B306,'Polar 0-360'!X306 )","v":5.4994620350123045},{"$f":" IF( $A306 < 'Polar 0-360'!AE$365, 'Polar 0-360'!AE$363 / COS!$B306,'Polar 0-360'!AD306 )","v":5.7763848242056799},{"$f":" IF( $A306 < 'Polar 0-360'!AK$365, 'Polar 0-360'!AK$363 / COS!$B306,'Polar 0-360'!AJ306 )","v":5.9380856516747453},{"$f":" IF( $A306 < 'Polar 0-360'!AQ$365, 'Polar 0-360'!AQ$363 / COS!$B306,'Polar 0-360'!AP306 )","v":6.0846713167072446}]
[{"$f":"'Polar 0-360'!A307","v":305},0,{"$f":" IF( $A307 < 'Polar 0-360'!G$365, 'Polar 0-360'!G$363 / COS!$B307,'Polar 0-360'!F307 )","v":3.6667857386754639},{"$f":" IF( $A307 < 'Polar 0-360'!M$365, 'Polar 0-360'!M$363 / COS!$B307,'Polar 0-360'!L307 )","v":4.3937112722484528},{"$f":" IF( $A307 < 'Polar 0-360'!S$365, 'Polar 0-360'!S$363 / COS!$B307,'Polar 0-360'!R307 )","v":4.9881194299503093},{"$f":" IF( $A307 < 'Polar 0-360'!Y$365, 'Polar 0-360'!Y$363 / COS!$B307,'Polar 0-360'!X307 )","v":5.4731131579643524},{"$f":" IF( $A307 < 'Polar 0-360'!AE$365, 'Polar 0-360'!AE$363 / COS!$B307,'Polar 0-360'!AD307 )","v":5.7561139622453847},{"$f":" IF( $A307 < 'Polar 0-360'!AK$365, 'Polar 0-360'!AK$363 / COS!$B307,'Polar 0-360'!AJ307 )","v":5.9196010525693836},{"$f":" IF( $A307 < 'Polar 0-360'!AQ$365, 'Polar 0-360'!AQ$363 / COS!$B307,'Polar 0-360'!AP307 )","v":6.0605094755543849}]
[{"$f":"'Polar 0-360'!A308","v":306},0,{"$f":" IF( $A308 < 'Polar 0-360'!G$365, 'Polar 0-360'!G$363 / COS!$B308,'Polar 0-360'!F308 )","v":3.6422481495684513},{"$f":" IF( $A308 < 'Polar 0-360'!M$365, 'Polar 0-360'!M$363 / COS!$B308,'Polar 0-360'!L308 )","v":4.3678172658613548},{"$f":" IF( $A308 < 'Polar 0-360'!S$365, 'Polar 0-360'!S$363 / COS!$B308,'Polar 0-360'!R308 )","v":4.9558477359089022},{"$f":" IF( $A308 < 'Polar 0-360'!Y$365, 'Polar 0-360'!Y$363 / COS!$B308,'Polar 0-360'!X308 )","v":5.4467642809164012},{"$f":" IF( $A308 < 'Polar 0-360'!AE$365, 'Polar 0-360'!AE$363 / COS!$B308,'Polar 0-360'!AD308 )","v":5.7358431002850896},{"$f":" IF( $A308 < 'Polar 0-360'!AK$365, 'Polar 0-360'!AK$363 / COS!$B308,'Polar 0-360'!AJ308 )","v":5.9011164534640219},{"$f":" IF( $A308 < 'Polar 0-360'!AQ$365, 'Polar 0-360'!AQ$363 / COS!$B308,'Polar 0-360'!AP308 )","v":6.0363476344015261}]
[{"$f":"'Polar 0-360'!A309","v":307},0,{"$f":" IF( $A309 < 'Polar 0-360'!G$365, 'Polar 0-360'!G$363 / COS!$B309,'Polar 0-360'!F309 )","v":3.6177105604614388},{"$f":" IF( $A309 < 'Polar 0-360'!M$365, 'Polar 0-360'!M$363 / COS!$B309,'Polar 0-360'!L309 )","v":4.3419232594742567},{"$f":" IF( $A309 < 'Polar 0-360'!S$365, 'Polar 0-360'!S$363 / COS!$B309,'Polar 0-360'!R309 )","v":4.923576041867495},{"$f":" IF( $A309 < 'Polar 0-360'!Y$365, 'Polar 0-360'!Y$363 / COS!$B309,'Polar 0-360'!X309 )","v":5.4204154038684491},{"$f":" IF( $A309 < 'Polar 0-360'!AE$365, 'Polar 0-360'!AE$363 / COS!$B309,'Polar 0-360'!AD309 )","v":5.7155722383247944},{"$f":" IF( $A309 < 'Polar 0-360'!AK$365, 'Polar 0-360'!AK$363 / COS!$B309,'Polar 0-360'!AJ309 )","v":5.8826318543586602},{"$f":" IF( $A309 < 'Polar 0-360'!AQ$365, 'Polar 0-360'!AQ$363 / COS!$B309,'Polar 0-360'!AP309 )","v":6.0121857932486664}]
[{"$f":"'Polar 0-360'!A310","v":308},0,{"$f":" IF( $A310 < 'Polar 0-360'!G$365, 'Polar 0-360'!G$363 / COS!$B310,'Polar 0-360'!F310 )","v":3.5931729713544263},{"$f":" IF( $A310 < 'Polar 0-360'!M$365, 'Polar 0-360'!M$363 / COS!$B310,'Polar 0-360'!L310 )","v":4.3160292530871587},{"$f":" IF( $A310 < 'Polar 0-360'!S$365, 'Polar 0-360'!S$363 / COS!$B310,'Polar 0-360'!R310 )","v":4.8913043478260878},{"$f":" IF( $A310 < 'Polar 0-360'!Y$365, 'Polar 0-360'!Y$363 / COS!$B310,'Polar 0-360'!X310 )","v":5.3940665268204979},{"$f":" IF( $A310 < 'Polar 0-360'!AE$365, 'Polar 0-360'!AE$363 / COS!$B310,'Polar 0-360'!AD310 )","v":5.6953013763645002},{"$f":" IF( $A310 < 'Polar 0-360'!AK$365, 'Polar 0-360'!AK$363 / COS!$B310,'Polar 0-360'!AJ310 )","v":5.8641472552532985},{"$f":" IF( $A310 < 'Polar 0-360'!AQ$365, 'Polar 0-360'!AQ$363 / COS!$B310,'Polar 0-360'!AP310 )","v":5.9880239520958067}]
[{"$f":"'Polar 0-360'!A311","v":309},0,{"$f":" IF( $A311 < 'Polar 0-360'!G$365, 'Polar 0-360'!G$363 / COS!$B311,'Polar 0-360'!F311 )","v":3.5522223813469598},{"$f":" IF( $A311 < 'Polar 0-360'!M$365, 'Polar 0-360'!M$363 / COS!$B311,'Polar 0-360'!L311 )","v":4.2722902960650977},{"$f":" IF( $A311 < 'Polar 0-360'!S$365, 'Polar 0-360'!S$363 / COS!$B311,'Polar 0-360'!R311 )","v":4.8406013478519325},{"$f":" IF( $A311 < 'Polar 0-360'!Y$365, 'Polar 0-360'!Y$363 / COS!$B311,'Polar 0-360'!X311 )","v":5.338910152379766},{"$f":" IF( $A311 < 'Polar 0-360'!AE$365, 'Polar 0-360'!AE$363 / COS!$B311,'Polar 0-360'!AD311 )","v":5.6481428969140151},{"$f":" IF( $A311 < 'Polar 0-360'!AK$365, 'Polar 0-360'!AK$363 / COS!$B311,'Polar 0-360'!AJ311 )","v":5.8224502279270745},{"$f":" IF( $A311 < 'Polar 0-360'!AQ$365, 'Polar 0-360'!AQ$363 / COS!$B311,'Polar 0-360'!AP311 )","v":5.9446426304072215}]
[{"$f":"'Polar 0-360'!A312","v":310},0,{"$f":" IF( $A312 < 'Polar 0-360'!G$365, 'Polar 0-360'!G$363 / COS!$B312,'Polar 0-360'!F312 )","v":3.5112717913394924},{"$f":" IF( $A312 < 'Polar 0-360'!M$365, 'Polar 0-360'!M$363 / COS!$B312,'Polar 0-360'!L312 )","v":4.2285513390430349},{"$f":" IF( $A312 < 'Polar 0-360'!S$365, 'Polar 0-360'!S$363 / COS!$B312,'Polar 0-360'!R312 )","v":4.789898347877779},{"$f":" IF( $A312 < 'Polar 0-360'!Y$365, 'Polar 0-360'!Y$363 / COS!$B312,'Polar 0-360'!X312 )","v":5.2837537779390349},{"$f":" IF( $A312 < 'Polar 0-360'!AE$365, 'Polar 0-360'!AE$363 / COS!$B312,'Polar 0-360'!AD312 )","v":5.6009844174635308},{"$f":" IF( $A312 < 'Polar 0-360'!AK$365, 'Polar 0-360'!AK$363 / COS!$B312,'Polar 0-360'!AJ312 )","v":5.7807532006008486},{"$f":" IF( $A312 < 'Polar 0-360'!AQ$365, 'Polar 0-360'!AQ$363 / COS!$B312,'Polar 0-360'!AP312 )","v":5.9012613087186345}]
[{"$f":"'Polar 0-360'!A313","v":311},0,{"$f":" IF( $A313 < 'Polar 0-360'!G$365, 'Polar 0-360'!G$363 / COS!$B313,'Polar 0-360'!F313 )","v":3.470321201332025},{"$f":" IF( $A313 < 'Polar 0-360'!M$365, 'Polar 0-360'!M$363 / COS!$B313,'Polar 0-360'!L313 )","v":4.1848123820209739},{"$f":" IF( $A313 < 'Polar 0-360'!S$365, 'Polar 0-360'!S$363 / COS!$B313,'Polar 0-360'!R313 )","v":4.7391953479036246},{"$f":" IF( $A313 < 'Polar 0-360'!Y$365, 'Polar 0-360'!Y$363 / COS!$B313,'Polar 0-360'!X313 )","v":5.228597403498302},{"$f":" IF( $A313 < 'Polar 0-360'!AE$365, 'Polar 0-360'!AE$363 / COS!$B313,'Polar 0-360'!AD313 )","v":5.5538259380130466},{"$f":" IF( $A313 < 'Polar 0-360'!AK$365, 'Polar 0-360'!AK$363 / COS!$B313,'Polar 0-360'!AJ313 )","v":5.7390561732746246},{"$f":" IF( $A313 < 'Polar 0-360'!AQ$365, 'Polar 0-360'!AQ$363 / COS!$B313,'Polar 0-360'!AP313 )","v":5.8578799870300493}]
[{"$f":"'Polar 0-360'!A314","v":312},0,{"$f":" IF( $A314 < 'Polar 0-360'!G$365, 'Polar 0-360'!G$363 / COS!$B314,'Polar 0-360'!F314 )","v":3.4293706113245577},{"$f":" IF( $A314 < 'Polar 0-360'!M$365, 'Polar 0-360'!M$363 / COS!$B314,'Polar 0-360'!L314 )","v":4.1410734249989112},{"$f":" IF( $A314 < 'Polar 0-360'!S$365, 'Polar 0-360'!S$363 / COS!$B314,'Polar 0-360'!R314 )","v":4.6884923479294711},{"$f":" IF( $A314 < 'Polar 0-360'!Y$365, 'Polar 0-360'!Y$363 / COS!$B314,'Polar 0-360'!X314 )","v":5.173441029057571},{"$f":" IF( $A314 < 'Polar 0-360'!AE$365, 'Polar 0-360'!AE$363 / COS!$B314,'Polar 0-360'!AD314 )","v":5.5066674585625623},{"$f":" IF( $A314 < 'Polar 0-360'!AK$365, 'Polar 0-360'!AK$363 / COS!$B314,'Polar 0-360'!AJ314 )","v":5.6973591459483997},{"$f":" IF( $A314 < 'Polar 0-360'!AQ$365, 'Polar 0-360'!AQ$363 / COS!$B314,'Polar 0-360'!AP314 )","v":5.8144986653414623}]
[{"$f":"'Polar 0-360'!A315","v":313},0,{"$f":" IF( $A315 < 'Polar 0-360'!G$365, 'Polar 0-360'!G$363 / COS!$B315,'Polar 0-360'!F315 )","v":3.3884200213170903},{"$f":" IF( $A315 < 'Polar 0-360'!M$365, 'Polar 0-360'!M$363 / COS!$B315,'Polar 0-360'!L315 )","v":4.0973344679768502},{"$f":" IF( $A315 < 'Polar 0-360'!S$365, 'Polar 0-360'!S$363 / COS!$B315,'Polar 0-360'!R315 )","v":4.6377893479553176},{"$f":" IF( $A315 < 'Polar 0-360'!Y$365, 'Polar 0-360'!Y$363 / COS!$B315,'Polar 0-360'!X315 )","v":5.1182846546168381},{"$f":" IF( $A315 < 'Polar 0-360'!AE$365, 'Polar 0-360'!AE$363 / COS!$B315,'Polar 0-360'!AD315 )","v":5.4595089791120781},{"$f":" IF( $A315 < 'Polar 0-360'!AK$365, 'Polar 0-360'!AK$363 / COS!$B315,'Polar 0-360'!AJ315 )","v":5.6556621186221747},{"$f":" IF( $A315 < 'Polar 0-360'!AQ$365, 'Polar 0-360'!AQ$363 / COS!$B315,'Polar 0-360'!AP315 )","v":5.7711173436528771}]
[{"$f":"'Polar 0-360'!A316","v":314},0,{"$f":" IF( $A316 < 'Polar 0-360'!G$365, 'Polar 0-360'!G$363 / COS!$B316,'Polar 0-360'!F316 )","v":3.3474694313096229},{"$f":" IF( $A316 < 'Polar 0-360'!M$365, 'Polar 0-360'!M$363 / COS!$B316,'Polar 0-360'!L316 )","v":4.0535955109547874},{"$f":" IF( $A316 < 'Polar 0-360'!S$365, 'Polar 0-360'!S$363 / COS!$B316,'Polar 0-360'!R316 )","v":4.5870863479811632},{"$f":" IF( $A316 < 'Polar 0-360'!Y$365, 'Polar 0-360'!Y$363 / COS!$B316,'Polar 0-360'!X316 )","v":5.0631282801761071},{"$f":" IF( $A316 < 'Polar 0-360'!AE$365, 'Polar 0-360'!AE$363 / COS!$B316,'Polar 0-360'!AD316 )","v":5.4123504996615939},{"$f":" IF( $A316 < 'Polar 0-360'!AK$365, 'Polar 0-360'!AK$363 / COS!$B316,'Polar 0-360'!AJ316 )","v":5.6139650912959498},{"$f":" IF( $A316 < 'Polar 0-360'!AQ$365, 'Polar 0-360'!AQ$363 / COS!$B316,'Polar 0-360'!AP316 )","v":5.7277360219642901}]
[{"$f":"'Polar 0-360'!A317","v":315},0,{"$f":" IF( $A317 < 'Polar 0-360'!G$365, 'Polar 0-360'!G$363 / COS!$B317,'Polar 0-360'!F317 )","v":3.3065188413021556},{"$f":" IF( $A317 < 'Polar 0-360'!M$365, 'Polar 0-360'!M$363 / COS!$B317,'Polar 0-360'!L317 )","v":4.0098565539327264},{"$f":" IF( $A317 < 'Polar 0-360'!S$365, 'Polar 0-360'!S$363 / COS!$B317,'Polar 0-360'!R317 )","v":4.5363833480070088},{"$f":" IF( $A317 < 'Polar 0-360'!Y$365, 'Polar 0-360'!Y$363 / COS!$B317,'Polar 0-360'!X317 )","v":5.0079719057353751},{"$f":" IF( $A317 < 'Polar 0-360'!AE$365, 'Polar 0-360'!AE$363 / COS!$B317,'Polar 0-360'!AD317 )","v":5.3651920202111096},{"$f":" IF( $A317 < 'Polar 0-360'!AK$365, 'Polar 0-360'!AK$363 / COS!$B317,'Polar 0-360'!AJ317 )","v":5.5722680639697248},{"$f":" IF( $A317 < 'Polar 0-360'!AQ$365, 'Polar 0-360'!AQ$363 / COS!$B317,'Polar 0-360'!AP317 )","v":5.684354700275704}]
[{"$f":"'Polar 0-360'!A318","v":316},0,{"$f":" IF( $A318 < 'Polar 0-360'!G$365, 'Polar 0-360'!G$363 / COS!$B318,'Polar 0-360'!F318 )","v":3.2655682512946886},{"$f":" IF( $A318 < 'Polar 0-360'!M$365, 'Polar 0-360'!M$363 / COS!$B318,'Polar 0-360'!L318 )","v":3.9661175969106641},{"$f":" IF( $A318 < 'Polar 0-360'!S$365, 'Polar 0-360'!S$363 / COS!$B318,'Polar 0-360'!R318 )","v":4.4856803480328553},{"$f":" IF( $A318 < 'Polar 0-360'!Y$365, 'Polar 0-360'!Y$363 / COS!$B318,'Polar 0-360'!X318 )","v":4.9528155312946431},{"$f":" IF( $A318 < 'Polar 0-360'!AE$365, 'Polar 0-360'!AE$363 / COS!$B318,'Polar 0-360'!AD318 )","v":5.3180335407606254},{"$f":" IF( $A318 < 'Polar 0-360'!AK$365, 'Polar 0-360'!AK$363 / COS!$B318,'Polar 0-360'!AJ318 )","v":5.5305710366434999},{"$f":" IF( $A318 < 'Polar 0-360'!AQ$365, 'Polar 0-360'!AQ$363 / COS!$B318,'Polar 0-360'!AP318 )","v":5.6409733785871179}]
[{"$f":"'Polar 0-360'!A319","v":317},0,{"$f":" IF( $A319 < 'Polar 0-360'!G$365, 'Polar 0-360'!G$363 / COS!$B319,'Polar 0-360'!F319 )","v":3.2246176612872213},{"$f":" IF( $A319 < 'Polar 0-360'!M$365, 'Polar 0-360'!M$363 / COS!$B319,'Polar 0-360'!L319 )","v":3.9223786398886022},{"$f":" IF( $A319 < 'Polar 0-360'!S$365, 'Polar 0-360'!S$363 / COS!$B319,'Polar 0-360'!R319 )","v":4.4349773480587018},{"$f":" IF( $A319 < 'Polar 0-360'!Y$365, 'Polar 0-360'!Y$363 / COS!$B319,'Polar 0-360'!X319 )","v":4.8976591568539112},{"$f":" IF( $A319 < 'Polar 0-360'!AE$365, 'Polar 0-360'!AE$363 / COS!$B319,'Polar 0-360'!AD319 )","v":5.2708750613101412},{"$f":" IF( $A319 < 'Polar 0-360'!AK$365, 'Polar 0-360'!AK$363 / COS!$B319,'Polar 0-360'!AJ319 )","v":5.488874009317275},{"$f":" IF( $A319 < 'Polar 0-360'!AQ$365, 'Polar 0-360'!AQ$363 / COS!$B319,'Polar 0-360'!AP319 )","v":5.5975920568985318}]
[{"$f":"'Polar 0-360'!A320","v":318},0,{"$f":" IF( $A320 < 'Polar 0-360'!G$365, 'Polar 0-360'!G$363 / COS!$B320,'Polar 0-360'!F320 )","v":3.166948741235641},{"$f":" IF( $A320 < 'Polar 0-360'!M$365, 'Polar 0-360'!M$363 / COS!$B320,'Polar 0-360'!L320 )","v":3.8887332883331709},{"$f":" IF( $A320 < 'Polar 0-360'!S$365, 'Polar 0-360'!S$363 / COS!$B320,'Polar 0-360'!R320 )","v":4.3959750403862756},{"$f":" IF( $A320 < 'Polar 0-360'!Y$365, 'Polar 0-360'!Y$363 / COS!$B320,'Polar 0-360'!X320 )","v":4.842502782413181},{"$f":" IF( $A320 < 'Polar 0-360'!AE$365, 'Polar 0-360'!AE$363 / COS!$B320,'Polar 0-360'!AD320 )","v":5.2345993078866924},{"$f":" IF( $A320 < 'Polar 0-360'!AK$365, 'Polar 0-360'!AK$363 / COS!$B320,'Polar 0-360'!AJ320 )","v":5.456799372912486},{"$f":" IF( $A320 < 'Polar 0-360'!AQ$365, 'Polar 0-360'!AQ$363 / COS!$B320,'Polar 0-360'!AP320 )","v":5.5642218094457725}]
[{"$f":"'Polar 0-360'!A321","v":319},0,{"$f":" IF( $A321 < 'Polar 0-360'!G$365, 'Polar 0-360'!G$363 / COS!$B321,'Polar 0-360'!F321 )","v":3.05593607013635},{"$f":" IF( $A321 < 'Polar 0-360'!M$365, 'Polar 0-360'!M$363 / COS!$B321,'Polar 0-360'!L321 )","v":3.7870859311617799},{"$f":" IF( $A321 < 'Polar 0-360'!S$365, 'Polar 0-360'!S$363 / COS!$B321,'Polar 0-360'!R321 )","v":4.2908805982695588},{"$f":" IF( $A321 < 'Polar 0-360'!Y$365, 'Polar 0-360'!Y$363 / COS!$B321,'Polar 0-360'!X321 )","v":4.7160321770289224},{"$f":" IF( $A321 < 'Polar 0-360'!AE$365, 'Polar 0-360'!AE$363 / COS!$B321,'Polar 0-360'!AD321 )","v":5.14823410181417},{"$f":" IF( $A321 < 'Polar 0-360'!AK$365, 'Polar 0-360'!AK$363 / COS!$B321,'Polar 0-360'!AJ321 )","v":5.399225400565892},{"$f":" IF( $A321 < 'Polar 0-360'!AQ$365, 'Polar 0-360'!AQ$363 / COS!$B321,'Polar 0-360'!AP321 )","v":5.4999840830992124}]
[{"$f":"'Polar 0-360'!A322","v":320},0,{"$f":" IF( $A322 < 'Polar 0-360'!G$365, 'Polar 0-360'!G$363 / COS!$B322,'Polar 0-360'!F322 )","v":2.9847849483443385},{"$f":" IF( $A322 < 'Polar 0-360'!M$365, 'Polar 0-360'!M$363 / COS!$B322,'Polar 0-360'!L322 )","v":3.6989071223562657},{"$f":" IF( $A322 < 'Polar 0-360'!S$365, 'Polar 0-360'!S$363 / COS!$B322,'Polar 0-360'!R322 )","v":4.1909689582513705},{"$f":" IF( $A322 < 'Polar 0-360'!Y$365, 'Polar 0-360'!Y$363 / COS!$B322,'Polar 0-360'!X322 )","v":4.6062192180030879},{"$f":" IF( $A322 < 'Polar 0-360'!AE$365, 'Polar 0-360'!AE$363 / COS!$B322,'Polar 0-360'!AD322 )","v":5.0099174252326915},{"$f":" IF( $A322 < 'Polar 0-360'!AK$365, 'Polar 0-360'!AK$363 / COS!$B322,'Polar 0-360'!AJ322 )","v":5.3006949477229632},{"$f":" IF( $A322 < 'Polar 0-360'!AQ$365, 'Polar 0-360'!AQ$363 / COS!$B322,'Polar 0-360'!AP322 )","v":5.4488799563885486}]
[{"$f":"'Polar 0-360'!A323","v":321},0,{"$f":" IF( $A323 < 'Polar 0-360'!G$365, 'Polar 0-360'!G$363 / COS!$B323,'Polar 0-360'!F323 )","v":2.91016532463573},{"$f":" IF( $A323 < 'Polar 0-360'!M$365, 'Polar 0-360'!M$363 / COS!$B323,'Polar 0-360'!L323 )","v":3.606434444297359},{"$f":" IF( $A323 < 'Polar 0-360'!S$365, 'Polar 0-360'!S$363 / COS!$B323,'Polar 0-360'!R323 )","v":4.0861947342950868},{"$f":" IF( $A323 < 'Polar 0-360'!Y$365, 'Polar 0-360'!Y$363 / COS!$B323,'Polar 0-360'!X323 )","v":4.4910637375530102},{"$f":" IF( $A323 < 'Polar 0-360'!AE$365, 'Polar 0-360'!AE$363 / COS!$B323,'Polar 0-360'!AD323 )","v":4.8846694896018743},{"$f":" IF( $A323 < 'Polar 0-360'!AK$365, 'Polar 0-360'!AK$363 / COS!$B323,'Polar 0-360'!AJ323 )","v":5.1681775740298903},{"$f":" IF( $A323 < 'Polar 0-360'!AQ$365, 'Polar 0-360'!AQ$363 / COS!$B323,'Polar 0-360'!AP323 )","v":5.3126579574788346}]
[{"$f":"'Polar 0-360'!A324","v":322},0,{"$f":" IF( $A324 < 'Polar 0-360'!G$365, 'Polar 0-360'!G$363 / COS!$B324,'Polar 0-360'!F324 )","v":2.8355457009271214},{"$f":" IF( $A324 < 'Polar 0-360'!M$365, 'Polar 0-360'!M$363 / COS!$B324,'Polar 0-360'!L324 )","v":3.5139617662384524},{"$f":" IF( $A324 < 'Polar 0-360'!S$365, 'Polar 0-360'!S$363 / COS!$B324,'Polar 0-360'!R324 )","v":3.9814205103388023},{"$f":" IF( $A324 < 'Polar 0-360'!Y$365, 'Polar 0-360'!Y$363 / COS!$B324,'Polar 0-360'!X324 )","v":4.3759082571029335},{"$f":" IF( $A324 < 'Polar 0-360'!AE$365, 'Polar 0-360'!AE$363 / COS!$B324,'Polar 0-360'!AD324 )","v":4.7594215539710572},{"$f":" IF( $A324 < 'Polar 0-360'!AK$365, 'Polar 0-360'!AK$363 / COS!$B324,'Polar 0-360'!AJ324 )","v":5.0356602003368156},{"$f":" IF( $A324 < 'Polar 0-360'!AQ$365, 'Polar 0-360'!AQ$363 / COS!$B324,'Polar 0-360'!AP324 )","v":5.1764359585691206}]
[{"$f":"'Polar 0-360'!A325","v":323},0,{"$f":" IF( $A325 < 'Polar 0-360'!G$365, 'Polar 0-360'!G$363 / COS!$B325,'Polar 0-360'!F325 )","v":2.7609260772185129},{"$f":" IF( $A325 < 'Polar 0-360'!M$365, 'Polar 0-360'!M$363 / COS!$B325,'Polar 0-360'!L325 )","v":3.4214890881795457},{"$f":" IF( $A325 < 'Polar 0-360'!S$365, 'Polar 0-360'!S$363 / COS!$B325,'Polar 0-360'!R325 )","v":3.8766462863825182},{"$f":" IF( $A325 < 'Polar 0-360'!Y$365, 'Polar 0-360'!Y$363 / COS!$B325,'Polar 0-360'!X325 )","v":4.2607527766528559},{"$f":" IF( $A325 < 'Polar 0-360'!AE$365, 'Polar 0-360'!AE$363 / COS!$B325,'Polar 0-360'!AD325 )","v":4.63417361834024},{"$f":" IF( $A325 < 'Polar 0-360'!AK$365, 'Polar 0-360'!AK$363 / COS!$B325,'Polar 0-360'!AJ325 )","v":4.9031428266437427},{"$f":" IF( $A325 < 'Polar 0-360'!AQ$365, 'Polar 0-360'!AQ$363 / COS!$B325,'Polar 0-360'!AP325 )","v":5.0402139596594067}]
[{"$f":"'Polar 0-360'!A326","v":324},0,{"$f":" IF( $A326 < 'Polar 0-360'!G$365, 'Polar 0-360'!G$363 / COS!$B326,'Polar 0-360'!F326 )","v":2.6863064535099044},{"$f":" IF( $A326 < 'Polar 0-360'!M$365, 'Polar 0-360'!M$363 / COS!$B326,'Polar 0-360'!L326 )","v":3.3290164101206399},{"$f":" IF( $A326 < 'Polar 0-360'!S$365, 'Polar 0-360'!S$363 / COS!$B326,'Polar 0-360'!R326 )","v":3.7718720624262336},{"$f":" IF( $A326 < 'Polar 0-360'!Y$365, 'Polar 0-360'!Y$363 / COS!$B326,'Polar 0-360'!X326 )","v":4.1455972962027792},{"$f":" IF( $A326 < 'Polar 0-360'!AE$365, 'Polar 0-360'!AE$363 / COS!$B326,'Polar 0-360'!AD326 )","v":4.5089256827094228},{"$f":" IF( $A326 < 'Polar 0-360'!AK$365, 'Polar 0-360'!AK$363 / COS!$B326,'Polar 0-360'!AJ326 )","v":4.770625452950668},{"$f":" IF( $A326 < 'Polar 0-360'!AQ$365, 'Polar 0-360'!AQ$363 / COS!$B326,'Polar 0-360'!AP326 )","v":4.9039919607496936}]
[{"$f":"'Polar 0-360'!A327","v":325},0,{"$f":" IF( $A327 < 'Polar 0-360'!G$365, 'Polar 0-360'!G$363 / COS!$B327,'Polar 0-360'!F327 )","v":2.6116868298012963},{"$f":" IF( $A327 < 'Polar 0-360'!M$365, 'Polar 0-360'!M$363 / COS!$B327,'Polar 0-360'!L327 )","v":3.2365437320617332},{"$f":" IF( $A327 < 'Polar 0-360'!S$365, 'Polar 0-360'!S$363 / COS!$B327,'Polar 0-360'!R327 )","v":3.6670978384699495},{"$f":" IF( $A327 < 'Polar 0-360'!Y$365, 'Polar 0-360'!Y$363 / COS!$B327,'Polar 0-360'!X327 )","v":4.0304418157527016},{"$f":" IF( $A327 < 'Polar 0-360'!AE$365, 'Polar 0-360'!AE$363 / COS!$B327,'Polar 0-360'!AD327 )","v":4.3836777470786057},{"$f":" IF( $A327 < 'Polar 0-360'!AK$365, 'Polar 0-360'!AK$363 / COS!$B327,'Polar 0-360'!AJ327 )","v":4.6381080792575933},{"$f":" IF( $A327 < 'Polar 0-360'!AQ$365, 'Polar 0-360'!AQ$363 / COS!$B327,'Polar 0-360'!AP327 )","v":4.7677699618399796}]
[{"$f":"'Polar 0-360'!A328","v":326},0,{"$f":" IF( $A328 < 'Polar 0-360'!G$365, 'Polar 0-360'!G$363 / COS!$B328,'Polar 0-360'!F328 )","v":2.5370672060926878},{"$f":" IF( $A328 < 'Polar 0-360'!M$365, 'Polar 0-360'!M$363 / COS!$B328,'Polar 0-360'!L328 )","v":3.1440710540028265},{"$f":" IF( $A328 < 'Polar 0-360'!S$365, 'Polar 0-360'!S$363 / COS!$B328,'Polar 0-360'!R328 )","v":3.5623236145136654},{"$f":" IF( $A328 < 'Polar 0-360'!Y$365, 'Polar 0-360'!Y$363 / COS!$B328,'Polar 0-360'!X328 )","v":3.9152863353026244},{"$f":" IF( $A328 < 'Polar 0-360'!AE$365, 'Polar 0-360'!AE$363 / COS!$B328,'Polar 0-360'!AD328 )","v":4.2584298114477885},{"$f":" IF( $A328 < 'Polar 0-360'!AK$365, 'Polar 0-360'!AK$363 / COS!$B328,'Polar 0-360'!AJ328 )","v":4.5055907055645203},{"$f":" IF( $A328 < 'Polar 0-360'!AQ$365, 'Polar 0-360'!AQ$363 / COS!$B328,'Polar 0-360'!AP328 )","v":4.6315479629302656}]
[{"$f":"'Polar 0-360'!A329","v":327},0,{"$f":" IF( $A329 < 'Polar 0-360'!G$365, 'Polar 0-360'!G$363 / COS!$B329,'Polar 0-360'!F329 )","v":2.4624475823840792},{"$f":" IF( $A329 < 'Polar 0-360'!M$365, 'Polar 0-360'!M$363 / COS!$B329,'Polar 0-360'!L329 )","v":3.0515983759439198},{"$f":" IF( $A329 < 'Polar 0-360'!S$365, 'Polar 0-360'!S$363 / COS!$B329,'Polar 0-360'!R329 )","v":3.4575493905573809},{"$f":" IF( $A329 < 'Polar 0-360'!Y$365, 'Polar 0-360'!Y$363 / COS!$B329,'Polar 0-360'!X329 )","v":3.8001308548525472},{"$f":" IF( $A329 < 'Polar 0-360'!AE$365, 'Polar 0-360'!AE$363 / COS!$B329,'Polar 0-360'!AD329 )","v":4.1331818758169714},{"$f":" IF( $A329 < 'Polar 0-360'!AK$365, 'Polar 0-360'!AK$363 / COS!$B329,'Polar 0-360'!AJ329 )","v":4.3730733318714456},{"$f":" IF( $A329 < 'Polar 0-360'!AQ$365, 'Polar 0-360'!AQ$363 / COS!$B329,'Polar 0-360'!AP329 )","v":4.4953259640205525}]
[{"$f":"'Polar 0-360'!A330","v":328},0,{"$f":" IF( $A330 < 'Polar 0-360'!G$365, 'Polar 0-360'!G$363 / COS!$B330,'Polar 0-360'!F330 )","v":2.3878279586754707},{"$f":" IF( $A330 < 'Polar 0-360'!M$365, 'Polar 0-360'!M$363 / COS!$B330,'Polar 0-360'!L330 )","v":2.9591256978850131},{"$f":" IF( $A330 < 'Polar 0-360'!S$365, 'Polar 0-360'!S$363 / COS!$B330,'Polar 0-360'!R330 )","v":3.3527751666010968},{"$f":" IF( $A330 < 'Polar 0-360'!Y$365, 'Polar 0-360'!Y$363 / COS!$B330,'Polar 0-360'!X330 )","v":3.68497537440247},{"$f":" IF( $A330 < 'Polar 0-360'!AE$365, 'Polar 0-360'!AE$363 / COS!$B330,'Polar 0-360'!AD330 )","v":4.0079339401861542},{"$f":" IF( $A330 < 'Polar 0-360'!AK$365, 'Polar 0-360'!AK$363 / COS!$B330,'Polar 0-360'!AJ330 )","v":4.2405559581783709},{"$f":" IF( $A330 < 'Polar 0-360'!AQ$365, 'Polar 0-360'!AQ$363 / COS!$B330,'Polar 0-360'!AP330 )","v":4.3591039651108385}]
[{"$f":"'Polar 0-360'!A331","v":329},0,{"$f":" IF( $A331 < 'Polar 0-360'!G$365, 'Polar 0-360'!G$363 / COS!$B331,'Polar 0-360'!F331 )","v":2.3132083349668622},{"$f":" IF( $A331 < 'Polar 0-360'!M$365, 'Polar 0-360'!M$363 / COS!$B331,'Polar 0-360'!L331 )","v":2.8666530198261064},{"$f":" IF( $A331 < 'Polar 0-360'!S$365, 'Polar 0-360'!S$363 / COS!$B331,'Polar 0-360'!R331 )","v":3.2480009426448126},{"$f":" IF( $A331 < 'Polar 0-360'!Y$365, 'Polar 0-360'!Y$363 / COS!$B331,'Polar 0-360'!X331 )","v":3.5698198939523929},{"$f":" IF( $A331 < 'Polar 0-360'!AE$365, 'Polar 0-360'!AE$363 / COS!$B331,'Polar 0-360'!AD331 )","v":3.8826860045553366},{"$f":" IF( $A331 < 'Polar 0-360'!AK$365, 'Polar 0-360'!AK$363 / COS!$B331,'Polar 0-360'!AJ331 )","v":4.108038584485298},{"$f":" IF( $A331 < 'Polar 0-360'!AQ$365, 'Polar 0-360'!AQ$363 / COS!$B331,'Polar 0-360'!AP331 )","v":4.2228819662011245}]
[{"$f":"'Polar 0-360'!A332","v":330},0,{"$f":" IF( $A332 < 'Polar 0-360'!G$365, 'Polar 0-360'!G$363 / COS!$B332,'Polar 0-360'!F332 )","v":2.2385887112582536},{"$f":" IF( $A332 < 'Polar 0-360'!M$365, 'Polar 0-360'!M$363 / COS!$B332,'Polar 0-360'!L332 )","v":2.7741803417671997},{"$f":" IF( $A332 < 'Polar 0-360'!S$365, 'Polar 0-360'!S$363 / COS!$B332,'Polar 0-360'!R332 )","v":3.1432267186885281},{"$f":" IF( $A332 < 'Polar 0-360'!Y$365, 'Polar 0-360'!Y$363 / COS!$B332,'Polar 0-360'!X332 )","v":3.4546644135023157},{"$f":" IF( $A332 < 'Polar 0-360'!AE$365, 'Polar 0-360'!AE$363 / COS!$B332,'Polar 0-360'!AD332 )","v":3.757438068924519},{"$f":" IF( $A332 < 'Polar 0-360'!AK$365, 'Polar 0-360'!AK$363 / COS!$B332,'Polar 0-360'!AJ332 )","v":3.9755212107922233},{"$f":" IF( $A332 < 'Polar 0-360'!AQ$365, 'Polar 0-360'!AQ$363 / COS!$B332,'Polar 0-360'!AP332 )","v":4.0866599672914115}]
[{"$f":"'Polar 0-360'!A333","v":331},0,{"$f":" IF( $A333 < 'Polar 0-360'!G$365, 'Polar 0-360'!G$363 / COS!$B333,'Polar 0-360'!F333 )","v":2.1639690875496451},{"$f":" IF( $A333 < 'Polar 0-360'!M$365, 'Polar 0-360'!M$363 / COS!$B333,'Polar 0-360'!L333 )","v":2.6817076637082931},{"$f":" IF( $A333 < 'Polar 0-360'!S$365, 'Polar 0-360'!S$363 / COS!$B333,'Polar 0-360'!R333 )","v":3.038452494732244},{"$f":" IF( $A333 < 'Polar 0-360'!Y$365, 'Polar 0-360'!Y$363 / COS!$B333,'Polar 0-360'!X333 )","v":3.3395089330522385},{"$f":" IF( $A333 < 'Polar 0-360'!AE$365, 'Polar 0-360'!AE$363 / COS!$B333,'Polar 0-360'!AD333 )","v":3.6321901332937019},{"$f":" IF( $A333 < 'Polar 0-360'!AK$365, 'Polar 0-360'!AK$363 / COS!$B333,'Polar 0-360'!AJ333 )","v":3.8430038370991491},{"$f":" IF( $A333 < 'Polar 0-360'!AQ$365, 'Polar 0-360'!AQ$363 / COS!$B333,'Polar 0-360'!AP333 )","v":3.9504379683816975}]
[{"$f":"'Polar 0-360'!A334","v":332},0,{"$f":" IF( $A334 < 'Polar 0-360'!G$365, 'Polar 0-360'!G$363 / COS!$B334,'Polar 0-360'!F334 )","v":2.089349463841037},{"$f":" IF( $A334 < 'Polar 0-360'!M$365, 'Polar 0-360'!M$363 / COS!$B334,'Polar 0-360'!L334 )","v":2.5892349856493864},{"$f":" IF( $A334 < 'Polar 0-360'!S$365, 'Polar 0-360'!S$363 / COS!$B334,'Polar 0-360'!R334 )","v":2.9336782707759599},{"$f":" IF( $A334 < 'Polar 0-360'!Y$365, 'Polar 0-360'!Y$363 / COS!$B334,'Polar 0-360'!X334 )","v":3.2243534526021613},{"$f":" IF( $A334 < 'Polar 0-360'!AE$365, 'Polar 0-360'!AE$363 / COS!$B334,'Polar 0-360'!AD334 )","v":3.5069421976628847},{"$f":" IF( $A334 < 'Polar 0-360'!AK$365, 'Polar 0-360'!AK$363 / COS!$B334,'Polar 0-360'!AJ334 )","v":3.7104864634060752},{"$f":" IF( $A334 < 'Polar 0-360'!AQ$365, 'Polar 0-360'!AQ$363 / COS!$B334,'Polar 0-360'!AP334 )","v":3.8142159694719835}]
[{"$f":"'Polar 0-360'!A335","v":333},0,{"$f":" IF( $A335 < 'Polar 0-360'!G$365, 'Polar 0-360'!G$363 / COS!$B335,'Polar 0-360'!F335 )","v":2.0147298401324285},{"$f":" IF( $A335 < 'Polar 0-360'!M$365, 'Polar 0-360'!M$363 / COS!$B335,'Polar 0-360'!L335 )","v":2.4967623075904797},{"$f":" IF( $A335 < 'Polar 0-360'!S$365, 'Polar 0-360'!S$363 / COS!$B335,'Polar 0-360'!R335 )","v":2.8289040468196753},{"$f":" IF( $A335 < 'Polar 0-360'!Y$365, 'Polar 0-360'!Y$363 / COS!$B335,'Polar 0-360'!X335 )","v":3.1091979721520842},{"$f":" IF( $A335 < 'Polar 0-360'!AE$365, 'Polar 0-360'!AE$363 / COS!$B335,'Polar 0-360'!AD335 )","v":3.3816942620320671},{"$f":" IF( $A335 < 'Polar 0-360'!AK$365, 'Polar 0-360'!AK$363 / COS!$B335,'Polar 0-360'!AJ335 )","v":3.577969089713001},{"$f":" IF( $A335 < 'Polar 0-360'!AQ$365, 'Polar 0-360'!AQ$363 / COS!$B335,'Polar 0-360'!AP335 )","v":3.67799397056227}]
[{"$f":"'Polar 0-360'!A336","v":334},0,{"$f":" IF( $A336 < 'Polar 0-360'!G$365, 'Polar 0-360'!G$363 / COS!$B336,'Polar 0-360'!F336 )","v":1.94011021642382},{"$f":" IF( $A336 < 'Polar 0-360'!M$365, 'Polar 0-360'!M$363 / COS!$B336,'Polar 0-360'!L336 )","v":2.404289629531573},{"$f":" IF( $A336 < 'Polar 0-360'!S$365, 'Polar 0-360'!S$363 / COS!$B336,'Polar 0-360'!R336 )","v":2.7241298228633912},{"$f":" IF( $A336 < 'Polar 0-360'!Y$365, 'Polar 0-360'!Y$363 / COS!$B336,'Polar 0-360'!X336 )","v":2.994042491702007},{"$f":" IF( $A336 < 'Polar 0-360'!AE$365, 'Polar 0-360'!AE$363 / COS!$B336,'Polar 0-360'!AD336 )","v":3.25644632640125},{"$f":" IF( $A336 < 'Polar 0-360'!AK$365, 'Polar 0-360'!AK$363 / COS!$B336,'Polar 0-360'!AJ336 )","v":3.4454517160199267},{"$f":" IF( $A336 < 'Polar 0-360'!AQ$365, 'Polar 0-360'!AQ$363 / COS!$B336,'Polar 0-360'!AP336 )","v":3.5417719716525564}]
[{"$f":"'Polar 0-360'!A337","v":335},0,{"$f":" IF( $A337 < 'Polar 0-360'!G$365, 'Polar 0-360'!G$363 / COS!$B337,'Polar 0-360'!F337 )","v":1.8654905927152114},{"$f":" IF( $A337 < 'Polar 0-360'!M$365, 'Polar 0-360'!M$363 / COS!$B337,'Polar 0-360'!L337 )","v":2.3118169514726663},{"$f":" IF( $A337 < 'Polar 0-360'!S$365, 'Polar 0-360'!S$363 / COS!$B337,'Polar 0-360'!R337 )","v":2.6193555989071071},{"$f":" IF( $A337 < 'Polar 0-360'!Y$365, 'Polar 0-360'!Y$363 / COS!$B337,'Polar 0-360'!X337 )","v":2.8788870112519298},{"$f":" IF( $A337 < 'Polar 0-360'!AE$365, 'Polar 0-360'!AE$363 / COS!$B337,'Polar 0-360'!AD337 )","v":3.1311983907704328},{"$f":" IF( $A337 < 'Polar 0-360'!AK$365, 'Polar 0-360'!AK$363 / COS!$B337,'Polar 0-360'!AJ337 )","v":3.3129343423268529},{"$f":" IF( $A337 < 'Polar 0-360'!AQ$365, 'Polar 0-360'!AQ$363 / COS!$B337,'Polar 0-360'!AP337 )","v":3.4055499727428424}]
[{"$f":"'Polar 0-360'!A338","v":336},0,{"$f":" IF( $A338 < 'Polar 0-360'!G$365, 'Polar 0-360'!G$363 / COS!$B338,'Polar 0-360'!F338 )","v":1.7908709690066029},{"$f":" IF( $A338 < 'Polar 0-360'!M$365, 'Polar 0-360'!M$363 / COS!$B338,'Polar 0-360'!L338 )","v":2.2193442734137596},{"$f":" IF( $A338 < 'Polar 0-360'!S$365, 'Polar 0-360'!S$363 / COS!$B338,'Polar 0-360'!R338 )","v":2.514581374950823},{"$f":" IF( $A338 < 'Polar 0-360'!Y$365, 'Polar 0-360'!Y$363 / COS!$B338,'Polar 0-360'!X338 )","v":2.7637315308018526},{"$f":" IF( $A338 < 'Polar 0-360'!AE$365, 'Polar 0-360'!AE$363 / COS!$B338,'Polar 0-360'!AD338 )","v":3.0059504551396157},{"$f":" IF( $A338 < 'Polar 0-360'!AK$365, 'Polar 0-360'!AK$363 / COS!$B338,'Polar 0-360'!AJ338 )","v":3.1804169686337787},{"$f":" IF( $A338 < 'Polar 0-360'!AQ$365, 'Polar 0-360'!AQ$363 / COS!$B338,'Polar 0-360'!AP338 )","v":3.2693279738331289}]
[{"$f":"'Polar 0-360'!A339","v":337},0,{"$f":" IF( $A339 < 'Polar 0-360'!G$365, 'Polar 0-360'!G$363 / COS!$B339,'Polar 0-360'!F339 )","v":1.7162513452979946},{"$f":" IF( $A339 < 'Polar 0-360'!M$365, 'Polar 0-360'!M$363 / COS!$B339,'Polar 0-360'!L339 )","v":2.1268715953548529},{"$f":" IF( $A339 < 'Polar 0-360'!S$365, 'Polar 0-360'!S$363 / COS!$B339,'Polar 0-360'!R339 )","v":2.4098071509945385},{"$f":" IF( $A339 < 'Polar 0-360'!Y$365, 'Polar 0-360'!Y$363 / COS!$B339,'Polar 0-360'!X339 )","v":2.6485760503517755},{"$f":" IF( $A339 < 'Polar 0-360'!AE$365, 'Polar 0-360'!AE$363 / COS!$B339,'Polar 0-360'!AD339 )","v":2.8807025195087981},{"$f":" IF( $A339 < 'Polar 0-360'!AK$365, 'Polar 0-360'!AK$363 / COS!$B339,'Polar 0-360'!AJ339 )","v":3.0478995949407044},{"$f":" IF( $A339 < 'Polar 0-360'!AQ$365, 'Polar 0-360'!AQ$363 / COS!$B339,'Polar 0-360'!AP339 )","v":3.1331059749234154}]
[{"$f":"'Polar 0-360'!A340","v":338},0,{"$f":" IF( $A340 < 'Polar 0-360'!G$365, 'Polar 0-360'!G$363 / COS!$B340,'Polar 0-360'!F340 )","v":1.6416317215893861},{"$f":" IF( $A340 < 'Polar 0-360'!M$365, 'Polar 0-360'!M$363 / COS!$B340,'Polar 0-360'!L340 )","v":2.0343989172959462},{"$f":" IF( $A340 < 'Polar 0-360'!S$365, 'Polar 0-360'!S$363 / COS!$B340,'Polar 0-360'!R340 )","v":2.3050329270382544},{"$f":" IF( $A340 < 'Polar 0-360'!Y$365, 'Polar 0-360'!Y$363 / COS!$B340,'Polar 0-360'!X340 )","v":2.5334205699016983},{"$f":" IF( $A340 < 'Polar 0-360'!AE$365, 'Polar 0-360'!AE$363 / COS!$B340,'Polar 0-360'!AD340 )","v":2.7554545838779809},{"$f":" IF( $A340 < 'Polar 0-360'!AK$365, 'Polar 0-360'!AK$363 / COS!$B340,'Polar 0-360'!AJ340 )","v":2.9153822212476306},{"$f":" IF( $A340 < 'Polar 0-360'!AQ$365, 'Polar 0-360'!AQ$363 / COS!$B340,'Polar 0-360'!AP340 )","v":2.9968839760137014}]
[{"$f":"'Polar 0-360'!A341","v":339},0,{"$f":" IF( $A341 < 'Polar 0-360'!G$365, 'Polar 0-360'!G$363 / COS!$B341,'Polar 0-360'!F341 )","v":1.5670120978807776},{"$f":" IF( $A341 < 'Polar 0-360'!M$365, 'Polar 0-360'!M$363 / COS!$B341,'Polar 0-360'!L341 )","v":1.94192623923704},{"$f":" IF( $A341 < 'Polar 0-360'!S$365, 'Polar 0-360'!S$363 / COS!$B341,'Polar 0-360'!R341 )","v":2.2002587030819702},{"$f":" IF( $A341 < 'Polar 0-360'!Y$365, 'Polar 0-360'!Y$363 / COS!$B341,'Polar 0-360'!X341 )","v":2.4182650894516211},{"$f":" IF( $A341 < 'Polar 0-360'!AE$365, 'Polar 0-360'!AE$363 / COS!$B341,'Polar 0-360'!AD341 )","v":2.6302066482471638},{"$f":" IF( $A341 < 'Polar 0-360'!AK$365, 'Polar 0-360'!AK$363 / COS!$B341,'Polar 0-360'!AJ341 )","v":2.7828648475545563},{"$f":" IF( $A341 < 'Polar 0-360'!AQ$365, 'Polar 0-360'!AQ$363 / COS!$B341,'Polar 0-360'!AP341 )","v":2.8606619771039878}]
[{"$f":"'Polar 0-360'!A342","v":340},0,{"$f":" IF( $A342 < 'Polar 0-360'!G$365, 'Polar 0-360'!G$363 / COS!$B342,'Polar 0-360'!F342 )","v":1.4923924741721692},{"$f":" IF( $A342 < 'Polar 0-360'!M$365, 'Polar 0-360'!M$363 / COS!$B342,'Polar 0-360'!L342 )","v":1.8494535611781333},{"$f":" IF( $A342 < 'Polar 0-360'!S$365, 'Polar 0-360'!S$363 / COS!$B342,'Polar 0-360'!R342 )","v":2.0954844791256857},{"$f":" IF( $A342 < 'Polar 0-360'!Y$365, 'Polar 0-360'!Y$363 / COS!$B342,'Polar 0-360'!X342 )","v":2.3031096090015439},{"$f":" IF( $A342 < 'Polar 0-360'!AE$365, 'Polar 0-360'!AE$363 / COS!$B342,'Polar 0-360'!AD342 )","v":2.5049587126163462},{"$f":" IF( $A342 < 'Polar 0-360'!AK$365, 'Polar 0-360'!AK$363 / COS!$B342,'Polar 0-360'!AJ342 )","v":2.6503474738614821},{"$f":" IF( $A342 < 'Polar 0-360'!AQ$365, 'Polar 0-360'!AQ$363 / COS!$B342,'Polar 0-360'!AP342 )","v":2.7244399781942743}]
[{"$f":"'Polar 0-360'!A343","v":341},0,{"$f":" IF( $A343 < 'Polar 0-360'!G$365, 'Polar 0-360'!G$363 / COS!$B343,'Polar 0-360'!F343 )","v":1.4177728504635607},{"$f":" IF( $A343 < 'Polar 0-360'!M$365, 'Polar 0-360'!M$363 / COS!$B343,'Polar 0-360'!L343 )","v":1.7569808831192266},{"$f":" IF( $A343 < 'Polar 0-360'!S$365, 'Polar 0-360'!S$363 / COS!$B343,'Polar 0-360'!R343 )","v":1.9907102551694016},{"$f":" IF( $A343 < 'Polar 0-360'!Y$365, 'Polar 0-360'!Y$363 / COS!$B343,'Polar 0-360'!X343 )","v":2.1879541285514668},{"$f":" IF( $A343 < 'Polar 0-360'!AE$365, 'Polar 0-360'!AE$363 / COS!$B343,'Polar 0-360'!AD343 )","v":2.379710776985529},{"$f":" IF( $A343 < 'Polar 0-360'!AK$365, 'Polar 0-360'!AK$363 / COS!$B343,'Polar 0-360'!AJ343 )","v":2.5178301001684082},{"$f":" IF( $A343 < 'Polar 0-360'!AQ$365, 'Polar 0-360'!AQ$363 / COS!$B343,'Polar 0-360'!AP343 )","v":2.5882179792845603}]
[{"$f":"'Polar 0-360'!A344","v":342},0,{"$f":" IF( $A344 < 'Polar 0-360'!G$365, 'Polar 0-360'!G$363 / COS!$B344,'Polar 0-360'!F344 )","v":1.3431532267549522},{"$f":" IF( $A344 < 'Polar 0-360'!M$365, 'Polar 0-360'!M$363 / COS!$B344,'Polar 0-360'!L344 )","v":1.6645082050603202},{"$f":" IF( $A344 < 'Polar 0-360'!S$365, 'Polar 0-360'!S$363 / COS!$B344,'Polar 0-360'!R344 )","v":1.8859360312131173},{"$f":" IF( $A344 < 'Polar 0-360'!Y$365, 'Polar 0-360'!Y$363 / COS!$B344,'Polar 0-360'!X344 )","v":2.0727986481013896},{"$f":" IF( $A344 < 'Polar 0-360'!AE$365, 'Polar 0-360'!AE$363 / COS!$B344,'Polar 0-360'!AD344 )","v":2.2544628413547119},{"$f":" IF( $A344 < 'Polar 0-360'!AK$365, 'Polar 0-360'!AK$363 / COS!$B344,'Polar 0-360'!AJ344 )","v":2.385312726475334},{"$f":" IF( $A344 < 'Polar 0-360'!AQ$365, 'Polar 0-360'!AQ$363 / COS!$B344,'Polar 0-360'!AP344 )","v":2.4519959803748468}]
[{"$f":"'Polar 0-360'!A345","v":343},0,{"$f":" IF( $A345 < 'Polar 0-360'!G$365, 'Polar 0-360'!G$363 / COS!$B345,'Polar 0-360'!F345 )","v":1.2685336030463439},{"$f":" IF( $A345 < 'Polar 0-360'!M$365, 'Polar 0-360'!M$363 / COS!$B345,'Polar 0-360'!L345 )","v":1.5720355270014135},{"$f":" IF( $A345 < 'Polar 0-360'!S$365, 'Polar 0-360'!S$363 / COS!$B345,'Polar 0-360'!R345 )","v":1.7811618072568332},{"$f":" IF( $A345 < 'Polar 0-360'!Y$365, 'Polar 0-360'!Y$363 / COS!$B345,'Polar 0-360'!X345 )","v":1.9576431676513122},{"$f":" IF( $A345 < 'Polar 0-360'!AE$365, 'Polar 0-360'!AE$363 / COS!$B345,'Polar 0-360'!AD345 )","v":2.1292149057238943},{"$f":" IF( $A345 < 'Polar 0-360'!AK$365, 'Polar 0-360'!AK$363 / COS!$B345,'Polar 0-360'!AJ345 )","v":2.2527953527822602},{"$f":" IF( $A345 < 'Polar 0-360'!AQ$365, 'Polar 0-360'!AQ$363 / COS!$B345,'Polar 0-360'!AP345 )","v":2.3157739814651328}]
[{"$f":"'Polar 0-360'!A346","v":344},0,{"$f":" IF( $A346 < 'Polar 0-360'!G$365, 'Polar 0-360'!G$363 / COS!$B346,'Polar 0-360'!F346 )","v":1.1939139793377354},{"$f":" IF( $A346 < 'Polar 0-360'!M$365, 'Polar 0-360'!M$363 / COS!$B346,'Polar 0-360'!L346 )","v":1.4795628489425068},{"$f":" IF( $A346 < 'Polar 0-360'!S$365, 'Polar 0-360'!S$363 / COS!$B346,'Polar 0-360'!R346 )","v":1.6763875833005488},{"$f":" IF( $A346 < 'Polar 0-360'!Y$365, 'Polar 0-360'!Y$363 / COS!$B346,'Polar 0-360'!X346 )","v":1.842487687201235},{"$f":" IF( $A346 < 'Polar 0-360'!AE$365, 'Polar 0-360'!AE$363 / COS!$B346,'Polar 0-360'!AD346 )","v":2.0039669700930771},{"$f":" IF( $A346 < 'Polar 0-360'!AK$365, 'Polar 0-360'!AK$363 / COS!$B346,'Polar 0-360'!AJ346 )","v":2.1202779790891859},{"$f":" IF( $A346 < 'Polar 0-360'!AQ$365, 'Polar 0-360'!AQ$363 / COS!$B346,'Polar 0-360'!AP346 )","v":2.1795519825554193}]
[{"$f":"'Polar 0-360'!A347","v":345},0,{"$f":" IF( $A347 < 'Polar 0-360'!G$365, 'Polar 0-360'!G$363 / COS!$B347,'Polar 0-360'!F347 )","v":1.1192943556291268},{"$f":" IF( $A347 < 'Polar 0-360'!M$365, 'Polar 0-360'!M$363 / COS!$B347,'Polar 0-360'!L347 )","v":1.3870901708836001},{"$f":" IF( $A347 < 'Polar 0-360'!S$365, 'Polar 0-360'!S$363 / COS!$B347,'Polar 0-360'!R347 )","v":1.5716133593442645},{"$f":" IF( $A347 < 'Polar 0-360'!Y$365, 'Polar 0-360'!Y$363 / COS!$B347,'Polar 0-360'!X347 )","v":1.7273322067511578},{"$f":" IF( $A347 < 'Polar 0-360'!AE$365, 'Polar 0-360'!AE$363 / COS!$B347,'Polar 0-360'!AD347 )","v":1.8787190344622597},{"$f":" IF( $A347 < 'Polar 0-360'!AK$365, 'Polar 0-360'!AK$363 / COS!$B347,'Polar 0-360'!AJ347 )","v":1.9877606053961119},{"$f":" IF( $A347 < 'Polar 0-360'!AQ$365, 'Polar 0-360'!AQ$363 / COS!$B347,'Polar 0-360'!AP347 )","v":2.0433299836457057}]
[{"$f":"'Polar 0-360'!A348","v":346},0,{"$f":" IF( $A348 < 'Polar 0-360'!G$365, 'Polar 0-360'!G$363 / COS!$B348,'Polar 0-360'!F348 )","v":1.0446747319205185},{"$f":" IF( $A348 < 'Polar 0-360'!M$365, 'Polar 0-360'!M$363 / COS!$B348,'Polar 0-360'!L348 )","v":1.2946174928246934},{"$f":" IF( $A348 < 'Polar 0-360'!S$365, 'Polar 0-360'!S$363 / COS!$B348,'Polar 0-360'!R348 )","v":1.4668391353879804},{"$f":" IF( $A348 < 'Polar 0-360'!Y$365, 'Polar 0-360'!Y$363 / COS!$B348,'Polar 0-360'!X348 )","v":1.6121767263010807},{"$f":" IF( $A348 < 'Polar 0-360'!AE$365, 'Polar 0-360'!AE$363 / COS!$B348,'Polar 0-360'!AD348 )","v":1.7534710988314426},{"$f":" IF( $A348 < 'Polar 0-360'!AK$365, 'Polar 0-360'!AK$363 / COS!$B348,'Polar 0-360'!AJ348 )","v":1.8552432317030378},{"$f":" IF( $A348 < 'Polar 0-360'!AQ$365, 'Polar 0-360'!AQ$363 / COS!$B348,'Polar 0-360'!AP348 )","v":1.9071079847359917}]
[{"$f":"'Polar 0-360'!A349","v":347},0,{"$f":" IF( $A349 < 'Polar 0-360'!G$365, 'Polar 0-360'!G$363 / COS!$B349,'Polar 0-360'!F349 )","v":0.97005510821190999},{"$f":" IF( $A349 < 'Polar 0-360'!M$365, 'Polar 0-360'!M$363 / COS!$B349,'Polar 0-360'!L349 )","v":1.2021448147657869},{"$f":" IF( $A349 < 'Polar 0-360'!S$365, 'Polar 0-360'!S$363 / COS!$B349,'Polar 0-360'!R349 )","v":1.3620649114316961},{"$f":" IF( $A349 < 'Polar 0-360'!Y$365, 'Polar 0-360'!Y$363 / COS!$B349,'Polar 0-360'!X349 )","v":1.4970212458510035},{"$f":" IF( $A349 < 'Polar 0-360'!AE$365, 'Polar 0-360'!AE$363 / COS!$B349,'Polar 0-360'!AD349 )","v":1.6282231632006252},{"$f":" IF( $A349 < 'Polar 0-360'!AK$365, 'Polar 0-360'!AK$363 / COS!$B349,'Polar 0-360'!AJ349 )","v":1.7227258580099636},{"$f":" IF( $A349 < 'Polar 0-360'!AQ$365, 'Polar 0-360'!AQ$363 / COS!$B349,'Polar 0-360'!AP349 )","v":1.7708859858262782}]
[{"$f":"'Polar 0-360'!A350","v":348},0,{"$f":" IF( $A350 < 'Polar 0-360'!G$365, 'Polar 0-360'!G$363 / COS!$B350,'Polar 0-360'!F350 )","v":0.89543548450330146},{"$f":" IF( $A350 < 'Polar 0-360'!M$365, 'Polar 0-360'!M$363 / COS!$B350,'Polar 0-360'!L350 )","v":1.1096721367068803},{"$f":" IF( $A350 < 'Polar 0-360'!S$365, 'Polar 0-360'!S$363 / COS!$B350,'Polar 0-360'!R350 )","v":1.2572906874754119},{"$f":" IF( $A350 < 'Polar 0-360'!Y$365, 'Polar 0-360'!Y$363 / COS!$B350,'Polar 0-360'!X350 )","v":1.3818657654009263},{"$f":" IF( $A350 < 'Polar 0-360'!AE$365, 'Polar 0-360'!AE$363 / COS!$B350,'Polar 0-360'!AD350 )","v":1.5029752275698081},{"$f":" IF( $A350 < 'Polar 0-360'!AK$365, 'Polar 0-360'!AK$363 / COS!$B350,'Polar 0-360'!AJ350 )","v":1.5902084843168895},{"$f":" IF( $A350 < 'Polar 0-360'!AQ$365, 'Polar 0-360'!AQ$363 / COS!$B350,'Polar 0-360'!AP350 )","v":1.6346639869165644}]
[{"$f":"'Polar 0-360'!A351","v":349},0,{"$f":" IF( $A351 < 'Polar 0-360'!G$365, 'Polar 0-360'!G$363 / COS!$B351,'Polar 0-360'!F351 )","v":0.82081586079469304},{"$f":" IF( $A351 < 'Polar 0-360'!M$365, 'Polar 0-360'!M$363 / COS!$B351,'Polar 0-360'!L351 )","v":1.0171994586479736},{"$f":" IF( $A351 < 'Polar 0-360'!S$365, 'Polar 0-360'!S$363 / COS!$B351,'Polar 0-360'!R351 )","v":1.1525164635191276},{"$f":" IF( $A351 < 'Polar 0-360'!Y$365, 'Polar 0-360'!Y$363 / COS!$B351,'Polar 0-360'!X351 )","v":1.2667102849508491},{"$f":" IF( $A351 < 'Polar 0-360'!AE$365, 'Polar 0-360'!AE$363 / COS!$B351,'Polar 0-360'!AD351 )","v":1.3777272919389907},{"$f":" IF( $A351 < 'Polar 0-360'!AK$365, 'Polar 0-360'!AK$363 / COS!$B351,'Polar 0-360'!AJ351 )","v":1.4576911106238155},{"$f":" IF( $A351 < 'Polar 0-360'!AQ$365, 'Polar 0-360'!AQ$363 / COS!$B351,'Polar 0-360'!AP351 )","v":1.4984419880068507}]
[{"$f":"'Polar 0-360'!A352","v":350},0,{"$f":" IF( $A352 < 'Polar 0-360'!G$365, 'Polar 0-360'!G$363 / COS!$B352,'Polar 0-360'!F352 )","v":0.74619623708608462},{"$f":" IF( $A352 < 'Polar 0-360'!M$365, 'Polar 0-360'!M$363 / COS!$B352,'Polar 0-360'!L352 )","v":0.92472678058906699},{"$f":" IF( $A352 < 'Polar 0-360'!S$365, 'Polar 0-360'!S$363 / COS!$B352,'Polar 0-360'!R352 )","v":1.0477422395628433},{"$f":" IF( $A352 < 'Polar 0-360'!Y$365, 'Polar 0-360'!Y$363 / COS!$B352,'Polar 0-360'!X352 )","v":1.151554804500772},{"$f":" IF( $A352 < 'Polar 0-360'!AE$365, 'Polar 0-360'!AE$363 / COS!$B352,'Polar 0-360'!AD352 )","v":1.2524793563081733},{"$f":" IF( $A352 < 'Polar 0-360'!AK$365, 'Polar 0-360'!AK$363 / COS!$B352,'Polar 0-360'!AJ352 )","v":1.3251737369307413},{"$f":" IF( $A352 < 'Polar 0-360'!AQ$365, 'Polar 0-360'!AQ$363 / COS!$B352,'Polar 0-360'!AP352 )","v":1.3622199890971372}]
[{"$f":"'Polar 0-360'!A353","v":351},0,{"$f":" IF( $A353 < 'Polar 0-360'!G$365, 'Polar 0-360'!G$363 / COS!$B353,'Polar 0-360'!F353 )","v":0.67157661337747609},{"$f":" IF( $A353 < 'Polar 0-360'!M$365, 'Polar 0-360'!M$363 / COS!$B353,'Polar 0-360'!L353 )","v":0.83225410253016041},{"$f":" IF( $A353 < 'Polar 0-360'!S$365, 'Polar 0-360'!S$363 / COS!$B353,'Polar 0-360'!R353 )","v":0.94296801560655907},{"$f":" IF( $A353 < 'Polar 0-360'!Y$365, 'Polar 0-360'!Y$363 / COS!$B353,'Polar 0-360'!X353 )","v":1.0363993240506948},{"$f":" IF( $A353 < 'Polar 0-360'!AE$365, 'Polar 0-360'!AE$363 / COS!$B353,'Polar 0-360'!AD353 )","v":1.1272314206773562},{"$f":" IF( $A353 < 'Polar 0-360'!AK$365, 'Polar 0-360'!AK$363 / COS!$B353,'Polar 0-360'!AJ353 )","v":1.1926563632376672},{"$f":" IF( $A353 < 'Polar 0-360'!AQ$365, 'Polar 0-360'!AQ$363 / COS!$B353,'Polar 0-360'!AP353 )","v":1.2259979901874234}]
[{"$f":"'Polar 0-360'!A354","v":352},0,{"$f":" IF( $A354 < 'Polar 0-360'!G$365, 'Polar 0-360'!G$363 / COS!$B354,'Polar 0-360'!F354 )","v":0.59695698966886768},{"$f":" IF( $A354 < 'Polar 0-360'!M$365, 'Polar 0-360'!M$363 / COS!$B354,'Polar 0-360'!L354 )","v":0.73978142447125372},{"$f":" IF( $A354 < 'Polar 0-360'!S$365, 'Polar 0-360'!S$363 / COS!$B354,'Polar 0-360'!R354 )","v":0.83819379165027486},{"$f":" IF( $A354 < 'Polar 0-360'!Y$365, 'Polar 0-360'!Y$363 / COS!$B354,'Polar 0-360'!X354 )","v":0.92124384360061751},{"$f":" IF( $A354 < 'Polar 0-360'!AE$365, 'Polar 0-360'!AE$363 / COS!$B354,'Polar 0-360'!AD354 )","v":1.0019834850465388},{"$f":" IF( $A354 < 'Polar 0-360'!AK$365, 'Polar 0-360'!AK$363 / COS!$B354,'Polar 0-360'!AJ354 )","v":1.0601389895445932},{"$f":" IF( $A354 < 'Polar 0-360'!AQ$365, 'Polar 0-360'!AQ$363 / COS!$B354,'Polar 0-360'!AP354 )","v":1.0897759912777096}]
[{"$f":"'Polar 0-360'!A355","v":353},0,{"$f":" IF( $A355 < 'Polar 0-360'!G$365, 'Polar 0-360'!G$363 / COS!$B355,'Polar 0-360'!F355 )","v":0.52233736596025926},{"$f":" IF( $A355 < 'Polar 0-360'!M$365, 'Polar 0-360'!M$363 / COS!$B355,'Polar 0-360'!L355 )","v":0.64730874641234704},{"$f":" IF( $A355 < 'Polar 0-360'!S$365, 'Polar 0-360'!S$363 / COS!$B355,'Polar 0-360'!R355 )","v":0.73341956769399064},{"$f":" IF( $A355 < 'Polar 0-360'!Y$365, 'Polar 0-360'!Y$363 / COS!$B355,'Polar 0-360'!X355 )","v":0.80608836315054033},{"$f":" IF( $A355 < 'Polar 0-360'!AE$365, 'Polar 0-360'!AE$363 / COS!$B355,'Polar 0-360'!AD355 )","v":0.87673554941572152},{"$f":" IF( $A355 < 'Polar 0-360'!AK$365, 'Polar 0-360'!AK$363 / COS!$B355,'Polar 0-360'!AJ355 )","v":0.92762161585151914},{"$f":" IF( $A355 < 'Polar 0-360'!AQ$365, 'Polar 0-360'!AQ$363 / COS!$B355,'Polar 0-360'!AP355 )","v":0.95355399236799587}]
[{"$f":"'Polar 0-360'!A356","v":354},0,{"$f":" IF( $A356 < 'Polar 0-360'!G$365, 'Polar 0-360'!G$363 / COS!$B356,'Polar 0-360'!F356 )","v":0.44771774225165073},{"$f":" IF( $A356 < 'Polar 0-360'!M$365, 'Polar 0-360'!M$363 / COS!$B356,'Polar 0-360'!L356 )","v":0.55483606835344046},{"$f":" IF( $A356 < 'Polar 0-360'!S$365, 'Polar 0-360'!S$363 / COS!$B356,'Polar 0-360'!R356 )","v":0.62864534373770642},{"$f":" IF( $A356 < 'Polar 0-360'!Y$365, 'Polar 0-360'!Y$363 / COS!$B356,'Polar 0-360'!X356 )","v":0.69093288270046316},{"$f":" IF( $A356 < 'Polar 0-360'!AE$365, 'Polar 0-360'!AE$363 / COS!$B356,'Polar 0-360'!AD356 )","v":0.75148761378490425},{"$f":" IF( $A356 < 'Polar 0-360'!AK$365, 'Polar 0-360'!AK$363 / COS!$B356,'Polar 0-360'!AJ356 )","v":0.795104242158445},{"$f":" IF( $A356 < 'Polar 0-360'!AQ$365, 'Polar 0-360'!AQ$363 / COS!$B356,'Polar 0-360'!AP356 )","v":0.81733199345828222}]
[{"$f":"'Polar 0-360'!A357","v":355},0,{"$f":" IF( $A357 < 'Polar 0-360'!G$365, 'Polar 0-360'!G$363 / COS!$B357,'Polar 0-360'!F357 )","v":0.37309811854304231},{"$f":" IF( $A357 < 'Polar 0-360'!M$365, 'Polar 0-360'!M$363 / COS!$B357,'Polar 0-360'!L357 )","v":0.46236339029453383},{"$f":" IF( $A357 < 'Polar 0-360'!S$365, 'Polar 0-360'!S$363 / COS!$B357,'Polar 0-360'!R357 )","v":0.52387111978142209},{"$f":" IF( $A357 < 'Polar 0-360'!Y$365, 'Polar 0-360'!Y$363 / COS!$B357,'Polar 0-360'!X357 )","v":0.57577740225038598},{"$f":" IF( $A357 < 'Polar 0-360'!AE$365, 'Polar 0-360'!AE$363 / COS!$B357,'Polar 0-360'!AD357 )","v":0.62623967815408688},{"$f":" IF( $A357 < 'Polar 0-360'!AK$365, 'Polar 0-360'!AK$363 / COS!$B357,'Polar 0-360'!AJ357 )","v":0.66258686846537085},{"$f":" IF( $A357 < 'Polar 0-360'!AQ$365, 'Polar 0-360'!AQ$363 / COS!$B357,'Polar 0-360'!AP357 )","v":0.68110999454856858}]
[{"$f":"'Polar 0-360'!A358","v":356},0,{"$f":" IF( $A358 < 'Polar 0-360'!G$365, 'Polar 0-360'!G$363 / COS!$B358,'Polar 0-360'!F358 )","v":0.29847849483443384},{"$f":" IF( $A358 < 'Polar 0-360'!M$365, 'Polar 0-360'!M$363 / COS!$B358,'Polar 0-360'!L358 )","v":0.36989071223562719},{"$f":" IF( $A358 < 'Polar 0-360'!S$365, 'Polar 0-360'!S$363 / COS!$B358,'Polar 0-360'!R358 )","v":0.41909689582513787},{"$f":" IF( $A358 < 'Polar 0-360'!Y$365, 'Polar 0-360'!Y$363 / COS!$B358,'Polar 0-360'!X358 )","v":0.46062192180030875},{"$f":" IF( $A358 < 'Polar 0-360'!AE$365, 'Polar 0-360'!AE$363 / COS!$B358,'Polar 0-360'!AD358 )","v":0.50099174252326961},{"$f":" IF( $A358 < 'Polar 0-360'!AK$365, 'Polar 0-360'!AK$363 / COS!$B358,'Polar 0-360'!AJ358 )","v":0.53006949477229681},{"$f":" IF( $A358 < 'Polar 0-360'!AQ$365, 'Polar 0-360'!AQ$363 / COS!$B358,'Polar 0-360'!AP358 )","v":0.54488799563885482}]
[{"$f":"'Polar 0-360'!A359","v":357},0,{"$f":" IF( $A359 < 'Polar 0-360'!G$365, 'Polar 0-360'!G$363 / COS!$B359,'Polar 0-360'!F359 )","v":0.22385887112582536},{"$f":" IF( $A359 < 'Polar 0-360'!M$365, 'Polar 0-360'!M$363 / COS!$B359,'Polar 0-360'!L359 )","v":0.27741803417672056},{"$f":" IF( $A359 < 'Polar 0-360'!S$365, 'Polar 0-360'!S$363 / COS!$B359,'Polar 0-360'!R359 )","v":0.31432267186885365},{"$f":" IF( $A359 < 'Polar 0-360'!Y$365, 'Polar 0-360'!Y$363 / COS!$B359,'Polar 0-360'!X359 )","v":0.34546644135023158},{"$f":" IF( $A359 < 'Polar 0-360'!AE$365, 'Polar 0-360'!AE$363 / COS!$B359,'Polar 0-360'!AD359 )","v":0.37574380689245235},{"$f":" IF( $A359 < 'Polar 0-360'!AK$365, 'Polar 0-360'!AK$363 / COS!$B359,'Polar 0-360'!AJ359 )","v":0.39755212107922272},{"$f":" IF( $A359 < 'Polar 0-360'!AQ$365, 'Polar 0-360'!AQ$363 / COS!$B359,'Polar 0-360'!AP359 )","v":0.40866599672914111}]
[{"$f":"'Polar 0-360'!A360","v":358},0,{"$f":" IF( $A360 < 'Polar 0-360'!G$365, 'Polar 0-360'!G$363 / COS!$B360,'Polar 0-360'!F360 )","v":0.14923924741721692},{"$f":" IF( $A360 < 'Polar 0-360'!M$365, 'Polar 0-360'!M$363 / COS!$B360,'Polar 0-360'!L360 )","v":0.18494535611781393},{"$f":" IF( $A360 < 'Polar 0-360'!S$365, 'Polar 0-360'!S$363 / COS!$B360,'Polar 0-360'!R360 )","v":0.20954844791256938},{"$f":" IF( $A360 < 'Polar 0-360'!Y$365, 'Polar 0-360'!Y$363 / COS!$B360,'Polar 0-360'!X360 )","v":0.23031096090015438},{"$f":" IF( $A360 < 'Polar 0-360'!AE$365, 'Polar 0-360'!AE$363 / COS!$B360,'Polar 0-360'!AD360 )","v":0.25049587126163503},{"$f":" IF( $A360 < 'Polar 0-360'!AK$365, 'Polar 0-360'!AK$363 / COS!$B360,'Polar 0-360'!AJ360 )","v":0.26503474738614863},{"$f":" IF( $A360 < 'Polar 0-360'!AQ$365, 'Polar 0-360'!AQ$363 / COS!$B360,'Polar 0-360'!AP360 )","v":0.27244399781942741}]
[{"$f":"'Polar 0-360'!A361","v":359},0,{"$f":" IF( $A361 < 'Polar 0-360'!G$365, 'Polar 0-360'!G$363 / COS!$B361,'Polar 0-360'!F361 )","v":7.461962370860846E-2},{"$f":" IF( $A361 < 'Polar 0-360'!M$365, 'Polar 0-360'!M$363 / COS!$B361,'Polar 0-360'!L361 )","v":9.2472678058907298E-2},{"$f":" IF( $A361 < 'Polar 0-360'!S$365, 'Polar 0-360'!S$363 / COS!$B361,'Polar 0-360'!R361 )","v":0.10477422395628513},{"$f":" IF( $A361 < 'Polar 0-360'!Y$365, 'Polar 0-360'!Y$363 / COS!$B361,'Polar 0-360'!X361 )","v":0.11515548045007719},{"$f":" IF( $A361 < 'Polar 0-360'!AE$365, 'Polar 0-360'!AE$363 / COS!$B361,'Polar 0-360'!AD361 )","v":0.12524793563081774},{"$f":" IF( $A361 < 'Polar 0-360'!AK$365, 'Polar 0-360'!AK$363 / COS!$B361,'Polar 0-360'!AJ361 )","v":0.13251737369307454},{"$f":" IF( $A361 < 'Polar 0-360'!AQ$365, 'Polar 0-360'!AQ$363 / COS!$B361,'Polar 0-360'!AP361 )","v":0.1362219989097137}]

{"sheet":"COS","index":13,"n_rows":361,"n_cols":2,"rows_kept":361,"cut":false,"hidden":true,"merged":[]}
[null,"COS"]
[{"$f":"'Polar 0-360'!A2","v":0},1]
[{"$f":"'Polar 0-360'!A3","v":1},0.99984769515639127]
[{"$f":"'Polar 0-360'!A4","v":2},0.99939082701909576]
[{"$f":"'Polar 0-360'!A5","v":3},0.99862953475457383]
[{"$f":"'Polar 0-360'!A6","v":4},0.9975640502598242]
[{"$f":"'Polar 0-360'!A7","v":5},0.99619469809174555]
[{"$f":"'Polar 0-360'!A8","v":6},0.99452189536827329]
[{"$f":"'Polar 0-360'!A9","v":7},0.99254615164132198]
[{"$f":"'Polar 0-360'!A10","v":8},0.99026806874157036]
[{"$f":"'Polar 0-360'!A11","v":9},0.98768834059513777]
[{"$f":"'Polar 0-360'!A12","v":10},0.98480775301220802]
[{"$f":"'Polar 0-360'!A13","v":11},0.98162718344766398]
[{"$f":"'Polar 0-360'!A14","v":12},0.97814760073380569]
[{"$f":"'Polar 0-360'!A15","v":13},0.97437006478523525]
[{"$f":"'Polar 0-360'!A16","v":14},0.97029572627599647]
[{"$f":"'Polar 0-360'!A17","v":15},0.96592582628906831]
[{"$f":"'Polar 0-360'!A18","v":16},0.96126169593831889]
[{"$f":"'Polar 0-360'!A19","v":17},0.95630475596303544]
[{"$f":"'Polar 0-360'!A20","v":18},0.95105651629515353]
[{"$f":"'Polar 0-360'!A21","v":19},0.94551857559931685]
[{"$f":"'Polar 0-360'!A22","v":20},0.93969262078590843]
[{"$f":"'Polar 0-360'!A23","v":21},0.93358042649720174]
[{"$f":"'Polar 0-360'!A24","v":22},0.92718385456678742]
[{"$f":"'Polar 0-360'!A25","v":23},0.92050485345244037]
[{"$f":"'Polar 0-360'!A26","v":24},0.91354545764260087]
[{"$f":"'Polar 0-360'!A27","v":25},0.90630778703664994]
[{"$f":"'Polar 0-360'!A28","v":26},0.89879404629916704]
[{"$f":"'Polar 0-360'!A29","v":27},0.8910065241883679]
[{"$f":"'Polar 0-360'!A30","v":28},0.88294759285892699]
[{"$f":"'Polar 0-360'!A31","v":29},0.87461970713939574]
[{"$f":"'Polar 0-360'!A32","v":30},0.86602540378443871]
[{"$f":"'Polar 0-360'!A33","v":31},0.85716730070211233]
[{"$f":"'Polar 0-360'!A34","v":32},0.84804809615642596]
[{"$f":"'Polar 0-360'!A35","v":33},0.83867056794542405]
[{"$f":"'Polar 0-360'!A36","v":34},0.82903757255504162]
[{"$f":"'Polar 0-360'!A37","v":35},0.8191520442889918]
[{"$f":"'Polar 0-360'!A38","v":36},0.80901699437494745]
[{"$f":"'Polar 0-360'!A39","v":37},0.79863551004729283]
[{"$f":"'Polar 0-360'!A40","v":38},0.78801075360672201]
[{"$f":"'Polar 0-360'!A41","v":39},0.7771459614569709]
[{"$f":"'Polar 0-360'!A42","v":40},0.76604444311897801]
[{"$f":"'Polar 0-360'!A43","v":41},0.75470958022277213]
[{"$f":"'Polar 0-360'!A44","v":42},0.74314482547739424]
[{"$f":"'Polar 0-360'!A45","v":43},0.73135370161917057]
[{"$f":"'Polar 0-360'!A46","v":44},0.71933980033865119]
[{"$f":"'Polar 0-360'!A47","v":45},0.70710678118654757]
[{"$f":"'Polar 0-360'!A48","v":46},0.69465837045899737]
[{"$f":"'Polar 0-360'!A49","v":47},0.68199836006249848]
[{"$f":"'Polar 0-360'!A50","v":48},0.66913060635885824]
[{"$f":"'Polar 0-360'!A51","v":49},0.65605902899050728]
[{"$f":"'Polar 0-360'!A52","v":50},0.64278760968653936]
[{"$f":"'Polar 0-360'!A53","v":51},0.6293203910498375]
[{"$f":"'Polar 0-360'!A54","v":52},0.61566147532565829]
[{"$f":"'Polar 0-360'!A55","v":53},0.60181502315204838]
[{"$f":"'Polar 0-360'!A56","v":54},0.58778525229247314]
[{"$f":"'Polar 0-360'!A57","v":55},0.57357643635104616]
[{"$f":"'Polar 0-360'!A58","v":56},0.55919290347074679]
[{"$f":"'Polar 0-360'!A59","v":57},0.5446390350150272]
[{"$f":"'Polar 0-360'!A60","v":58},0.5299192642332049]
[{"$f":"'Polar 0-360'!A61","v":59},0.51503807491005438]
[{"$f":"'Polar 0-360'!A62","v":60},0.5]
[{"$f":"'Polar 0-360'!A63","v":61},0.48480962024633711]
[{"$f":"'Polar 0-360'!A64","v":62},0.46947156278589086]
[{"$f":"'Polar 0-360'!A65","v":63},0.4539904997395468]
[{"$f":"'Polar 0-360'!A66","v":64},0.43837114678907746]
[{"$f":"'Polar 0-360'!A67","v":65},0.42261826174069944]
[{"$f":"'Polar 0-360'!A68","v":66},0.40673664307580021]
[{"$f":"'Polar 0-360'!A69","v":67},0.39073112848927394]
[{"$f":"'Polar 0-360'!A70","v":68},0.37460659341591196]
[{"$f":"'Polar 0-360'!A71","v":69},0.35836794954530038]
[{"$f":"'Polar 0-360'!A72","v":70},0.34202014332566882]
[{"$f":"'Polar 0-360'!A73","v":71},0.32556815445715676]
[{"$f":"'Polar 0-360'!A74","v":72},0.30901699437494745]
[{"$f":"'Polar 0-360'!A75","v":73},0.29237170472273677]
[{"$f":"'Polar 0-360'!A76","v":74},0.27563735581699916]
[{"$f":"'Polar 0-360'!A77","v":75},0.25881904510252074]
[{"$f":"'Polar 0-360'!A78","v":76},0.2419218955996679]
[{"$f":"'Polar 0-360'!A79","v":77},0.22495105434386492]
[{"$f":"'Polar 0-360'!A80","v":78},0.20791169081775945]
[{"$f":"'Polar 0-360'!A81","v":79},0.19080899537654492]
[{"$f":"'Polar 0-360'!A82","v":80},0.17364817766693041]
[{"$f":"'Polar 0-360'!A83","v":81},0.15643446504023092]
[{"$f":"'Polar 0-360'!A84","v":82},0.13917310096006569]
[{"$f":"'Polar 0-360'!A85","v":83},0.12186934340514749]
[{"$f":"'Polar 0-360'!A86","v":84},0.10452846326765346]
[{"$f":"'Polar 0-360'!A87","v":85},8.7155742747658138E-2]
[{"$f":"'Polar 0-360'!A88","v":86},6.9756473744125455E-2]
[{"$f":"'Polar 0-360'!A89","v":87},5.2335956242943966E-2]
[{"$f":"'Polar 0-360'!A90","v":88},3.489949670250108E-2]
[{"$f":"'Polar 0-360'!A91","v":89},1.7452406437283376E-2]
[{"$f":"'Polar 0-360'!A92","v":90},6.1257422745431001E-17]
[{"$f":"'Polar 0-360'!A93","v":91},-1.7452406437283477E-2]
[{"$f":"'Polar 0-360'!A94","v":92},-3.4899496702500733E-2]
[{"$f":"'Polar 0-360'!A95","v":93},-5.233595624294362E-2]
[{"$f":"'Polar 0-360'!A96","v":94},-6.975647374412533E-2]
[{"$f":"'Polar 0-360'!A97","v":95},-8.7155742747658235E-2]
[{"$f":"'Polar 0-360'!A98","v":96},-0.10452846326765333]
[{"$f":"'Polar 0-360'!A99","v":97},-0.12186934340514737]
[{"$f":"'Polar 0-360'!A100","v":98},-0.13917310096006535]
[{"$f":"'Polar 0-360'!A101","v":99},-0.15643446504023104]
[{"$f":"'Polar 0-360'!A102","v":100},-0.1736481776669303]
[{"$f":"'Polar 0-360'!A103","v":101},-0.1908089953765448]
[{"$f":"'Polar 0-360'!A104","v":102},-0.20791169081775912]
[{"$f":"'Polar 0-360'!A105","v":103},-0.22495105434386481]
[{"$f":"'Polar 0-360'!A106","v":104},-0.24192189559966779]
[{"$f":"'Polar 0-360'!A107","v":105},-0.25881904510252085]
[{"$f":"'Polar 0-360'!A108","v":106},-0.27563735581699905]
[{"$f":"'Polar 0-360'!A109","v":107},-0.29237170472273666]
[{"$f":"'Polar 0-360'!A110","v":108},-0.30901699437494734]
[{"$f":"'Polar 0-360'!A111","v":109},-0.32556815445715642]
[{"$f":"'Polar 0-360'!A112","v":110},-0.34202014332566871]
[{"$f":"'Polar 0-360'!A113","v":111},-0.35836794954530027]
[{"$f":"'Polar 0-360'!A114","v":112},-0.37460659341591207]
[{"$f":"'Polar 0-360'!A115","v":113},-0.3907311284892736]
[{"$f":"'Polar 0-360'!A116","v":114},-0.40673664307580004]
[{"$f":"'Polar 0-360'!A117","v":115},-0.42261826174069933]
[{"$f":"'Polar 0-360'!A118","v":116},-0.43837114678907751]
[{"$f":"'Polar 0-360'!A119","v":117},-0.45399049973954669]
[{"$f":"'Polar 0-360'!A120","v":118},-0.46947156278589053]
[{"$f":"'Polar 0-360'!A121","v":119},-0.484809620246337]
[{"$f":"'Polar 0-360'!A122","v":120},-0.5]
[{"$f":"'Polar 0-360'!A123","v":121},-0.51503807491005427]
[{"$f":"'Polar 0-360'!A124","v":122},-0.52991926423320479]
[{"$f":"'Polar 0-360'!A125","v":123},-0.54463903501502708]
[{"$f":"'Polar 0-360'!A126","v":124},-0.55919290347074668]
[{"$f":"'Polar 0-360'!A127","v":125},-0.57357643635104583]
[{"$f":"'Polar 0-360'!A128","v":126},-0.58778525229247303]
[{"$f":"'Polar 0-360'!A129","v":127},-0.60181502315204838]
[{"$f":"'Polar 0-360'!A130","v":128},-0.61566147532565829]
[{"$f":"'Polar 0-360'!A131","v":129},-0.62932039104983728]
[{"$f":"'Polar 0-360'!A132","v":130},-0.64278760968653936]
[{"$f":"'Polar 0-360'!A133","v":131},-0.6560590289905075]
[{"$f":"'Polar 0-360'!A134","v":132},-0.66913060635885824]
[{"$f":"'Polar 0-360'!A135","v":133},-0.68199836006249837]
[{"$f":"'Polar 0-360'!A136","v":134},-0.69465837045899703]
[{"$f":"'Polar 0-360'!A137","v":135},-0.70710678118654746]
[{"$f":"'Polar 0-360'!A138","v":136},-0.71933980033865119]
[{"$f":"'Polar 0-360'!A139","v":137},-0.73135370161917046]
[{"$f":"'Polar 0-360'!A140","v":138},-0.74314482547739402]
[{"$f":"'Polar 0-360'!A141","v":139},-0.75470958022277201]
[{"$f":"'Polar 0-360'!A142","v":140},-0.7660444431189779]
[{"$f":"'Polar 0-360'!A143","v":141},-0.77714596145697068]
[{"$f":"'Polar 0-360'!A144","v":142},-0.7880107536067219]
[{"$f":"'Polar 0-360'!A145","v":143},-0.79863551004729294]
[{"$f":"'Polar 0-360'!A146","v":144},-0.80901699437494734]
[{"$f":"'Polar 0-360'!A147","v":145},-0.81915204428899158]
[{"$f":"'Polar 0-360'!A148","v":146},-0.82903757255504162]
[{"$f":"'Polar 0-360'!A149","v":147},-0.83867056794542416]
[{"$f":"'Polar 0-360'!A150","v":148},-0.84804809615642596]
[{"$f":"'Polar 0-360'!A151","v":149},-0.85716730070211222]
[{"$f":"'Polar 0-360'!A152","v":150},-0.86602540378443871]
[{"$f":"'Polar 0-360'!A153","v":151},-0.87461970713939574]
[{"$f":"'Polar 0-360'!A154","v":152},-0.88294759285892677]
[{"$f":"'Polar 0-360'!A155","v":153},-0.89100652418836779]
[{"$f":"'Polar 0-360'!A156","v":154},-0.89879404629916704]
[{"$f":"'Polar 0-360'!A157","v":155},-0.90630778703664994]
[{"$f":"'Polar 0-360'!A158","v":156},-0.91354545764260076]
[{"$f":"'Polar 0-360'!A159","v":157},-0.92050485345244015]
[{"$f":"'Polar 0-360'!A160","v":158},-0.92718385456678731]
[{"$f":"'Polar 0-360'!A161","v":159},-0.93358042649720174]
[{"$f":"'Polar 0-360'!A162","v":160},-0.93969262078590832]
[{"$f":"'Polar 0-360'!A163","v":161},-0.94551857559931674]
[{"$f":"'Polar 0-360'!A164","v":162},-0.95105651629515353]
[{"$f":"'Polar 0-360'!A165","v":163},-0.95630475596303544]
[{"$f":"'Polar 0-360'!A166","v":164},-0.96126169593831867]
[{"$f":"'Polar 0-360'!A167","v":165},-0.9659258262890682]
[{"$f":"'Polar 0-360'!A168","v":166},-0.97029572627599647]
[{"$f":"'Polar 0-360'!A169","v":167},-0.97437006478523525]
[{"$f":"'Polar 0-360'!A170","v":168},-0.97814760073380569]
[{"$f":"'Polar 0-360'!A171","v":169},-0.98162718344766398]
[{"$f":"'Polar 0-360'!A172","v":170},-0.98480775301220802]
[{"$f":"'Polar 0-360'!A173","v":171},-0.98768834059513766]
[{"$f":"'Polar 0-360'!A174","v":172},-0.99026806874157025]
[{"$f":"'Polar 0-360'!A175","v":173},-0.99254615164132198]
[{"$f":"'Polar 0-360'!A176","v":174},-0.99452189536827329]
[{"$f":"'Polar 0-360'!A177","v":175},-0.99619469809174555]
[{"$f":"'Polar 0-360'!A178","v":176},-0.9975640502598242]
[{"$f":"'Polar 0-360'!A179","v":177},-0.99862953475457383]
[{"$f":"'Polar 0-360'!A180","v":178},-0.99939082701909576]
[{"$f":"'Polar 0-360'!A181","v":179},-0.99984769515639127]
[{"$f":"'Polar 0-360'!A182","v":180},-1]
[{"$f":"'Polar 0-360'!A183","v":181},-0.99984769515639127]
[{"$f":"'Polar 0-360'!A184","v":182},-0.99939082701909576]
[{"$f":"'Polar 0-360'!A185","v":183},-0.99862953475457383]
[{"$f":"'Polar 0-360'!A186","v":184},-0.9975640502598242]
[{"$f":"'Polar 0-360'!A187","v":185},-0.99619469809174555]
[{"$f":"'Polar 0-360'!A188","v":186},-0.99452189536827329]
[{"$f":"'Polar 0-360'!A189","v":187},-0.99254615164132198]
[{"$f":"'Polar 0-360'!A190","v":188},-0.99026806874157025]
[{"$f":"'Polar 0-360'!A191","v":189},-0.98768834059513766]
[{"$f":"'Polar 0-360'!A192","v":190},-0.98480775301220802]
[{"$f":"'Polar 0-360'!A193","v":191},-0.98162718344766398]
[{"$f":"'Polar 0-360'!A194","v":192},-0.97814760073380569]
[{"$f":"'Polar 0-360'!A195","v":193},-0.97437006478523525]
[{"$f":"'Polar 0-360'!A196","v":194},-0.97029572627599647]
[{"$f":"'Polar 0-360'!A197","v":195},-0.9659258262890682]
[{"$f":"'Polar 0-360'!A198","v":196},-0.96126169593831867]
[{"$f":"'Polar 0-360'!A199","v":197},-0.95630475596303544]
[{"$f":"'Polar 0-360'!A200","v":198},-0.95105651629515353]
[{"$f":"'Polar 0-360'!A201","v":199},-0.94551857559931674]
[{"$f":"'Polar 0-360'!A202","v":200},-0.93969262078590832]
[{"$f":"'Polar 0-360'!A203","v":201},-0.93358042649720174]
[{"$f":"'Polar 0-360'!A204","v":202},-0.92718385456678731]
[{"$f":"'Polar 0-360'!A205","v":203},-0.92050485345244015]
[{"$f":"'Polar 0-360'!A206","v":204},-0.91354545764260076]
[{"$f":"'Polar 0-360'!A207","v":205},-0.90630778703664994]
[{"$f":"'Polar 0-360'!A208","v":206},-0.89879404629916704]
[{"$f":"'Polar 0-360'!A209","v":207},-0.89100652418836779]
[{"$f":"'Polar 0-360'!A210","v":208},-0.88294759285892677]
[{"$f":"'Polar 0-360'!A211","v":209},-0.87461970713939574]
[{"$f":"'Polar 0-360'!A212","v":210},-0.86602540378443871]
[{"$f":"'Polar 0-360'!A213","v":211},-0.85716730070211222]
[{"$f":"'Polar 0-360'!A214","v":212},-0.84804809615642596]
[{"$f":"'Polar 0-360'!A215","v":213},-0.83867056794542416]
[{"$f":"'Polar 0-360'!A216","v":214},-0.82903757255504162]
[{"$f":"'Polar 0-360'!A217","v":215},-0.81915204428899158]
[{"$f":"'Polar 0-360'!A218","v":216},-0.80901699437494734]
[{"$f":"'Polar 0-360'!A219","v":217},-0.79863551004729294]
[{"$f":"'Polar 0-360'!A220","v":218},-0.7880107536067219]
[{"$f":"'Polar 0-360'!A221","v":219},-0.77714596145697068]
[{"$f":"'Polar 0-360'!A222","v":220},-0.7660444431189779]
[{"$f":"'Polar 0-360'!A223","v":221},-0.75470958022277201]
[{"$f":"'Polar 0-360'!A224","v":222},-0.74314482547739402]
[{"$f":"'Polar 0-360'!A225","v":223},-0.73135370161917046]
[{"$f":"'Polar 0-360'!A226","v":224},-0.71933980033865119]
[{"$f":"'Polar 0-360'!A227","v":225},-0.70710678118654746]
[{"$f":"'Polar 0-360'!A228","v":226},-0.69465837045899703]
[{"$f":"'Polar 0-360'!A229","v":227},-0.68199836006249837]
[{"$f":"'Polar 0-360'!A230","v":228},-0.66913060635885824]
[{"$f":"'Polar 0-360'!A231","v":229},-0.6560590289905075]
[{"$f":"'Polar 0-360'!A232","v":230},-0.64278760968653936]
[{"$f":"'Polar 0-360'!A233","v":231},-0.62932039104983728]
[{"$f":"'Polar 0-360'!A234","v":232},-0.61566147532565829]
[{"$f":"'Polar 0-360'!A235","v":233},-0.60181502315204838]
[{"$f":"'Polar 0-360'!A236","v":234},-0.58778525229247303]
[{"$f":"'Polar 0-360'!A237","v":235},-0.57357643635104583]
[{"$f":"'Polar 0-360'!A238","v":236},-0.55919290347074668]
[{"$f":"'Polar 0-360'!A239","v":237},-0.54463903501502708]
[{"$f":"'Polar 0-360'!A240","v":238},-0.52991926423320479]
[{"$f":"'Polar 0-360'!A241","v":239},-0.51503807491005427]
[{"$f":"'Polar 0-360'!A242","v":240},-0.5]
[{"$f":"'Polar 0-360'!A243","v":241},-0.484809620246337]
[{"$f":"'Polar 0-360'!A244","v":242},-0.46947156278589053]
[{"$f":"'Polar 0-360'!A245","v":243},-0.45399049973954669]
[{"$f":"'Polar 0-360'!A246","v":244},-0.43837114678907751]
[{"$f":"'Polar 0-360'!A247","v":245},-0.42261826174069933]
[{"$f":"'Polar 0-360'!A248","v":246},-0.40673664307580004]
[{"$f":"'Polar 0-360'!A249","v":247},-0.3907311284892736]
[{"$f":"'Polar 0-360'!A250","v":248},-0.37460659341591207]
[{"$f":"'Polar 0-360'!A251","v":249},-0.35836794954530027]
[{"$f":"'Polar 0-360'!A252","v":250},-0.34202014332566871]
[{"$f":"'Polar 0-360'!A253","v":251},-0.32556815445715642]
[{"$f":"'Polar 0-360'!A254","v":252},-0.30901699437494734]
[{"$f":"'Polar 0-360'!A255","v":253},-0.29237170472273666]
[{"$f":"'Polar 0-360'!A256","v":254},-0.27563735581699905]
[{"$f":"'Polar 0-360'!A257","v":255},-0.25881904510252085]
[{"$f":"'Polar 0-360'!A258","v":256},-0.24192189559966779]
[{"$f":"'Polar 0-360'!A259","v":257},-0.22495105434386481]
[{"$f":"'Polar 0-360'!A260","v":258},-0.20791169081775912]
[{"$f":"'Polar 0-360'!A261","v":259},-0.1908089953765448]
[{"$f":"'Polar 0-360'!A262","v":260},-0.1736481776669303]
[{"$f":"'Polar 0-360'!A263","v":261},-0.15643446504023104]
[{"$f":"'Polar 0-360'!A264","v":262},-0.13917310096006535]
[{"$f":"'Polar 0-360'!A265","v":263},-0.12186934340514737]
[{"$f":"'Polar 0-360'!A266","v":264},-0.10452846326765333]
[{"$f":"'Polar 0-360'!A267","v":265},-8.7155742747658235E-2]
[{"$f":"'Polar 0-360'!A268","v":266},-6.975647374412533E-2]
[{"$f":"'Polar 0-360'!A269","v":267},-5.233595624294362E-2]
[{"$f":"'Polar 0-360'!A270","v":268},-3.4899496702500733E-2]
[{"$f":"'Polar 0-360'!A271","v":269},-1.7452406437283477E-2]
[{"$f":"'Polar 0-360'!A272","v":270},6.1257422745431001E-17]
[{"$f":"'Polar 0-360'!A273","v":271},1.7452406437283376E-2]
[{"$f":"'Polar 0-360'!A274","v":272},3.489949670250108E-2]
[{"$f":"'Polar 0-360'!A275","v":273},5.2335956242943966E-2]
[{"$f":"'Polar 0-360'!A276","v":274},6.9756473744125455E-2]
[{"$f":"'Polar 0-360'!A277","v":275},8.7155742747658138E-2]
[{"$f":"'Polar 0-360'!A278","v":276},0.10452846326765346]
[{"$f":"'Polar 0-360'!A279","v":277},0.12186934340514749]
[{"$f":"'Polar 0-360'!A280","v":278},0.13917310096006569]
[{"$f":"'Polar 0-360'!A281","v":279},0.15643446504023092]
[{"$f":"'Polar 0-360'!A282","v":280},0.17364817766693041]
[{"$f":"'Polar 0-360'!A283","v":281},0.19080899537654492]
[{"$f":"'Polar 0-360'!A284","v":282},0.20791169081775945]
[{"$f":"'Polar 0-360'!A285","v":283},0.22495105434386492]
[{"$f":"'Polar 0-360'!A286","v":284},0.2419218955996679]
[{"$f":"'Polar 0-360'!A287","v":285},0.25881904510252074]
[{"$f":"'Polar 0-360'!A288","v":286},0.27563735581699916]
[{"$f":"'Polar 0-360'!A289","v":287},0.29237170472273677]
[{"$f":"'Polar 0-360'!A290","v":288},0.30901699437494745]
[{"$f":"'Polar 0-360'!A291","v":289},0.32556815445715676]
[{"$f":"'Polar 0-360'!A292","v":290},0.34202014332566882]
[{"$f":"'Polar 0-360'!A293","v":291},0.35836794954530038]
[{"$f":"'Polar 0-360'!A294","v":292},0.37460659341591196]
[{"$f":"'Polar 0-360'!A295","v":293},0.39073112848927394]
[{"$f":"'Polar 0-360'!A296","v":294},0.40673664307580021]
[{"$f":"'Polar 0-360'!A297","v":295},0.42261826174069944]
[{"$f":"'Polar 0-360'!A298","v":296},0.43837114678907746]
[{"$f":"'Polar 0-360'!A299","v":297},0.4539904997395468]
[{"$f":"'Polar 0-360'!A300","v":298},0.46947156278589086]
[{"$f":"'Polar 0-360'!A301","v":299},0.48480962024633711]
[{"$f":"'Polar 0-360'!A302","v":300},0.5]
[{"$f":"'Polar 0-360'!A303","v":301},0.51503807491005438]
[{"$f":"'Polar 0-360'!A304","v":302},0.5299192642332049]
[{"$f":"'Polar 0-360'!A305","v":303},0.5446390350150272]
[{"$f":"'Polar 0-360'!A306","v":304},0.55919290347074679]
[{"$f":"'Polar 0-360'!A307","v":305},0.57357643635104616]
[{"$f":"'Polar 0-360'!A308","v":306},0.58778525229247314]
[{"$f":"'Polar 0-360'!A309","v":307},0.60181502315204838]
[{"$f":"'Polar 0-360'!A310","v":308},0.61566147532565829]
[{"$f":"'Polar 0-360'!A311","v":309},0.6293203910498375]
[{"$f":"'Polar 0-360'!A312","v":310},0.64278760968653936]
[{"$f":"'Polar 0-360'!A313","v":311},0.65605902899050728]
[{"$f":"'Polar 0-360'!A314","v":312},0.66913060635885824]
[{"$f":"'Polar 0-360'!A315","v":313},0.68199836006249848]
[{"$f":"'Polar 0-360'!A316","v":314},0.69465837045899737]
[{"$f":"'Polar 0-360'!A317","v":315},0.70710678118654757]
[{"$f":"'Polar 0-360'!A318","v":316},0.71933980033865119]
[{"$f":"'Polar 0-360'!A319","v":317},0.73135370161917057]
[{"$f":"'Polar 0-360'!A320","v":318},0.74314482547739424]
[{"$f":"'Polar 0-360'!A321","v":319},0.75470958022277213]
[{"$f":"'Polar 0-360'!A322","v":320},0.76604444311897801]
[{"$f":"'Polar 0-360'!A323","v":321},0.7771459614569709]
[{"$f":"'Polar 0-360'!A324","v":322},0.78801075360672201]
[{"$f":"'Polar 0-360'!A325","v":323},0.79863551004729283]
[{"$f":"'Polar 0-360'!A326","v":324},0.80901699437494745]
[{"$f":"'Polar 0-360'!A327","v":325},0.8191520442889918]
[{"$f":"'Polar 0-360'!A328","v":326},0.82903757255504162]
[{"$f":"'Polar 0-360'!A329","v":327},0.83867056794542405]
[{"$f":"'Polar 0-360'!A330","v":328},0.84804809615642596]
[{"$f":"'Polar 0-360'!A331","v":329},0.85716730070211233]
[{"$f":"'Polar 0-360'!A332","v":330},0.86602540378443871]
[{"$f":"'Polar 0-360'!A333","v":331},0.87461970713939574]
[{"$f":"'Polar 0-360'!A334","v":332},0.88294759285892699]
[{"$f":"'Polar 0-360'!A335","v":333},0.8910065241883679]
[{"$f":"'Polar 0-360'!A336","v":334},0.89879404629916704]
[{"$f":"'Polar 0-360'!A337","v":335},0.90630778703664994]
[{"$f":"'Polar 0-360'!A338","v":336},0.91354545764260087]
[{"$f":"'Polar 0-360'!A339","v":337},0.92050485345244037]
[{"$f":"'Polar 0-360'!A340","v":338},0.92718385456678742]
[{"$f":"'Polar 0-360'!A341","v":339},0.93358042649720174]
[{"$f":"'Polar 0-360'!A342","v":340},0.93969262078590843]
[{"$f":"'Polar 0-360'!A343","v":341},0.94551857559931685]
[{"$f":"'Polar 0-360'!A344","v":342},0.95105651629515353]
[{"$f":"'Polar 0-360'!A345","v":343},0.95630475596303544]
[{"$f":"'Polar 0-360'!A346","v":344},0.96126169593831889]
[{"$f":"'Polar 0-360'!A347","v":345},0.96592582628906831]
[{"$f":"'Polar 0-360'!A348","v":346},0.97029572627599647]
[{"$f":"'Polar 0-360'!A349","v":347},0.97437006478523525]
[{"$f":"'Polar 0-360'!A350","v":348},0.97814760073380569]
[{"$f":"'Polar 0-360'!A351","v":349},0.98162718344766398]
[{"$f":"'Polar 0-360'!A352","v":350},0.98480775301220802]
[{"$f":"'Polar 0-360'!A353","v":351},0.98768834059513777]
[{"$f":"'Polar 0-360'!A354","v":352},0.99026806874157036]
[{"$f":"'Polar 0-360'!A355","v":353},0.99254615164132198]
[{"$f":"'Polar 0-360'!A356","v":354},0.99452189536827329]
[{"$f":"'Polar 0-360'!A357","v":355},0.99619469809174555]
[{"$f":"'Polar 0-360'!A358","v":356},0.9975640502598242]
[{"$f":"'Polar 0-360'!A359","v":357},0.99862953475457383]
[{"$f":"'Polar 0-360'!A360","v":358},0.99939082701909576]
[{"$f":"'Polar 0-360'!A361","v":359},0.99984769515639127]