{"text_format":"1","workbook":"xlsx","n_sheets":3,"sheets":["MAIN","Detail 1","New polar"],"not_rendered":{"charts":2,"images":1,"macros":1,"external_links":1,"defined_names":12,"comments":0,"pivot_tables":0},"unopened":[],"bounds":{"document_bytes":16777216,"sheet_cells":100000,"rows_first":2000,"rows_last":500,"rows_between":2000,"halvings":0,"cell_chars":16384,"cell_head_chars":4096},"cells_cut":0,"cells_raw":0,"read":"whole","date_system":"1900"}

{"sheet":"MAIN","index":0,"n_rows":28,"n_cols":39,"rows_kept":28,"cut":false,"hidden":false,"merged":[[26,3,27,3],[14,3,15,3],[16,3,17,3],[18,3,19,3],[20,3,21,3],[22,3,23,3],[24,3,25,3]]}
[]
[null,null,null,null,null,null,null,null,null,null,null,null,null,null,null,null,null,null,"vent apparent",null,null,null,null,null,null,null,null,null,null,"AWA"]
[null,null,"Wind(kn)","Up Angle","VMG","V@UA",52,60,70,90,105,120,135,150,180,"V@DA","DA",null,"UA",52,60,75,90,110,120,135,150,"DA",null,"UA",52,60,75,90,110,120,135,150,"DA"]
[null,null,6,44.4,2.681,3.7509999999999999,4.1779999999999999,4.5060000000000002,4.7530000000000001,5.0220000000000002,4.8360000000000003,4.3959999999999999,3.84,3.2509999999999999,2.65,3.4239999999999999,145.6,null,{"$f":"SQRT(SUMSQ(($C4*SIN(D4/180*PI())),(F4+$C4*COS(D4/180*PI()))))","v":9.0680673385033792},{"$f":"SQRT(SUMSQ(($C4*SIN(G$3/180*PI())),(G4+$C4*COS(G$3/180*PI()))))","v":9.182727684458861},9.1290764045438912,8.8373338680126157,7.8243519859474624,6.6608639961051992,5.3804103932692726,4.2617038286258113,3.5754185695609793,{"$f":"SQRT(SUMSQ(($C4*SIN(Q4/180*PI())),(P4+$C4*COS(Q4/180*PI()))))","v":3.7177294929488096},null,{"$f":"DEGREES(ACOS((F4+$C4*COS(D4/180*PI()))/S4))","v":27.577047447273447},{"$f":"DEGREES(ACOS((G4+$C4*COS(G$3/180*PI()))/T4))","v":30.989883374786782},34.693558422550787,39.642312874710804,50.070667966263883,60.46916613879943,74.96199124438877,95.42132264280616,122.95873555199816,{"$f":"DEGREES(ACOS((P4+$C4*COS(Q4/180*PI()))/AB4))","v":114.24559512524884}]
[null,null,8,44.6,3.3340000000000001,4.6829999999999998,5.1609999999999996,5.4480000000000004,5.6289999999999996,5.8369999999999997,5.7359999999999998,5.4459999999999997,4.9020000000000001,4.157,3.4350000000000001,4.3049999999999997,146.80000000000001,null,{"$f":"SQRT(SUMSQ(($C5*SIN(D5/180*PI())),(F5+$C5*COS(D5/180*PI()))))","v":11.801744641111897},11.894317256004717,11.716002048480531,11.24674811616598,9.9030585679374834,8.5526790724702781,7.0774936241582029,5.7069961396497115,4.8661655688528951,{"$f":"SQRT(SUMSQ(($C5*SIN(Q5/180*PI())),(P5+$C5*COS(Q5/180*PI()))))","v":4.9896592157127042},null,28.422238532319128,32.006010857244732,36.252535932399141,41.945165164564379,53.884574876000549,64.622964516619376,78.210912419554049,97.600684090919145,124.71424843798046,{"$f":"DEGREES(ACOS((P5+$C5*COS(Q5/180*PI()))/AB5))","v":118.60791642606986}]
[null,null,10,42.1,4.029550033579584,5.4308372470472488,6.1287027579162414,6.4724919093851128,6.7340067340067336,6.9244085401038662,6.9524913093858638,6.8363083934675268,6.4366172000715185,5.6675062972292185,4.8,5.852887720492788,147,null,14.494309016835105,14.595380129695593,14.374215478101991,13.835106275705584,12.16336440423715,10.599452446778065,8.8527977790029357,7.0994737536528527,5.8272239564785213,6.0069460872697693,null,27.551436300696697,32.677119911787976,37.048104845692052,42.781848340574243,55.299689178176003,65.68532593389827,78.028395556900747,95.127126818906945,120.90261097869313,114.94920806985142]
[null,null,12,42.3,4.4384169646159526,6.0008523096832658,6.654343807763401,6.8952307986975674,7.0838252656434477,7.2904009720534626,7.3096446700507611,7.2274643645854244,6.9821567106283942,6.3536886692552059,5.25,6.5165004112072529,147.6,null,16.927263086317701,16.929384115678921,16.561611556599143,15.884836882314945,14.041009448516089,12.329878309107965,10.464543409357482,8.617388453258517,7.2325943214261317,7.3766699153344781,null,28.496758160448589,33.956483733429444,38.865444186160055,45.225067849283043,58.719920917795235,70.065512456253913,83.26384314734787,100.04544610164969,123.94460328301696,119.34830192785941]
[null,null,14,40.9,4.8044841852395574,6.3563698272501794,6.9632495164410058,7.1499503475670307,7.3155862629546835,7.5408462505236704,7.6238881829733165,7.5361105296211015,7.3096446700507611,6.8040068040068036,5.5,5.9329098000367697,174.3,null,19.2595169868687,19.092484620868309,18.633869561597031,17.876688242272639,15.90170941043877,14.102264433802285,12.136202639210119,10.232659693511046,8.7923894292048512,8.1178396327136575,null,28.420560429733687,35.297840672361119,40.591551951014154,47.384464385473812,61.691678869188252,73.520499087751404,87.468164427445686,104.66082255684424,127.23664388215758,170.13737156251389]
[null,null,16,39.700000000000003,4.9986114968064426,6.4967694145622117,7.1343638525564801,7.3230268510984535,7.5203676624190514,7.6628352490421454,7.9787234042553195,7.8722938989722282,7.6061694485527145,7.1047957371225579,6,6.5078197267890925,175.9,null,21.404756030466622,21.15311898467608,20.659021077473255,19.871177141839169,17.740322546503005,15.924150490295039,13.856994942924665,11.90570643895097,10.468249488845505,9.520212386580603,null,28.520769602518484,36.587032975432784,42.122613637603145,49.167793608328815,64.408971790008962,76.054807932366245,90.528045526409031,108.14413814381798,130.16273758703412,173.09860029923064]
[null,null,20,39.299999999999997,5.1165434906196703,6.6118863123279414,7.2420036210018104,7.4766355140186915,7.8722938989722282,7.9734219269102988,8.5267645665561353,8.6186258079961693,8.2796688132474703,7.5677948286735335,6.8,7.1869968734886873,178.4,null,25.463282982206682,25.115563338125479,24.605543864947578,23.867809592355268,21.530802521609221,19.606890407616259,17.375505594322551,15.309099160434632,13.968371976665946,12.817376221342197,null,29.833789772941856,38.866500253722279,44.742927656333869,51.944517702395558,68.264259000094995,80.161135832299578,94.559897420008781,112.51591387481491,134.28274425059126,177.50292324445545]
[]
[]
[null,null,null,null,"Vent Réel",null,null,null,null,null,null,null,null,null,"vent apparent"]
[null,null,null,null,"V@UA",52,60,75,90,110,120,135,150,"VMG180",150,135,120,110,90,75,60,52,"V@UA"]
[null,null,null,6,{"$f":"F4*SIN(D4/180*PI())","v":2.6244371902656338},{"$f":"G4*SIN(G$3/180*PI())","v":3.2923089285688842},{"$f":"H4*SIN(H$3/180*PI())","v":3.9023104694526807},4.4663590265954225,5.0220000000000002,4.6712172959339346,3.8070476750363924,2.7152900397563426,1.6254999999999997,0,{"$f":"-N4*SIN((O$14/180*PI())-ATAN((N4*SIN(O$14/180*PI())/(C4+N4*COS(O$14/180*PI())))))","v":-2.7277925116324369},{"$f":"-M4*SIN((P$14/180*PI())-ATAN((M4*SIN(P$14/180*PI())/(C4+M4*COS(P$14/180*PI())))))","v":-3.822823193180775},{"$f":"-L4*SIN((Q$14/180*PI())-ATAN((L4*SIN(Q$14/180*PI())/(C4+L4*COS(Q$14/180*PI())))))","v":-4.2454542275796197},{"$f":"-K4*SIN((R$14/180*PI())-ATAN((K4*SIN(R$14/180*PI())/(C4+K4*COS(R$14/180*PI())))))","v":-4.3362240113173875},{"$f":"-J4*SIN((S$14/180*PI())-ATAN((J4*SIN(S$14/180*PI())/(C4+J4*COS(S$14/180*PI())))))","v":-3.8510537427402394},{"$f":"-I4*SIN((T$14/180*PI())-ATAN((I4*SIN(T$14/180*PI())/(C4+I4*COS(T$14/180*PI())))))","v":-3.2162801241605141},{"$f":"-H4*SIN((U$14/180*PI())-ATAN((H4*SIN(U$14/180*PI())/(C4+H4*COS(U$14/180*PI())))))","v":-2.5647570224148968},{"$f":"-G4*SIN((V$14/180*PI())-ATAN((G4*SIN(V$14/180*PI())/(C4+G4*COS(V$14/180*PI())))))","v":-2.1511967086691843},{"$f":"-F4*SIN((D4/180*PI())-ATAN((F4*SIN(D4/180*PI())/(C4+F4*COS(D4/180*PI())))))","v":-1.7364916419106202}]
[null,null,null,null,{"$f":"E4","v":2.681},{"$f":"G4*COS(G$3/180*PI())","v":2.5722336439106002},{"$f":"H4*COS(H$3/180*PI())","v":2.2530000000000006},1.6256217412269041,3.0763477702755452E-16,-1.2516489021157908,-2.1979999999999991,-2.7152900397563422,-2.81544858770321,{"$f":"-O4","v":-2.65},{"$f":"N4*COS((O$14/180*PI())-ATAN((N4*SIN(O$14/180*PI())/(C4+N4*COS(O$14/180*PI())))))","v":-1.7686574042142822},{"$f":"M4*COS((P$14/180*PI())-ATAN((M4*SIN(P$14/180*PI())/(C4+M4*COS(P$14/180*PI())))))","v":-0.36279861311634265},{"$f":"L4*COS((Q$14/180*PI())-ATAN((L4*SIN(Q$14/180*PI())/(C4+L4*COS(Q$14/180*PI())))))","v":1.1405851136703196},{"$f":"K4*COS((R$14/180*PI())-ATAN((K4*SIN(R$14/180*PI())/(C4+K4*COS(R$14/180*PI())))))","v":2.1410411774822427},{"$f":"J4*COS((S$14/180*PI())-ATAN((J4*SIN(S$14/180*PI())/(C4+J4*COS(S$14/180*PI())))))","v":3.2233319826735807},{"$f":"I4*COS((T$14/180*PI())-ATAN((I4*SIN(T$14/180*PI())/(C4+I4*COS(T$14/180*PI())))))","v":3.4995072743073457},{"$f":"H4*COS((U$14/180*PI())-ATAN((H4*SIN(U$14/180*PI())/(C4+H4*COS(U$14/180*PI())))))","v":3.7048694195576548},{"$f":"G4*COS((V$14/180*PI())-ATAN((G4*SIN(V$14/180*PI())/(C4+G4*COS(V$14/180*PI())))))","v":3.5816248715647019},{"$f":"F4*COS((D4/180*PI())-ATAN((F4*SIN(D4/180*PI())/(C4+F4*COS(D4/180*PI())))))","v":3.3248455268740766}]
[null,null,null,8,{"$f":"F5*SIN(D5/180*PI())","v":3.2881827471763452},{"$f":"G5*SIN(G$3/180*PI())","v":4.0669234993642913},4.7181063998176223,5.2895297624038777,5.8369999999999997,5.5405505395940953,4.7163743490100529,3.4662374413764563,2.0784999999999996,0,{"$f":"-N5*SIN((O$14/180*PI())-ATAN((N5*SIN(O$14/180*PI())/(C5+N5*COS(O$14/180*PI())))))","v":-3.4170641678186326},{"$f":"-M5*SIN((P$14/180*PI())-ATAN((M5*SIN(P$14/180*PI())/(C5+M5*COS(P$14/180*PI())))))","v":-4.8589308372501687},{"$f":"-L5*SIN((Q$14/180*PI())-ATAN((L5*SIN(Q$14/180*PI())/(C5+L5*COS(Q$14/180*PI())))))","v":-5.3311238124312901},{"$f":"-K5*SIN((R$14/180*PI())-ATAN((K5*SIN(R$14/180*PI())/(C5+K5*COS(R$14/180*PI())))))","v":-5.3274944728352649},{"$f":"-J5*SIN((S$14/180*PI())-ATAN((J5*SIN(S$14/180*PI())/(C5+J5*COS(S$14/180*PI())))))","v":-4.715310899118049},{"$f":"-I5*SIN((T$14/180*PI())-ATAN((I5*SIN(T$14/180*PI())/(C5+I5*COS(T$14/180*PI())))))","v":-3.9874842364123473},{"$f":"-H5*SIN((U$14/180*PI())-ATAN((H5*SIN(U$14/180*PI())/(C5+H5*COS(U$14/180*PI())))))","v":-3.2216494195164604},{"$f":"-G5*SIN((V$14/180*PI())-ATAN((G5*SIN(V$14/180*PI())/(C5+G5*COS(V$14/180*PI())))))","v":-2.7353724719667447},{"$f":"-F5*SIN((D5/180*PI())-ATAN((F5*SIN(D5/180*PI())/(C5+F5*COS(D5/180*PI())))))","v":-2.228946886867432}]
[null,null,null,null,{"$f":"E5","v":3.3340000000000001},{"$f":"G5*COS(G$3/180*PI())","v":3.1774288741557224},2.7240000000000006,1.9252313867801896,3.5755957656508072E-16,-1.4845860427080595,-2.7229999999999985,-3.4662374413764558,-3.6000676035319117,{"$f":"-O5","v":-3.4350000000000001},{"$f":"N5*COS((O$14/180*PI())-ATAN((N5*SIN(O$14/180*PI())/(C5+N5*COS(O$14/180*PI())))))","v":-2.3673448149794227},{"$f":"M5*COS((P$14/180*PI())-ATAN((M5*SIN(P$14/180*PI())/(C5+M5*COS(P$14/180*PI())))))","v":-0.64837883896637194},{"$f":"L5*COS((Q$14/180*PI())-ATAN((L5*SIN(Q$14/180*PI())/(C5+L5*COS(Q$14/180*PI())))))","v":1.1126701652008402},{"$f":"K5*COS((R$14/180*PI())-ATAN((K5*SIN(R$14/180*PI())/(C5+K5*COS(R$14/180*PI())))))","v":2.1259112497725994},{"$f":"J5*COS((S$14/180*PI())-ATAN((J5*SIN(S$14/180*PI())/(C5+J5*COS(S$14/180*PI())))))","v":3.4404087147690072},{"$f":"I5*COS((T$14/180*PI())-ATAN((I5*SIN(T$14/180*PI())/(C5+I5*COS(T$14/180*PI())))))","v":3.9731109302866234},{"$f":"H5*COS((U$14/180*PI())-ATAN((H5*SIN(U$14/180*PI())/(C5+H5*COS(U$14/180*PI())))))","v":4.3933676169573221},{"$f":"G5*COS((V$14/180*PI())-ATAN((G5*SIN(V$14/180*PI())/(C5+G5*COS(V$14/180*PI())))))","v":4.3764892824736279},{"$f":"F5*COS((D5/180*PI())-ATAN((F5*SIN(D5/180*PI())/(C5+F5*COS(D5/180*PI())))))","v":4.1185294433236708}]
[null,null,null,10,{"$f":"F6*SIN(D6/180*PI())","v":3.6409778536533999},{"$f":"G6*SIN(G$3/180*PI())","v":4.829483678897172},5.605342419316754,6.3278964362687429,6.9244085401038662,6.7155909127861069,5.9204167368476623,4.5513756700725398,2.8337531486146088,0,{"$f":"-N6*SIN((O$14/180*PI())-ATAN((N6*SIN(O$14/180*PI())/(C6+N6*COS(O$14/180*PI())))))","v":-4.8629556196551063},{"$f":"-M6*SIN((P$14/180*PI())-ATAN((M6*SIN(P$14/180*PI())/(C6+M6*COS(P$14/180*PI())))))","v":-6.4108634358014847},{"$f":"-L6*SIN((Q$14/180*PI())-ATAN((L6*SIN(Q$14/180*PI())/(C6+L6*COS(Q$14/180*PI())))))","v":-6.6876222462572299},{"$f":"-K6*SIN((R$14/180*PI())-ATAN((K6*SIN(R$14/180*PI())/(C6+K6*COS(R$14/180*PI())))))","v":-6.5078961711783725},{"$f":"-J6*SIN((S$14/180*PI())-ATAN((J6*SIN(S$14/180*PI())/(C6+J6*COS(S$14/180*PI())))))","v":-5.6928398344225588},{"$f":"-I6*SIN((T$14/180*PI())-ATAN((I6*SIN(T$14/180*PI())/(C6+I6*COS(T$14/180*PI())))))","v":-4.8454526193336216},{"$f":"-H6*SIN((U$14/180*PI())-ATAN((H6*SIN(U$14/180*PI())/(C6+H6*COS(U$14/180*PI())))))","v":-3.899581460884638},{"$f":"-G6*SIN((V$14/180*PI())-ATAN((G6*SIN(V$14/180*PI())/(C6+G6*COS(V$14/180*PI())))))","v":-3.3089125709519265},{"$f":"-F6*SIN((D6/180*PI())-ATAN((F6*SIN(D6/180*PI())/(C6+F6*COS(D6/180*PI())))))","v":-2.5120051252008029}]
[null,null,null,null,{"$f":"E6","v":4.029550033579584},{"$f":"G6*COS(G$3/180*PI())","v":3.773206181771144},3.2362459546925573,2.3031659483210021,4.2417142120321526E-16,-1.7994371617788241,-3.4181541967337621,-4.551375670072539,-4.9082044295087828,{"$f":"-O6","v":-4.8},{"$f":"N6*COS((O$14/180*PI())-ATAN((N6*SIN(O$14/180*PI())/(C6+N6*COS(O$14/180*PI())))))","v":-2.9107198886869323},{"$f":"M6*COS((P$14/180*PI())-ATAN((M6*SIN(P$14/180*PI())/(C6+M6*COS(P$14/180*PI())))))","v":-0.5752138626285781},{"$f":"L6*COS((Q$14/180*PI())-ATAN((L6*SIN(Q$14/180*PI())/(C6+L6*COS(Q$14/180*PI())))))","v":1.4180342527456675},{"$f":"K6*COS((R$14/180*PI())-ATAN((K6*SIN(R$14/180*PI())/(C6+K6*COS(R$14/180*PI())))))","v":2.4463080002828437},{"$f":"J6*COS((S$14/180*PI())-ATAN((J6*SIN(S$14/180*PI())/(C6+J6*COS(S$14/180*PI())))))","v":3.9419548766919053},{"$f":"I6*COS((T$14/180*PI())-ATAN((I6*SIN(T$14/180*PI())/(C6+I6*COS(T$14/180*PI())))))","v":4.6763699177290272},{"$f":"H6*COS((U$14/180*PI())-ATAN((H6*SIN(U$14/180*PI())/(C6+H6*COS(U$14/180*PI())))))","v":5.1658896568723351},{"$f":"G6*COS((V$14/180*PI())-ATAN((G6*SIN(V$14/180*PI())/(C6+G6*COS(V$14/180*PI())))))","v":5.1586912189708016},{"$f":"F6*COS((D6/180*PI())-ATAN((F6*SIN(D6/180*PI())/(C6+F6*COS(D6/180*PI())))))","v":4.8149583025069527}]
[null,null,null,12,{"$f":"F7*SIN(D7/180*PI())","v":4.0386486961408634},{"$f":"G7*SIN(G$3/180*PI())","v":5.2436944787138611},5.9714450366289578,6.6566183290619243,7.2904009720534626,7.0605745677982652,6.2591677446777343,4.9371303573924967,3.1768443346276025,0,{"$f":"-N7*SIN((O$14/180*PI())-ATAN((N7*SIN(O$14/180*PI())/(C7+N7*COS(O$14/180*PI())))))","v":-5.2708793444416866},{"$f":"-M7*SIN((P$14/180*PI())-ATAN((M7*SIN(P$14/180*PI())/(C7+M7*COS(P$14/180*PI())))))","v":-6.8751182112844491},{"$f":"-L7*SIN((Q$14/180*PI())-ATAN((L7*SIN(Q$14/180*PI())/(C7+L7*COS(Q$14/180*PI())))))","v":-7.1775719205262991},{"$f":"-K7*SIN((R$14/180*PI())-ATAN((K7*SIN(R$14/180*PI())/(C7+K7*COS(R$14/180*PI())))))","v":-7.0310932624889695},{"$f":"-J7*SIN((S$14/180*PI())-ATAN((J7*SIN(S$14/180*PI())/(C7+J7*COS(S$14/180*PI())))))","v":-6.2306639693834329},{"$f":"-I7*SIN((T$14/180*PI())-ATAN((I7*SIN(T$14/180*PI())/(C7+I7*COS(T$14/180*PI())))))","v":-5.3203180921960378},{"$f":"-H7*SIN((U$14/180*PI())-ATAN((H7*SIN(U$14/180*PI())/(C7+H7*COS(U$14/180*PI())))))","v":-4.3267130251581642},{"$f":"-G7*SIN((V$14/180*PI())-ATAN((G7*SIN(V$14/180*PI())/(C7+G7*COS(V$14/180*PI())))))","v":-3.7168708155360366},{"$f":"-F7*SIN((D7/180*PI())-ATAN((F7*SIN(D7/180*PI())/(C7+F7*COS(D7/180*PI())))))","v":-2.8630608567113018}]
[null,null,null,null,{"$f":"E7","v":4.4384169646159526},{"$f":"G7*COS(G$3/180*PI())","v":4.096823126011774},3.4476153993487846,2.4228109326493659,4.4659117432878006E-16,-1.8918752535412691,-3.6137321822927104,-4.9371303573924958,-5.5024557953123532,{"$f":"-O7","v":-5.25},{"$f":"N7*COS((O$14/180*PI())-ATAN((N7*SIN(O$14/180*PI())/(C7+N7*COS(O$14/180*PI())))))","v":-3.5478430971732626},{"$f":"M7*COS((P$14/180*PI())-ATAN((M7*SIN(P$14/180*PI())/(C7+M7*COS(P$14/180*PI())))))","v":-1.2178924060187069},{"$f":"L7*COS((Q$14/180*PI())-ATAN((L7*SIN(Q$14/180*PI())/(C7+L7*COS(Q$14/180*PI())))))","v":0.8477632140076683},{"$f":"K7*COS((R$14/180*PI())-ATAN((K7*SIN(R$14/180*PI())/(C7+K7*COS(R$14/180*PI())))))","v":1.9986577337262423},{"$f":"J7*COS((S$14/180*PI())-ATAN((J7*SIN(S$14/180*PI())/(C7+J7*COS(S$14/180*PI())))))","v":3.7853365549109572},{"$f":"I7*COS((T$14/180*PI())-ATAN((I7*SIN(T$14/180*PI())/(C7+I7*COS(T$14/180*PI())))))","v":4.6770499026651375},{"$f":"H7*COS((U$14/180*PI())-ATAN((H7*SIN(U$14/180*PI())/(C7+H7*COS(U$14/180*PI())))))","v":5.3687765985589468},{"$f":"G7*COS((V$14/180*PI())-ATAN((G7*SIN(V$14/180*PI())/(C7+G7*COS(V$14/180*PI())))))","v":5.5195256003152657},{"$f":"F7*COS((D7/180*PI())-ATAN((F7*SIN(D7/180*PI())/(C7+F7*COS(D7/180*PI())))))","v":5.2738137029476624}]
[null,null,null,14,{"$f":"F8*SIN(D8/180*PI())","v":4.1617747529821285},{"$f":"G8*SIN(G$3/180*PI())","v":5.4871154990023188},6.192038636790425,6.8744024280212752,7.5408462505236704,7.364110492673964,6.5264631643792743,5.1686993142569975,3.4020034020034013,0,{"$f":"-N8*SIN((O$14/180*PI())-ATAN((N8*SIN(O$14/180*PI())/(C8+N8*COS(O$14/180*PI())))))","v":-5.416962932720657},{"$f":"-M8*SIN((P$14/180*PI())-ATAN((M8*SIN(P$14/180*PI())/(C8+M8*COS(P$14/180*PI())))))","v":-7.0716502421638792},{"$f":"-L8*SIN((Q$14/180*PI())-ATAN((L8*SIN(Q$14/180*PI())/(C8+L8*COS(Q$14/180*PI())))))","v":-7.5287540112511397},{"$f":"-K8*SIN((R$14/180*PI())-ATAN((K8*SIN(R$14/180*PI())/(C8+K8*COS(R$14/180*PI())))))","v":-7.4527325542219351},{"$f":"-J8*SIN((S$14/180*PI())-ATAN((J8*SIN(S$14/180*PI())/(C8+J8*COS(S$14/180*PI())))))","v":-6.6390250747525377},{"$f":"-I8*SIN((T$14/180*PI())-ATAN((I8*SIN(T$14/180*PI())/(C8+I8*COS(T$14/180*PI())))))","v":-5.6876689254414563},{"$f":"-H8*SIN((U$14/180*PI())-ATAN((H8*SIN(U$14/180*PI())/(C8+H8*COS(U$14/180*PI())))))","v":-4.6522028410955683},{"$f":"-G8*SIN((V$14/180*PI())-ATAN((G8*SIN(V$14/180*PI())/(C8+G8*COS(V$14/180*PI())))))","v":-4.023552644482308},{"$f":"-F8*SIN((D8/180*PI())-ATAN((F8*SIN(D8/180*PI())/(C8+F8*COS(D8/180*PI())))))","v":-3.0252496249763299}]
[null,null,null,null,{"$f":"E8","v":4.8044841852395574},{"$f":"G8*COS(G$3/180*PI())","v":4.2870044703527466},3.5749751737835163,2.502077862167055,4.6193280662662673E-16,-1.9732074594855464,-3.768055264810549,-5.1686993142569966,-5.8924427397920605,{"$f":"-O8","v":-5.5},{"$f":"N8*COS((O$14/180*PI())-ATAN((N8*SIN(O$14/180*PI())/(C8+N8*COS(O$14/180*PI())))))","v":-4.1171617862917769},{"$f":"M8*COS((P$14/180*PI())-ATAN((M8*SIN(P$14/180*PI())/(C8+M8*COS(P$14/180*PI())))))","v":-1.8500454196870542},{"$f":"L8*COS((Q$14/180*PI())-ATAN((L8*SIN(Q$14/180*PI())/(C8+L8*COS(Q$14/180*PI())))))","v":0.33290381904675503},{"$f":"K8*COS((R$14/180*PI())-ATAN((K8*SIN(R$14/180*PI())/(C8+K8*COS(R$14/180*PI())))))","v":1.60637744684142},{"$f":"J8*COS((S$14/180*PI())-ATAN((J8*SIN(S$14/180*PI())/(C8+J8*COS(S$14/180*PI())))))","v":3.5759905244343089},{"$f":"I8*COS((T$14/180*PI())-ATAN((I8*SIN(T$14/180*PI())/(C8+I8*COS(T$14/180*PI())))))","v":4.6008938876373682},{"$f":"H8*COS((U$14/180*PI())-ATAN((H8*SIN(U$14/180*PI())/(C8+H8*COS(U$14/180*PI())))))","v":5.4294381567503125},{"$f":"G8*COS((V$14/180*PI())-ATAN((G8*SIN(V$14/180*PI())/(C8+G8*COS(V$14/180*PI())))))","v":5.6831213206560465},{"$f":"F8*COS((D8/180*PI())-ATAN((F8*SIN(D8/180*PI())/(C8+F8*COS(D8/180*PI())))))","v":5.5902864047700671}]
[null,null,null,16,{"$f":"F9*SIN(D9/180*PI())","v":4.1499272198419908},{"$f":"G9*SIN(G$3/180*PI())","v":5.6219554359575881},6.3419272856468245,7.0668339979721537,7.6628352490421454,7.7068549969872473,6.8176065025671972,5.3783739959255676,3.5523978685612785,0,{"$f":"-N9*SIN((O$14/180*PI())-ATAN((N9*SIN(O$14/180*PI())/(C9+N9*COS(O$14/180*PI())))))","v":-5.4295960329895507},{"$f":"-M9*SIN((P$14/180*PI())-ATAN((M9*SIN(P$14/180*PI())/(C9+M9*COS(P$14/180*PI())))))","v":-7.2279611777821922},{"$f":"-L9*SIN((Q$14/180*PI())-ATAN((L9*SIN(Q$14/180*PI())/(C9+L9*COS(Q$14/180*PI())))))","v":-7.871959576399493},{"$f":"-K9*SIN((R$14/180*PI())-ATAN((K9*SIN(R$14/180*PI())/(C9+K9*COS(R$14/180*PI())))))","v":-7.8701172448172221},{"$f":"-J9*SIN((S$14/180*PI())-ATAN((J9*SIN(S$14/180*PI())/(C9+J9*COS(S$14/180*PI())))))","v":-6.9111124481128705},{"$f":"-I9*SIN((T$14/180*PI())-ATAN((I9*SIN(T$14/180*PI())/(C9+I9*COS(T$14/180*PI())))))","v":-6.0031497926329243},{"$f":"-H9*SIN((U$14/180*PI())-ATAN((H9*SIN(U$14/180*PI())/(C9+H9*COS(U$14/180*PI())))))","v":-4.9116962604289949},{"$f":"-G9*SIN((V$14/180*PI())-ATAN((G9*SIN(V$14/180*PI())/(C9+G9*COS(V$14/180*PI())))))","v":-4.2523888340289044},{"$f":"-F9*SIN((D9/180*PI())-ATAN((F9*SIN(D9/180*PI())/(C9+F9*COS(D9/180*PI())))))","v":-3.1020599077589379}]
[null,null,null,null,{"$f":"E9","v":4.9986114968064426},{"$f":"G9*COS(G$3/180*PI())","v":4.3923529749749699},3.6615134255492277,2.5721172257622889,4.694055382791647E-16,-2.065045572626496,-3.9361469494861123,-5.3783739959255668,-6.1529335970475216,{"$f":"-O9","v":-6},{"$f":"N9*COS((O$14/180*PI())-ATAN((N9*SIN(O$14/180*PI())/(C9+N9*COS(O$14/180*PI())))))","v":-4.5823148500271129},{"$f":"M9*COS((P$14/180*PI())-ATAN((M9*SIN(P$14/180*PI())/(C9+M9*COS(P$14/180*PI())))))","v":-2.368626372514282},{"$f":"L9*COS((Q$14/180*PI())-ATAN((L9*SIN(Q$14/180*PI())/(C9+L9*COS(Q$14/180*PI())))))","v":-7.2551080816824459E-2},{"$f":"K9*COS((R$14/180*PI())-ATAN((K9*SIN(R$14/180*PI())/(C9+K9*COS(R$14/180*PI())))))","v":1.3119762629110974},{"$f":"J9*COS((S$14/180*PI())-ATAN((J9*SIN(S$14/180*PI())/(C9+J9*COS(S$14/180*PI())))))","v":3.3099197548433295},{"$f":"I9*COS((T$14/180*PI())-ATAN((I9*SIN(T$14/180*PI())/(C9+I9*COS(T$14/180*PI())))))","v":4.5296934052063023},{"$f":"H9*COS((U$14/180*PI())-ATAN((H9*SIN(U$14/180*PI())/(C9+H9*COS(U$14/180*PI())))))","v":5.4315708692050366},{"$f":"G9*COS((V$14/180*PI())-ATAN((G9*SIN(V$14/180*PI())/(C9+G9*COS(V$14/180*PI())))))","v":5.7285545109469664},{"$f":"F9*COS((D9/180*PI())-ATAN((F9*SIN(D9/180*PI())/(C9+F9*COS(D9/180*PI())))))","v":5.7083480232608128}]
[null,null,null,20,{"$f":"F10*SIN(D10/180*PI())","v":4.1878423222164258},{"$f":"G10*SIN(G$3/180*PI())","v":5.7067767310082456},6.4749562899771114,7.3975364855221297,7.9734219269102988,8.2362221095230836,7.4639488954368671,5.8546099638260607,3.7838974143367663,0,{"$f":"-N10*SIN((O$14/180*PI())-ATAN((N10*SIN(O$14/180*PI())/(C10+N10*COS(O$14/180*PI())))))","v":-5.4178073445606065},{"$f":"-M10*SIN((P$14/180*PI())-ATAN((M10*SIN(P$14/180*PI())/(C10+M10*COS(P$14/180*PI())))))","v":-7.6485362103564114},{"$f":"-L10*SIN((Q$14/180*PI())-ATAN((L10*SIN(Q$14/180*PI())/(C10+L10*COS(Q$14/180*PI())))))","v":-8.5913458516864267},{"$f":"-K10*SIN((R$14/180*PI())-ATAN((K10*SIN(R$14/180*PI())/(C10+K10*COS(R$14/180*PI())))))","v":-8.4926443922628163},{"$f":"-J10*SIN((S$14/180*PI())-ATAN((J10*SIN(S$14/180*PI())/(C10+J10*COS(S$14/180*PI())))))","v":-7.406525529095199},{"$f":"-I10*SIN((T$14/180*PI())-ATAN((I10*SIN(T$14/180*PI())/(C10+I10*COS(T$14/180*PI())))))","v":-6.5235814439379141},{"$f":"-H10*SIN((U$14/180*PI())-ATAN((H10*SIN(U$14/180*PI())/(C10+H10*COS(U$14/180*PI())))))","v":-5.2630060327186392},{"$f":"-G10*SIN((V$14/180*PI())-ATAN((G10*SIN(V$14/180*PI())/(C10+G10*COS(V$14/180*PI())))))","v":-4.5444146756169674},{"$f":"-F10*SIN((D10/180*PI())-ATAN((F10*SIN(D10/180*PI())/(C10+F10*COS(D10/180*PI())))))","v":-3.289318447383883}]
[null,null,null,null,{"$f":"E10","v":5.1165434906196703},{"$f":"G10*COS(G$3/180*PI())","v":4.4586226336197337},3.7383177570093467,2.6924830876282697,4.884312777044332E-16,-2.206889062930069,-4.3093129039980829,-5.8546099638260598,-6.5539025722597843,{"$f":"-O10","v":-6.8},{"$f":"N10*COS((O$14/180*PI())-ATAN((N10*SIN(O$14/180*PI())/(C10+N10*COS(O$14/180*PI())))))","v":-5.2838321459072706},{"$f":"M10*COS((P$14/180*PI())-ATAN((M10*SIN(P$14/180*PI())/(C10+M10*COS(P$14/180*PI())))))","v":-3.1706165797727035},{"$f":"L10*COS((Q$14/180*PI())-ATAN((L10*SIN(Q$14/180*PI())/(C10+L10*COS(Q$14/180*PI())))))","v":-0.68519141483826407},{"$f":"K10*COS((R$14/180*PI())-ATAN((K10*SIN(R$14/180*PI())/(C10+K10*COS(R$14/180*PI())))))","v":0.76204015645121626},{"$f":"J10*COS((S$14/180*PI())-ATAN((J10*SIN(S$14/180*PI())/(C10+J10*COS(S$14/180*PI())))))","v":2.952767652795429},{"$f":"I10*COS((T$14/180*PI())-ATAN((I10*SIN(T$14/180*PI())/(C10+I10*COS(T$14/180*PI())))))","v":4.4063472827393309},{"$f":"H10*COS((U$14/180*PI())-ATAN((H10*SIN(U$14/180*PI())/(C10+H10*COS(U$14/180*PI())))))","v":5.3104468841193349},{"$f":"G10*COS((V$14/180*PI())-ATAN((G10*SIN(V$14/180*PI())/(C10+G10*COS(V$14/180*PI())))))","v":5.6386976956244483},{"$f":"F10*COS((D10/180*PI())-ATAN((F10*SIN(D10/180*PI())/(C10+F10*COS(D10/180*PI())))))","v":5.735627669126516}]

{"sheet":"Detail 1","index":1,"n_rows":46,"n_cols":15,"rows_kept":46,"cut":false,"hidden":false,"merged":[[41,0,43,0],[23,0,25,0],[26,0,28,0],[29,0,31,0],[32,0,34,0],[35,0,37,0],[38,0,40,0]]}
[]
["N° de Voile",null,null,null,null,null,"GPH:"]
["Nom",null,null,null,null,null,"TMF:"]
["Type:",null,null,null,null,null,"DSPL:"]
[]
[]
[]
[]
[]
[]
["VENT REEL","ANGLE OPTIMAL",null,null,null,"                VITESSE",null,null,null,null,null,null,null,null,"ANGLE OPTIMAL"]
[null,"UA","VMG","V@UA",52,60,75,90,110,120,135,150,"V@DA","VMG","DA"]
[6,{"$f":"MAIN!D4","v":44.4},{"$f":"MAIN!E4","v":2.681},{"$f":"MAIN!F4","v":3.7509999999999999},{"$f":"MAIN!G4","v":4.1779999999999999},{"$f":"MAIN!H4","v":4.5060000000000002},{"$f":"MAIN!I4","v":4.7530000000000001},{"$f":"MAIN!J4","v":5.0220000000000002},{"$f":"MAIN!K4","v":4.8360000000000003},{"$f":"MAIN!L4","v":4.3959999999999999},{"$f":"MAIN!M4","v":3.84},{"$f":"MAIN!N4","v":3.2509999999999999},{"$f":"MAIN!P4","v":3.4239999999999999},{"$f":"MAIN!O4","v":2.65},{"$f":"MAIN!Q4","v":145.6}]
[8,{"$f":"MAIN!D5","v":44.6},{"$f":"MAIN!E5","v":3.3340000000000001},{"$f":"MAIN!F5","v":4.6829999999999998},{"$f":"MAIN!G5","v":5.1609999999999996},{"$f":"MAIN!H5","v":5.4480000000000004},{"$f":"MAIN!I5","v":5.6289999999999996},{"$f":"MAIN!J5","v":5.8369999999999997},{"$f":"MAIN!K5","v":5.7359999999999998},{"$f":"MAIN!L5","v":5.4459999999999997},{"$f":"MAIN!M5","v":4.9020000000000001},{"$f":"MAIN!N5","v":4.157},{"$f":"MAIN!P5","v":4.3049999999999997},{"$f":"MAIN!O5","v":3.4350000000000001},{"$f":"MAIN!Q5","v":146.80000000000001}]
[10,{"$f":"MAIN!D6","v":42.1},{"$f":"MAIN!E6","v":4.029550033579584},{"$f":"MAIN!F6","v":5.4308372470472488},{"$f":"MAIN!G6","v":6.1287027579162414},{"$f":"MAIN!H6","v":6.4724919093851128},{"$f":"MAIN!I6","v":6.7340067340067336},{"$f":"MAIN!J6","v":6.9244085401038662},{"$f":"MAIN!K6","v":6.9524913093858638},{"$f":"MAIN!L6","v":6.8363083934675268},{"$f":"MAIN!M6","v":6.4366172000715185},{"$f":"MAIN!N6","v":5.6675062972292185},{"$f":"MAIN!P6","v":5.852887720492788},{"$f":"MAIN!O6","v":4.8},{"$f":"MAIN!Q6","v":147}]
[12,{"$f":"MAIN!D7","v":42.3},{"$f":"MAIN!E7","v":4.4384169646159526},{"$f":"MAIN!F7","v":6.0008523096832658},{"$f":"MAIN!G7","v":6.654343807763401},{"$f":"MAIN!H7","v":6.8952307986975674},{"$f":"MAIN!I7","v":7.0838252656434477},{"$f":"MAIN!J7","v":7.2904009720534626},{"$f":"MAIN!K7","v":7.3096446700507611},{"$f":"MAIN!L7","v":7.2274643645854244},{"$f":"MAIN!M7","v":6.9821567106283942},{"$f":"MAIN!N7","v":6.3536886692552059},{"$f":"MAIN!P7","v":6.5165004112072529},{"$f":"MAIN!O7","v":5.25},{"$f":"MAIN!Q7","v":147.6}]
[14,{"$f":"MAIN!D8","v":40.9},{"$f":"MAIN!E8","v":4.8044841852395574},{"$f":"MAIN!F8","v":6.3563698272501794},{"$f":"MAIN!G8","v":6.9632495164410058},{"$f":"MAIN!H8","v":7.1499503475670307},{"$f":"MAIN!I8","v":7.3155862629546835},{"$f":"MAIN!J8","v":7.5408462505236704},{"$f":"MAIN!K8","v":7.6238881829733165},{"$f":"MAIN!L8","v":7.5361105296211015},{"$f":"MAIN!M8","v":7.3096446700507611},{"$f":"MAIN!N8","v":6.8040068040068036},{"$f":"MAIN!P8","v":5.9329098000367697},{"$f":"MAIN!O8","v":5.5},{"$f":"MAIN!Q8","v":174.3}]
[16,{"$f":"MAIN!D9","v":39.700000000000003},{"$f":"MAIN!E9","v":4.9986114968064426},{"$f":"MAIN!F9","v":6.4967694145622117},{"$f":"MAIN!G9","v":7.1343638525564801},{"$f":"MAIN!H9","v":7.3230268510984535},{"$f":"MAIN!I9","v":7.5203676624190514},{"$f":"MAIN!J9","v":7.6628352490421454},{"$f":"MAIN!K9","v":7.9787234042553195},{"$f":"MAIN!L9","v":7.8722938989722282},{"$f":"MAIN!M9","v":7.6061694485527145},{"$f":"MAIN!N9","v":7.1047957371225579},{"$f":"MAIN!P9","v":6.5078197267890925},{"$f":"MAIN!O9","v":6},{"$f":"MAIN!Q9","v":175.9}]
[20,{"$f":"MAIN!D10","v":39.299999999999997},{"$f":"MAIN!E10","v":5.1165434906196703},{"$f":"MAIN!F10","v":6.6118863123279414},{"$f":"MAIN!G10","v":7.2420036210018104},{"$f":"MAIN!H10","v":7.4766355140186915},{"$f":"MAIN!I10","v":7.8722938989722282},{"$f":"MAIN!J10","v":7.9734219269102988},{"$f":"MAIN!K10","v":8.5267645665561353},{"$f":"MAIN!L10","v":8.6186258079961693},{"$f":"MAIN!M10","v":8.2796688132474703},{"$f":"MAIN!N10","v":7.5677948286735335},{"$f":"MAIN!P10","v":7.1869968734886873},{"$f":"MAIN!O10","v":6.8},{"$f":"MAIN!Q10","v":178.4}]
["Snelheden in knopen",null,null,"UA=Up Angle, VMG=resulterende snelheid recht tegen de wind (bijUA), V@UA=snelheid bij optimale opkruishoek"]
["Hoeken in graden",null,null,"DA=Down Angle, VMG=resulterende snelheid recht voor de wind (bijDA), V@DA=snelheid bij afkruis opkruishoek"]
["Vent réel","ANGLE OPTIMAL",null," vitesse du bateau en vent réel / vitesse du vent apparent et l'angle",null,null,null,null,null,null,null,null,"Optimale afkruis  hoek / VMG"]
[null,"UA/VMG","V@UA",52,60,75,90,110,120,135,150,"V@DA","DA/VMG","TWA"]
[6,{"$f":"MAIN!D4","v":44.4},{"$f":"MAIN!F4","v":3.7509999999999999},{"$f":"MAIN!G4","v":4.1779999999999999},{"$f":"MAIN!H4","v":4.5060000000000002},{"$f":"MAIN!I4","v":4.7530000000000001},{"$f":"MAIN!J4","v":5.0220000000000002},{"$f":"MAIN!K4","v":4.8360000000000003},{"$f":"MAIN!L4","v":4.3959999999999999},{"$f":"MAIN!M4","v":3.84},{"$f":"MAIN!N4","v":3.2509999999999999},{"$f":"MAIN!P4","v":3.4239999999999999},{"$f":"MAIN!Q4","v":145.6},"SPEED"]
[null,{"$f":"MAIN!E4","v":2.681},{"$f":"MAIN!S4","v":9.0680673385033792},{"$f":"MAIN!T4","v":9.182727684458861},{"$f":"MAIN!U4","v":9.1290764045438912},{"$f":"MAIN!V4","v":8.8373338680126157},{"$f":"MAIN!W4","v":7.8243519859474624},{"$f":"MAIN!X4","v":6.6608639961051992},{"$f":"MAIN!Y4","v":5.3804103932692726},{"$f":"MAIN!Z4","v":4.2617038286258113},{"$f":"MAIN!AA4","v":3.5754185695609793},{"$f":"MAIN!AB4","v":3.7177294929488096},{"$f":"MAIN!O4","v":2.65},"AWS"]
[null,null,{"$f":"MAIN!AD4","v":27.577047447273447},{"$f":"MAIN!AE4","v":30.989883374786782},{"$f":"MAIN!AF4","v":34.693558422550787},{"$f":"MAIN!AG4","v":39.642312874710804},{"$f":"MAIN!AH4","v":50.070667966263883},{"$f":"MAIN!AI4","v":60.46916613879943},{"$f":"MAIN!AJ4","v":74.96199124438877},{"$f":"MAIN!AK4","v":95.42132264280616},{"$f":"MAIN!AL4","v":122.95873555199816},{"$f":"MAIN!AM4","v":114.24559512524884},null,"AWA"]
[8,{"$f":"MAIN!D5","v":44.6},{"$f":"MAIN!F5","v":4.6829999999999998},{"$f":"MAIN!G5","v":5.1609999999999996},{"$f":"MAIN!H5","v":5.4480000000000004},{"$f":"MAIN!I5","v":5.6289999999999996},{"$f":"MAIN!J5","v":5.8369999999999997},{"$f":"MAIN!K5","v":5.7359999999999998},{"$f":"MAIN!L5","v":5.4459999999999997},{"$f":"MAIN!M5","v":4.9020000000000001},{"$f":"MAIN!N5","v":4.157},{"$f":"MAIN!P5","v":4.3049999999999997},{"$f":"MAIN!Q5","v":146.80000000000001},"SPEED"]
[null,{"$f":"MAIN!E5","v":3.3340000000000001},{"$f":"MAIN!S5","v":11.801744641111897},{"$f":"MAIN!T5","v":11.894317256004717},{"$f":"MAIN!U5","v":11.716002048480531},{"$f":"MAIN!V5","v":11.24674811616598},{"$f":"MAIN!W5","v":9.9030585679374834},{"$f":"MAIN!X5","v":8.5526790724702781},{"$f":"MAIN!Y5","v":7.0774936241582029},{"$f":"MAIN!Z5","v":5.7069961396497115},{"$f":"MAIN!AA5","v":4.8661655688528951},{"$f":"MAIN!AB5","v":4.9896592157127042},{"$f":"MAIN!O5","v":3.4350000000000001},"AWS"]
[null,null,{"$f":"MAIN!AD5","v":28.422238532319128},{"$f":"MAIN!AE5","v":32.006010857244732},{"$f":"MAIN!AF5","v":36.252535932399141},{"$f":"MAIN!AG5","v":41.945165164564379},{"$f":"MAIN!AH5","v":53.884574876000549},{"$f":"MAIN!AI5","v":64.622964516619376},{"$f":"MAIN!AJ5","v":78.210912419554049},{"$f":"MAIN!AK5","v":97.600684090919145},{"$f":"MAIN!AL5","v":124.71424843798046},{"$f":"MAIN!AM5","v":118.60791642606986},null,"AWA"]
[10,{"$f":"MAIN!D6","v":42.1},{"$f":"MAIN!F6","v":5.4308372470472488},{"$f":"MAIN!G6","v":6.1287027579162414},{"$f":"MAIN!H6","v":6.4724919093851128},{"$f":"MAIN!I6","v":6.7340067340067336},{"$f":"MAIN!J6","v":6.9244085401038662},{"$f":"MAIN!K6","v":6.9524913093858638},{"$f":"MAIN!L6","v":6.8363083934675268},{"$f":"MAIN!M6","v":6.4366172000715185},{"$f":"MAIN!N6","v":5.6675062972292185},{"$f":"MAIN!P6","v":5.852887720492788},{"$f":"MAIN!Q6","v":147},"SPEED"]
[null,{"$f":"MAIN!E6","v":4.029550033579584},{"$f":"MAIN!S6","v":14.494309016835105},{"$f":"MAIN!T6","v":14.595380129695593},{"$f":"MAIN!U6","v":14.374215478101991},{"$f":"MAIN!V6","v":13.835106275705584},{"$f":"MAIN!W6","v":12.16336440423715},{"$f":"MAIN!X6","v":10.599452446778065},{"$f":"MAIN!Y6","v":8.8527977790029357},{"$f":"MAIN!Z6","v":7.0994737536528527},{"$f":"MAIN!AA6","v":5.8272239564785213},{"$f":"MAIN!AB6","v":6.0069460872697693},{"$f":"MAIN!O6","v":4.8},"AWS"]
[null,null,{"$f":"[1]Main!AD81","v":28.696408629919137},{"$f":"[1]Main!AE81","v":32.97986355989454},{"$f":"[1]Main!AF81","v":37.416889395447583},{"$f":"[1]Main!AG81","v":46.523608595803552},{"$f":"[1]Main!AH81","v":56.74084710036778},{"$f":"[1]Main!AI81","v":71.121774131595444},{"$f":"[1]Main!AJ81","v":79.92760405178673},{"$f":"[1]Main!AK81","v":97.230991555085964},{"$f":"[1]Main!AL81","v":122.4220255425803},{"$f":"MAIN!AM6","v":114.94920806985142},null,"AWA"]
[12,{"$f":"MAIN!D7","v":42.3},{"$f":"MAIN!F7","v":6.0008523096832658},{"$f":"MAIN!G7","v":6.654343807763401},{"$f":"MAIN!H7","v":6.8952307986975674},{"$f":"MAIN!I7","v":7.0838252656434477},{"$f":"MAIN!J7","v":7.2904009720534626},{"$f":"MAIN!K7","v":7.3096446700507611},{"$f":"MAIN!L7","v":7.2274643645854244},{"$f":"MAIN!M7","v":6.9821567106283942},{"$f":"MAIN!N7","v":6.3536886692552059},{"$f":"MAIN!P7","v":6.5165004112072529},{"$f":"MAIN!Q7","v":147.6},"SPEED"]
[null,{"$f":"MAIN!E7","v":4.4384169646159526},{"$f":"MAIN!S7","v":16.927263086317701},{"$f":"MAIN!T7","v":16.929384115678921},{"$f":"MAIN!U7","v":16.561611556599143},{"$f":"MAIN!V7","v":15.884836882314945},{"$f":"MAIN!W7","v":14.041009448516089},{"$f":"MAIN!X7","v":12.329878309107965},{"$f":"MAIN!Y7","v":10.464543409357482},{"$f":"MAIN!Z7","v":8.617388453258517},{"$f":"MAIN!AA7","v":7.2325943214261317},{"$f":"MAIN!AB7","v":7.3766699153344781},{"$f":"MAIN!O7","v":5.25},"AWS"]
[null,null,{"$f":"MAIN!AD7","v":28.496758160448589},{"$f":"MAIN!AE7","v":33.956483733429444},{"$f":"MAIN!AF7","v":38.865444186160055},{"$f":"MAIN!AG7","v":45.225067849283043},{"$f":"MAIN!AH7","v":58.719920917795235},{"$f":"MAIN!AI7","v":70.065512456253913},{"$f":"MAIN!AJ7","v":83.26384314734787},{"$f":"MAIN!AK7","v":100.04544610164969},{"$f":"MAIN!AL7","v":123.94460328301696},{"$f":"MAIN!AM7","v":119.34830192785941},null,"AWA"]
[14,{"$f":"MAIN!D8","v":40.9},{"$f":"MAIN!F8","v":6.3563698272501794},{"$f":"MAIN!G8","v":6.9632495164410058},{"$f":"MAIN!H8","v":7.1499503475670307},{"$f":"MAIN!I8","v":7.3155862629546835},{"$f":"MAIN!J8","v":7.5408462505236704},{"$f":"MAIN!K8","v":7.6238881829733165},{"$f":"MAIN!L8","v":7.5361105296211015},{"$f":"MAIN!M8","v":7.3096446700507611},{"$f":"MAIN!N8","v":6.8040068040068036},{"$f":"MAIN!P8","v":5.9329098000367697},{"$f":"MAIN!Q8","v":174.3},"SPEED"]
[null,{"$f":"MAIN!E8","v":4.8044841852395574},{"$f":"MAIN!S8","v":19.2595169868687},{"$f":"MAIN!T8","v":19.092484620868309},{"$f":"MAIN!U8","v":18.633869561597031},{"$f":"MAIN!V8","v":17.876688242272639},{"$f":"MAIN!W8","v":15.90170941043877},{"$f":"MAIN!X8","v":14.102264433802285},{"$f":"MAIN!Y8","v":12.136202639210119},{"$f":"MAIN!Z8","v":10.232659693511046},{"$f":"MAIN!AA8","v":8.7923894292048512},{"$f":"MAIN!AB8","v":8.1178396327136575},{"$f":"MAIN!O8","v":5.5},"AWS"]
[null,null,{"$f":"MAIN!AD8","v":28.420560429733687},{"$f":"MAIN!AE8","v":35.297840672361119},{"$f":"MAIN!AF8","v":40.591551951014154},{"$f":"MAIN!AG8","v":47.384464385473812},{"$f":"MAIN!AH8","v":61.691678869188252},{"$f":"MAIN!AI8","v":73.520499087751404},{"$f":"MAIN!AJ8","v":87.468164427445686},{"$f":"MAIN!AK8","v":104.66082255684424},{"$f":"MAIN!AL8","v":127.23664388215758},{"$f":"MAIN!AM8","v":170.13737156251389},null,"AWA"]
[16,{"$f":"[1]Main!D84","v":40.9},{"$f":"MAIN!F9","v":6.4967694145622117},{"$f":"MAIN!G9","v":7.1343638525564801},{"$f":"MAIN!H9","v":7.3230268510984535},{"$f":"MAIN!I9","v":7.5203676624190514},{"$f":"MAIN!J9","v":7.6628352490421454},{"$f":"MAIN!K9","v":7.9787234042553195},{"$f":"MAIN!L9","v":7.8722938989722282},{"$f":"MAIN!M9","v":7.6061694485527145},{"$f":"MAIN!N9","v":7.1047957371225579},{"$f":"MAIN!P9","v":6.5078197267890925},{"$f":"MAIN!Q9","v":175.9},"SPEED"]
[null,{"$f":"[1]Main!E84","v":4.756242568370987},{"$f":"MAIN!S9","v":21.404756030466622},{"$f":"MAIN!T9","v":21.15311898467608},{"$f":"MAIN!U9","v":20.659021077473255},{"$f":"MAIN!V9","v":19.871177141839169},{"$f":"MAIN!W9","v":17.740322546503005},{"$f":"MAIN!X9","v":15.924150490295039},{"$f":"MAIN!Y9","v":13.856994942924665},{"$f":"MAIN!Z9","v":11.90570643895097},{"$f":"MAIN!AA9","v":10.468249488845505},{"$f":"MAIN!AB9","v":9.520212386580603},{"$f":"MAIN!O9","v":6},"AWS"]
[null,null,{"$f":"MAIN!AD9","v":28.520769602518484},{"$f":"MAIN!AE9","v":36.587032975432784},{"$f":"MAIN!AF9","v":42.122613637603145},{"$f":"MAIN!AG9","v":49.167793608328815},{"$f":"MAIN!AH9","v":64.408971790008962},{"$f":"MAIN!AI9","v":76.054807932366245},{"$f":"MAIN!AJ9","v":90.528045526409031},{"$f":"MAIN!AK9","v":108.14413814381798},{"$f":"MAIN!AL9","v":130.16273758703412},{"$f":"MAIN!AM9","v":173.09860029923064},null,"AWA"]
[20,{"$f":"MAIN!D10","v":39.299999999999997},{"$f":"MAIN!F10","v":6.6118863123279414},{"$f":"MAIN!G10","v":7.2420036210018104},{"$f":"MAIN!H10","v":7.4766355140186915},{"$f":"MAIN!I10","v":7.8722938989722282},{"$f":"MAIN!J10","v":7.9734219269102988},{"$f":"MAIN!K10","v":8.5267645665561353},{"$f":"MAIN!L10","v":8.6186258079961693},{"$f":"MAIN!M10","v":8.2796688132474703},{"$f":"MAIN!N10","v":7.5677948286735335},{"$f":"MAIN!P10","v":7.1869968734886873},{"$f":"MAIN!Q10","v":178.4},"SPEED"]
[null,{"$f":"MAIN!E10","v":5.1165434906196703},{"$f":"MAIN!S10","v":25.463282982206682},{"$f":"MAIN!T10","v":25.115563338125479},{"$f":"MAIN!U10","v":24.605543864947578},{"$f":"MAIN!V10","v":23.867809592355268},{"$f":"MAIN!W10","v":21.530802521609221},{"$f":"MAIN!X10","v":19.606890407616259},{"$f":"MAIN!Y10","v":17.375505594322551},{"$f":"MAIN!Z10","v":15.309099160434632},{"$f":"MAIN!AA10","v":13.968371976665946},{"$f":"MAIN!AB10","v":12.817376221342197},{"$f":"MAIN!O10","v":6.8},"AWS"]
[null,null,{"$f":"MAIN!AD10","v":29.833789772941856},{"$f":"MAIN!AE10","v":38.866500253722279},{"$f":"MAIN!AF10","v":44.742927656333869},{"$f":"MAIN!AG10","v":51.944517702395558},{"$f":"MAIN!AH10","v":68.264259000094995},{"$f":"MAIN!AI10","v":80.161135832299578},{"$f":"MAIN!AJ10","v":94.559897420008781},{"$f":"MAIN!AK10","v":112.51591387481491},{"$f":"MAIN!AL10","v":134.28274425059126},{"$f":"MAIN!AM10","v":177.50292324445545},null,"AWA"]
["Snelheden in knopen",null,null,"UA=Up Angle, VMG=resulterende snelheid recht tegen de wind (bijUA), V@UA=snelheid bij optimale opkruishoek"]
["Hoeken in graden",null,null,"DA=Down Angle, VMG=resulterende snelheid recht voor de wind (bijDA), V@DA=snelheid bij afkruis opkruishoek"]

{"sheet":"New polar","index":2,"n_rows":36,"n_cols":8,"rows_kept":36,"cut":false,"hidden":true,"merged":[]}
["TWA",6,8,10,12,14,16,20]
[0,"","","","","","",""]
[0,"","","","","","",""]
[0,"","","","","","",""]
[0,"","","","","","",""]
[0,"","","","","","",""]
[44.4,3.7509999999999999,"","","","","",""]
[44.6,"",4.6829999999999998,"","","","",""]
[52,4.1779999999999999,5.1609999999999996,0,0,0,0,0]
[60,4.5060000000000002,5.4480000000000004,0,0,0,0,0]
[75,4.7530000000000001,5.6289999999999996,0,0,0,0,0]
[90,5.0220000000000002,5.8369999999999997,0,0,0,0,0]
[110,4.8360000000000003,5.7359999999999998,0,0,0,0,0]
[135,4.3959999999999999,5.4459999999999997,0,0,0,0,0]
[150,3.84,4.9020000000000001,0,0,0,0,0]
[180,3.2509999999999999,4.157,0,0,0,0,0]
[]
[]
[]
[]
["TWA",6,8,10,12,14,16,20]
[{"$f":"MAIN!D4","v":44.4},{"$f":"IF(ISERROR(INDEX(speed1,MATCH($A22&\" \"&B$21,angle1&\" \"&force1,0))),\"\",INDEX(speed1,MATCH($A22&\" \"&B$21,angle1&\" \"&force1,0)))","v":3.7509999999999999},{"$f":"IF(ISERROR(INDEX(speed1,MATCH($A22&\" \"&C$21,angle1&\" \"&force1,0))),\"\",INDEX(speed1,MATCH($A22&\" \"&C$21,angle1&\" \"&force1,0)))","v":""},{"$f":"IF(ISERROR(INDEX(speed1,MATCH($A22&\" \"&D$21,angle1&\" \"&force1,0))),\"\",INDEX(speed1,MATCH($A22&\" \"&D$21,angle1&\" \"&force1,0)))","v":""},{"$f":"IF(ISERROR(INDEX(speed1,MATCH($A22&\" \"&E$21,angle1&\" \"&force1,0))),\"\",INDEX(speed1,MATCH($A22&\" \"&E$21,angle1&\" \"&force1,0)))","v":""},{"$f":"IF(ISERROR(INDEX(speed1,MATCH($A22&\" \"&F$21,angle1&\" \"&force1,0))),\"\",INDEX(speed1,MATCH($A22&\" \"&F$21,angle1&\" \"&force1,0)))","v":""},{"$f":"IF(ISERROR(INDEX(speed1,MATCH($A22&\" \"&G$21,angle1&\" \"&force1,0))),\"\",INDEX(speed1,MATCH($A22&\" \"&G$21,angle1&\" \"&force1,0)))","v":""},{"$f":"IF(ISERROR(INDEX(speed1,MATCH($A22&\" \"&H$21,angle1&\" \"&force1,0))),\"\",INDEX(speed1,MATCH($A22&\" \"&H$21,angle1&\" \"&force1,0)))","v":""}]
[{"$f":"MAIN!D5","v":44.6},{"$f":"IF(ISERROR(INDEX(speed1,MATCH($A23&\" \"&B$21,angle1&\" \"&force1,0))),\"\",INDEX(speed1,MATCH($A23&\" \"&B$21,angle1&\" \"&force1,0)))","v":""},{"$f":"IF(ISERROR(INDEX(speed1,MATCH($A23&\" \"&C$21,angle1&\" \"&force1,0))),\"\",INDEX(speed1,MATCH($A23&\" \"&C$21,angle1&\" \"&force1,0)))","v":4.6829999999999998},{"$f":"IF(ISERROR(INDEX(speed1,MATCH($A23&\" \"&D$21,angle1&\" \"&force1,0))),\"\",INDEX(speed1,MATCH($A23&\" \"&D$21,angle1&\" \"&force1,0)))","v":""},{"$f":"IF(ISERROR(INDEX(speed1,MATCH($A23&\" \"&E$21,angle1&\" \"&force1,0))),\"\",INDEX(speed1,MATCH($A23&\" \"&E$21,angle1&\" \"&force1,0)))","v":""},{"$f":"IF(ISERROR(INDEX(speed1,MATCH($A23&\" \"&F$21,angle1&\" \"&force1,0))),\"\",INDEX(speed1,MATCH($A23&\" \"&F$21,angle1&\" \"&force1,0)))","v":""},{"$f":"IF(ISERROR(INDEX(speed1,MATCH($A23&\" \"&G$21,angle1&\" \"&force1,0))),\"\",INDEX(speed1,MATCH($A23&\" \"&G$21,angle1&\" \"&force1,0)))","v":""},{"$f":"IF(ISERROR(INDEX(speed1,MATCH($A23&\" \"&H$21,angle1&\" \"&force1,0))),\"\",INDEX(speed1,MATCH($A23&\" \"&H$21,angle1&\" \"&force1,0)))","v":""}]
[{"$f":"MAIN!D6","v":42.1},{"$f":"IF(ISERROR(INDEX(speed1,MATCH($A24&\" \"&B$21,angle1&\" \"&force1,0))),\"\",INDEX(speed1,MATCH($A24&\" \"&B$21,angle1&\" \"&force1,0)))","v":""},{"$f":"IF(ISERROR(INDEX(speed1,MATCH($A24&\" \"&C$21,angle1&\" \"&force1,0))),\"\",INDEX(speed1,MATCH($A24&\" \"&C$21,angle1&\" \"&force1,0)))","v":""},{"$f":"IF(ISERROR(INDEX(speed1,MATCH($A24&\" \"&D$21,angle1&\" \"&force1,0))),\"\",INDEX(speed1,MATCH($A24&\" \"&D$21,angle1&\" \"&force1,0)))","v":5.4308372470472488},{"$f":"IF(ISERROR(INDEX(speed1,MATCH($A24&\" \"&E$21,angle1&\" \"&force1,0))),\"\",INDEX(speed1,MATCH($A24&\" \"&E$21,angle1&\" \"&force1,0)))","v":""},{"$f":"IF(ISERROR(INDEX(speed1,MATCH($A24&\" \"&F$21,angle1&\" \"&force1,0))),\"\",INDEX(speed1,MATCH($A24&\" \"&F$21,angle1&\" \"&force1,0)))","v":""},{"$f":"IF(ISERROR(INDEX(speed1,MATCH($A24&\" \"&G$21,angle1&\" \"&force1,0))),\"\",INDEX(speed1,MATCH($A24&\" \"&G$21,angle1&\" \"&force1,0)))","v":""},{"$f":"IF(ISERROR(INDEX(speed1,MATCH($A24&\" \"&H$21,angle1&\" \"&force1,0))),\"\",INDEX(speed1,MATCH($A24&\" \"&H$21,angle1&\" \"&force1,0)))","v":""}]
[{"$f":"MAIN!D7","v":42.3},{"$f":"IF(ISERROR(INDEX(speed1,MATCH($A25&\" \"&B$21,angle1&\" \"&force1,0))),\"\",INDEX(speed1,MATCH($A25&\" \"&B$21,angle1&\" \"&force1,0)))","v":""},{"$f":"IF(ISERROR(INDEX(speed1,MATCH($A25&\" \"&C$21,angle1&\" \"&force1,0))),\"\",INDEX(speed1,MATCH($A25&\" \"&C$21,angle1&\" \"&force1,0)))","v":""},{"$f":"IF(ISERROR(INDEX(speed1,MATCH($A25&\" \"&D$21,angle1&\" \"&force1,0))),\"\",INDEX(speed1,MATCH($A25&\" \"&D$21,angle1&\" \"&force1,0)))","v":""},{"$f":"IF(ISERROR(INDEX(speed1,MATCH($A25&\" \"&E$21,angle1&\" \"&force1,0))),\"\",INDEX(speed1,MATCH($A25&\" \"&E$21,angle1&\" \"&force1,0)))","v":6.0008523096832658},{"$f":"IF(ISERROR(INDEX(speed1,MATCH($A25&\" \"&F$21,angle1&\" \"&force1,0))),\"\",INDEX(speed1,MATCH($A25&\" \"&F$21,angle1&\" \"&force1,0)))","v":""},{"$f":"IF(ISERROR(INDEX(speed1,MATCH($A25&\" \"&G$21,angle1&\" \"&force1,0))),\"\",INDEX(speed1,MATCH($A25&\" \"&G$21,angle1&\" \"&force1,0)))","v":""},{"$f":"IF(ISERROR(INDEX(speed1,MATCH($A25&\" \"&H$21,angle1&\" \"&force1,0))),\"\",INDEX(speed1,MATCH($A25&\" \"&H$21,angle1&\" \"&force1,0)))","v":""}]
[{"$f":"MAIN!D8","v":40.9},{"$f":"IF(ISERROR(INDEX(speed1,MATCH($A26&\" \"&B$21,angle1&\" \"&force1,0))),\"\",INDEX(speed1,MATCH($A26&\" \"&B$21,angle1&\" \"&force1,0)))","v":""},{"$f":"IF(ISERROR(INDEX(speed1,MATCH($A26&\" \"&C$21,angle1&\" \"&force1,0))),\"\",INDEX(speed1,MATCH($A26&\" \"&C$21,angle1&\" \"&force1,0)))","v":""},{"$f":"IF(ISERROR(INDEX(speed1,MATCH($A26&\" \"&D$21,angle1&\" \"&force1,0))),\"\",INDEX(speed1,MATCH($A26&\" \"&D$21,angle1&\" \"&force1,0)))","v":""},{"$f":"IF(ISERROR(INDEX(speed1,MATCH($A26&\" \"&E$21,angle1&\" \"&force1,0))),\"\",INDEX(speed1,MATCH($A26&\" \"&E$21,angle1&\" \"&force1,0)))","v":""},{"$f":"IF(ISERROR(INDEX(speed1,MATCH($A26&\" \"&F$21,angle1&\" \"&force1,0))),\"\",INDEX(speed1,MATCH($A26&\" \"&F$21,angle1&\" \"&force1,0)))","v":6.3563698272501794},{"$f":"IF(ISERROR(INDEX(speed1,MATCH($A26&\" \"&G$21,angle1&\" \"&force1,0))),\"\",INDEX(speed1,MATCH($A26&\" \"&G$21,angle1&\" \"&force1,0)))","v":""},{"$f":"IF(ISERROR(INDEX(speed1,MATCH($A26&\" \"&H$21,angle1&\" \"&force1,0))),\"\",INDEX(speed1,MATCH($A26&\" \"&H$21,angle1&\" \"&force1,0)))","v":""}]
[{"$f":"MAIN!D9","v":39.700000000000003},{"$f":"IF(ISERROR(INDEX(speed1,MATCH($A27&\" \"&B$21,angle1&\" \"&force1,0))),\"\",INDEX(speed1,MATCH($A27&\" \"&B$21,angle1&\" \"&force1,0)))","v":""},{"$f":"IF(ISERROR(INDEX(speed1,MATCH($A27&\" \"&C$21,angle1&\" \"&force1,0))),\"\",INDEX(speed1,MATCH($A27&\" \"&C$21,angle1&\" \"&force1,0)))","v":""},{"$f":"IF(ISERROR(INDEX(speed1,MATCH($A27&\" \"&D$21,angle1&\" \"&force1,0))),\"\",INDEX(speed1,MATCH($A27&\" \"&D$21,angle1&\" \"&force1,0)))","v":""},{"$f":"IF(ISERROR(INDEX(speed1,MATCH($A27&\" \"&E$21,angle1&\" \"&force1,0))),\"\",INDEX(speed1,MATCH($A27&\" \"&E$21,angle1&\" \"&force1,0)))","v":""},{"$f":"IF(ISERROR(INDEX(speed1,MATCH($A27&\" \"&F$21,angle1&\" \"&force1,0))),\"\",INDEX(speed1,MATCH($A27&\" \"&F$21,angle1&\" \"&force1,0)))","v":""},{"$f":"IF(ISERROR(INDEX(speed1,MATCH($A27&\" \"&G$21,angle1&\" \"&force1,0))),\"\",INDEX(speed1,MATCH($A27&\" \"&G$21,angle1&\" \"&force1,0)))","v":6.4967694145622117},{"$f":"IF(ISERROR(INDEX(speed1,MATCH($A27&\" \"&H$21,angle1&\" \"&force1,0))),\"\",INDEX(speed1,MATCH($A27&\" \"&H$21,angle1&\" \"&force1,0)))","v":""}]
[{"$f":"MAIN!D10","v":39.299999999999997},{"$f":"IF(ISERROR(INDEX(speed1,MATCH($A28&\" \"&B$21,angle1&\" \"&force1,0))),\"\",INDEX(speed1,MATCH($A28&\" \"&B$21,angle1&\" \"&force1,0)))","v":""},{"$f":"IF(ISERROR(INDEX(speed1,MATCH($A28&\" \"&C$21,angle1&\" \"&force1,0))),\"\",INDEX(speed1,MATCH($A28&\" \"&C$21,angle1&\" \"&force1,0)))","v":""},{"$f":"IF(ISERROR(INDEX(speed1,MATCH($A28&\" \"&D$21,angle1&\" \"&force1,0))),\"\",INDEX(speed1,MATCH($A28&\" \"&D$21,angle1&\" \"&force1,0)))","v":""},{"$f":"IF(ISERROR(INDEX(speed1,MATCH($A28&\" \"&E$21,angle1&\" \"&force1,0))),\"\",INDEX(speed1,MATCH($A28&\" \"&E$21,angle1&\" \"&force1,0)))","v":""},{"$f":"IF(ISERROR(INDEX(speed1,MATCH($A28&\" \"&F$21,angle1&\" \"&force1,0))),\"\",INDEX(speed1,MATCH($A28&\" \"&F$21,angle1&\" \"&force1,0)))","v":""},{"$f":"IF(ISERROR(INDEX(speed1,MATCH($A28&\" \"&G$21,angle1&\" \"&force1,0))),\"\",INDEX(speed1,MATCH($A28&\" \"&G$21,angle1&\" \"&force1,0)))","v":""},{"$f":"IF(ISERROR(INDEX(speed1,MATCH($A28&\" \"&H$21,angle1&\" \"&force1,0))),\"\",INDEX(speed1,MATCH($A28&\" \"&H$21,angle1&\" \"&force1,0)))","v":6.6118863123279414}]
[52,{"$f":"INDEX(datpol1,2,5)","v":4.1779999999999999},{"$f":"INDEX(datpol1,3,5)","v":5.1609999999999996},{"$f":"INDEX(datpol1,4,5)","v":6.1287027579162414},{"$f":"INDEX(datpol1,5,5)","v":6.654343807763401},{"$f":"INDEX(datpol1,6,5)","v":6.9632495164410058},{"$f":"INDEX(datpol1,7,5)","v":7.1343638525564801},{"$f":"INDEX(datpol1,8,5)","v":7.2420036210018104}]
[60,{"$f":"INDEX(datpol1,2,6)","v":4.5060000000000002},{"$f":"INDEX(datpol1,3,6)","v":5.4480000000000004},{"$f":"INDEX(datpol1,4,6)","v":6.4724919093851128},{"$f":"INDEX(datpol1,5,6)","v":6.8952307986975674},{"$f":"INDEX(datpol1,6,6)","v":7.1499503475670307},{"$f":"INDEX(datpol1,7,6)","v":7.3230268510984535},{"$f":"INDEX(datpol1,8,6)","v":7.4766355140186915}]
[75,{"$f":"INDEX(datpol1,2,7)","v":4.7530000000000001},{"$f":"INDEX(datpol1,3,7)","v":5.6289999999999996},{"$f":"INDEX(datpol1,4,7)","v":6.7340067340067336},{"$f":"INDEX(datpol1,5,7)","v":7.0838252656434477},{"$f":"INDEX(datpol1,6,7)","v":7.3155862629546835},{"$f":"INDEX(datpol1,7,7)","v":7.5203676624190514},{"$f":"INDEX(datpol1,8,7)","v":7.8722938989722282}]
[90,{"$f":"INDEX(datpol1,2,8)","v":5.0220000000000002},{"$f":"INDEX(datpol1,3,8)","v":5.8369999999999997},{"$f":"INDEX(datpol1,4,8)","v":6.9244085401038662},{"$f":"INDEX(datpol1,5,8)","v":7.2904009720534626},{"$f":"INDEX(datpol1,6,8)","v":7.5408462505236704},{"$f":"INDEX(datpol1,7,8)","v":7.6628352490421454},{"$f":"INDEX(datpol1,8,7)","v":7.8722938989722282}]
[110,{"$f":"INDEX(datpol1,2,9)","v":4.8360000000000003},{"$f":"INDEX(datpol1,3,9)","v":5.7359999999999998},{"$f":"INDEX(datpol1,4,9)","v":6.9524913093858638},{"$f":"INDEX(datpol1,5,9)","v":7.3096446700507611},{"$f":"INDEX(datpol1,6,9)","v":7.6238881829733165},{"$f":"INDEX(datpol1,7,9)","v":7.9787234042553195},{"$f":"INDEX(datpol1,8,9)","v":8.5267645665561353}]
[135,{"$f":"INDEX(datpol1,2,10)","v":4.3959999999999999},{"$f":"INDEX(datpol1,3,10)","v":5.4459999999999997},{"$f":"INDEX(datpol1,4,10)","v":6.8363083934675268},{"$f":"INDEX(datpol1,5,10)","v":7.2274643645854244},{"$f":"INDEX(datpol1,6,10)","v":7.5361105296211015},{"$f":"INDEX(datpol1,7,10)","v":7.8722938989722282},{"$f":"INDEX(datpol1,8,10)","v":8.6186258079961693}]
[150,{"$f":"INDEX(datpol1,2,11)","v":3.84},{"$f":"INDEX(datpol1,3,11)","v":4.9020000000000001},{"$f":"INDEX(datpol1,4,11)","v":6.4366172000715185},{"$f":"INDEX(datpol1,5,11)","v":6.9821567106283942},{"$f":"INDEX(datpol1,6,11)","v":7.3096446700507611},{"$f":"INDEX(datpol1,7,11)","v":7.6061694485527145},{"$f":"INDEX(datpol1,8,11)","v":8.2796688132474703}]
[180,{"$f":"INDEX(datpol1,2,12)","v":3.2509999999999999},{"$f":"INDEX(datpol1,3,12)","v":4.157},{"$f":"INDEX(datpol1,4,12)","v":5.6675062972292185},{"$f":"INDEX(datpol1,5,12)","v":6.3536886692552059},{"$f":"INDEX(datpol1,6,12)","v":6.8040068040068036},{"$f":"INDEX(datpol1,7,12)","v":7.1047957371225579},{"$f":"INDEX(datpol1,8,12)","v":7.5677948286735335}]